{"text_format":"1","workbook":"xlsx","n_sheets":20,"sheets":["Personalizzazione","Sconti","Cover","Sconti Export","Sconti Import","Zone Export","Zone Import","Express Plus","Express","Saver","Standard","Expedited","Express Freight","Express Plus Import","Express Import","Saver Import","Standard Import","Expedited Import","Express Freight Import","Surcharges"],"not_rendered":{"charts":0,"images":21,"macros":1,"external_links":2,"defined_names":20,"comments":0,"pivot_tables":0},"unopened":[],"bounds":{"document_bytes":16777216,"sheet_cells":100000,"rows_first":2000,"rows_last":500,"rows_between":2000,"halvings":0,"cell_chars":16384,"cell_head_chars":4096},"cells_cut":0,"cells_raw":0,"read":"whole","date_system":"1900"}

{"sheet":"Personalizzazione","index":0,"n_rows":17,"n_cols":5,"rows_kept":17,"cut":false,"hidden":false,"merged":[]}
[]
[]
[]
[]
[]
[]
[null,"Domestic Standard Collo Singolo","UPS STANDARD - ITALIA"]
[]
[null,"Domestic Standard Multi Collo","UPS STANDARD - ITALIA"]
[]
[null,"Transborder Standard","UPS STANDARD - UE"]
[]
[null,"Worldwide Standard ","UPS STANDARD - EUROPA EXTRA UE"]
[]
[null,"Supplemento carburante - Standard","http://www.ups.com/content/it/it/shipping/cost/zones/fuel_surcharge.html",6.5000000000000002E-2,"2015-02-01"]
[]
[null,"Supplemento carburante - Express e Expedited","http://www.ups.com/content/it/it/shipping/cost/zones/fuel_surcharge.html",0.12,"2015-02-01"]

{"sheet":"Sconti","index":1,"n_rows":89,"n_cols":15,"rows_kept":89,"cut":false,"hidden":false,"merged":[[27,5,27,7],[21,9,21,11],[23,9,23,11],[19,5,19,7],[29,13,29,14],[29,5,29,7],[27,13,27,14],[25,9,25,11],[27,9,27,11],[25,5,25,7],[21,13,21,14],[23,13,23,14],[17,5,17,7],[25,13,25,14],[23,5,23,7],[17,9,17,11],[17,13,17,14],[21,5,21,7],[86,7,86,14],[70,5,71,14],[49,2,49,14],[84,7,84,14],[85,7,85,14],[83,7,83,14],[53,9,53,12],[55,9,55,12],[7,11,7,14],[9,5,9,14],[11,5,11,7],[12,5,12,7],[10,5,10,7],[11,9,11,11],[12,9,12,11],[12,13,12,14],[10,9,10,11],[10,13,10,14],[11,13,11,14],[47,2,47,9],[41,4,45,9],[36,4,38,9],[31,5,31,7],[31,9,31,11],[15,13,15,14],[13,5,14,7],[15,5,15,7],[15,9,15,11],[19,9,19,11],[31,13,31,14],[29,9,29,11],[19,13,19,14]]}
[]
[]
[]
[]
[]
[]
[]
[null,null,null,null,null,null,null,null,null,"Spett.le",null,"GLOCAL WEB"]
[]
[null,null,null,"B",null,"Il numero di pacchi mensili** generato per tutti I servizi UPS EXPORT e NAZIONALE, determinera' la fascia di sconti da applicare per ogni servizio! "]
[null,null,null,null,null,"A",null,null,null,"B",null,null,null,"C"]
[null,null,"Algeria ",null,null,"Da: 1",null,null,null,"Da: 11",null,null,null,"Oltre 149 pacchi"]
[null,null,null,null,null,"A: 10 pacchi",null,null,null,"A: 149 pacchi"]
[]
[]
[null,null,"Domestic Express & Domestic Express Saver",null,null,0.4,null,null,null,0.6,null,null,null,0.65]
[]
[null,null,"Transborder Express & Transborder Express Saver",null,null,0.55000000000000004,null,null,null,0.71,null,null,null,0.74]
[]
[null,null,"Worldwide Express & Worldwide Express Saver",null,null,0.55000000000000004,null,null,null,0.69,null,null,null,0.72]
[]
[null,null,"Domestic Standard Collo Singolo",null,null,0.47,null,null,null,0.7,null,null,null,0.72]
[]
[null,null,"Domestic Standard Multi Collo",null,null,0.45,null,null,null,0.68,null,null,null,0.7]
[]
[null,null,"Transborder Standard",null,null,0.6,null,null,null,0.8,null,null,null,0.84]
[]
[null,null,"Worldwide Standard ",null,null,0.55000000000000004,null,null,null,0.75,null,null,null,0.79]
[]
[null,null,"Worldwide Expedited",null,null,0.5,null,null,null,0.65,null,null,null,0.7]
[]
[]
[]
[null,null,"Tariffa Fissa Minima per Spedizione (Minimum Revenue per Shipment - MRS)"]
[null,null,"Ups applichera' una tariffa fissa minima per singola spedizione*:"]
[]
[null,null,"Domestic / Transborder Standard Multi Singolo",null,"Vedi tabella \"Standard\" spedizioni singole nella cella \"Costo minimo per spedizione\""]
[]
[null,null,"Worldwide Standard Collo Singolo"]
[null,null,"Tariffa Fissa Minima per Pacco (Minimum Revenue per Piece - MRPP)"]
[null,null,"Ups applichera' una tariffa fissa minima per singolo collo spedito*:"]
[null,null,"Domestic Standard Multi-Collo",null,"Vedi tabella \"Standard\" spedizioni multiple nella cella \"Costo minimo per pacco\""]
[]
[null,null,"Transborder Standard Multi-Collo"]
[]
[null,null,"Worldwide Standard Multi-Collo"]
[]
[]
[]
[null,null,"Le percentuali di sconto fisso IMPORT sotto riportate, fanno parte integrante dell'offerta a Voi riservata"]
[]
[null,null,null,null,null,null,null,null,null,null,null,null,null,null,"Inserire % Supplemento Carburante del mese"]
[]
[null,null,"Transborder Express & Transborder Express Saver",null,null,0.55000000000000004,null,null,null,"FUEL SURCHARGE\n EXPRESS/EXPEDITED",null,null,null,null,0]
[]
[null,null,"Worldwide Express & Worldwide Express Saver",null,null,0.55000000000000004,null,null,null,"FUEL SURCHARGE STANDARD",null,null,null,null,0]
[]
[null,null,"Transborder Standard",null,null,0.65]
[]
[null,null,"Worldwide Standard",null,55,0.55000000000000004]
[]
[null,null,"Worldwide Expedited",null,null,0.55000000000000004]
[]
[]
[]
[null,null,"Contrassegno Naz e Int.le:",null,null,"il costo per ogni spedizione COD e' pari all' 1% del valore delle merci, con un minimo di € 18,05;"]
[null,null,null,null,null,"sconto a voi riservato del 40% per COD territorio Nazionale e 25% per COD Internazionale"]
[]
[null,null,"Condizioni di pagamento:",null,null,"Condizioni di pagamento possibili: 30/60 giorni - RI.BA o Bonifico - data fattura a fine mese "]
[]
[null,null,"      Extended Area:",null,null,"Le zone contrassegnate dal simbolo a lato potrebbero essere soggette al supplemento di aree estese (Extended Area). In tal caso: "]
[]
[null,null,null,null,null,"ritiri nazionali e internazionali: sconto a voi riservato 70%"]
[null,null,null,null,null,"consegne nazionali: sconto a voi riservato 50%"]
[]
[null,null,"Residenziale Nazionale:",null,null,"Ups applica un supplemento per consegne a domicilio privato pari a € 2.30 per spedizione. "]
[null,null,null,null,null,"La consegna a domicilio privato include anche un'attivita' commerciale c/o un'abitazione privata "]
[null,null,null,null,null,"che non dispone di un'entrata al pubblico. "]
[]
[null,null,"Sovrapprezzo Carburante:",null,null,"A seconda dell'andamento del prezzo del combustibile, UPS applica un supplemento "]
[null,null,null,null,null,"indicizzato basato sui US Gulf Coast Jet Fuel Prices come comunicato dal Ministero dell'Energia "]
[null,null,null,null,null,"statunitense (U.S. Department of Energy)."]
[]
[null,null,"Calcolo peso volumetrico:",null,null,"A * Lu * La",null,"Per determinare quale peso verra' calcolato sulla spedizione, moltiplicare Altezza "]
[null,null,null,null,null,5000,null,"per Lunghezza per Larghezza in cm e dividere per il coefficiente fisso 5000. "]
[null,null,null,null,null,null,null,"Il peso maggiore tra quello reale e quello volumetrico sara' il peso tassabile. "]
[]
["**",null,"La mensilita' segue il ciclo di fatturazione UPS che si conclude il giorno 25 di ogni mese: le spedizioni successive a tale data vengono considerate e conteggiate nel ciclo"]
[null,null," di fatturazione del mese successivo."]

{"sheet":"Cover","index":2,"n_rows":12,"n_cols":5,"rows_kept":12,"cut":false,"hidden":false,"merged":[[2,1,2,4],[1,2,1,3]]}
[]
[null,"Spettabile",{"$f":"Sconti!L8","v":"GLOCAL WEB"}]
[null,"Servizi in tutto il mondo"]
[null,"Italia","Europa","USA e Canada","Tutto il resto\ndel mondo"]
["UPS Express Plus *","La mattina successiva entro le 9:00","La mattina successiva entro le 9:00","Il secondo giorno lavorativo entro le 8:30/9:00 del mattino nel 60% delle destinazioni","Il secondo giorno lavorativo entro le 8:30/9:00 del mattino nella maggior parte dell'Asia"]
["UPS Express *","La mattina successiva entro le 10:30 / 12:00","La mattina successiva entro le 10:30 / 12:00 in piu` del 70% delle destinazioni UE, Liechtenstein, Norvegia e Svizzera","Entro le 10:30 del secondo giorno lavorativo in piu` del 75% degli indirizzi commerciali.\nEntro le 12:00 del secondo giorno lavorativo nel 90% degli indirizzi commerciali.","Entro le 10:30 / 12:00 in due o tre giorni operativi in specifiche aree dell'Asia"]
["UPS Express Saver *","ll giorno lavorativo successivo","Il giorno lavorativo successivo in UE, Liechtenstein, Norvegia\ne Svizzera","Entro la fine del secondo giorno lavorativo in tutte le principali destinazioni","Entro 2-3 giorni lavorativi"]
["UPS Standard","1-2 giorni ","1-5 giorni "]
["UPS Expedited",null,null,"3-5 giorni a seconda della destinazione","3-7 giorni a seconda della destinazione"]
["UPS Express Freight*",null,"1-3 giorni a seconda della destinazione","1-3 giorni a seconda della destinazione","1-3 giorni a seconda della destinazione"]
["* Servizi con garanzia di rimborso"]
["Per verificare la disponibilita` dei servizi consultare la tabella delle zone o la Guida all'utilizzo dei servizi e delle tariffe UPS"]

{"sheet":"Sconti Export","index":3,"n_rows":334,"n_cols":30,"rows_kept":334,"cut":false,"hidden":true,"merged":[[77,1,78,1],[64,1,65,14],[249,1,250,14],[249,16,250,24],[131,16,132,16],[198,17,199,17],[169,16,170,16],[128,1,129,14],[77,16,78,16],[76,16,76,28],[128,16,129,24],[66,1,67,1],[64,16,65,23],[0,1,1,14],[2,1,3,1],[66,16,67,16],[13,16,14,16],[2,16,3,16],[13,1,14,1],[12,16,12,25],[0,16,1,29],[169,1,170,1],[131,1,132,1],[325,1,326,1],[325,16,326,16],[322,16,323,26],[322,1,323,14],[307,1,308,1],[307,16,308,16],[252,1,253,1],[252,16,253,16],[198,1,199,1],[195,16,196,28],[195,1,196,14]]}
[null,"Servizio UPS Express - Inserimento percentuali di sconto",null,null,null,null,null,null,null,null,null,null,null,null,null,null,"Servizio UPS Express - Tariffe di listino"]
[]
[null,"% Sconto","Zona","Zona","Zona","Zona","Zona","Zona","Zona","Zona","Zona","Zona","Zona","Zona","Zona",null,"€","Zona","Zona","Zona","Zona","Zona","Zona","Zona","Zona","Zona","Zona","Zona","Zona","Zona"]
[null,null,1,2,3,4,41,42,5,6,8,9,10,11,12,null,null,1,2,3,4,41,42,5,6,8,9,10,11,12]
[null,"UPS Express Envelopes ",null,null,null,null,null,null,null,null,null,null,null,null,null,null,"UPS Express Envelopes "]
[null,null,{"$f":"IF(Sconti!$D$10=\"a\",40%,IF(Sconti!$D$10=\"b\",60%,IF(Sconti!$D$10=\"c\",65%)))","v":0.6},{"$f":"IF(Sconti!$D$10=\"a\",55%,IF(Sconti!$D$10=\"b\",71%,IF(Sconti!$D$10=\"c\",74%)))","v":0.71},{"$f":"IF(Sconti!$D$10=\"a\",55%,IF(Sconti!$D$10=\"b\",71%,IF(Sconti!$D$10=\"c\",74%)))","v":0.71},{"$f":"IF(Sconti!$D$10=\"a\",55%,IF(Sconti!$D$10=\"b\",71%,IF(Sconti!$D$10=\"c\",74%)))","v":0.71},{"$f":"IF(Sconti!$D$10=\"a\",55%,IF(Sconti!$D$10=\"b\",71%,IF(Sconti!$D$10=\"c\",74%)))","v":0.71},{"$f":"IF(Sconti!$D$10=\"a\",55%,IF(Sconti!$D$10=\"b\",71%,IF(Sconti!$D$10=\"c\",74%)))","v":0.71},{"$f":"IF(Sconti!$D$10=\"a\",55%,IF(Sconti!$D$10=\"b\",69%,IF(Sconti!$D$10=\"c\",72%)))","v":0.69},{"$f":"IF(Sconti!$D$10=\"a\",55%,IF(Sconti!$D$10=\"b\",69%,IF(Sconti!$D$10=\"c\",72%)))","v":0.69},{"$f":"IF(Sconti!$D$10=\"a\",55%,IF(Sconti!$D$10=\"b\",69%,IF(Sconti!$D$10=\"c\",72%)))","v":0.69},{"$f":"IF(Sconti!$D$10=\"a\",55%,IF(Sconti!$D$10=\"b\",69%,IF(Sconti!$D$10=\"c\",72%)))","v":0.69},{"$f":"IF(Sconti!$D$10=\"a\",55%,IF(Sconti!$D$10=\"b\",69%,IF(Sconti!$D$10=\"c\",72%)))","v":0.69},{"$f":"IF(Sconti!$D$10=\"a\",55%,IF(Sconti!$D$10=\"b\",69%,IF(Sconti!$D$10=\"c\",72%)))","v":0.69},{"$f":"IF(Sconti!$D$10=\"a\",55%,IF(Sconti!$D$10=\"b\",69%,IF(Sconti!$D$10=\"c\",72%)))","v":0.69},null,null,31.3,46.35,46.9,48.85,81.75,82.35,47.3,97.1,45.55,56.45,60.85,94.6,57.8]
[null,"Documenti  ",null,null,null,null,null,null,null,null,null,null,null,null,null,null,"Documenti  "]
[null,"0,5 kg",{"$f":"IF(Sconti!$D$10=\"a\",40%,IF(Sconti!$D$10=\"b\",60%,IF(Sconti!$D$10=\"c\",65%)))","v":0.6},{"$f":"IF(Sconti!$D$10=\"a\",55%,IF(Sconti!$D$10=\"b\",71%,IF(Sconti!$D$10=\"c\",74%)))","v":0.71},{"$f":"IF(Sconti!$D$10=\"a\",55%,IF(Sconti!$D$10=\"b\",71%,IF(Sconti!$D$10=\"c\",74%)))","v":0.71},{"$f":"IF(Sconti!$D$10=\"a\",55%,IF(Sconti!$D$10=\"b\",71%,IF(Sconti!$D$10=\"c\",74%)))","v":0.71},{"$f":"IF(Sconti!$D$10=\"a\",55%,IF(Sconti!$D$10=\"b\",71%,IF(Sconti!$D$10=\"c\",74%)))","v":0.71},{"$f":"IF(Sconti!$D$10=\"a\",55%,IF(Sconti!$D$10=\"b\",71%,IF(Sconti!$D$10=\"c\",74%)))","v":0.71},{"$f":"IF(Sconti!$D$10=\"a\",55%,IF(Sconti!$D$10=\"b\",69%,IF(Sconti!$D$10=\"c\",72%)))","v":0.69},{"$f":"IF(Sconti!$D$10=\"a\",55%,IF(Sconti!$D$10=\"b\",69%,IF(Sconti!$D$10=\"c\",72%)))","v":0.69},{"$f":"IF(Sconti!$D$10=\"a\",55%,IF(Sconti!$D$10=\"b\",69%,IF(Sconti!$D$10=\"c\",72%)))","v":0.69},{"$f":"IF(Sconti!$D$10=\"a\",55%,IF(Sconti!$D$10=\"b\",69%,IF(Sconti!$D$10=\"c\",72%)))","v":0.69},{"$f":"IF(Sconti!$D$10=\"a\",55%,IF(Sconti!$D$10=\"b\",69%,IF(Sconti!$D$10=\"c\",72%)))","v":0.69},{"$f":"IF(Sconti!$D$10=\"a\",55%,IF(Sconti!$D$10=\"b\",69%,IF(Sconti!$D$10=\"c\",72%)))","v":0.69},{"$f":"IF(Sconti!$D$10=\"a\",55%,IF(Sconti!$D$10=\"b\",69%,IF(Sconti!$D$10=\"c\",72%)))","v":0.69},null,"0,5 kg",34.450000000000003,50.9,51.75,54.5,89.6,89.65,47.65,97.1,45.55,56.45,60.85,94.6,57.8]
[null,"1,0 kg",{"$f":"IF(Sconti!$D$10=\"a\",40%,IF(Sconti!$D$10=\"b\",60%,IF(Sconti!$D$10=\"c\",65%)))","v":0.6},{"$f":"IF(Sconti!$D$10=\"a\",55%,IF(Sconti!$D$10=\"b\",71%,IF(Sconti!$D$10=\"c\",74%)))","v":0.71},{"$f":"IF(Sconti!$D$10=\"a\",55%,IF(Sconti!$D$10=\"b\",71%,IF(Sconti!$D$10=\"c\",74%)))","v":0.71},{"$f":"IF(Sconti!$D$10=\"a\",55%,IF(Sconti!$D$10=\"b\",71%,IF(Sconti!$D$10=\"c\",74%)))","v":0.71},{"$f":"IF(Sconti!$D$10=\"a\",55%,IF(Sconti!$D$10=\"b\",71%,IF(Sconti!$D$10=\"c\",74%)))","v":0.71},{"$f":"IF(Sconti!$D$10=\"a\",55%,IF(Sconti!$D$10=\"b\",71%,IF(Sconti!$D$10=\"c\",74%)))","v":0.71},{"$f":"IF(Sconti!$D$10=\"a\",55%,IF(Sconti!$D$10=\"b\",69%,IF(Sconti!$D$10=\"c\",72%)))","v":0.69},{"$f":"IF(Sconti!$D$10=\"a\",55%,IF(Sconti!$D$10=\"b\",69%,IF(Sconti!$D$10=\"c\",72%)))","v":0.69},{"$f":"IF(Sconti!$D$10=\"a\",55%,IF(Sconti!$D$10=\"b\",69%,IF(Sconti!$D$10=\"c\",72%)))","v":0.69},{"$f":"IF(Sconti!$D$10=\"a\",55%,IF(Sconti!$D$10=\"b\",69%,IF(Sconti!$D$10=\"c\",72%)))","v":0.69},{"$f":"IF(Sconti!$D$10=\"a\",55%,IF(Sconti!$D$10=\"b\",69%,IF(Sconti!$D$10=\"c\",72%)))","v":0.69},{"$f":"IF(Sconti!$D$10=\"a\",55%,IF(Sconti!$D$10=\"b\",69%,IF(Sconti!$D$10=\"c\",72%)))","v":0.69},{"$f":"IF(Sconti!$D$10=\"a\",55%,IF(Sconti!$D$10=\"b\",69%,IF(Sconti!$D$10=\"c\",72%)))","v":0.69},null,"1,0 kg",34.450000000000003,62.05,62.45,65.2,104.25,104.3,58.45,117.7,60.15,75.849999999999994,81.95,117.35,71.400000000000006]
[null,"1,5 kg",{"$f":"IF(Sconti!$D$10=\"a\",40%,IF(Sconti!$D$10=\"b\",60%,IF(Sconti!$D$10=\"c\",65%)))","v":0.6},{"$f":"IF(Sconti!$D$10=\"a\",55%,IF(Sconti!$D$10=\"b\",71%,IF(Sconti!$D$10=\"c\",74%)))","v":0.71},{"$f":"IF(Sconti!$D$10=\"a\",55%,IF(Sconti!$D$10=\"b\",71%,IF(Sconti!$D$10=\"c\",74%)))","v":0.71},{"$f":"IF(Sconti!$D$10=\"a\",55%,IF(Sconti!$D$10=\"b\",71%,IF(Sconti!$D$10=\"c\",74%)))","v":0.71},{"$f":"IF(Sconti!$D$10=\"a\",55%,IF(Sconti!$D$10=\"b\",71%,IF(Sconti!$D$10=\"c\",74%)))","v":0.71},{"$f":"IF(Sconti!$D$10=\"a\",55%,IF(Sconti!$D$10=\"b\",71%,IF(Sconti!$D$10=\"c\",74%)))","v":0.71},{"$f":"IF(Sconti!$D$10=\"a\",55%,IF(Sconti!$D$10=\"b\",69%,IF(Sconti!$D$10=\"c\",72%)))","v":0.69},{"$f":"IF(Sconti!$D$10=\"a\",55%,IF(Sconti!$D$10=\"b\",69%,IF(Sconti!$D$10=\"c\",72%)))","v":0.69},{"$f":"IF(Sconti!$D$10=\"a\",55%,IF(Sconti!$D$10=\"b\",69%,IF(Sconti!$D$10=\"c\",72%)))","v":0.69},{"$f":"IF(Sconti!$D$10=\"a\",55%,IF(Sconti!$D$10=\"b\",69%,IF(Sconti!$D$10=\"c\",72%)))","v":0.69},{"$f":"IF(Sconti!$D$10=\"a\",55%,IF(Sconti!$D$10=\"b\",69%,IF(Sconti!$D$10=\"c\",72%)))","v":0.69},{"$f":"IF(Sconti!$D$10=\"a\",55%,IF(Sconti!$D$10=\"b\",69%,IF(Sconti!$D$10=\"c\",72%)))","v":0.69},{"$f":"IF(Sconti!$D$10=\"a\",55%,IF(Sconti!$D$10=\"b\",69%,IF(Sconti!$D$10=\"c\",72%)))","v":0.69},null,"1,5 kg",37.5,72.95,73.45,75.7,129.94999999999999,130.65,69.150000000000006,138.35,74.650000000000006,95.45,102.85,140.1,85]
[null,"2,0 kg",{"$f":"IF(Sconti!$D$10=\"a\",40%,IF(Sconti!$D$10=\"b\",60%,IF(Sconti!$D$10=\"c\",65%)))","v":0.6},{"$f":"IF(Sconti!$D$10=\"a\",55%,IF(Sconti!$D$10=\"b\",71%,IF(Sconti!$D$10=\"c\",74%)))","v":0.71},{"$f":"IF(Sconti!$D$10=\"a\",55%,IF(Sconti!$D$10=\"b\",71%,IF(Sconti!$D$10=\"c\",74%)))","v":0.71},{"$f":"IF(Sconti!$D$10=\"a\",55%,IF(Sconti!$D$10=\"b\",71%,IF(Sconti!$D$10=\"c\",74%)))","v":0.71},{"$f":"IF(Sconti!$D$10=\"a\",55%,IF(Sconti!$D$10=\"b\",71%,IF(Sconti!$D$10=\"c\",74%)))","v":0.71},{"$f":"IF(Sconti!$D$10=\"a\",55%,IF(Sconti!$D$10=\"b\",71%,IF(Sconti!$D$10=\"c\",74%)))","v":0.71},{"$f":"IF(Sconti!$D$10=\"a\",55%,IF(Sconti!$D$10=\"b\",69%,IF(Sconti!$D$10=\"c\",72%)))","v":0.69},{"$f":"IF(Sconti!$D$10=\"a\",55%,IF(Sconti!$D$10=\"b\",69%,IF(Sconti!$D$10=\"c\",72%)))","v":0.69},{"$f":"IF(Sconti!$D$10=\"a\",55%,IF(Sconti!$D$10=\"b\",69%,IF(Sconti!$D$10=\"c\",72%)))","v":0.69},{"$f":"IF(Sconti!$D$10=\"a\",55%,IF(Sconti!$D$10=\"b\",69%,IF(Sconti!$D$10=\"c\",72%)))","v":0.69},{"$f":"IF(Sconti!$D$10=\"a\",55%,IF(Sconti!$D$10=\"b\",69%,IF(Sconti!$D$10=\"c\",72%)))","v":0.69},{"$f":"IF(Sconti!$D$10=\"a\",55%,IF(Sconti!$D$10=\"b\",69%,IF(Sconti!$D$10=\"c\",72%)))","v":0.69},{"$f":"IF(Sconti!$D$10=\"a\",55%,IF(Sconti!$D$10=\"b\",69%,IF(Sconti!$D$10=\"c\",72%)))","v":0.69},null,"2,0 kg",37.5,83.85,84.25,86.4,154.69999999999999,156,80.05,158.94999999999999,89.2,115,123.75,163.15,98.65]
[null,"2,5 kg",{"$f":"IF(Sconti!$D$10=\"a\",40%,IF(Sconti!$D$10=\"b\",60%,IF(Sconti!$D$10=\"c\",65%)))","v":0.6},{"$f":"IF(Sconti!$D$10=\"a\",55%,IF(Sconti!$D$10=\"b\",71%,IF(Sconti!$D$10=\"c\",74%)))","v":0.71},{"$f":"IF(Sconti!$D$10=\"a\",55%,IF(Sconti!$D$10=\"b\",71%,IF(Sconti!$D$10=\"c\",74%)))","v":0.71},{"$f":"IF(Sconti!$D$10=\"a\",55%,IF(Sconti!$D$10=\"b\",71%,IF(Sconti!$D$10=\"c\",74%)))","v":0.71},{"$f":"IF(Sconti!$D$10=\"a\",55%,IF(Sconti!$D$10=\"b\",71%,IF(Sconti!$D$10=\"c\",74%)))","v":0.71},{"$f":"IF(Sconti!$D$10=\"a\",55%,IF(Sconti!$D$10=\"b\",71%,IF(Sconti!$D$10=\"c\",74%)))","v":0.71},{"$f":"IF(Sconti!$D$10=\"a\",55%,IF(Sconti!$D$10=\"b\",69%,IF(Sconti!$D$10=\"c\",72%)))","v":0.69},{"$f":"IF(Sconti!$D$10=\"a\",55%,IF(Sconti!$D$10=\"b\",69%,IF(Sconti!$D$10=\"c\",72%)))","v":0.69},{"$f":"IF(Sconti!$D$10=\"a\",55%,IF(Sconti!$D$10=\"b\",69%,IF(Sconti!$D$10=\"c\",72%)))","v":0.69},{"$f":"IF(Sconti!$D$10=\"a\",55%,IF(Sconti!$D$10=\"b\",69%,IF(Sconti!$D$10=\"c\",72%)))","v":0.69},{"$f":"IF(Sconti!$D$10=\"a\",55%,IF(Sconti!$D$10=\"b\",69%,IF(Sconti!$D$10=\"c\",72%)))","v":0.69},{"$f":"IF(Sconti!$D$10=\"a\",55%,IF(Sconti!$D$10=\"b\",69%,IF(Sconti!$D$10=\"c\",72%)))","v":0.69},{"$f":"IF(Sconti!$D$10=\"a\",55%,IF(Sconti!$D$10=\"b\",69%,IF(Sconti!$D$10=\"c\",72%)))","v":0.69},null,"2,5 kg",37.5,94.7,95.15,97,179.85,181.7,90.8,179.45,103.7,134.85,144.75,186,112.15]
[null,"Documenti al di sopra dei 2,5 Kg e Pacchi",null,null,null,null,null,null,null,null,null,null,null,null,null,null,"Documenti al di sopra dei 2,5 Kg e Pacchi"]
[null,"% Sconto","Zona","Zona","Zona","Zona","Zona","Zona","Zona","Zona","Zona","Zona","Zona","Zona","Zona",null,"€","Zona","Zona","Zona","Zona","Zona","Zona","Zona","Zona","Zona","Zona","Zona","Zona","Zona"]
[null,null,1,2,3,4,41,42,5,6,8,9,10,11,12,null,null,1,2,3,4,41,42,5,6,8,9,10,11,12]
[null,"MRS",0,0,0,0,0,0,0,0,0,0,0,0,0,null,"MRS",{"$f":"IF(C16=0,0,R17*(1-C16))","v":0},{"$f":"IF(D16=0,0,S17*(1-D16))","v":0},0,0,0,0,0,0,0,0,0,0,0]
[null,"0,5 kg",{"$f":"IF(Sconti!$D$10=\"a\",40%,IF(Sconti!$D$10=\"b\",60%,IF(Sconti!$D$10=\"c\",65%)))","v":0.6},{"$f":"IF(Sconti!$D$10=\"a\",55%,IF(Sconti!$D$10=\"b\",71%,IF(Sconti!$D$10=\"c\",74%)))","v":0.71},{"$f":"IF(Sconti!$D$10=\"a\",55%,IF(Sconti!$D$10=\"b\",71%,IF(Sconti!$D$10=\"c\",74%)))","v":0.71},{"$f":"IF(Sconti!$D$10=\"a\",55%,IF(Sconti!$D$10=\"b\",71%,IF(Sconti!$D$10=\"c\",74%)))","v":0.71},{"$f":"IF(Sconti!$D$10=\"a\",55%,IF(Sconti!$D$10=\"b\",71%,IF(Sconti!$D$10=\"c\",74%)))","v":0.71},{"$f":"IF(Sconti!$D$10=\"a\",55%,IF(Sconti!$D$10=\"b\",71%,IF(Sconti!$D$10=\"c\",74%)))","v":0.71},{"$f":"IF(Sconti!$D$10=\"a\",55%,IF(Sconti!$D$10=\"b\",69%,IF(Sconti!$D$10=\"c\",72%)))","v":0.69},{"$f":"IF(Sconti!$D$10=\"a\",55%,IF(Sconti!$D$10=\"b\",69%,IF(Sconti!$D$10=\"c\",72%)))","v":0.69},{"$f":"IF(Sconti!$D$10=\"a\",55%,IF(Sconti!$D$10=\"b\",69%,IF(Sconti!$D$10=\"c\",72%)))","v":0.69},{"$f":"IF(Sconti!$D$10=\"a\",55%,IF(Sconti!$D$10=\"b\",69%,IF(Sconti!$D$10=\"c\",72%)))","v":0.69},{"$f":"IF(Sconti!$D$10=\"a\",55%,IF(Sconti!$D$10=\"b\",69%,IF(Sconti!$D$10=\"c\",72%)))","v":0.69},{"$f":"IF(Sconti!$D$10=\"a\",55%,IF(Sconti!$D$10=\"b\",69%,IF(Sconti!$D$10=\"c\",72%)))","v":0.69},{"$f":"IF(Sconti!$D$10=\"a\",55%,IF(Sconti!$D$10=\"b\",69%,IF(Sconti!$D$10=\"c\",72%)))","v":0.69},null,"0,5 kg",34.450000000000003,50.9,51.75,54.5,89.6,89.65,63.45,165.6,74.150000000000006,125.25,138.55000000000001,166.2,80.349999999999994]
[null,"1,0 kg",{"$f":"IF(Sconti!$D$10=\"a\",40%,IF(Sconti!$D$10=\"b\",60%,IF(Sconti!$D$10=\"c\",65%)))","v":0.6},{"$f":"IF(Sconti!$D$10=\"a\",55%,IF(Sconti!$D$10=\"b\",71%,IF(Sconti!$D$10=\"c\",74%)))","v":0.71},{"$f":"IF(Sconti!$D$10=\"a\",55%,IF(Sconti!$D$10=\"b\",71%,IF(Sconti!$D$10=\"c\",74%)))","v":0.71},{"$f":"IF(Sconti!$D$10=\"a\",55%,IF(Sconti!$D$10=\"b\",71%,IF(Sconti!$D$10=\"c\",74%)))","v":0.71},{"$f":"IF(Sconti!$D$10=\"a\",55%,IF(Sconti!$D$10=\"b\",71%,IF(Sconti!$D$10=\"c\",74%)))","v":0.71},{"$f":"IF(Sconti!$D$10=\"a\",55%,IF(Sconti!$D$10=\"b\",71%,IF(Sconti!$D$10=\"c\",74%)))","v":0.71},{"$f":"IF(Sconti!$D$10=\"a\",55%,IF(Sconti!$D$10=\"b\",69%,IF(Sconti!$D$10=\"c\",72%)))","v":0.69},{"$f":"IF(Sconti!$D$10=\"a\",55%,IF(Sconti!$D$10=\"b\",69%,IF(Sconti!$D$10=\"c\",72%)))","v":0.69},{"$f":"IF(Sconti!$D$10=\"a\",55%,IF(Sconti!$D$10=\"b\",69%,IF(Sconti!$D$10=\"c\",72%)))","v":0.69},{"$f":"IF(Sconti!$D$10=\"a\",55%,IF(Sconti!$D$10=\"b\",69%,IF(Sconti!$D$10=\"c\",72%)))","v":0.69},{"$f":"IF(Sconti!$D$10=\"a\",55%,IF(Sconti!$D$10=\"b\",69%,IF(Sconti!$D$10=\"c\",72%)))","v":0.69},{"$f":"IF(Sconti!$D$10=\"a\",55%,IF(Sconti!$D$10=\"b\",69%,IF(Sconti!$D$10=\"c\",72%)))","v":0.69},{"$f":"IF(Sconti!$D$10=\"a\",55%,IF(Sconti!$D$10=\"b\",69%,IF(Sconti!$D$10=\"c\",72%)))","v":0.69},null,"1,0 kg",34.450000000000003,62.05,62.45,65.2,104.25,104.3,72.7,183.35,84.65,143.85,157.94999999999999,186.1,93.95]
[null,"1,5 kg",{"$f":"IF(Sconti!$D$10=\"a\",40%,IF(Sconti!$D$10=\"b\",60%,IF(Sconti!$D$10=\"c\",65%)))","v":0.6},{"$f":"IF(Sconti!$D$10=\"a\",55%,IF(Sconti!$D$10=\"b\",71%,IF(Sconti!$D$10=\"c\",74%)))","v":0.71},{"$f":"IF(Sconti!$D$10=\"a\",55%,IF(Sconti!$D$10=\"b\",71%,IF(Sconti!$D$10=\"c\",74%)))","v":0.71},{"$f":"IF(Sconti!$D$10=\"a\",55%,IF(Sconti!$D$10=\"b\",71%,IF(Sconti!$D$10=\"c\",74%)))","v":0.71},{"$f":"IF(Sconti!$D$10=\"a\",55%,IF(Sconti!$D$10=\"b\",71%,IF(Sconti!$D$10=\"c\",74%)))","v":0.71},{"$f":"IF(Sconti!$D$10=\"a\",55%,IF(Sconti!$D$10=\"b\",71%,IF(Sconti!$D$10=\"c\",74%)))","v":0.71},{"$f":"IF(Sconti!$D$10=\"a\",55%,IF(Sconti!$D$10=\"b\",69%,IF(Sconti!$D$10=\"c\",72%)))","v":0.69},{"$f":"IF(Sconti!$D$10=\"a\",55%,IF(Sconti!$D$10=\"b\",69%,IF(Sconti!$D$10=\"c\",72%)))","v":0.69},{"$f":"IF(Sconti!$D$10=\"a\",55%,IF(Sconti!$D$10=\"b\",69%,IF(Sconti!$D$10=\"c\",72%)))","v":0.69},{"$f":"IF(Sconti!$D$10=\"a\",55%,IF(Sconti!$D$10=\"b\",69%,IF(Sconti!$D$10=\"c\",72%)))","v":0.69},{"$f":"IF(Sconti!$D$10=\"a\",55%,IF(Sconti!$D$10=\"b\",69%,IF(Sconti!$D$10=\"c\",72%)))","v":0.69},{"$f":"IF(Sconti!$D$10=\"a\",55%,IF(Sconti!$D$10=\"b\",69%,IF(Sconti!$D$10=\"c\",72%)))","v":0.69},{"$f":"IF(Sconti!$D$10=\"a\",55%,IF(Sconti!$D$10=\"b\",69%,IF(Sconti!$D$10=\"c\",72%)))","v":0.69},null,"1,5 kg",37.5,72.95,73.45,75.7,129.94999999999999,130.65,82,201.45,95.05,162.55000000000001,177.2,205.85,107.4]
[null,"2,0 kg",{"$f":"IF(Sconti!$D$10=\"a\",40%,IF(Sconti!$D$10=\"b\",60%,IF(Sconti!$D$10=\"c\",65%)))","v":0.6},{"$f":"IF(Sconti!$D$10=\"a\",55%,IF(Sconti!$D$10=\"b\",71%,IF(Sconti!$D$10=\"c\",74%)))","v":0.71},{"$f":"IF(Sconti!$D$10=\"a\",55%,IF(Sconti!$D$10=\"b\",71%,IF(Sconti!$D$10=\"c\",74%)))","v":0.71},{"$f":"IF(Sconti!$D$10=\"a\",55%,IF(Sconti!$D$10=\"b\",71%,IF(Sconti!$D$10=\"c\",74%)))","v":0.71},{"$f":"IF(Sconti!$D$10=\"a\",55%,IF(Sconti!$D$10=\"b\",71%,IF(Sconti!$D$10=\"c\",74%)))","v":0.71},{"$f":"IF(Sconti!$D$10=\"a\",55%,IF(Sconti!$D$10=\"b\",71%,IF(Sconti!$D$10=\"c\",74%)))","v":0.71},{"$f":"IF(Sconti!$D$10=\"a\",55%,IF(Sconti!$D$10=\"b\",69%,IF(Sconti!$D$10=\"c\",72%)))","v":0.69},{"$f":"IF(Sconti!$D$10=\"a\",55%,IF(Sconti!$D$10=\"b\",69%,IF(Sconti!$D$10=\"c\",72%)))","v":0.69},{"$f":"IF(Sconti!$D$10=\"a\",55%,IF(Sconti!$D$10=\"b\",69%,IF(Sconti!$D$10=\"c\",72%)))","v":0.69},{"$f":"IF(Sconti!$D$10=\"a\",55%,IF(Sconti!$D$10=\"b\",69%,IF(Sconti!$D$10=\"c\",72%)))","v":0.69},{"$f":"IF(Sconti!$D$10=\"a\",55%,IF(Sconti!$D$10=\"b\",69%,IF(Sconti!$D$10=\"c\",72%)))","v":0.69},{"$f":"IF(Sconti!$D$10=\"a\",55%,IF(Sconti!$D$10=\"b\",69%,IF(Sconti!$D$10=\"c\",72%)))","v":0.69},{"$f":"IF(Sconti!$D$10=\"a\",55%,IF(Sconti!$D$10=\"b\",69%,IF(Sconti!$D$10=\"c\",72%)))","v":0.69},null,"2,0 kg",37.5,83.85,84.25,86.4,154.69999999999999,156,91.25,219.15,105.5,181.3,196.45,225.75,121.05]
[null,"2,5 kg",{"$f":"IF(Sconti!$D$10=\"a\",40%,IF(Sconti!$D$10=\"b\",60%,IF(Sconti!$D$10=\"c\",65%)))","v":0.6},{"$f":"IF(Sconti!$D$10=\"a\",55%,IF(Sconti!$D$10=\"b\",71%,IF(Sconti!$D$10=\"c\",74%)))","v":0.71},{"$f":"IF(Sconti!$D$10=\"a\",55%,IF(Sconti!$D$10=\"b\",71%,IF(Sconti!$D$10=\"c\",74%)))","v":0.71},{"$f":"IF(Sconti!$D$10=\"a\",55%,IF(Sconti!$D$10=\"b\",71%,IF(Sconti!$D$10=\"c\",74%)))","v":0.71},{"$f":"IF(Sconti!$D$10=\"a\",55%,IF(Sconti!$D$10=\"b\",71%,IF(Sconti!$D$10=\"c\",74%)))","v":0.71},{"$f":"IF(Sconti!$D$10=\"a\",55%,IF(Sconti!$D$10=\"b\",71%,IF(Sconti!$D$10=\"c\",74%)))","v":0.71},{"$f":"IF(Sconti!$D$10=\"a\",55%,IF(Sconti!$D$10=\"b\",69%,IF(Sconti!$D$10=\"c\",72%)))","v":0.69},{"$f":"IF(Sconti!$D$10=\"a\",55%,IF(Sconti!$D$10=\"b\",69%,IF(Sconti!$D$10=\"c\",72%)))","v":0.69},{"$f":"IF(Sconti!$D$10=\"a\",55%,IF(Sconti!$D$10=\"b\",69%,IF(Sconti!$D$10=\"c\",72%)))","v":0.69},{"$f":"IF(Sconti!$D$10=\"a\",55%,IF(Sconti!$D$10=\"b\",69%,IF(Sconti!$D$10=\"c\",72%)))","v":0.69},{"$f":"IF(Sconti!$D$10=\"a\",55%,IF(Sconti!$D$10=\"b\",69%,IF(Sconti!$D$10=\"c\",72%)))","v":0.69},{"$f":"IF(Sconti!$D$10=\"a\",55%,IF(Sconti!$D$10=\"b\",69%,IF(Sconti!$D$10=\"c\",72%)))","v":0.69},{"$f":"IF(Sconti!$D$10=\"a\",55%,IF(Sconti!$D$10=\"b\",69%,IF(Sconti!$D$10=\"c\",72%)))","v":0.69},null,"2,5 kg",37.5,94.7,95.15,97,179.85,181.7,100,237,115.95,199.85,215.8,245.55,134.4]
[null,"3,0 kg",{"$f":"IF(Sconti!$D$10=\"a\",40%,IF(Sconti!$D$10=\"b\",60%,IF(Sconti!$D$10=\"c\",65%)))","v":0.6},{"$f":"IF(Sconti!$D$10=\"a\",55%,IF(Sconti!$D$10=\"b\",71%,IF(Sconti!$D$10=\"c\",74%)))","v":0.71},{"$f":"IF(Sconti!$D$10=\"a\",55%,IF(Sconti!$D$10=\"b\",71%,IF(Sconti!$D$10=\"c\",74%)))","v":0.71},{"$f":"IF(Sconti!$D$10=\"a\",55%,IF(Sconti!$D$10=\"b\",71%,IF(Sconti!$D$10=\"c\",74%)))","v":0.71},{"$f":"IF(Sconti!$D$10=\"a\",55%,IF(Sconti!$D$10=\"b\",71%,IF(Sconti!$D$10=\"c\",74%)))","v":0.71},{"$f":"IF(Sconti!$D$10=\"a\",55%,IF(Sconti!$D$10=\"b\",71%,IF(Sconti!$D$10=\"c\",74%)))","v":0.71},{"$f":"IF(Sconti!$D$10=\"a\",55%,IF(Sconti!$D$10=\"b\",69%,IF(Sconti!$D$10=\"c\",72%)))","v":0.69},{"$f":"IF(Sconti!$D$10=\"a\",55%,IF(Sconti!$D$10=\"b\",69%,IF(Sconti!$D$10=\"c\",72%)))","v":0.69},{"$f":"IF(Sconti!$D$10=\"a\",55%,IF(Sconti!$D$10=\"b\",69%,IF(Sconti!$D$10=\"c\",72%)))","v":0.69},{"$f":"IF(Sconti!$D$10=\"a\",55%,IF(Sconti!$D$10=\"b\",69%,IF(Sconti!$D$10=\"c\",72%)))","v":0.69},{"$f":"IF(Sconti!$D$10=\"a\",55%,IF(Sconti!$D$10=\"b\",69%,IF(Sconti!$D$10=\"c\",72%)))","v":0.69},{"$f":"IF(Sconti!$D$10=\"a\",55%,IF(Sconti!$D$10=\"b\",69%,IF(Sconti!$D$10=\"c\",72%)))","v":0.69},{"$f":"IF(Sconti!$D$10=\"a\",55%,IF(Sconti!$D$10=\"b\",69%,IF(Sconti!$D$10=\"c\",72%)))","v":0.69},null,"3,0 kg",37.5,102.7,104.7,107.8,206.85,208.1,108.45,254.8,126.35,218.55,235.1,265.2,145.30000000000001]
[null,"3,5 kg",{"$f":"IF(Sconti!$D$10=\"a\",40%,IF(Sconti!$D$10=\"b\",60%,IF(Sconti!$D$10=\"c\",65%)))","v":0.6},{"$f":"IF(Sconti!$D$10=\"a\",55%,IF(Sconti!$D$10=\"b\",71%,IF(Sconti!$D$10=\"c\",74%)))","v":0.71},{"$f":"IF(Sconti!$D$10=\"a\",55%,IF(Sconti!$D$10=\"b\",71%,IF(Sconti!$D$10=\"c\",74%)))","v":0.71},{"$f":"IF(Sconti!$D$10=\"a\",55%,IF(Sconti!$D$10=\"b\",71%,IF(Sconti!$D$10=\"c\",74%)))","v":0.71},{"$f":"IF(Sconti!$D$10=\"a\",55%,IF(Sconti!$D$10=\"b\",71%,IF(Sconti!$D$10=\"c\",74%)))","v":0.71},{"$f":"IF(Sconti!$D$10=\"a\",55%,IF(Sconti!$D$10=\"b\",71%,IF(Sconti!$D$10=\"c\",74%)))","v":0.71},{"$f":"IF(Sconti!$D$10=\"a\",55%,IF(Sconti!$D$10=\"b\",69%,IF(Sconti!$D$10=\"c\",72%)))","v":0.69},{"$f":"IF(Sconti!$D$10=\"a\",55%,IF(Sconti!$D$10=\"b\",69%,IF(Sconti!$D$10=\"c\",72%)))","v":0.69},{"$f":"IF(Sconti!$D$10=\"a\",55%,IF(Sconti!$D$10=\"b\",69%,IF(Sconti!$D$10=\"c\",72%)))","v":0.69},{"$f":"IF(Sconti!$D$10=\"a\",55%,IF(Sconti!$D$10=\"b\",69%,IF(Sconti!$D$10=\"c\",72%)))","v":0.69},{"$f":"IF(Sconti!$D$10=\"a\",55%,IF(Sconti!$D$10=\"b\",69%,IF(Sconti!$D$10=\"c\",72%)))","v":0.69},{"$f":"IF(Sconti!$D$10=\"a\",55%,IF(Sconti!$D$10=\"b\",69%,IF(Sconti!$D$10=\"c\",72%)))","v":0.69},{"$f":"IF(Sconti!$D$10=\"a\",55%,IF(Sconti!$D$10=\"b\",69%,IF(Sconti!$D$10=\"c\",72%)))","v":0.69},null,"3,5 kg",38.65,111.9,114.15,118.7,233.45,234.5,117.6,272.75,136.85,238,254.45,285.05,156.15]
[null,"4,0 kg",{"$f":"IF(Sconti!$D$10=\"a\",40%,IF(Sconti!$D$10=\"b\",60%,IF(Sconti!$D$10=\"c\",65%)))","v":0.6},{"$f":"IF(Sconti!$D$10=\"a\",55%,IF(Sconti!$D$10=\"b\",71%,IF(Sconti!$D$10=\"c\",74%)))","v":0.71},{"$f":"IF(Sconti!$D$10=\"a\",55%,IF(Sconti!$D$10=\"b\",71%,IF(Sconti!$D$10=\"c\",74%)))","v":0.71},{"$f":"IF(Sconti!$D$10=\"a\",55%,IF(Sconti!$D$10=\"b\",71%,IF(Sconti!$D$10=\"c\",74%)))","v":0.71},{"$f":"IF(Sconti!$D$10=\"a\",55%,IF(Sconti!$D$10=\"b\",71%,IF(Sconti!$D$10=\"c\",74%)))","v":0.71},{"$f":"IF(Sconti!$D$10=\"a\",55%,IF(Sconti!$D$10=\"b\",71%,IF(Sconti!$D$10=\"c\",74%)))","v":0.71},{"$f":"IF(Sconti!$D$10=\"a\",55%,IF(Sconti!$D$10=\"b\",69%,IF(Sconti!$D$10=\"c\",72%)))","v":0.69},{"$f":"IF(Sconti!$D$10=\"a\",55%,IF(Sconti!$D$10=\"b\",69%,IF(Sconti!$D$10=\"c\",72%)))","v":0.69},{"$f":"IF(Sconti!$D$10=\"a\",55%,IF(Sconti!$D$10=\"b\",69%,IF(Sconti!$D$10=\"c\",72%)))","v":0.69},{"$f":"IF(Sconti!$D$10=\"a\",55%,IF(Sconti!$D$10=\"b\",69%,IF(Sconti!$D$10=\"c\",72%)))","v":0.69},{"$f":"IF(Sconti!$D$10=\"a\",55%,IF(Sconti!$D$10=\"b\",69%,IF(Sconti!$D$10=\"c\",72%)))","v":0.69},{"$f":"IF(Sconti!$D$10=\"a\",55%,IF(Sconti!$D$10=\"b\",69%,IF(Sconti!$D$10=\"c\",72%)))","v":0.69},{"$f":"IF(Sconti!$D$10=\"a\",55%,IF(Sconti!$D$10=\"b\",69%,IF(Sconti!$D$10=\"c\",72%)))","v":0.69},null,"4,0 kg",38.65,121.25,123.7,129.6,259.95,260.8,126.7,290.60000000000002,147.30000000000001,256.2,273.89999999999998,304.95,167.1]
[null,"4,5 kg",{"$f":"IF(Sconti!$D$10=\"a\",40%,IF(Sconti!$D$10=\"b\",60%,IF(Sconti!$D$10=\"c\",65%)))","v":0.6},{"$f":"IF(Sconti!$D$10=\"a\",55%,IF(Sconti!$D$10=\"b\",71%,IF(Sconti!$D$10=\"c\",74%)))","v":0.71},{"$f":"IF(Sconti!$D$10=\"a\",55%,IF(Sconti!$D$10=\"b\",71%,IF(Sconti!$D$10=\"c\",74%)))","v":0.71},{"$f":"IF(Sconti!$D$10=\"a\",55%,IF(Sconti!$D$10=\"b\",71%,IF(Sconti!$D$10=\"c\",74%)))","v":0.71},{"$f":"IF(Sconti!$D$10=\"a\",55%,IF(Sconti!$D$10=\"b\",71%,IF(Sconti!$D$10=\"c\",74%)))","v":0.71},{"$f":"IF(Sconti!$D$10=\"a\",55%,IF(Sconti!$D$10=\"b\",71%,IF(Sconti!$D$10=\"c\",74%)))","v":0.71},{"$f":"IF(Sconti!$D$10=\"a\",55%,IF(Sconti!$D$10=\"b\",69%,IF(Sconti!$D$10=\"c\",72%)))","v":0.69},{"$f":"IF(Sconti!$D$10=\"a\",55%,IF(Sconti!$D$10=\"b\",69%,IF(Sconti!$D$10=\"c\",72%)))","v":0.69},{"$f":"IF(Sconti!$D$10=\"a\",55%,IF(Sconti!$D$10=\"b\",69%,IF(Sconti!$D$10=\"c\",72%)))","v":0.69},{"$f":"IF(Sconti!$D$10=\"a\",55%,IF(Sconti!$D$10=\"b\",69%,IF(Sconti!$D$10=\"c\",72%)))","v":0.69},{"$f":"IF(Sconti!$D$10=\"a\",55%,IF(Sconti!$D$10=\"b\",69%,IF(Sconti!$D$10=\"c\",72%)))","v":0.69},{"$f":"IF(Sconti!$D$10=\"a\",55%,IF(Sconti!$D$10=\"b\",69%,IF(Sconti!$D$10=\"c\",72%)))","v":0.69},{"$f":"IF(Sconti!$D$10=\"a\",55%,IF(Sconti!$D$10=\"b\",69%,IF(Sconti!$D$10=\"c\",72%)))","v":0.69},null,"4,5 kg",39.85,130.55000000000001,133.19999999999999,140.25,286.55,287,135.75,308.55,157.75,275,293.35000000000002,324.7,178]
[null,"5,0 kg",{"$f":"IF(Sconti!$D$10=\"a\",40%,IF(Sconti!$D$10=\"b\",60%,IF(Sconti!$D$10=\"c\",65%)))","v":0.6},{"$f":"IF(Sconti!$D$10=\"a\",55%,IF(Sconti!$D$10=\"b\",71%,IF(Sconti!$D$10=\"c\",74%)))","v":0.71},{"$f":"IF(Sconti!$D$10=\"a\",55%,IF(Sconti!$D$10=\"b\",71%,IF(Sconti!$D$10=\"c\",74%)))","v":0.71},{"$f":"IF(Sconti!$D$10=\"a\",55%,IF(Sconti!$D$10=\"b\",71%,IF(Sconti!$D$10=\"c\",74%)))","v":0.71},{"$f":"IF(Sconti!$D$10=\"a\",55%,IF(Sconti!$D$10=\"b\",71%,IF(Sconti!$D$10=\"c\",74%)))","v":0.71},{"$f":"IF(Sconti!$D$10=\"a\",55%,IF(Sconti!$D$10=\"b\",71%,IF(Sconti!$D$10=\"c\",74%)))","v":0.71},{"$f":"IF(Sconti!$D$10=\"a\",55%,IF(Sconti!$D$10=\"b\",69%,IF(Sconti!$D$10=\"c\",72%)))","v":0.69},{"$f":"IF(Sconti!$D$10=\"a\",55%,IF(Sconti!$D$10=\"b\",69%,IF(Sconti!$D$10=\"c\",72%)))","v":0.69},{"$f":"IF(Sconti!$D$10=\"a\",55%,IF(Sconti!$D$10=\"b\",69%,IF(Sconti!$D$10=\"c\",72%)))","v":0.69},{"$f":"IF(Sconti!$D$10=\"a\",55%,IF(Sconti!$D$10=\"b\",69%,IF(Sconti!$D$10=\"c\",72%)))","v":0.69},{"$f":"IF(Sconti!$D$10=\"a\",55%,IF(Sconti!$D$10=\"b\",69%,IF(Sconti!$D$10=\"c\",72%)))","v":0.69},{"$f":"IF(Sconti!$D$10=\"a\",55%,IF(Sconti!$D$10=\"b\",69%,IF(Sconti!$D$10=\"c\",72%)))","v":0.69},{"$f":"IF(Sconti!$D$10=\"a\",55%,IF(Sconti!$D$10=\"b\",69%,IF(Sconti!$D$10=\"c\",72%)))","v":0.69},null,"5,0 kg",39.85,138.65,142.75,149.25,312.8,313.35000000000002,144.85,326.5,168.25,293.3,312.75,344.6,188.9]
[null,"5,5 kg",{"$f":"IF(Sconti!$D$10=\"a\",40%,IF(Sconti!$D$10=\"b\",60%,IF(Sconti!$D$10=\"c\",65%)))","v":0.6},{"$f":"IF(Sconti!$D$10=\"a\",55%,IF(Sconti!$D$10=\"b\",71%,IF(Sconti!$D$10=\"c\",74%)))","v":0.71},{"$f":"IF(Sconti!$D$10=\"a\",55%,IF(Sconti!$D$10=\"b\",71%,IF(Sconti!$D$10=\"c\",74%)))","v":0.71},{"$f":"IF(Sconti!$D$10=\"a\",55%,IF(Sconti!$D$10=\"b\",71%,IF(Sconti!$D$10=\"c\",74%)))","v":0.71},{"$f":"IF(Sconti!$D$10=\"a\",55%,IF(Sconti!$D$10=\"b\",71%,IF(Sconti!$D$10=\"c\",74%)))","v":0.71},{"$f":"IF(Sconti!$D$10=\"a\",55%,IF(Sconti!$D$10=\"b\",71%,IF(Sconti!$D$10=\"c\",74%)))","v":0.71},{"$f":"IF(Sconti!$D$10=\"a\",55%,IF(Sconti!$D$10=\"b\",69%,IF(Sconti!$D$10=\"c\",72%)))","v":0.69},{"$f":"IF(Sconti!$D$10=\"a\",55%,IF(Sconti!$D$10=\"b\",69%,IF(Sconti!$D$10=\"c\",72%)))","v":0.69},{"$f":"IF(Sconti!$D$10=\"a\",55%,IF(Sconti!$D$10=\"b\",69%,IF(Sconti!$D$10=\"c\",72%)))","v":0.69},{"$f":"IF(Sconti!$D$10=\"a\",55%,IF(Sconti!$D$10=\"b\",69%,IF(Sconti!$D$10=\"c\",72%)))","v":0.69},{"$f":"IF(Sconti!$D$10=\"a\",55%,IF(Sconti!$D$10=\"b\",69%,IF(Sconti!$D$10=\"c\",72%)))","v":0.69},{"$f":"IF(Sconti!$D$10=\"a\",55%,IF(Sconti!$D$10=\"b\",69%,IF(Sconti!$D$10=\"c\",72%)))","v":0.69},{"$f":"IF(Sconti!$D$10=\"a\",55%,IF(Sconti!$D$10=\"b\",69%,IF(Sconti!$D$10=\"c\",72%)))","v":0.69},null,"5,5 kg",42.25,145.55000000000001,148.4,156.6,328.55,329.2,151.35,344.1,177.8,299.60000000000002,315.95,364.6,198.15]
[null,"6,0 kg",{"$f":"IF(Sconti!$D$10=\"a\",40%,IF(Sconti!$D$10=\"b\",60%,IF(Sconti!$D$10=\"c\",65%)))","v":0.6},{"$f":"IF(Sconti!$D$10=\"a\",55%,IF(Sconti!$D$10=\"b\",71%,IF(Sconti!$D$10=\"c\",74%)))","v":0.71},{"$f":"IF(Sconti!$D$10=\"a\",55%,IF(Sconti!$D$10=\"b\",71%,IF(Sconti!$D$10=\"c\",74%)))","v":0.71},{"$f":"IF(Sconti!$D$10=\"a\",55%,IF(Sconti!$D$10=\"b\",71%,IF(Sconti!$D$10=\"c\",74%)))","v":0.71},{"$f":"IF(Sconti!$D$10=\"a\",55%,IF(Sconti!$D$10=\"b\",71%,IF(Sconti!$D$10=\"c\",74%)))","v":0.71},{"$f":"IF(Sconti!$D$10=\"a\",55%,IF(Sconti!$D$10=\"b\",71%,IF(Sconti!$D$10=\"c\",74%)))","v":0.71},{"$f":"IF(Sconti!$D$10=\"a\",55%,IF(Sconti!$D$10=\"b\",69%,IF(Sconti!$D$10=\"c\",72%)))","v":0.69},{"$f":"IF(Sconti!$D$10=\"a\",55%,IF(Sconti!$D$10=\"b\",69%,IF(Sconti!$D$10=\"c\",72%)))","v":0.69},{"$f":"IF(Sconti!$D$10=\"a\",55%,IF(Sconti!$D$10=\"b\",69%,IF(Sconti!$D$10=\"c\",72%)))","v":0.69},{"$f":"IF(Sconti!$D$10=\"a\",55%,IF(Sconti!$D$10=\"b\",69%,IF(Sconti!$D$10=\"c\",72%)))","v":0.69},{"$f":"IF(Sconti!$D$10=\"a\",55%,IF(Sconti!$D$10=\"b\",69%,IF(Sconti!$D$10=\"c\",72%)))","v":0.69},{"$f":"IF(Sconti!$D$10=\"a\",55%,IF(Sconti!$D$10=\"b\",69%,IF(Sconti!$D$10=\"c\",72%)))","v":0.69},{"$f":"IF(Sconti!$D$10=\"a\",55%,IF(Sconti!$D$10=\"b\",69%,IF(Sconti!$D$10=\"c\",72%)))","v":0.69},null,"6,0 kg",42.25,152.5,155.4,163.80000000000001,344.25,345.05,158.15,362.1,187.35,317,334.55,384.3,207.5]
[null,"6,5 kg",{"$f":"IF(Sconti!$D$10=\"a\",40%,IF(Sconti!$D$10=\"b\",60%,IF(Sconti!$D$10=\"c\",65%)))","v":0.6},{"$f":"IF(Sconti!$D$10=\"a\",55%,IF(Sconti!$D$10=\"b\",71%,IF(Sconti!$D$10=\"c\",74%)))","v":0.71},{"$f":"IF(Sconti!$D$10=\"a\",55%,IF(Sconti!$D$10=\"b\",71%,IF(Sconti!$D$10=\"c\",74%)))","v":0.71},{"$f":"IF(Sconti!$D$10=\"a\",55%,IF(Sconti!$D$10=\"b\",71%,IF(Sconti!$D$10=\"c\",74%)))","v":0.71},{"$f":"IF(Sconti!$D$10=\"a\",55%,IF(Sconti!$D$10=\"b\",71%,IF(Sconti!$D$10=\"c\",74%)))","v":0.71},{"$f":"IF(Sconti!$D$10=\"a\",55%,IF(Sconti!$D$10=\"b\",71%,IF(Sconti!$D$10=\"c\",74%)))","v":0.71},{"$f":"IF(Sconti!$D$10=\"a\",55%,IF(Sconti!$D$10=\"b\",69%,IF(Sconti!$D$10=\"c\",72%)))","v":0.69},{"$f":"IF(Sconti!$D$10=\"a\",55%,IF(Sconti!$D$10=\"b\",69%,IF(Sconti!$D$10=\"c\",72%)))","v":0.69},{"$f":"IF(Sconti!$D$10=\"a\",55%,IF(Sconti!$D$10=\"b\",69%,IF(Sconti!$D$10=\"c\",72%)))","v":0.69},{"$f":"IF(Sconti!$D$10=\"a\",55%,IF(Sconti!$D$10=\"b\",69%,IF(Sconti!$D$10=\"c\",72%)))","v":0.69},{"$f":"IF(Sconti!$D$10=\"a\",55%,IF(Sconti!$D$10=\"b\",69%,IF(Sconti!$D$10=\"c\",72%)))","v":0.69},{"$f":"IF(Sconti!$D$10=\"a\",55%,IF(Sconti!$D$10=\"b\",69%,IF(Sconti!$D$10=\"c\",72%)))","v":0.69},{"$f":"IF(Sconti!$D$10=\"a\",55%,IF(Sconti!$D$10=\"b\",69%,IF(Sconti!$D$10=\"c\",72%)))","v":0.69},null,"6,5 kg",44.7,159.4,162.4,171.1,359.95,360.9,164.7,380,196.9,334.45,353,404.15,216.9]
[null,"7,0 kg",{"$f":"IF(Sconti!$D$10=\"a\",40%,IF(Sconti!$D$10=\"b\",60%,IF(Sconti!$D$10=\"c\",65%)))","v":0.6},{"$f":"IF(Sconti!$D$10=\"a\",55%,IF(Sconti!$D$10=\"b\",71%,IF(Sconti!$D$10=\"c\",74%)))","v":0.71},{"$f":"IF(Sconti!$D$10=\"a\",55%,IF(Sconti!$D$10=\"b\",71%,IF(Sconti!$D$10=\"c\",74%)))","v":0.71},{"$f":"IF(Sconti!$D$10=\"a\",55%,IF(Sconti!$D$10=\"b\",71%,IF(Sconti!$D$10=\"c\",74%)))","v":0.71},{"$f":"IF(Sconti!$D$10=\"a\",55%,IF(Sconti!$D$10=\"b\",71%,IF(Sconti!$D$10=\"c\",74%)))","v":0.71},{"$f":"IF(Sconti!$D$10=\"a\",55%,IF(Sconti!$D$10=\"b\",71%,IF(Sconti!$D$10=\"c\",74%)))","v":0.71},{"$f":"IF(Sconti!$D$10=\"a\",55%,IF(Sconti!$D$10=\"b\",69%,IF(Sconti!$D$10=\"c\",72%)))","v":0.69},{"$f":"IF(Sconti!$D$10=\"a\",55%,IF(Sconti!$D$10=\"b\",69%,IF(Sconti!$D$10=\"c\",72%)))","v":0.69},{"$f":"IF(Sconti!$D$10=\"a\",55%,IF(Sconti!$D$10=\"b\",69%,IF(Sconti!$D$10=\"c\",72%)))","v":0.69},{"$f":"IF(Sconti!$D$10=\"a\",55%,IF(Sconti!$D$10=\"b\",69%,IF(Sconti!$D$10=\"c\",72%)))","v":0.69},{"$f":"IF(Sconti!$D$10=\"a\",55%,IF(Sconti!$D$10=\"b\",69%,IF(Sconti!$D$10=\"c\",72%)))","v":0.69},{"$f":"IF(Sconti!$D$10=\"a\",55%,IF(Sconti!$D$10=\"b\",69%,IF(Sconti!$D$10=\"c\",72%)))","v":0.69},{"$f":"IF(Sconti!$D$10=\"a\",55%,IF(Sconti!$D$10=\"b\",69%,IF(Sconti!$D$10=\"c\",72%)))","v":0.69},null,"7,0 kg",44.7,166.3,169.35,177.9,375.65,376.75,171.35,397.9,206.35,351.75,371.65,424,226.15]
[null,"7,5 kg",{"$f":"IF(Sconti!$D$10=\"a\",40%,IF(Sconti!$D$10=\"b\",60%,IF(Sconti!$D$10=\"c\",65%)))","v":0.6},{"$f":"IF(Sconti!$D$10=\"a\",55%,IF(Sconti!$D$10=\"b\",71%,IF(Sconti!$D$10=\"c\",74%)))","v":0.71},{"$f":"IF(Sconti!$D$10=\"a\",55%,IF(Sconti!$D$10=\"b\",71%,IF(Sconti!$D$10=\"c\",74%)))","v":0.71},{"$f":"IF(Sconti!$D$10=\"a\",55%,IF(Sconti!$D$10=\"b\",71%,IF(Sconti!$D$10=\"c\",74%)))","v":0.71},{"$f":"IF(Sconti!$D$10=\"a\",55%,IF(Sconti!$D$10=\"b\",71%,IF(Sconti!$D$10=\"c\",74%)))","v":0.71},{"$f":"IF(Sconti!$D$10=\"a\",55%,IF(Sconti!$D$10=\"b\",71%,IF(Sconti!$D$10=\"c\",74%)))","v":0.71},{"$f":"IF(Sconti!$D$10=\"a\",55%,IF(Sconti!$D$10=\"b\",69%,IF(Sconti!$D$10=\"c\",72%)))","v":0.69},{"$f":"IF(Sconti!$D$10=\"a\",55%,IF(Sconti!$D$10=\"b\",69%,IF(Sconti!$D$10=\"c\",72%)))","v":0.69},{"$f":"IF(Sconti!$D$10=\"a\",55%,IF(Sconti!$D$10=\"b\",69%,IF(Sconti!$D$10=\"c\",72%)))","v":0.69},{"$f":"IF(Sconti!$D$10=\"a\",55%,IF(Sconti!$D$10=\"b\",69%,IF(Sconti!$D$10=\"c\",72%)))","v":0.69},{"$f":"IF(Sconti!$D$10=\"a\",55%,IF(Sconti!$D$10=\"b\",69%,IF(Sconti!$D$10=\"c\",72%)))","v":0.69},{"$f":"IF(Sconti!$D$10=\"a\",55%,IF(Sconti!$D$10=\"b\",69%,IF(Sconti!$D$10=\"c\",72%)))","v":0.69},{"$f":"IF(Sconti!$D$10=\"a\",55%,IF(Sconti!$D$10=\"b\",69%,IF(Sconti!$D$10=\"c\",72%)))","v":0.69},null,"7,5 kg",47.2,173.2,176.4,184.65,391.2,392.65,178,415.75,215.85,369,390.1,443.75,235.45]
[null,"8,0 kg",{"$f":"IF(Sconti!$D$10=\"a\",40%,IF(Sconti!$D$10=\"b\",60%,IF(Sconti!$D$10=\"c\",65%)))","v":0.6},{"$f":"IF(Sconti!$D$10=\"a\",55%,IF(Sconti!$D$10=\"b\",71%,IF(Sconti!$D$10=\"c\",74%)))","v":0.71},{"$f":"IF(Sconti!$D$10=\"a\",55%,IF(Sconti!$D$10=\"b\",71%,IF(Sconti!$D$10=\"c\",74%)))","v":0.71},{"$f":"IF(Sconti!$D$10=\"a\",55%,IF(Sconti!$D$10=\"b\",71%,IF(Sconti!$D$10=\"c\",74%)))","v":0.71},{"$f":"IF(Sconti!$D$10=\"a\",55%,IF(Sconti!$D$10=\"b\",71%,IF(Sconti!$D$10=\"c\",74%)))","v":0.71},{"$f":"IF(Sconti!$D$10=\"a\",55%,IF(Sconti!$D$10=\"b\",71%,IF(Sconti!$D$10=\"c\",74%)))","v":0.71},{"$f":"IF(Sconti!$D$10=\"a\",55%,IF(Sconti!$D$10=\"b\",69%,IF(Sconti!$D$10=\"c\",72%)))","v":0.69},{"$f":"IF(Sconti!$D$10=\"a\",55%,IF(Sconti!$D$10=\"b\",69%,IF(Sconti!$D$10=\"c\",72%)))","v":0.69},{"$f":"IF(Sconti!$D$10=\"a\",55%,IF(Sconti!$D$10=\"b\",69%,IF(Sconti!$D$10=\"c\",72%)))","v":0.69},{"$f":"IF(Sconti!$D$10=\"a\",55%,IF(Sconti!$D$10=\"b\",69%,IF(Sconti!$D$10=\"c\",72%)))","v":0.69},{"$f":"IF(Sconti!$D$10=\"a\",55%,IF(Sconti!$D$10=\"b\",69%,IF(Sconti!$D$10=\"c\",72%)))","v":0.69},{"$f":"IF(Sconti!$D$10=\"a\",55%,IF(Sconti!$D$10=\"b\",69%,IF(Sconti!$D$10=\"c\",72%)))","v":0.69},{"$f":"IF(Sconti!$D$10=\"a\",55%,IF(Sconti!$D$10=\"b\",69%,IF(Sconti!$D$10=\"c\",72%)))","v":0.69},null,"8,0 kg",47.2,180.05,183.4,191.5,406.95,408.45,184.6,433.65,225.35,386.55,408.6,463.75,244.9]
[null,"8,5 kg",{"$f":"IF(Sconti!$D$10=\"a\",40%,IF(Sconti!$D$10=\"b\",60%,IF(Sconti!$D$10=\"c\",65%)))","v":0.6},{"$f":"IF(Sconti!$D$10=\"a\",55%,IF(Sconti!$D$10=\"b\",71%,IF(Sconti!$D$10=\"c\",74%)))","v":0.71},{"$f":"IF(Sconti!$D$10=\"a\",55%,IF(Sconti!$D$10=\"b\",71%,IF(Sconti!$D$10=\"c\",74%)))","v":0.71},{"$f":"IF(Sconti!$D$10=\"a\",55%,IF(Sconti!$D$10=\"b\",71%,IF(Sconti!$D$10=\"c\",74%)))","v":0.71},{"$f":"IF(Sconti!$D$10=\"a\",55%,IF(Sconti!$D$10=\"b\",71%,IF(Sconti!$D$10=\"c\",74%)))","v":0.71},{"$f":"IF(Sconti!$D$10=\"a\",55%,IF(Sconti!$D$10=\"b\",71%,IF(Sconti!$D$10=\"c\",74%)))","v":0.71},{"$f":"IF(Sconti!$D$10=\"a\",55%,IF(Sconti!$D$10=\"b\",69%,IF(Sconti!$D$10=\"c\",72%)))","v":0.69},{"$f":"IF(Sconti!$D$10=\"a\",55%,IF(Sconti!$D$10=\"b\",69%,IF(Sconti!$D$10=\"c\",72%)))","v":0.69},{"$f":"IF(Sconti!$D$10=\"a\",55%,IF(Sconti!$D$10=\"b\",69%,IF(Sconti!$D$10=\"c\",72%)))","v":0.69},{"$f":"IF(Sconti!$D$10=\"a\",55%,IF(Sconti!$D$10=\"b\",69%,IF(Sconti!$D$10=\"c\",72%)))","v":0.69},{"$f":"IF(Sconti!$D$10=\"a\",55%,IF(Sconti!$D$10=\"b\",69%,IF(Sconti!$D$10=\"c\",72%)))","v":0.69},{"$f":"IF(Sconti!$D$10=\"a\",55%,IF(Sconti!$D$10=\"b\",69%,IF(Sconti!$D$10=\"c\",72%)))","v":0.69},{"$f":"IF(Sconti!$D$10=\"a\",55%,IF(Sconti!$D$10=\"b\",69%,IF(Sconti!$D$10=\"c\",72%)))","v":0.69},null,"8,5 kg",49.7,187.1,190.4,198.15,422.65,424.25,191.05,451.45,234.9,403.95,427.15,483.5,254.1]
[null,"9,0 kg",{"$f":"IF(Sconti!$D$10=\"a\",40%,IF(Sconti!$D$10=\"b\",60%,IF(Sconti!$D$10=\"c\",65%)))","v":0.6},{"$f":"IF(Sconti!$D$10=\"a\",55%,IF(Sconti!$D$10=\"b\",71%,IF(Sconti!$D$10=\"c\",74%)))","v":0.71},{"$f":"IF(Sconti!$D$10=\"a\",55%,IF(Sconti!$D$10=\"b\",71%,IF(Sconti!$D$10=\"c\",74%)))","v":0.71},{"$f":"IF(Sconti!$D$10=\"a\",55%,IF(Sconti!$D$10=\"b\",71%,IF(Sconti!$D$10=\"c\",74%)))","v":0.71},{"$f":"IF(Sconti!$D$10=\"a\",55%,IF(Sconti!$D$10=\"b\",71%,IF(Sconti!$D$10=\"c\",74%)))","v":0.71},{"$f":"IF(Sconti!$D$10=\"a\",55%,IF(Sconti!$D$10=\"b\",71%,IF(Sconti!$D$10=\"c\",74%)))","v":0.71},{"$f":"IF(Sconti!$D$10=\"a\",55%,IF(Sconti!$D$10=\"b\",69%,IF(Sconti!$D$10=\"c\",72%)))","v":0.69},{"$f":"IF(Sconti!$D$10=\"a\",55%,IF(Sconti!$D$10=\"b\",69%,IF(Sconti!$D$10=\"c\",72%)))","v":0.69},{"$f":"IF(Sconti!$D$10=\"a\",55%,IF(Sconti!$D$10=\"b\",69%,IF(Sconti!$D$10=\"c\",72%)))","v":0.69},{"$f":"IF(Sconti!$D$10=\"a\",55%,IF(Sconti!$D$10=\"b\",69%,IF(Sconti!$D$10=\"c\",72%)))","v":0.69},{"$f":"IF(Sconti!$D$10=\"a\",55%,IF(Sconti!$D$10=\"b\",69%,IF(Sconti!$D$10=\"c\",72%)))","v":0.69},{"$f":"IF(Sconti!$D$10=\"a\",55%,IF(Sconti!$D$10=\"b\",69%,IF(Sconti!$D$10=\"c\",72%)))","v":0.69},{"$f":"IF(Sconti!$D$10=\"a\",55%,IF(Sconti!$D$10=\"b\",69%,IF(Sconti!$D$10=\"c\",72%)))","v":0.69},null,"9,0 kg",49.7,193.95,197.4,204.9,438.25,440.1,197.55,469.35,244.4,421.25,445.6,503.45,263.45]
[null,"9,5 kg",{"$f":"IF(Sconti!$D$10=\"a\",40%,IF(Sconti!$D$10=\"b\",60%,IF(Sconti!$D$10=\"c\",65%)))","v":0.6},{"$f":"IF(Sconti!$D$10=\"a\",55%,IF(Sconti!$D$10=\"b\",71%,IF(Sconti!$D$10=\"c\",74%)))","v":0.71},{"$f":"IF(Sconti!$D$10=\"a\",55%,IF(Sconti!$D$10=\"b\",71%,IF(Sconti!$D$10=\"c\",74%)))","v":0.71},{"$f":"IF(Sconti!$D$10=\"a\",55%,IF(Sconti!$D$10=\"b\",71%,IF(Sconti!$D$10=\"c\",74%)))","v":0.71},{"$f":"IF(Sconti!$D$10=\"a\",55%,IF(Sconti!$D$10=\"b\",71%,IF(Sconti!$D$10=\"c\",74%)))","v":0.71},{"$f":"IF(Sconti!$D$10=\"a\",55%,IF(Sconti!$D$10=\"b\",71%,IF(Sconti!$D$10=\"c\",74%)))","v":0.71},{"$f":"IF(Sconti!$D$10=\"a\",55%,IF(Sconti!$D$10=\"b\",69%,IF(Sconti!$D$10=\"c\",72%)))","v":0.69},{"$f":"IF(Sconti!$D$10=\"a\",55%,IF(Sconti!$D$10=\"b\",69%,IF(Sconti!$D$10=\"c\",72%)))","v":0.69},{"$f":"IF(Sconti!$D$10=\"a\",55%,IF(Sconti!$D$10=\"b\",69%,IF(Sconti!$D$10=\"c\",72%)))","v":0.69},{"$f":"IF(Sconti!$D$10=\"a\",55%,IF(Sconti!$D$10=\"b\",69%,IF(Sconti!$D$10=\"c\",72%)))","v":0.69},{"$f":"IF(Sconti!$D$10=\"a\",55%,IF(Sconti!$D$10=\"b\",69%,IF(Sconti!$D$10=\"c\",72%)))","v":0.69},{"$f":"IF(Sconti!$D$10=\"a\",55%,IF(Sconti!$D$10=\"b\",69%,IF(Sconti!$D$10=\"c\",72%)))","v":0.69},{"$f":"IF(Sconti!$D$10=\"a\",55%,IF(Sconti!$D$10=\"b\",69%,IF(Sconti!$D$10=\"c\",72%)))","v":0.69},null,"9,5 kg",52.2,200.85,204.4,211.75,453.85,455.95,204,487.25,253.95,438.6,464.2,523.29999999999995,272.85000000000002]
[null,"10 kg",{"$f":"IF(Sconti!$D$10=\"a\",40%,IF(Sconti!$D$10=\"b\",60%,IF(Sconti!$D$10=\"c\",65%)))","v":0.6},{"$f":"IF(Sconti!$D$10=\"a\",55%,IF(Sconti!$D$10=\"b\",71%,IF(Sconti!$D$10=\"c\",74%)))","v":0.71},{"$f":"IF(Sconti!$D$10=\"a\",55%,IF(Sconti!$D$10=\"b\",71%,IF(Sconti!$D$10=\"c\",74%)))","v":0.71},{"$f":"IF(Sconti!$D$10=\"a\",55%,IF(Sconti!$D$10=\"b\",71%,IF(Sconti!$D$10=\"c\",74%)))","v":0.71},{"$f":"IF(Sconti!$D$10=\"a\",55%,IF(Sconti!$D$10=\"b\",71%,IF(Sconti!$D$10=\"c\",74%)))","v":0.71},{"$f":"IF(Sconti!$D$10=\"a\",55%,IF(Sconti!$D$10=\"b\",71%,IF(Sconti!$D$10=\"c\",74%)))","v":0.71},{"$f":"IF(Sconti!$D$10=\"a\",55%,IF(Sconti!$D$10=\"b\",69%,IF(Sconti!$D$10=\"c\",72%)))","v":0.69},{"$f":"IF(Sconti!$D$10=\"a\",55%,IF(Sconti!$D$10=\"b\",69%,IF(Sconti!$D$10=\"c\",72%)))","v":0.69},{"$f":"IF(Sconti!$D$10=\"a\",55%,IF(Sconti!$D$10=\"b\",69%,IF(Sconti!$D$10=\"c\",72%)))","v":0.69},{"$f":"IF(Sconti!$D$10=\"a\",55%,IF(Sconti!$D$10=\"b\",69%,IF(Sconti!$D$10=\"c\",72%)))","v":0.69},{"$f":"IF(Sconti!$D$10=\"a\",55%,IF(Sconti!$D$10=\"b\",69%,IF(Sconti!$D$10=\"c\",72%)))","v":0.69},{"$f":"IF(Sconti!$D$10=\"a\",55%,IF(Sconti!$D$10=\"b\",69%,IF(Sconti!$D$10=\"c\",72%)))","v":0.69},{"$f":"IF(Sconti!$D$10=\"a\",55%,IF(Sconti!$D$10=\"b\",69%,IF(Sconti!$D$10=\"c\",72%)))","v":0.69},null,"10 kg",52.2,207.75,211.4,218.5,469.6,471.8,210.35,505.25,263.45,456.1,482.8,543.04999999999995,282.10000000000002]
[null,"11 kg",{"$f":"IF(Sconti!$D$10=\"a\",40%,IF(Sconti!$D$10=\"b\",60%,IF(Sconti!$D$10=\"c\",65%)))","v":0.6},{"$f":"IF(Sconti!$D$10=\"a\",55%,IF(Sconti!$D$10=\"b\",71%,IF(Sconti!$D$10=\"c\",74%)))","v":0.71},{"$f":"IF(Sconti!$D$10=\"a\",55%,IF(Sconti!$D$10=\"b\",71%,IF(Sconti!$D$10=\"c\",74%)))","v":0.71},{"$f":"IF(Sconti!$D$10=\"a\",55%,IF(Sconti!$D$10=\"b\",71%,IF(Sconti!$D$10=\"c\",74%)))","v":0.71},{"$f":"IF(Sconti!$D$10=\"a\",55%,IF(Sconti!$D$10=\"b\",71%,IF(Sconti!$D$10=\"c\",74%)))","v":0.71},{"$f":"IF(Sconti!$D$10=\"a\",55%,IF(Sconti!$D$10=\"b\",71%,IF(Sconti!$D$10=\"c\",74%)))","v":0.71},{"$f":"IF(Sconti!$D$10=\"a\",55%,IF(Sconti!$D$10=\"b\",69%,IF(Sconti!$D$10=\"c\",72%)))","v":0.69},{"$f":"IF(Sconti!$D$10=\"a\",55%,IF(Sconti!$D$10=\"b\",69%,IF(Sconti!$D$10=\"c\",72%)))","v":0.69},{"$f":"IF(Sconti!$D$10=\"a\",55%,IF(Sconti!$D$10=\"b\",69%,IF(Sconti!$D$10=\"c\",72%)))","v":0.69},{"$f":"IF(Sconti!$D$10=\"a\",55%,IF(Sconti!$D$10=\"b\",69%,IF(Sconti!$D$10=\"c\",72%)))","v":0.69},{"$f":"IF(Sconti!$D$10=\"a\",55%,IF(Sconti!$D$10=\"b\",69%,IF(Sconti!$D$10=\"c\",72%)))","v":0.69},{"$f":"IF(Sconti!$D$10=\"a\",55%,IF(Sconti!$D$10=\"b\",69%,IF(Sconti!$D$10=\"c\",72%)))","v":0.69},{"$f":"IF(Sconti!$D$10=\"a\",55%,IF(Sconti!$D$10=\"b\",69%,IF(Sconti!$D$10=\"c\",72%)))","v":0.69},null,"11 kg",70.650000000000006,214.7,215,225.6,500.6,503.8,222.8,537.04999999999995,283,481.55,508.15,574.35,295.14999999999998]
[null,"12 kg",{"$f":"IF(Sconti!$D$10=\"a\",40%,IF(Sconti!$D$10=\"b\",60%,IF(Sconti!$D$10=\"c\",65%)))","v":0.6},{"$f":"IF(Sconti!$D$10=\"a\",55%,IF(Sconti!$D$10=\"b\",71%,IF(Sconti!$D$10=\"c\",74%)))","v":0.71},{"$f":"IF(Sconti!$D$10=\"a\",55%,IF(Sconti!$D$10=\"b\",71%,IF(Sconti!$D$10=\"c\",74%)))","v":0.71},{"$f":"IF(Sconti!$D$10=\"a\",55%,IF(Sconti!$D$10=\"b\",71%,IF(Sconti!$D$10=\"c\",74%)))","v":0.71},{"$f":"IF(Sconti!$D$10=\"a\",55%,IF(Sconti!$D$10=\"b\",71%,IF(Sconti!$D$10=\"c\",74%)))","v":0.71},{"$f":"IF(Sconti!$D$10=\"a\",55%,IF(Sconti!$D$10=\"b\",71%,IF(Sconti!$D$10=\"c\",74%)))","v":0.71},{"$f":"IF(Sconti!$D$10=\"a\",55%,IF(Sconti!$D$10=\"b\",69%,IF(Sconti!$D$10=\"c\",72%)))","v":0.69},{"$f":"IF(Sconti!$D$10=\"a\",55%,IF(Sconti!$D$10=\"b\",69%,IF(Sconti!$D$10=\"c\",72%)))","v":0.69},{"$f":"IF(Sconti!$D$10=\"a\",55%,IF(Sconti!$D$10=\"b\",69%,IF(Sconti!$D$10=\"c\",72%)))","v":0.69},{"$f":"IF(Sconti!$D$10=\"a\",55%,IF(Sconti!$D$10=\"b\",69%,IF(Sconti!$D$10=\"c\",72%)))","v":0.69},{"$f":"IF(Sconti!$D$10=\"a\",55%,IF(Sconti!$D$10=\"b\",69%,IF(Sconti!$D$10=\"c\",72%)))","v":0.69},{"$f":"IF(Sconti!$D$10=\"a\",55%,IF(Sconti!$D$10=\"b\",69%,IF(Sconti!$D$10=\"c\",72%)))","v":0.69},{"$f":"IF(Sconti!$D$10=\"a\",55%,IF(Sconti!$D$10=\"b\",69%,IF(Sconti!$D$10=\"c\",72%)))","v":0.69},null,"12 kg",70.650000000000006,225.15,226.35,238.1,531.15,535.95000000000005,234.3,568.95000000000005,302.35000000000002,507.2,533.70000000000005,605.70000000000005,308.35000000000002]
[null,"13 kg",{"$f":"IF(Sconti!$D$10=\"a\",40%,IF(Sconti!$D$10=\"b\",60%,IF(Sconti!$D$10=\"c\",65%)))","v":0.6},{"$f":"IF(Sconti!$D$10=\"a\",55%,IF(Sconti!$D$10=\"b\",71%,IF(Sconti!$D$10=\"c\",74%)))","v":0.71},{"$f":"IF(Sconti!$D$10=\"a\",55%,IF(Sconti!$D$10=\"b\",71%,IF(Sconti!$D$10=\"c\",74%)))","v":0.71},{"$f":"IF(Sconti!$D$10=\"a\",55%,IF(Sconti!$D$10=\"b\",71%,IF(Sconti!$D$10=\"c\",74%)))","v":0.71},{"$f":"IF(Sconti!$D$10=\"a\",55%,IF(Sconti!$D$10=\"b\",71%,IF(Sconti!$D$10=\"c\",74%)))","v":0.71},{"$f":"IF(Sconti!$D$10=\"a\",55%,IF(Sconti!$D$10=\"b\",71%,IF(Sconti!$D$10=\"c\",74%)))","v":0.71},{"$f":"IF(Sconti!$D$10=\"a\",55%,IF(Sconti!$D$10=\"b\",69%,IF(Sconti!$D$10=\"c\",72%)))","v":0.69},{"$f":"IF(Sconti!$D$10=\"a\",55%,IF(Sconti!$D$10=\"b\",69%,IF(Sconti!$D$10=\"c\",72%)))","v":0.69},{"$f":"IF(Sconti!$D$10=\"a\",55%,IF(Sconti!$D$10=\"b\",69%,IF(Sconti!$D$10=\"c\",72%)))","v":0.69},{"$f":"IF(Sconti!$D$10=\"a\",55%,IF(Sconti!$D$10=\"b\",69%,IF(Sconti!$D$10=\"c\",72%)))","v":0.69},{"$f":"IF(Sconti!$D$10=\"a\",55%,IF(Sconti!$D$10=\"b\",69%,IF(Sconti!$D$10=\"c\",72%)))","v":0.69},{"$f":"IF(Sconti!$D$10=\"a\",55%,IF(Sconti!$D$10=\"b\",69%,IF(Sconti!$D$10=\"c\",72%)))","v":0.69},{"$f":"IF(Sconti!$D$10=\"a\",55%,IF(Sconti!$D$10=\"b\",69%,IF(Sconti!$D$10=\"c\",72%)))","v":0.69},null,"13 kg",70.650000000000006,235.4,237.7,250.35,561.65,567.85,245.9,600.85,321.85000000000002,532.54999999999995,559.1,636.9,321.39999999999998]
[null,"14 kg",{"$f":"IF(Sconti!$D$10=\"a\",40%,IF(Sconti!$D$10=\"b\",60%,IF(Sconti!$D$10=\"c\",65%)))","v":0.6},{"$f":"IF(Sconti!$D$10=\"a\",55%,IF(Sconti!$D$10=\"b\",71%,IF(Sconti!$D$10=\"c\",74%)))","v":0.71},{"$f":"IF(Sconti!$D$10=\"a\",55%,IF(Sconti!$D$10=\"b\",71%,IF(Sconti!$D$10=\"c\",74%)))","v":0.71},{"$f":"IF(Sconti!$D$10=\"a\",55%,IF(Sconti!$D$10=\"b\",71%,IF(Sconti!$D$10=\"c\",74%)))","v":0.71},{"$f":"IF(Sconti!$D$10=\"a\",55%,IF(Sconti!$D$10=\"b\",71%,IF(Sconti!$D$10=\"c\",74%)))","v":0.71},{"$f":"IF(Sconti!$D$10=\"a\",55%,IF(Sconti!$D$10=\"b\",71%,IF(Sconti!$D$10=\"c\",74%)))","v":0.71},{"$f":"IF(Sconti!$D$10=\"a\",55%,IF(Sconti!$D$10=\"b\",69%,IF(Sconti!$D$10=\"c\",72%)))","v":0.69},{"$f":"IF(Sconti!$D$10=\"a\",55%,IF(Sconti!$D$10=\"b\",69%,IF(Sconti!$D$10=\"c\",72%)))","v":0.69},{"$f":"IF(Sconti!$D$10=\"a\",55%,IF(Sconti!$D$10=\"b\",69%,IF(Sconti!$D$10=\"c\",72%)))","v":0.69},{"$f":"IF(Sconti!$D$10=\"a\",55%,IF(Sconti!$D$10=\"b\",69%,IF(Sconti!$D$10=\"c\",72%)))","v":0.69},{"$f":"IF(Sconti!$D$10=\"a\",55%,IF(Sconti!$D$10=\"b\",69%,IF(Sconti!$D$10=\"c\",72%)))","v":0.69},{"$f":"IF(Sconti!$D$10=\"a\",55%,IF(Sconti!$D$10=\"b\",69%,IF(Sconti!$D$10=\"c\",72%)))","v":0.69},{"$f":"IF(Sconti!$D$10=\"a\",55%,IF(Sconti!$D$10=\"b\",69%,IF(Sconti!$D$10=\"c\",72%)))","v":0.69},null,"14 kg",70.650000000000006,245.75,248.95,262.89999999999998,592.29999999999995,600,257.39999999999998,632.79999999999995,341.3,558.1,584.75,668.3,334.55]
[null,"15 kg",{"$f":"IF(Sconti!$D$10=\"a\",40%,IF(Sconti!$D$10=\"b\",60%,IF(Sconti!$D$10=\"c\",65%)))","v":0.6},{"$f":"IF(Sconti!$D$10=\"a\",55%,IF(Sconti!$D$10=\"b\",71%,IF(Sconti!$D$10=\"c\",74%)))","v":0.71},{"$f":"IF(Sconti!$D$10=\"a\",55%,IF(Sconti!$D$10=\"b\",71%,IF(Sconti!$D$10=\"c\",74%)))","v":0.71},{"$f":"IF(Sconti!$D$10=\"a\",55%,IF(Sconti!$D$10=\"b\",71%,IF(Sconti!$D$10=\"c\",74%)))","v":0.71},{"$f":"IF(Sconti!$D$10=\"a\",55%,IF(Sconti!$D$10=\"b\",71%,IF(Sconti!$D$10=\"c\",74%)))","v":0.71},{"$f":"IF(Sconti!$D$10=\"a\",55%,IF(Sconti!$D$10=\"b\",71%,IF(Sconti!$D$10=\"c\",74%)))","v":0.71},{"$f":"IF(Sconti!$D$10=\"a\",55%,IF(Sconti!$D$10=\"b\",69%,IF(Sconti!$D$10=\"c\",72%)))","v":0.69},{"$f":"IF(Sconti!$D$10=\"a\",55%,IF(Sconti!$D$10=\"b\",69%,IF(Sconti!$D$10=\"c\",72%)))","v":0.69},{"$f":"IF(Sconti!$D$10=\"a\",55%,IF(Sconti!$D$10=\"b\",69%,IF(Sconti!$D$10=\"c\",72%)))","v":0.69},{"$f":"IF(Sconti!$D$10=\"a\",55%,IF(Sconti!$D$10=\"b\",69%,IF(Sconti!$D$10=\"c\",72%)))","v":0.69},{"$f":"IF(Sconti!$D$10=\"a\",55%,IF(Sconti!$D$10=\"b\",69%,IF(Sconti!$D$10=\"c\",72%)))","v":0.69},{"$f":"IF(Sconti!$D$10=\"a\",55%,IF(Sconti!$D$10=\"b\",69%,IF(Sconti!$D$10=\"c\",72%)))","v":0.69},{"$f":"IF(Sconti!$D$10=\"a\",55%,IF(Sconti!$D$10=\"b\",69%,IF(Sconti!$D$10=\"c\",72%)))","v":0.69},null,"15 kg",70.650000000000006,256.2,260.25,275.14999999999998,622.70000000000005,632,269,664.65,361,583.54999999999995,610.15,699.65,347.65]
[null,"16 kg",{"$f":"IF(Sconti!$D$10=\"a\",40%,IF(Sconti!$D$10=\"b\",60%,IF(Sconti!$D$10=\"c\",65%)))","v":0.6},{"$f":"IF(Sconti!$D$10=\"a\",55%,IF(Sconti!$D$10=\"b\",71%,IF(Sconti!$D$10=\"c\",74%)))","v":0.71},{"$f":"IF(Sconti!$D$10=\"a\",55%,IF(Sconti!$D$10=\"b\",71%,IF(Sconti!$D$10=\"c\",74%)))","v":0.71},{"$f":"IF(Sconti!$D$10=\"a\",55%,IF(Sconti!$D$10=\"b\",71%,IF(Sconti!$D$10=\"c\",74%)))","v":0.71},{"$f":"IF(Sconti!$D$10=\"a\",55%,IF(Sconti!$D$10=\"b\",71%,IF(Sconti!$D$10=\"c\",74%)))","v":0.71},{"$f":"IF(Sconti!$D$10=\"a\",55%,IF(Sconti!$D$10=\"b\",71%,IF(Sconti!$D$10=\"c\",74%)))","v":0.71},{"$f":"IF(Sconti!$D$10=\"a\",55%,IF(Sconti!$D$10=\"b\",69%,IF(Sconti!$D$10=\"c\",72%)))","v":0.69},{"$f":"IF(Sconti!$D$10=\"a\",55%,IF(Sconti!$D$10=\"b\",69%,IF(Sconti!$D$10=\"c\",72%)))","v":0.69},{"$f":"IF(Sconti!$D$10=\"a\",55%,IF(Sconti!$D$10=\"b\",69%,IF(Sconti!$D$10=\"c\",72%)))","v":0.69},{"$f":"IF(Sconti!$D$10=\"a\",55%,IF(Sconti!$D$10=\"b\",69%,IF(Sconti!$D$10=\"c\",72%)))","v":0.69},{"$f":"IF(Sconti!$D$10=\"a\",55%,IF(Sconti!$D$10=\"b\",69%,IF(Sconti!$D$10=\"c\",72%)))","v":0.69},{"$f":"IF(Sconti!$D$10=\"a\",55%,IF(Sconti!$D$10=\"b\",69%,IF(Sconti!$D$10=\"c\",72%)))","v":0.69},{"$f":"IF(Sconti!$D$10=\"a\",55%,IF(Sconti!$D$10=\"b\",69%,IF(Sconti!$D$10=\"c\",72%)))","v":0.69},null,"16 kg",70.650000000000006,266.5,271.60000000000002,287.5,652.15,663.35,280.55,696.5,380.4,609.15,635.79999999999995,730.8,360.7]
[null,"17 kg",{"$f":"IF(Sconti!$D$10=\"a\",40%,IF(Sconti!$D$10=\"b\",60%,IF(Sconti!$D$10=\"c\",65%)))","v":0.6},{"$f":"IF(Sconti!$D$10=\"a\",55%,IF(Sconti!$D$10=\"b\",71%,IF(Sconti!$D$10=\"c\",74%)))","v":0.71},{"$f":"IF(Sconti!$D$10=\"a\",55%,IF(Sconti!$D$10=\"b\",71%,IF(Sconti!$D$10=\"c\",74%)))","v":0.71},{"$f":"IF(Sconti!$D$10=\"a\",55%,IF(Sconti!$D$10=\"b\",71%,IF(Sconti!$D$10=\"c\",74%)))","v":0.71},{"$f":"IF(Sconti!$D$10=\"a\",55%,IF(Sconti!$D$10=\"b\",71%,IF(Sconti!$D$10=\"c\",74%)))","v":0.71},{"$f":"IF(Sconti!$D$10=\"a\",55%,IF(Sconti!$D$10=\"b\",71%,IF(Sconti!$D$10=\"c\",74%)))","v":0.71},{"$f":"IF(Sconti!$D$10=\"a\",55%,IF(Sconti!$D$10=\"b\",69%,IF(Sconti!$D$10=\"c\",72%)))","v":0.69},{"$f":"IF(Sconti!$D$10=\"a\",55%,IF(Sconti!$D$10=\"b\",69%,IF(Sconti!$D$10=\"c\",72%)))","v":0.69},{"$f":"IF(Sconti!$D$10=\"a\",55%,IF(Sconti!$D$10=\"b\",69%,IF(Sconti!$D$10=\"c\",72%)))","v":0.69},{"$f":"IF(Sconti!$D$10=\"a\",55%,IF(Sconti!$D$10=\"b\",69%,IF(Sconti!$D$10=\"c\",72%)))","v":0.69},{"$f":"IF(Sconti!$D$10=\"a\",55%,IF(Sconti!$D$10=\"b\",69%,IF(Sconti!$D$10=\"c\",72%)))","v":0.69},{"$f":"IF(Sconti!$D$10=\"a\",55%,IF(Sconti!$D$10=\"b\",69%,IF(Sconti!$D$10=\"c\",72%)))","v":0.69},{"$f":"IF(Sconti!$D$10=\"a\",55%,IF(Sconti!$D$10=\"b\",69%,IF(Sconti!$D$10=\"c\",72%)))","v":0.69},null,"17 kg",70.650000000000006,276.85000000000002,282.8,299.85000000000002,681.35,693.85,292.10000000000002,728.4,400,634.65,661.2,762.15,373.8]
[null,"18 kg",{"$f":"IF(Sconti!$D$10=\"a\",40%,IF(Sconti!$D$10=\"b\",60%,IF(Sconti!$D$10=\"c\",65%)))","v":0.6},{"$f":"IF(Sconti!$D$10=\"a\",55%,IF(Sconti!$D$10=\"b\",71%,IF(Sconti!$D$10=\"c\",74%)))","v":0.71},{"$f":"IF(Sconti!$D$10=\"a\",55%,IF(Sconti!$D$10=\"b\",71%,IF(Sconti!$D$10=\"c\",74%)))","v":0.71},{"$f":"IF(Sconti!$D$10=\"a\",55%,IF(Sconti!$D$10=\"b\",71%,IF(Sconti!$D$10=\"c\",74%)))","v":0.71},{"$f":"IF(Sconti!$D$10=\"a\",55%,IF(Sconti!$D$10=\"b\",71%,IF(Sconti!$D$10=\"c\",74%)))","v":0.71},{"$f":"IF(Sconti!$D$10=\"a\",55%,IF(Sconti!$D$10=\"b\",71%,IF(Sconti!$D$10=\"c\",74%)))","v":0.71},{"$f":"IF(Sconti!$D$10=\"a\",55%,IF(Sconti!$D$10=\"b\",69%,IF(Sconti!$D$10=\"c\",72%)))","v":0.69},{"$f":"IF(Sconti!$D$10=\"a\",55%,IF(Sconti!$D$10=\"b\",69%,IF(Sconti!$D$10=\"c\",72%)))","v":0.69},{"$f":"IF(Sconti!$D$10=\"a\",55%,IF(Sconti!$D$10=\"b\",69%,IF(Sconti!$D$10=\"c\",72%)))","v":0.69},{"$f":"IF(Sconti!$D$10=\"a\",55%,IF(Sconti!$D$10=\"b\",69%,IF(Sconti!$D$10=\"c\",72%)))","v":0.69},{"$f":"IF(Sconti!$D$10=\"a\",55%,IF(Sconti!$D$10=\"b\",69%,IF(Sconti!$D$10=\"c\",72%)))","v":0.69},{"$f":"IF(Sconti!$D$10=\"a\",55%,IF(Sconti!$D$10=\"b\",69%,IF(Sconti!$D$10=\"c\",72%)))","v":0.69},{"$f":"IF(Sconti!$D$10=\"a\",55%,IF(Sconti!$D$10=\"b\",69%,IF(Sconti!$D$10=\"c\",72%)))","v":0.69},null,"18 kg",70.650000000000006,286.35000000000002,294.2,312.2,710.75,724.5,303.55,760.4,419.35,660.25,686.9,793.45,387]
[null,"19 kg",{"$f":"IF(Sconti!$D$10=\"a\",40%,IF(Sconti!$D$10=\"b\",60%,IF(Sconti!$D$10=\"c\",65%)))","v":0.6},{"$f":"IF(Sconti!$D$10=\"a\",55%,IF(Sconti!$D$10=\"b\",71%,IF(Sconti!$D$10=\"c\",74%)))","v":0.71},{"$f":"IF(Sconti!$D$10=\"a\",55%,IF(Sconti!$D$10=\"b\",71%,IF(Sconti!$D$10=\"c\",74%)))","v":0.71},{"$f":"IF(Sconti!$D$10=\"a\",55%,IF(Sconti!$D$10=\"b\",71%,IF(Sconti!$D$10=\"c\",74%)))","v":0.71},{"$f":"IF(Sconti!$D$10=\"a\",55%,IF(Sconti!$D$10=\"b\",71%,IF(Sconti!$D$10=\"c\",74%)))","v":0.71},{"$f":"IF(Sconti!$D$10=\"a\",55%,IF(Sconti!$D$10=\"b\",71%,IF(Sconti!$D$10=\"c\",74%)))","v":0.71},{"$f":"IF(Sconti!$D$10=\"a\",55%,IF(Sconti!$D$10=\"b\",69%,IF(Sconti!$D$10=\"c\",72%)))","v":0.69},{"$f":"IF(Sconti!$D$10=\"a\",55%,IF(Sconti!$D$10=\"b\",69%,IF(Sconti!$D$10=\"c\",72%)))","v":0.69},{"$f":"IF(Sconti!$D$10=\"a\",55%,IF(Sconti!$D$10=\"b\",69%,IF(Sconti!$D$10=\"c\",72%)))","v":0.69},{"$f":"IF(Sconti!$D$10=\"a\",55%,IF(Sconti!$D$10=\"b\",69%,IF(Sconti!$D$10=\"c\",72%)))","v":0.69},{"$f":"IF(Sconti!$D$10=\"a\",55%,IF(Sconti!$D$10=\"b\",69%,IF(Sconti!$D$10=\"c\",72%)))","v":0.69},{"$f":"IF(Sconti!$D$10=\"a\",55%,IF(Sconti!$D$10=\"b\",69%,IF(Sconti!$D$10=\"c\",72%)))","v":0.69},{"$f":"IF(Sconti!$D$10=\"a\",55%,IF(Sconti!$D$10=\"b\",69%,IF(Sconti!$D$10=\"c\",72%)))","v":0.69},null,"19 kg",70.650000000000006,295.64999999999998,305.55,324.60000000000002,740,754.8,315.10000000000002,792.2,438.85,685.7,712.25,824.75,400.05]
[null,"20 kg",{"$f":"IF(Sconti!$D$10=\"a\",40%,IF(Sconti!$D$10=\"b\",60%,IF(Sconti!$D$10=\"c\",65%)))","v":0.6},{"$f":"IF(Sconti!$D$10=\"a\",55%,IF(Sconti!$D$10=\"b\",71%,IF(Sconti!$D$10=\"c\",74%)))","v":0.71},{"$f":"IF(Sconti!$D$10=\"a\",55%,IF(Sconti!$D$10=\"b\",71%,IF(Sconti!$D$10=\"c\",74%)))","v":0.71},{"$f":"IF(Sconti!$D$10=\"a\",55%,IF(Sconti!$D$10=\"b\",71%,IF(Sconti!$D$10=\"c\",74%)))","v":0.71},{"$f":"IF(Sconti!$D$10=\"a\",55%,IF(Sconti!$D$10=\"b\",71%,IF(Sconti!$D$10=\"c\",74%)))","v":0.71},{"$f":"IF(Sconti!$D$10=\"a\",55%,IF(Sconti!$D$10=\"b\",71%,IF(Sconti!$D$10=\"c\",74%)))","v":0.71},{"$f":"IF(Sconti!$D$10=\"a\",55%,IF(Sconti!$D$10=\"b\",69%,IF(Sconti!$D$10=\"c\",72%)))","v":0.69},{"$f":"IF(Sconti!$D$10=\"a\",55%,IF(Sconti!$D$10=\"b\",69%,IF(Sconti!$D$10=\"c\",72%)))","v":0.69},{"$f":"IF(Sconti!$D$10=\"a\",55%,IF(Sconti!$D$10=\"b\",69%,IF(Sconti!$D$10=\"c\",72%)))","v":0.69},{"$f":"IF(Sconti!$D$10=\"a\",55%,IF(Sconti!$D$10=\"b\",69%,IF(Sconti!$D$10=\"c\",72%)))","v":0.69},{"$f":"IF(Sconti!$D$10=\"a\",55%,IF(Sconti!$D$10=\"b\",69%,IF(Sconti!$D$10=\"c\",72%)))","v":0.69},{"$f":"IF(Sconti!$D$10=\"a\",55%,IF(Sconti!$D$10=\"b\",69%,IF(Sconti!$D$10=\"c\",72%)))","v":0.69},{"$f":"IF(Sconti!$D$10=\"a\",55%,IF(Sconti!$D$10=\"b\",69%,IF(Sconti!$D$10=\"c\",72%)))","v":0.69},null,"20 kg",70.650000000000006,304.89999999999998,316.8,336.95,769.4,785.3,326.7,824.3,458.3,711.1,737.85,856.1,413.05]
[null,"22 kg",{"$f":"IF(Sconti!$D$10=\"a\",40%,IF(Sconti!$D$10=\"b\",60%,IF(Sconti!$D$10=\"c\",65%)))","v":0.6},{"$f":"IF(Sconti!$D$10=\"a\",55%,IF(Sconti!$D$10=\"b\",71%,IF(Sconti!$D$10=\"c\",74%)))","v":0.71},{"$f":"IF(Sconti!$D$10=\"a\",55%,IF(Sconti!$D$10=\"b\",71%,IF(Sconti!$D$10=\"c\",74%)))","v":0.71},{"$f":"IF(Sconti!$D$10=\"a\",55%,IF(Sconti!$D$10=\"b\",71%,IF(Sconti!$D$10=\"c\",74%)))","v":0.71},{"$f":"IF(Sconti!$D$10=\"a\",55%,IF(Sconti!$D$10=\"b\",71%,IF(Sconti!$D$10=\"c\",74%)))","v":0.71},{"$f":"IF(Sconti!$D$10=\"a\",55%,IF(Sconti!$D$10=\"b\",71%,IF(Sconti!$D$10=\"c\",74%)))","v":0.71},{"$f":"IF(Sconti!$D$10=\"a\",55%,IF(Sconti!$D$10=\"b\",69%,IF(Sconti!$D$10=\"c\",72%)))","v":0.69},{"$f":"IF(Sconti!$D$10=\"a\",55%,IF(Sconti!$D$10=\"b\",69%,IF(Sconti!$D$10=\"c\",72%)))","v":0.69},{"$f":"IF(Sconti!$D$10=\"a\",55%,IF(Sconti!$D$10=\"b\",69%,IF(Sconti!$D$10=\"c\",72%)))","v":0.69},{"$f":"IF(Sconti!$D$10=\"a\",55%,IF(Sconti!$D$10=\"b\",69%,IF(Sconti!$D$10=\"c\",72%)))","v":0.69},{"$f":"IF(Sconti!$D$10=\"a\",55%,IF(Sconti!$D$10=\"b\",69%,IF(Sconti!$D$10=\"c\",72%)))","v":0.69},{"$f":"IF(Sconti!$D$10=\"a\",55%,IF(Sconti!$D$10=\"b\",69%,IF(Sconti!$D$10=\"c\",72%)))","v":0.69},{"$f":"IF(Sconti!$D$10=\"a\",55%,IF(Sconti!$D$10=\"b\",69%,IF(Sconti!$D$10=\"c\",72%)))","v":0.69},null,"22 kg",89.25,325.14999999999998,337,358.9,834.25,848.65,347.75,892.8,498.9,764.2,793.4,920.85,441.65]
[null,"24 kg",{"$f":"IF(Sconti!$D$10=\"a\",40%,IF(Sconti!$D$10=\"b\",60%,IF(Sconti!$D$10=\"c\",65%)))","v":0.6},{"$f":"IF(Sconti!$D$10=\"a\",55%,IF(Sconti!$D$10=\"b\",71%,IF(Sconti!$D$10=\"c\",74%)))","v":0.71},{"$f":"IF(Sconti!$D$10=\"a\",55%,IF(Sconti!$D$10=\"b\",71%,IF(Sconti!$D$10=\"c\",74%)))","v":0.71},{"$f":"IF(Sconti!$D$10=\"a\",55%,IF(Sconti!$D$10=\"b\",71%,IF(Sconti!$D$10=\"c\",74%)))","v":0.71},{"$f":"IF(Sconti!$D$10=\"a\",55%,IF(Sconti!$D$10=\"b\",71%,IF(Sconti!$D$10=\"c\",74%)))","v":0.71},{"$f":"IF(Sconti!$D$10=\"a\",55%,IF(Sconti!$D$10=\"b\",71%,IF(Sconti!$D$10=\"c\",74%)))","v":0.71},{"$f":"IF(Sconti!$D$10=\"a\",55%,IF(Sconti!$D$10=\"b\",69%,IF(Sconti!$D$10=\"c\",72%)))","v":0.69},{"$f":"IF(Sconti!$D$10=\"a\",55%,IF(Sconti!$D$10=\"b\",69%,IF(Sconti!$D$10=\"c\",72%)))","v":0.69},{"$f":"IF(Sconti!$D$10=\"a\",55%,IF(Sconti!$D$10=\"b\",69%,IF(Sconti!$D$10=\"c\",72%)))","v":0.69},{"$f":"IF(Sconti!$D$10=\"a\",55%,IF(Sconti!$D$10=\"b\",69%,IF(Sconti!$D$10=\"c\",72%)))","v":0.69},{"$f":"IF(Sconti!$D$10=\"a\",55%,IF(Sconti!$D$10=\"b\",69%,IF(Sconti!$D$10=\"c\",72%)))","v":0.69},{"$f":"IF(Sconti!$D$10=\"a\",55%,IF(Sconti!$D$10=\"b\",69%,IF(Sconti!$D$10=\"c\",72%)))","v":0.69},{"$f":"IF(Sconti!$D$10=\"a\",55%,IF(Sconti!$D$10=\"b\",69%,IF(Sconti!$D$10=\"c\",72%)))","v":0.69},null,"24 kg",89.25,344.15,355.6,378.25,895.25,908.2,367.25,957.35,537.5,813.65,845.5,981.55,468.05]
[null,"26 kg",{"$f":"IF(Sconti!$D$10=\"a\",40%,IF(Sconti!$D$10=\"b\",60%,IF(Sconti!$D$10=\"c\",65%)))","v":0.6},{"$f":"IF(Sconti!$D$10=\"a\",55%,IF(Sconti!$D$10=\"b\",71%,IF(Sconti!$D$10=\"c\",74%)))","v":0.71},{"$f":"IF(Sconti!$D$10=\"a\",55%,IF(Sconti!$D$10=\"b\",71%,IF(Sconti!$D$10=\"c\",74%)))","v":0.71},{"$f":"IF(Sconti!$D$10=\"a\",55%,IF(Sconti!$D$10=\"b\",71%,IF(Sconti!$D$10=\"c\",74%)))","v":0.71},{"$f":"IF(Sconti!$D$10=\"a\",55%,IF(Sconti!$D$10=\"b\",71%,IF(Sconti!$D$10=\"c\",74%)))","v":0.71},{"$f":"IF(Sconti!$D$10=\"a\",55%,IF(Sconti!$D$10=\"b\",71%,IF(Sconti!$D$10=\"c\",74%)))","v":0.71},{"$f":"IF(Sconti!$D$10=\"a\",55%,IF(Sconti!$D$10=\"b\",69%,IF(Sconti!$D$10=\"c\",72%)))","v":0.69},{"$f":"IF(Sconti!$D$10=\"a\",55%,IF(Sconti!$D$10=\"b\",69%,IF(Sconti!$D$10=\"c\",72%)))","v":0.69},{"$f":"IF(Sconti!$D$10=\"a\",55%,IF(Sconti!$D$10=\"b\",69%,IF(Sconti!$D$10=\"c\",72%)))","v":0.69},{"$f":"IF(Sconti!$D$10=\"a\",55%,IF(Sconti!$D$10=\"b\",69%,IF(Sconti!$D$10=\"c\",72%)))","v":0.69},{"$f":"IF(Sconti!$D$10=\"a\",55%,IF(Sconti!$D$10=\"b\",69%,IF(Sconti!$D$10=\"c\",72%)))","v":0.69},{"$f":"IF(Sconti!$D$10=\"a\",55%,IF(Sconti!$D$10=\"b\",69%,IF(Sconti!$D$10=\"c\",72%)))","v":0.69},{"$f":"IF(Sconti!$D$10=\"a\",55%,IF(Sconti!$D$10=\"b\",69%,IF(Sconti!$D$10=\"c\",72%)))","v":0.69},null,"26 kg",89.25,362.85,374.15,397.25,955.9,967.5,386.55,1022,575.9,863.2,897.5,1042.1500000000001,494.4]
[null,"28 kg",{"$f":"IF(Sconti!$D$10=\"a\",40%,IF(Sconti!$D$10=\"b\",60%,IF(Sconti!$D$10=\"c\",65%)))","v":0.6},{"$f":"IF(Sconti!$D$10=\"a\",55%,IF(Sconti!$D$10=\"b\",71%,IF(Sconti!$D$10=\"c\",74%)))","v":0.71},{"$f":"IF(Sconti!$D$10=\"a\",55%,IF(Sconti!$D$10=\"b\",71%,IF(Sconti!$D$10=\"c\",74%)))","v":0.71},{"$f":"IF(Sconti!$D$10=\"a\",55%,IF(Sconti!$D$10=\"b\",71%,IF(Sconti!$D$10=\"c\",74%)))","v":0.71},{"$f":"IF(Sconti!$D$10=\"a\",55%,IF(Sconti!$D$10=\"b\",71%,IF(Sconti!$D$10=\"c\",74%)))","v":0.71},{"$f":"IF(Sconti!$D$10=\"a\",55%,IF(Sconti!$D$10=\"b\",71%,IF(Sconti!$D$10=\"c\",74%)))","v":0.71},{"$f":"IF(Sconti!$D$10=\"a\",55%,IF(Sconti!$D$10=\"b\",69%,IF(Sconti!$D$10=\"c\",72%)))","v":0.69},{"$f":"IF(Sconti!$D$10=\"a\",55%,IF(Sconti!$D$10=\"b\",69%,IF(Sconti!$D$10=\"c\",72%)))","v":0.69},{"$f":"IF(Sconti!$D$10=\"a\",55%,IF(Sconti!$D$10=\"b\",69%,IF(Sconti!$D$10=\"c\",72%)))","v":0.69},{"$f":"IF(Sconti!$D$10=\"a\",55%,IF(Sconti!$D$10=\"b\",69%,IF(Sconti!$D$10=\"c\",72%)))","v":0.69},{"$f":"IF(Sconti!$D$10=\"a\",55%,IF(Sconti!$D$10=\"b\",69%,IF(Sconti!$D$10=\"c\",72%)))","v":0.69},{"$f":"IF(Sconti!$D$10=\"a\",55%,IF(Sconti!$D$10=\"b\",69%,IF(Sconti!$D$10=\"c\",72%)))","v":0.69},{"$f":"IF(Sconti!$D$10=\"a\",55%,IF(Sconti!$D$10=\"b\",69%,IF(Sconti!$D$10=\"c\",72%)))","v":0.69},null,"28 kg",89.25,381.6,392.95,416.25,1014.8,1027.05,405.95,1086.5,614.4,912.55,949.45,1102.75,520.95000000000005]
[null,"30 kg",{"$f":"IF(Sconti!$D$10=\"a\",40%,IF(Sconti!$D$10=\"b\",60%,IF(Sconti!$D$10=\"c\",65%)))","v":0.6},{"$f":"IF(Sconti!$D$10=\"a\",55%,IF(Sconti!$D$10=\"b\",71%,IF(Sconti!$D$10=\"c\",74%)))","v":0.71},{"$f":"IF(Sconti!$D$10=\"a\",55%,IF(Sconti!$D$10=\"b\",71%,IF(Sconti!$D$10=\"c\",74%)))","v":0.71},{"$f":"IF(Sconti!$D$10=\"a\",55%,IF(Sconti!$D$10=\"b\",71%,IF(Sconti!$D$10=\"c\",74%)))","v":0.71},{"$f":"IF(Sconti!$D$10=\"a\",55%,IF(Sconti!$D$10=\"b\",71%,IF(Sconti!$D$10=\"c\",74%)))","v":0.71},{"$f":"IF(Sconti!$D$10=\"a\",55%,IF(Sconti!$D$10=\"b\",71%,IF(Sconti!$D$10=\"c\",74%)))","v":0.71},{"$f":"IF(Sconti!$D$10=\"a\",55%,IF(Sconti!$D$10=\"b\",69%,IF(Sconti!$D$10=\"c\",72%)))","v":0.69},{"$f":"IF(Sconti!$D$10=\"a\",55%,IF(Sconti!$D$10=\"b\",69%,IF(Sconti!$D$10=\"c\",72%)))","v":0.69},{"$f":"IF(Sconti!$D$10=\"a\",55%,IF(Sconti!$D$10=\"b\",69%,IF(Sconti!$D$10=\"c\",72%)))","v":0.69},{"$f":"IF(Sconti!$D$10=\"a\",55%,IF(Sconti!$D$10=\"b\",69%,IF(Sconti!$D$10=\"c\",72%)))","v":0.69},{"$f":"IF(Sconti!$D$10=\"a\",55%,IF(Sconti!$D$10=\"b\",69%,IF(Sconti!$D$10=\"c\",72%)))","v":0.69},{"$f":"IF(Sconti!$D$10=\"a\",55%,IF(Sconti!$D$10=\"b\",69%,IF(Sconti!$D$10=\"c\",72%)))","v":0.69},{"$f":"IF(Sconti!$D$10=\"a\",55%,IF(Sconti!$D$10=\"b\",69%,IF(Sconti!$D$10=\"c\",72%)))","v":0.69},null,"30 kg",89.25,400.5,411.4,435.25,1073.5999999999999,1086.55,425.45,1151.25,652.79999999999995,962.05,1001.55,1163.4000000000001,547.45000000000005]
[null,"35 kg",{"$f":"IF(Sconti!$D$10=\"a\",40%,IF(Sconti!$D$10=\"b\",60%,IF(Sconti!$D$10=\"c\",65%)))","v":0.6},{"$f":"IF(Sconti!$D$10=\"a\",55%,IF(Sconti!$D$10=\"b\",71%,IF(Sconti!$D$10=\"c\",74%)))","v":0.71},{"$f":"IF(Sconti!$D$10=\"a\",55%,IF(Sconti!$D$10=\"b\",71%,IF(Sconti!$D$10=\"c\",74%)))","v":0.71},{"$f":"IF(Sconti!$D$10=\"a\",55%,IF(Sconti!$D$10=\"b\",71%,IF(Sconti!$D$10=\"c\",74%)))","v":0.71},{"$f":"IF(Sconti!$D$10=\"a\",55%,IF(Sconti!$D$10=\"b\",71%,IF(Sconti!$D$10=\"c\",74%)))","v":0.71},{"$f":"IF(Sconti!$D$10=\"a\",55%,IF(Sconti!$D$10=\"b\",71%,IF(Sconti!$D$10=\"c\",74%)))","v":0.71},{"$f":"IF(Sconti!$D$10=\"a\",55%,IF(Sconti!$D$10=\"b\",69%,IF(Sconti!$D$10=\"c\",72%)))","v":0.69},{"$f":"IF(Sconti!$D$10=\"a\",55%,IF(Sconti!$D$10=\"b\",69%,IF(Sconti!$D$10=\"c\",72%)))","v":0.69},{"$f":"IF(Sconti!$D$10=\"a\",55%,IF(Sconti!$D$10=\"b\",69%,IF(Sconti!$D$10=\"c\",72%)))","v":0.69},{"$f":"IF(Sconti!$D$10=\"a\",55%,IF(Sconti!$D$10=\"b\",69%,IF(Sconti!$D$10=\"c\",72%)))","v":0.69},{"$f":"IF(Sconti!$D$10=\"a\",55%,IF(Sconti!$D$10=\"b\",69%,IF(Sconti!$D$10=\"c\",72%)))","v":0.69},{"$f":"IF(Sconti!$D$10=\"a\",55%,IF(Sconti!$D$10=\"b\",69%,IF(Sconti!$D$10=\"c\",72%)))","v":0.69},{"$f":"IF(Sconti!$D$10=\"a\",55%,IF(Sconti!$D$10=\"b\",69%,IF(Sconti!$D$10=\"c\",72%)))","v":0.69},null,"35 kg",107.65,430.2,456.7,476.35,1204.6500000000001,1224.6500000000001,464.95,1288.6500000000001,737.8,1081,1121.3,1289.45,597.79999999999995]
[null,"40 kg",{"$f":"IF(Sconti!$D$10=\"a\",40%,IF(Sconti!$D$10=\"b\",60%,IF(Sconti!$D$10=\"c\",65%)))","v":0.6},{"$f":"IF(Sconti!$D$10=\"a\",55%,IF(Sconti!$D$10=\"b\",71%,IF(Sconti!$D$10=\"c\",74%)))","v":0.71},{"$f":"IF(Sconti!$D$10=\"a\",55%,IF(Sconti!$D$10=\"b\",71%,IF(Sconti!$D$10=\"c\",74%)))","v":0.71},{"$f":"IF(Sconti!$D$10=\"a\",55%,IF(Sconti!$D$10=\"b\",71%,IF(Sconti!$D$10=\"c\",74%)))","v":0.71},{"$f":"IF(Sconti!$D$10=\"a\",55%,IF(Sconti!$D$10=\"b\",71%,IF(Sconti!$D$10=\"c\",74%)))","v":0.71},{"$f":"IF(Sconti!$D$10=\"a\",55%,IF(Sconti!$D$10=\"b\",71%,IF(Sconti!$D$10=\"c\",74%)))","v":0.71},{"$f":"IF(Sconti!$D$10=\"a\",55%,IF(Sconti!$D$10=\"b\",69%,IF(Sconti!$D$10=\"c\",72%)))","v":0.69},{"$f":"IF(Sconti!$D$10=\"a\",55%,IF(Sconti!$D$10=\"b\",69%,IF(Sconti!$D$10=\"c\",72%)))","v":0.69},{"$f":"IF(Sconti!$D$10=\"a\",55%,IF(Sconti!$D$10=\"b\",69%,IF(Sconti!$D$10=\"c\",72%)))","v":0.69},{"$f":"IF(Sconti!$D$10=\"a\",55%,IF(Sconti!$D$10=\"b\",69%,IF(Sconti!$D$10=\"c\",72%)))","v":0.69},{"$f":"IF(Sconti!$D$10=\"a\",55%,IF(Sconti!$D$10=\"b\",69%,IF(Sconti!$D$10=\"c\",72%)))","v":0.69},{"$f":"IF(Sconti!$D$10=\"a\",55%,IF(Sconti!$D$10=\"b\",69%,IF(Sconti!$D$10=\"c\",72%)))","v":0.69},{"$f":"IF(Sconti!$D$10=\"a\",55%,IF(Sconti!$D$10=\"b\",69%,IF(Sconti!$D$10=\"c\",72%)))","v":0.69},null,"40 kg",107.65,469,501.8,517.20000000000005,1335.7,1357.75,504.4,1426.3,822.75,1189,1240.8499999999999,1415.35,648]
[null,"45 kg",{"$f":"IF(Sconti!$D$10=\"a\",40%,IF(Sconti!$D$10=\"b\",60%,IF(Sconti!$D$10=\"c\",65%)))","v":0.6},{"$f":"IF(Sconti!$D$10=\"a\",55%,IF(Sconti!$D$10=\"b\",71%,IF(Sconti!$D$10=\"c\",74%)))","v":0.71},{"$f":"IF(Sconti!$D$10=\"a\",55%,IF(Sconti!$D$10=\"b\",71%,IF(Sconti!$D$10=\"c\",74%)))","v":0.71},{"$f":"IF(Sconti!$D$10=\"a\",55%,IF(Sconti!$D$10=\"b\",71%,IF(Sconti!$D$10=\"c\",74%)))","v":0.71},{"$f":"IF(Sconti!$D$10=\"a\",55%,IF(Sconti!$D$10=\"b\",71%,IF(Sconti!$D$10=\"c\",74%)))","v":0.71},{"$f":"IF(Sconti!$D$10=\"a\",55%,IF(Sconti!$D$10=\"b\",71%,IF(Sconti!$D$10=\"c\",74%)))","v":0.71},{"$f":"IF(Sconti!$D$10=\"a\",55%,IF(Sconti!$D$10=\"b\",69%,IF(Sconti!$D$10=\"c\",72%)))","v":0.69},{"$f":"IF(Sconti!$D$10=\"a\",55%,IF(Sconti!$D$10=\"b\",69%,IF(Sconti!$D$10=\"c\",72%)))","v":0.69},{"$f":"IF(Sconti!$D$10=\"a\",55%,IF(Sconti!$D$10=\"b\",69%,IF(Sconti!$D$10=\"c\",72%)))","v":0.69},{"$f":"IF(Sconti!$D$10=\"a\",55%,IF(Sconti!$D$10=\"b\",69%,IF(Sconti!$D$10=\"c\",72%)))","v":0.69},{"$f":"IF(Sconti!$D$10=\"a\",55%,IF(Sconti!$D$10=\"b\",69%,IF(Sconti!$D$10=\"c\",72%)))","v":0.69},{"$f":"IF(Sconti!$D$10=\"a\",55%,IF(Sconti!$D$10=\"b\",69%,IF(Sconti!$D$10=\"c\",72%)))","v":0.69},{"$f":"IF(Sconti!$D$10=\"a\",55%,IF(Sconti!$D$10=\"b\",69%,IF(Sconti!$D$10=\"c\",72%)))","v":0.69},null,"45 kg",126.05,510.05,546.75,567.6,1466.8,1490.95,543.95000000000005,1563.65,907.75,1313,1360.55,1541.25,698.25]
[null,"50 kg",{"$f":"IF(Sconti!$D$10=\"a\",40%,IF(Sconti!$D$10=\"b\",60%,IF(Sconti!$D$10=\"c\",65%)))","v":0.6},{"$f":"IF(Sconti!$D$10=\"a\",55%,IF(Sconti!$D$10=\"b\",71%,IF(Sconti!$D$10=\"c\",74%)))","v":0.71},{"$f":"IF(Sconti!$D$10=\"a\",55%,IF(Sconti!$D$10=\"b\",71%,IF(Sconti!$D$10=\"c\",74%)))","v":0.71},{"$f":"IF(Sconti!$D$10=\"a\",55%,IF(Sconti!$D$10=\"b\",71%,IF(Sconti!$D$10=\"c\",74%)))","v":0.71},{"$f":"IF(Sconti!$D$10=\"a\",55%,IF(Sconti!$D$10=\"b\",71%,IF(Sconti!$D$10=\"c\",74%)))","v":0.71},{"$f":"IF(Sconti!$D$10=\"a\",55%,IF(Sconti!$D$10=\"b\",71%,IF(Sconti!$D$10=\"c\",74%)))","v":0.71},{"$f":"IF(Sconti!$D$10=\"a\",55%,IF(Sconti!$D$10=\"b\",69%,IF(Sconti!$D$10=\"c\",72%)))","v":0.69},{"$f":"IF(Sconti!$D$10=\"a\",55%,IF(Sconti!$D$10=\"b\",69%,IF(Sconti!$D$10=\"c\",72%)))","v":0.69},{"$f":"IF(Sconti!$D$10=\"a\",55%,IF(Sconti!$D$10=\"b\",69%,IF(Sconti!$D$10=\"c\",72%)))","v":0.69},{"$f":"IF(Sconti!$D$10=\"a\",55%,IF(Sconti!$D$10=\"b\",69%,IF(Sconti!$D$10=\"c\",72%)))","v":0.69},{"$f":"IF(Sconti!$D$10=\"a\",55%,IF(Sconti!$D$10=\"b\",69%,IF(Sconti!$D$10=\"c\",72%)))","v":0.69},{"$f":"IF(Sconti!$D$10=\"a\",55%,IF(Sconti!$D$10=\"b\",69%,IF(Sconti!$D$10=\"c\",72%)))","v":0.69},{"$f":"IF(Sconti!$D$10=\"a\",55%,IF(Sconti!$D$10=\"b\",69%,IF(Sconti!$D$10=\"c\",72%)))","v":0.69},null,"50 kg",126.05,550.6,590.45000000000005,618.25,1597.75,1624.1,583.54999999999995,1701.15,992.7,1455,1511.5,1667.25,748.6]
[null,"55 kg",{"$f":"IF(Sconti!$D$10=\"a\",40%,IF(Sconti!$D$10=\"b\",60%,IF(Sconti!$D$10=\"c\",65%)))","v":0.6},{"$f":"IF(Sconti!$D$10=\"a\",55%,IF(Sconti!$D$10=\"b\",71%,IF(Sconti!$D$10=\"c\",74%)))","v":0.71},{"$f":"IF(Sconti!$D$10=\"a\",55%,IF(Sconti!$D$10=\"b\",71%,IF(Sconti!$D$10=\"c\",74%)))","v":0.71},{"$f":"IF(Sconti!$D$10=\"a\",55%,IF(Sconti!$D$10=\"b\",71%,IF(Sconti!$D$10=\"c\",74%)))","v":0.71},{"$f":"IF(Sconti!$D$10=\"a\",55%,IF(Sconti!$D$10=\"b\",71%,IF(Sconti!$D$10=\"c\",74%)))","v":0.71},{"$f":"IF(Sconti!$D$10=\"a\",55%,IF(Sconti!$D$10=\"b\",71%,IF(Sconti!$D$10=\"c\",74%)))","v":0.71},{"$f":"IF(Sconti!$D$10=\"a\",55%,IF(Sconti!$D$10=\"b\",69%,IF(Sconti!$D$10=\"c\",72%)))","v":0.69},{"$f":"IF(Sconti!$D$10=\"a\",55%,IF(Sconti!$D$10=\"b\",69%,IF(Sconti!$D$10=\"c\",72%)))","v":0.69},{"$f":"IF(Sconti!$D$10=\"a\",55%,IF(Sconti!$D$10=\"b\",69%,IF(Sconti!$D$10=\"c\",72%)))","v":0.69},{"$f":"IF(Sconti!$D$10=\"a\",55%,IF(Sconti!$D$10=\"b\",69%,IF(Sconti!$D$10=\"c\",72%)))","v":0.69},{"$f":"IF(Sconti!$D$10=\"a\",55%,IF(Sconti!$D$10=\"b\",69%,IF(Sconti!$D$10=\"c\",72%)))","v":0.69},{"$f":"IF(Sconti!$D$10=\"a\",55%,IF(Sconti!$D$10=\"b\",69%,IF(Sconti!$D$10=\"c\",72%)))","v":0.69},{"$f":"IF(Sconti!$D$10=\"a\",55%,IF(Sconti!$D$10=\"b\",69%,IF(Sconti!$D$10=\"c\",72%)))","v":0.69},null,"55 kg",144.5,591.29999999999995,634.35,665.75,1728.8,1757.25,623.1,1838.75,1077.5999999999999,1575.7,1631.85,1793.2,798.75]
[null,"60 kg",{"$f":"IF(Sconti!$D$10=\"a\",40%,IF(Sconti!$D$10=\"b\",60%,IF(Sconti!$D$10=\"c\",65%)))","v":0.6},{"$f":"IF(Sconti!$D$10=\"a\",55%,IF(Sconti!$D$10=\"b\",71%,IF(Sconti!$D$10=\"c\",74%)))","v":0.71},{"$f":"IF(Sconti!$D$10=\"a\",55%,IF(Sconti!$D$10=\"b\",71%,IF(Sconti!$D$10=\"c\",74%)))","v":0.71},{"$f":"IF(Sconti!$D$10=\"a\",55%,IF(Sconti!$D$10=\"b\",71%,IF(Sconti!$D$10=\"c\",74%)))","v":0.71},{"$f":"IF(Sconti!$D$10=\"a\",55%,IF(Sconti!$D$10=\"b\",71%,IF(Sconti!$D$10=\"c\",74%)))","v":0.71},{"$f":"IF(Sconti!$D$10=\"a\",55%,IF(Sconti!$D$10=\"b\",71%,IF(Sconti!$D$10=\"c\",74%)))","v":0.71},{"$f":"IF(Sconti!$D$10=\"a\",55%,IF(Sconti!$D$10=\"b\",69%,IF(Sconti!$D$10=\"c\",72%)))","v":0.69},{"$f":"IF(Sconti!$D$10=\"a\",55%,IF(Sconti!$D$10=\"b\",69%,IF(Sconti!$D$10=\"c\",72%)))","v":0.69},{"$f":"IF(Sconti!$D$10=\"a\",55%,IF(Sconti!$D$10=\"b\",69%,IF(Sconti!$D$10=\"c\",72%)))","v":0.69},{"$f":"IF(Sconti!$D$10=\"a\",55%,IF(Sconti!$D$10=\"b\",69%,IF(Sconti!$D$10=\"c\",72%)))","v":0.69},{"$f":"IF(Sconti!$D$10=\"a\",55%,IF(Sconti!$D$10=\"b\",69%,IF(Sconti!$D$10=\"c\",72%)))","v":0.69},{"$f":"IF(Sconti!$D$10=\"a\",55%,IF(Sconti!$D$10=\"b\",69%,IF(Sconti!$D$10=\"c\",72%)))","v":0.69},{"$f":"IF(Sconti!$D$10=\"a\",55%,IF(Sconti!$D$10=\"b\",69%,IF(Sconti!$D$10=\"c\",72%)))","v":0.69},null,"60 kg",144.5,630.70000000000005,678.15,711.55,1859.9,1889.15,662.55,1976.2,1162.5999999999999,1692.4,1752.05,1919.2,849]
[null,"65 kg",{"$f":"IF(Sconti!$D$10=\"a\",40%,IF(Sconti!$D$10=\"b\",60%,IF(Sconti!$D$10=\"c\",65%)))","v":0.6},{"$f":"IF(Sconti!$D$10=\"a\",55%,IF(Sconti!$D$10=\"b\",71%,IF(Sconti!$D$10=\"c\",74%)))","v":0.71},{"$f":"IF(Sconti!$D$10=\"a\",55%,IF(Sconti!$D$10=\"b\",71%,IF(Sconti!$D$10=\"c\",74%)))","v":0.71},{"$f":"IF(Sconti!$D$10=\"a\",55%,IF(Sconti!$D$10=\"b\",71%,IF(Sconti!$D$10=\"c\",74%)))","v":0.71},{"$f":"IF(Sconti!$D$10=\"a\",55%,IF(Sconti!$D$10=\"b\",71%,IF(Sconti!$D$10=\"c\",74%)))","v":0.71},{"$f":"IF(Sconti!$D$10=\"a\",55%,IF(Sconti!$D$10=\"b\",71%,IF(Sconti!$D$10=\"c\",74%)))","v":0.71},{"$f":"IF(Sconti!$D$10=\"a\",55%,IF(Sconti!$D$10=\"b\",69%,IF(Sconti!$D$10=\"c\",72%)))","v":0.69},{"$f":"IF(Sconti!$D$10=\"a\",55%,IF(Sconti!$D$10=\"b\",69%,IF(Sconti!$D$10=\"c\",72%)))","v":0.69},{"$f":"IF(Sconti!$D$10=\"a\",55%,IF(Sconti!$D$10=\"b\",69%,IF(Sconti!$D$10=\"c\",72%)))","v":0.69},{"$f":"IF(Sconti!$D$10=\"a\",55%,IF(Sconti!$D$10=\"b\",69%,IF(Sconti!$D$10=\"c\",72%)))","v":0.69},{"$f":"IF(Sconti!$D$10=\"a\",55%,IF(Sconti!$D$10=\"b\",69%,IF(Sconti!$D$10=\"c\",72%)))","v":0.69},{"$f":"IF(Sconti!$D$10=\"a\",55%,IF(Sconti!$D$10=\"b\",69%,IF(Sconti!$D$10=\"c\",72%)))","v":0.69},{"$f":"IF(Sconti!$D$10=\"a\",55%,IF(Sconti!$D$10=\"b\",69%,IF(Sconti!$D$10=\"c\",72%)))","v":0.69},null,"65 kg",162.94999999999999,668.75,721.8,757.35,1990.9,2020.65,702,2113.75,1247.5999999999999,1809,1872.35,2045.15,899.25]
[null,"70 kg",{"$f":"IF(Sconti!$D$10=\"a\",40%,IF(Sconti!$D$10=\"b\",60%,IF(Sconti!$D$10=\"c\",65%)))","v":0.6},{"$f":"IF(Sconti!$D$10=\"a\",55%,IF(Sconti!$D$10=\"b\",71%,IF(Sconti!$D$10=\"c\",74%)))","v":0.71},{"$f":"IF(Sconti!$D$10=\"a\",55%,IF(Sconti!$D$10=\"b\",71%,IF(Sconti!$D$10=\"c\",74%)))","v":0.71},{"$f":"IF(Sconti!$D$10=\"a\",55%,IF(Sconti!$D$10=\"b\",71%,IF(Sconti!$D$10=\"c\",74%)))","v":0.71},{"$f":"IF(Sconti!$D$10=\"a\",55%,IF(Sconti!$D$10=\"b\",71%,IF(Sconti!$D$10=\"c\",74%)))","v":0.71},{"$f":"IF(Sconti!$D$10=\"a\",55%,IF(Sconti!$D$10=\"b\",71%,IF(Sconti!$D$10=\"c\",74%)))","v":0.71},{"$f":"IF(Sconti!$D$10=\"a\",55%,IF(Sconti!$D$10=\"b\",69%,IF(Sconti!$D$10=\"c\",72%)))","v":0.69},{"$f":"IF(Sconti!$D$10=\"a\",55%,IF(Sconti!$D$10=\"b\",69%,IF(Sconti!$D$10=\"c\",72%)))","v":0.69},{"$f":"IF(Sconti!$D$10=\"a\",55%,IF(Sconti!$D$10=\"b\",69%,IF(Sconti!$D$10=\"c\",72%)))","v":0.69},{"$f":"IF(Sconti!$D$10=\"a\",55%,IF(Sconti!$D$10=\"b\",69%,IF(Sconti!$D$10=\"c\",72%)))","v":0.69},{"$f":"IF(Sconti!$D$10=\"a\",55%,IF(Sconti!$D$10=\"b\",69%,IF(Sconti!$D$10=\"c\",72%)))","v":0.69},{"$f":"IF(Sconti!$D$10=\"a\",55%,IF(Sconti!$D$10=\"b\",69%,IF(Sconti!$D$10=\"c\",72%)))","v":0.69},{"$f":"IF(Sconti!$D$10=\"a\",55%,IF(Sconti!$D$10=\"b\",69%,IF(Sconti!$D$10=\"c\",72%)))","v":0.69},null,"70 kg",162.94999999999999,706.9,765.5,804,2122,2152.15,741.6,2251.25,1332.5,1925.65,1992.65,2171.1,949.45]
[null,"Oltre 70 Kg",null,null,null,null,null,null,null,null,null,null,null,null,null,null,"Oltre 70 Kg"]
[null,"Prezzo al Kg",{"$f":"IF(Sconti!$D$10=\"a\",40%,IF(Sconti!$D$10=\"b\",60%,IF(Sconti!$D$10=\"c\",65%)))","v":0.6},{"$f":"IF(Sconti!$D$10=\"a\",55%,IF(Sconti!$D$10=\"b\",71%,IF(Sconti!$D$10=\"c\",74%)))","v":0.71},{"$f":"IF(Sconti!$D$10=\"a\",55%,IF(Sconti!$D$10=\"b\",71%,IF(Sconti!$D$10=\"c\",74%)))","v":0.71},{"$f":"IF(Sconti!$D$10=\"a\",55%,IF(Sconti!$D$10=\"b\",71%,IF(Sconti!$D$10=\"c\",74%)))","v":0.71},{"$f":"IF(Sconti!$D$10=\"a\",55%,IF(Sconti!$D$10=\"b\",71%,IF(Sconti!$D$10=\"c\",74%)))","v":0.71},{"$f":"IF(Sconti!$D$10=\"a\",55%,IF(Sconti!$D$10=\"b\",71%,IF(Sconti!$D$10=\"c\",74%)))","v":0.71},{"$f":"IF(Sconti!$D$10=\"a\",55%,IF(Sconti!$D$10=\"b\",69%,IF(Sconti!$D$10=\"c\",72%)))","v":0.69},{"$f":"IF(Sconti!$D$10=\"a\",55%,IF(Sconti!$D$10=\"b\",69%,IF(Sconti!$D$10=\"c\",72%)))","v":0.69},{"$f":"IF(Sconti!$D$10=\"a\",55%,IF(Sconti!$D$10=\"b\",69%,IF(Sconti!$D$10=\"c\",72%)))","v":0.69},{"$f":"IF(Sconti!$D$10=\"a\",55%,IF(Sconti!$D$10=\"b\",69%,IF(Sconti!$D$10=\"c\",72%)))","v":0.69},{"$f":"IF(Sconti!$D$10=\"a\",55%,IF(Sconti!$D$10=\"b\",69%,IF(Sconti!$D$10=\"c\",72%)))","v":0.69},{"$f":"IF(Sconti!$D$10=\"a\",55%,IF(Sconti!$D$10=\"b\",69%,IF(Sconti!$D$10=\"c\",72%)))","v":0.69},{"$f":"IF(Sconti!$D$10=\"a\",55%,IF(Sconti!$D$10=\"b\",69%,IF(Sconti!$D$10=\"c\",72%)))","v":0.69},null,"Prezzo al Kg",2.3199999999999998,10.09,10.93,11.48,30.31,30.74,10.59,32.159999999999997,19.03,27.5,28.46,31.01,13.56]
[null,"Tariffa Minima",{"$f":"IF(Sconti!$D$10=\"a\",40%,IF(Sconti!$D$10=\"b\",60%,IF(Sconti!$D$10=\"c\",65%)))","v":0.6},{"$f":"IF(Sconti!$D$10=\"a\",55%,IF(Sconti!$D$10=\"b\",71%,IF(Sconti!$D$10=\"c\",74%)))","v":0.71},{"$f":"IF(Sconti!$D$10=\"a\",55%,IF(Sconti!$D$10=\"b\",71%,IF(Sconti!$D$10=\"c\",74%)))","v":0.71},{"$f":"IF(Sconti!$D$10=\"a\",55%,IF(Sconti!$D$10=\"b\",71%,IF(Sconti!$D$10=\"c\",74%)))","v":0.71},{"$f":"IF(Sconti!$D$10=\"a\",55%,IF(Sconti!$D$10=\"b\",71%,IF(Sconti!$D$10=\"c\",74%)))","v":0.71},{"$f":"IF(Sconti!$D$10=\"a\",55%,IF(Sconti!$D$10=\"b\",71%,IF(Sconti!$D$10=\"c\",74%)))","v":0.71},{"$f":"IF(Sconti!$D$10=\"a\",55%,IF(Sconti!$D$10=\"b\",69%,IF(Sconti!$D$10=\"c\",72%)))","v":0.69},{"$f":"IF(Sconti!$D$10=\"a\",55%,IF(Sconti!$D$10=\"b\",69%,IF(Sconti!$D$10=\"c\",72%)))","v":0.69},{"$f":"IF(Sconti!$D$10=\"a\",55%,IF(Sconti!$D$10=\"b\",69%,IF(Sconti!$D$10=\"c\",72%)))","v":0.69},{"$f":"IF(Sconti!$D$10=\"a\",55%,IF(Sconti!$D$10=\"b\",69%,IF(Sconti!$D$10=\"c\",72%)))","v":0.69},{"$f":"IF(Sconti!$D$10=\"a\",55%,IF(Sconti!$D$10=\"b\",69%,IF(Sconti!$D$10=\"c\",72%)))","v":0.69},{"$f":"IF(Sconti!$D$10=\"a\",55%,IF(Sconti!$D$10=\"b\",69%,IF(Sconti!$D$10=\"c\",72%)))","v":0.69},{"$f":"IF(Sconti!$D$10=\"a\",55%,IF(Sconti!$D$10=\"b\",69%,IF(Sconti!$D$10=\"c\",72%)))","v":0.69},null,"Tariffa Minima",162.94999999999999,706.9,765.5,804,2122,2152.15,741.6,2251.25,1332.5,1925.65,1992.65,2171.1,949.45]
[]
[]
[null,"Servizio UPS Express Saver - Inserimento percentuali di sconto",null,null,null,null,null,null,null,null,null,null,null,null,null,null,"Servizio UPS Express Saver - Tariffe di listino"]
[]
[null,"% Sconto","Zona","Zona","Zona","Zona","Zona","Zona","Zona","Zona","Zona","Zona","Zona","Zona","Zona",null,"€","Zona","Zona","Zona","Zona","Zona","Zona","Zona","Zona","Zona","Zona","Zona","Zona","Zona"]
[null,null,1,2,3,4,41,42,5,6,8,9,10,11,12,null,null,1,2,3,4,41,42,5,6,8,9,10,11,12]
[null,"UPS Express Envelopes ",null,null,null,null,null,null,null,null,null,null,null,null,null,null,"UPS Express Envelopes "]
[null,null,{"$f":"IF(Sconti!$D$10=\"a\",40%,IF(Sconti!$D$10=\"b\",60%,IF(Sconti!$D$10=\"c\",65%)))","v":0.6},{"$f":"IF(Sconti!$D$10=\"a\",55%,IF(Sconti!$D$10=\"b\",71%,IF(Sconti!$D$10=\"c\",74%)))","v":0.71},{"$f":"IF(Sconti!$D$10=\"a\",55%,IF(Sconti!$D$10=\"b\",71%,IF(Sconti!$D$10=\"c\",74%)))","v":0.71},{"$f":"IF(Sconti!$D$10=\"a\",55%,IF(Sconti!$D$10=\"b\",71%,IF(Sconti!$D$10=\"c\",74%)))","v":0.71},{"$f":"IF(Sconti!$D$10=\"a\",55%,IF(Sconti!$D$10=\"b\",71%,IF(Sconti!$D$10=\"c\",74%)))","v":0.71},{"$f":"IF(Sconti!$D$10=\"a\",55%,IF(Sconti!$D$10=\"b\",71%,IF(Sconti!$D$10=\"c\",74%)))","v":0.71},{"$f":"IF(Sconti!$D$10=\"a\",55%,IF(Sconti!$D$10=\"b\",69%,IF(Sconti!$D$10=\"c\",72%)))","v":0.69},{"$f":"IF(Sconti!$D$10=\"a\",55%,IF(Sconti!$D$10=\"b\",69%,IF(Sconti!$D$10=\"c\",72%)))","v":0.69},{"$f":"IF(Sconti!$D$10=\"a\",55%,IF(Sconti!$D$10=\"b\",69%,IF(Sconti!$D$10=\"c\",72%)))","v":0.69},{"$f":"IF(Sconti!$D$10=\"a\",55%,IF(Sconti!$D$10=\"b\",69%,IF(Sconti!$D$10=\"c\",72%)))","v":0.69},{"$f":"IF(Sconti!$D$10=\"a\",55%,IF(Sconti!$D$10=\"b\",69%,IF(Sconti!$D$10=\"c\",72%)))","v":0.69},{"$f":"IF(Sconti!$D$10=\"a\",55%,IF(Sconti!$D$10=\"b\",69%,IF(Sconti!$D$10=\"c\",72%)))","v":0.69},{"$f":"IF(Sconti!$D$10=\"a\",55%,IF(Sconti!$D$10=\"b\",69%,IF(Sconti!$D$10=\"c\",72%)))","v":0.69},null,null,29.75,42.9,43.75,45.3,75.650000000000006,76.25,43.8,90.4,42.5,52.25,56.6,88.05,53.9]
[null,"Documenti",null,null,null,null,null,null,null,null,null,null,null,null,null,null,"Documenti"]
[null,"0,5 kg",{"$f":"IF(Sconti!$D$10=\"a\",40%,IF(Sconti!$D$10=\"b\",60%,IF(Sconti!$D$10=\"c\",65%)))","v":0.6},{"$f":"IF(Sconti!$D$10=\"a\",55%,IF(Sconti!$D$10=\"b\",71%,IF(Sconti!$D$10=\"c\",74%)))","v":0.71},{"$f":"IF(Sconti!$D$10=\"a\",55%,IF(Sconti!$D$10=\"b\",71%,IF(Sconti!$D$10=\"c\",74%)))","v":0.71},{"$f":"IF(Sconti!$D$10=\"a\",55%,IF(Sconti!$D$10=\"b\",71%,IF(Sconti!$D$10=\"c\",74%)))","v":0.71},{"$f":"IF(Sconti!$D$10=\"a\",55%,IF(Sconti!$D$10=\"b\",71%,IF(Sconti!$D$10=\"c\",74%)))","v":0.71},{"$f":"IF(Sconti!$D$10=\"a\",55%,IF(Sconti!$D$10=\"b\",71%,IF(Sconti!$D$10=\"c\",74%)))","v":0.71},{"$f":"IF(Sconti!$D$10=\"a\",55%,IF(Sconti!$D$10=\"b\",69%,IF(Sconti!$D$10=\"c\",72%)))","v":0.69},{"$f":"IF(Sconti!$D$10=\"a\",55%,IF(Sconti!$D$10=\"b\",69%,IF(Sconti!$D$10=\"c\",72%)))","v":0.69},{"$f":"IF(Sconti!$D$10=\"a\",55%,IF(Sconti!$D$10=\"b\",69%,IF(Sconti!$D$10=\"c\",72%)))","v":0.69},{"$f":"IF(Sconti!$D$10=\"a\",55%,IF(Sconti!$D$10=\"b\",69%,IF(Sconti!$D$10=\"c\",72%)))","v":0.69},{"$f":"IF(Sconti!$D$10=\"a\",55%,IF(Sconti!$D$10=\"b\",69%,IF(Sconti!$D$10=\"c\",72%)))","v":0.69},{"$f":"IF(Sconti!$D$10=\"a\",55%,IF(Sconti!$D$10=\"b\",69%,IF(Sconti!$D$10=\"c\",72%)))","v":0.69},{"$f":"IF(Sconti!$D$10=\"a\",55%,IF(Sconti!$D$10=\"b\",69%,IF(Sconti!$D$10=\"c\",72%)))","v":0.69},null,"0,5 kg",31.8,47.1,47.9,50.45,82.95,83,44.1,90.4,42.5,52.25,56.6,88.05,53.9]
[null,"1,0 kg",{"$f":"IF(Sconti!$D$10=\"a\",40%,IF(Sconti!$D$10=\"b\",60%,IF(Sconti!$D$10=\"c\",65%)))","v":0.6},{"$f":"IF(Sconti!$D$10=\"a\",55%,IF(Sconti!$D$10=\"b\",71%,IF(Sconti!$D$10=\"c\",74%)))","v":0.71},{"$f":"IF(Sconti!$D$10=\"a\",55%,IF(Sconti!$D$10=\"b\",71%,IF(Sconti!$D$10=\"c\",74%)))","v":0.71},{"$f":"IF(Sconti!$D$10=\"a\",55%,IF(Sconti!$D$10=\"b\",71%,IF(Sconti!$D$10=\"c\",74%)))","v":0.71},{"$f":"IF(Sconti!$D$10=\"a\",55%,IF(Sconti!$D$10=\"b\",71%,IF(Sconti!$D$10=\"c\",74%)))","v":0.71},{"$f":"IF(Sconti!$D$10=\"a\",55%,IF(Sconti!$D$10=\"b\",71%,IF(Sconti!$D$10=\"c\",74%)))","v":0.71},{"$f":"IF(Sconti!$D$10=\"a\",55%,IF(Sconti!$D$10=\"b\",69%,IF(Sconti!$D$10=\"c\",72%)))","v":0.69},{"$f":"IF(Sconti!$D$10=\"a\",55%,IF(Sconti!$D$10=\"b\",69%,IF(Sconti!$D$10=\"c\",72%)))","v":0.69},{"$f":"IF(Sconti!$D$10=\"a\",55%,IF(Sconti!$D$10=\"b\",69%,IF(Sconti!$D$10=\"c\",72%)))","v":0.69},{"$f":"IF(Sconti!$D$10=\"a\",55%,IF(Sconti!$D$10=\"b\",69%,IF(Sconti!$D$10=\"c\",72%)))","v":0.69},{"$f":"IF(Sconti!$D$10=\"a\",55%,IF(Sconti!$D$10=\"b\",69%,IF(Sconti!$D$10=\"c\",72%)))","v":0.69},{"$f":"IF(Sconti!$D$10=\"a\",55%,IF(Sconti!$D$10=\"b\",69%,IF(Sconti!$D$10=\"c\",72%)))","v":0.69},{"$f":"IF(Sconti!$D$10=\"a\",55%,IF(Sconti!$D$10=\"b\",69%,IF(Sconti!$D$10=\"c\",72%)))","v":0.69},null,"1,0 kg",31.8,57.4,57.8,60.35,96.55,96.6,54.1,109.35,56,70.599999999999994,76.099999999999994,109.1,66.45]
[null,"1,5 kg",{"$f":"IF(Sconti!$D$10=\"a\",40%,IF(Sconti!$D$10=\"b\",60%,IF(Sconti!$D$10=\"c\",65%)))","v":0.6},{"$f":"IF(Sconti!$D$10=\"a\",55%,IF(Sconti!$D$10=\"b\",71%,IF(Sconti!$D$10=\"c\",74%)))","v":0.71},{"$f":"IF(Sconti!$D$10=\"a\",55%,IF(Sconti!$D$10=\"b\",71%,IF(Sconti!$D$10=\"c\",74%)))","v":0.71},{"$f":"IF(Sconti!$D$10=\"a\",55%,IF(Sconti!$D$10=\"b\",71%,IF(Sconti!$D$10=\"c\",74%)))","v":0.71},{"$f":"IF(Sconti!$D$10=\"a\",55%,IF(Sconti!$D$10=\"b\",71%,IF(Sconti!$D$10=\"c\",74%)))","v":0.71},{"$f":"IF(Sconti!$D$10=\"a\",55%,IF(Sconti!$D$10=\"b\",71%,IF(Sconti!$D$10=\"c\",74%)))","v":0.71},{"$f":"IF(Sconti!$D$10=\"a\",55%,IF(Sconti!$D$10=\"b\",69%,IF(Sconti!$D$10=\"c\",72%)))","v":0.69},{"$f":"IF(Sconti!$D$10=\"a\",55%,IF(Sconti!$D$10=\"b\",69%,IF(Sconti!$D$10=\"c\",72%)))","v":0.69},{"$f":"IF(Sconti!$D$10=\"a\",55%,IF(Sconti!$D$10=\"b\",69%,IF(Sconti!$D$10=\"c\",72%)))","v":0.69},{"$f":"IF(Sconti!$D$10=\"a\",55%,IF(Sconti!$D$10=\"b\",69%,IF(Sconti!$D$10=\"c\",72%)))","v":0.69},{"$f":"IF(Sconti!$D$10=\"a\",55%,IF(Sconti!$D$10=\"b\",69%,IF(Sconti!$D$10=\"c\",72%)))","v":0.69},{"$f":"IF(Sconti!$D$10=\"a\",55%,IF(Sconti!$D$10=\"b\",69%,IF(Sconti!$D$10=\"c\",72%)))","v":0.69},{"$f":"IF(Sconti!$D$10=\"a\",55%,IF(Sconti!$D$10=\"b\",69%,IF(Sconti!$D$10=\"c\",72%)))","v":0.69},null,"1,5 kg",33.299999999999997,67.5,68,70.099999999999994,121.35,122.05,64.05,128.44999999999999,69.599999999999994,88.95,95.55,130.15,79.099999999999994]
[null,"2,0 kg",{"$f":"IF(Sconti!$D$10=\"a\",40%,IF(Sconti!$D$10=\"b\",60%,IF(Sconti!$D$10=\"c\",65%)))","v":0.6},{"$f":"IF(Sconti!$D$10=\"a\",55%,IF(Sconti!$D$10=\"b\",71%,IF(Sconti!$D$10=\"c\",74%)))","v":0.71},{"$f":"IF(Sconti!$D$10=\"a\",55%,IF(Sconti!$D$10=\"b\",71%,IF(Sconti!$D$10=\"c\",74%)))","v":0.71},{"$f":"IF(Sconti!$D$10=\"a\",55%,IF(Sconti!$D$10=\"b\",71%,IF(Sconti!$D$10=\"c\",74%)))","v":0.71},{"$f":"IF(Sconti!$D$10=\"a\",55%,IF(Sconti!$D$10=\"b\",71%,IF(Sconti!$D$10=\"c\",74%)))","v":0.71},{"$f":"IF(Sconti!$D$10=\"a\",55%,IF(Sconti!$D$10=\"b\",71%,IF(Sconti!$D$10=\"c\",74%)))","v":0.71},{"$f":"IF(Sconti!$D$10=\"a\",55%,IF(Sconti!$D$10=\"b\",69%,IF(Sconti!$D$10=\"c\",72%)))","v":0.69},{"$f":"IF(Sconti!$D$10=\"a\",55%,IF(Sconti!$D$10=\"b\",69%,IF(Sconti!$D$10=\"c\",72%)))","v":0.69},{"$f":"IF(Sconti!$D$10=\"a\",55%,IF(Sconti!$D$10=\"b\",69%,IF(Sconti!$D$10=\"c\",72%)))","v":0.69},{"$f":"IF(Sconti!$D$10=\"a\",55%,IF(Sconti!$D$10=\"b\",69%,IF(Sconti!$D$10=\"c\",72%)))","v":0.69},{"$f":"IF(Sconti!$D$10=\"a\",55%,IF(Sconti!$D$10=\"b\",69%,IF(Sconti!$D$10=\"c\",72%)))","v":0.69},{"$f":"IF(Sconti!$D$10=\"a\",55%,IF(Sconti!$D$10=\"b\",69%,IF(Sconti!$D$10=\"c\",72%)))","v":0.69},{"$f":"IF(Sconti!$D$10=\"a\",55%,IF(Sconti!$D$10=\"b\",69%,IF(Sconti!$D$10=\"c\",72%)))","v":0.69},null,"2,0 kg",33.299999999999997,77.599999999999994,78,79.95,146.05000000000001,147.6,74.099999999999994,147.5,83,107.2,115,151.19999999999999,91.7]
[null,"2,5 kg",{"$f":"IF(Sconti!$D$10=\"a\",40%,IF(Sconti!$D$10=\"b\",60%,IF(Sconti!$D$10=\"c\",65%)))","v":0.6},{"$f":"IF(Sconti!$D$10=\"a\",55%,IF(Sconti!$D$10=\"b\",71%,IF(Sconti!$D$10=\"c\",74%)))","v":0.71},{"$f":"IF(Sconti!$D$10=\"a\",55%,IF(Sconti!$D$10=\"b\",71%,IF(Sconti!$D$10=\"c\",74%)))","v":0.71},{"$f":"IF(Sconti!$D$10=\"a\",55%,IF(Sconti!$D$10=\"b\",71%,IF(Sconti!$D$10=\"c\",74%)))","v":0.71},{"$f":"IF(Sconti!$D$10=\"a\",55%,IF(Sconti!$D$10=\"b\",71%,IF(Sconti!$D$10=\"c\",74%)))","v":0.71},{"$f":"IF(Sconti!$D$10=\"a\",55%,IF(Sconti!$D$10=\"b\",71%,IF(Sconti!$D$10=\"c\",74%)))","v":0.71},{"$f":"IF(Sconti!$D$10=\"a\",55%,IF(Sconti!$D$10=\"b\",69%,IF(Sconti!$D$10=\"c\",72%)))","v":0.69},{"$f":"IF(Sconti!$D$10=\"a\",55%,IF(Sconti!$D$10=\"b\",69%,IF(Sconti!$D$10=\"c\",72%)))","v":0.69},{"$f":"IF(Sconti!$D$10=\"a\",55%,IF(Sconti!$D$10=\"b\",69%,IF(Sconti!$D$10=\"c\",72%)))","v":0.69},{"$f":"IF(Sconti!$D$10=\"a\",55%,IF(Sconti!$D$10=\"b\",69%,IF(Sconti!$D$10=\"c\",72%)))","v":0.69},{"$f":"IF(Sconti!$D$10=\"a\",55%,IF(Sconti!$D$10=\"b\",69%,IF(Sconti!$D$10=\"c\",72%)))","v":0.69},{"$f":"IF(Sconti!$D$10=\"a\",55%,IF(Sconti!$D$10=\"b\",69%,IF(Sconti!$D$10=\"c\",72%)))","v":0.69},{"$f":"IF(Sconti!$D$10=\"a\",55%,IF(Sconti!$D$10=\"b\",69%,IF(Sconti!$D$10=\"c\",72%)))","v":0.69},null,"2,5 kg",34.700000000000003,87.65,88.05,89.75,170.85,173.1,84,166.65,96.55,125.6,134.5,172.4,104.3]
[null,"Documenti al di sopra dei 2,5 Kg e Pacchi",null,null,null,null,null,null,null,null,null,null,null,null,null,null,"Documenti al di sopra dei 2,5 Kg e Pacchi"]
[null,"% Sconto","Zona","Zona","Zona","Zona","Zona","Zona","Zona","Zona","Zona","Zona","Zona","Zona","Zona",null,"€","Zona","Zona","Zona","Zona","Zona","Zona","Zona","Zona","Zona","Zona","Zona","Zona","Zona"]
[null,null,1,2,3,4,41,42,5,6,8,9,10,11,12,null,null,1,2,3,4,41,42,5,6,8,9,10,11,12]
[null,"MRS",0,0,0,0,0,0,0,0,0,0,0,0,0,null,"MRS",{"$f":"IF(C80=0,0,R81*(1-C80))","v":0},{"$f":"IF(D80=0,0,S81*(1-D80))","v":0},0,0,0,0,0,0,0,0,0,0,0]
[null,"0,5 kg",{"$f":"IF(Sconti!$D$10=\"a\",40%,IF(Sconti!$D$10=\"b\",60%,IF(Sconti!$D$10=\"c\",65%)))","v":0.6},{"$f":"IF(Sconti!$D$10=\"a\",55%,IF(Sconti!$D$10=\"b\",71%,IF(Sconti!$D$10=\"c\",74%)))","v":0.71},{"$f":"IF(Sconti!$D$10=\"a\",55%,IF(Sconti!$D$10=\"b\",71%,IF(Sconti!$D$10=\"c\",74%)))","v":0.71},{"$f":"IF(Sconti!$D$10=\"a\",55%,IF(Sconti!$D$10=\"b\",71%,IF(Sconti!$D$10=\"c\",74%)))","v":0.71},{"$f":"IF(Sconti!$D$10=\"a\",55%,IF(Sconti!$D$10=\"b\",71%,IF(Sconti!$D$10=\"c\",74%)))","v":0.71},{"$f":"IF(Sconti!$D$10=\"a\",55%,IF(Sconti!$D$10=\"b\",71%,IF(Sconti!$D$10=\"c\",74%)))","v":0.71},{"$f":"IF(Sconti!$D$10=\"a\",55%,IF(Sconti!$D$10=\"b\",69%,IF(Sconti!$D$10=\"c\",72%)))","v":0.69},{"$f":"IF(Sconti!$D$10=\"a\",55%,IF(Sconti!$D$10=\"b\",69%,IF(Sconti!$D$10=\"c\",72%)))","v":0.69},{"$f":"IF(Sconti!$D$10=\"a\",55%,IF(Sconti!$D$10=\"b\",69%,IF(Sconti!$D$10=\"c\",72%)))","v":0.69},{"$f":"IF(Sconti!$D$10=\"a\",55%,IF(Sconti!$D$10=\"b\",69%,IF(Sconti!$D$10=\"c\",72%)))","v":0.69},{"$f":"IF(Sconti!$D$10=\"a\",55%,IF(Sconti!$D$10=\"b\",69%,IF(Sconti!$D$10=\"c\",72%)))","v":0.69},{"$f":"IF(Sconti!$D$10=\"a\",55%,IF(Sconti!$D$10=\"b\",69%,IF(Sconti!$D$10=\"c\",72%)))","v":0.69},{"$f":"IF(Sconti!$D$10=\"a\",55%,IF(Sconti!$D$10=\"b\",69%,IF(Sconti!$D$10=\"c\",72%)))","v":0.69},null,"0,5 kg",31.8,47.1,47.9,50.45,82.95,83,58.7,154.30000000000001,69,115.9,128.55000000000001,154.75,74.849999999999994]
[null,"1,0 kg",{"$f":"IF(Sconti!$D$10=\"a\",40%,IF(Sconti!$D$10=\"b\",60%,IF(Sconti!$D$10=\"c\",65%)))","v":0.6},{"$f":"IF(Sconti!$D$10=\"a\",55%,IF(Sconti!$D$10=\"b\",71%,IF(Sconti!$D$10=\"c\",74%)))","v":0.71},{"$f":"IF(Sconti!$D$10=\"a\",55%,IF(Sconti!$D$10=\"b\",71%,IF(Sconti!$D$10=\"c\",74%)))","v":0.71},{"$f":"IF(Sconti!$D$10=\"a\",55%,IF(Sconti!$D$10=\"b\",71%,IF(Sconti!$D$10=\"c\",74%)))","v":0.71},{"$f":"IF(Sconti!$D$10=\"a\",55%,IF(Sconti!$D$10=\"b\",71%,IF(Sconti!$D$10=\"c\",74%)))","v":0.71},{"$f":"IF(Sconti!$D$10=\"a\",55%,IF(Sconti!$D$10=\"b\",71%,IF(Sconti!$D$10=\"c\",74%)))","v":0.71},{"$f":"IF(Sconti!$D$10=\"a\",55%,IF(Sconti!$D$10=\"b\",69%,IF(Sconti!$D$10=\"c\",72%)))","v":0.69},{"$f":"IF(Sconti!$D$10=\"a\",55%,IF(Sconti!$D$10=\"b\",69%,IF(Sconti!$D$10=\"c\",72%)))","v":0.69},{"$f":"IF(Sconti!$D$10=\"a\",55%,IF(Sconti!$D$10=\"b\",69%,IF(Sconti!$D$10=\"c\",72%)))","v":0.69},{"$f":"IF(Sconti!$D$10=\"a\",55%,IF(Sconti!$D$10=\"b\",69%,IF(Sconti!$D$10=\"c\",72%)))","v":0.69},{"$f":"IF(Sconti!$D$10=\"a\",55%,IF(Sconti!$D$10=\"b\",69%,IF(Sconti!$D$10=\"c\",72%)))","v":0.69},{"$f":"IF(Sconti!$D$10=\"a\",55%,IF(Sconti!$D$10=\"b\",69%,IF(Sconti!$D$10=\"c\",72%)))","v":0.69},{"$f":"IF(Sconti!$D$10=\"a\",55%,IF(Sconti!$D$10=\"b\",69%,IF(Sconti!$D$10=\"c\",72%)))","v":0.69},null,"1,0 kg",31.8,57.4,57.8,60.35,96.55,96.6,67.2,170.7,78.7,133.55000000000001,146.55000000000001,173.05,87.4]
[null,"1,5 kg",{"$f":"IF(Sconti!$D$10=\"a\",40%,IF(Sconti!$D$10=\"b\",60%,IF(Sconti!$D$10=\"c\",65%)))","v":0.6},{"$f":"IF(Sconti!$D$10=\"a\",55%,IF(Sconti!$D$10=\"b\",71%,IF(Sconti!$D$10=\"c\",74%)))","v":0.71},{"$f":"IF(Sconti!$D$10=\"a\",55%,IF(Sconti!$D$10=\"b\",71%,IF(Sconti!$D$10=\"c\",74%)))","v":0.71},{"$f":"IF(Sconti!$D$10=\"a\",55%,IF(Sconti!$D$10=\"b\",71%,IF(Sconti!$D$10=\"c\",74%)))","v":0.71},{"$f":"IF(Sconti!$D$10=\"a\",55%,IF(Sconti!$D$10=\"b\",71%,IF(Sconti!$D$10=\"c\",74%)))","v":0.71},{"$f":"IF(Sconti!$D$10=\"a\",55%,IF(Sconti!$D$10=\"b\",71%,IF(Sconti!$D$10=\"c\",74%)))","v":0.71},{"$f":"IF(Sconti!$D$10=\"a\",55%,IF(Sconti!$D$10=\"b\",69%,IF(Sconti!$D$10=\"c\",72%)))","v":0.69},{"$f":"IF(Sconti!$D$10=\"a\",55%,IF(Sconti!$D$10=\"b\",69%,IF(Sconti!$D$10=\"c\",72%)))","v":0.69},{"$f":"IF(Sconti!$D$10=\"a\",55%,IF(Sconti!$D$10=\"b\",69%,IF(Sconti!$D$10=\"c\",72%)))","v":0.69},{"$f":"IF(Sconti!$D$10=\"a\",55%,IF(Sconti!$D$10=\"b\",69%,IF(Sconti!$D$10=\"c\",72%)))","v":0.69},{"$f":"IF(Sconti!$D$10=\"a\",55%,IF(Sconti!$D$10=\"b\",69%,IF(Sconti!$D$10=\"c\",72%)))","v":0.69},{"$f":"IF(Sconti!$D$10=\"a\",55%,IF(Sconti!$D$10=\"b\",69%,IF(Sconti!$D$10=\"c\",72%)))","v":0.69},{"$f":"IF(Sconti!$D$10=\"a\",55%,IF(Sconti!$D$10=\"b\",69%,IF(Sconti!$D$10=\"c\",72%)))","v":0.69},null,"1,5 kg",33.299999999999997,67.5,68,70.099999999999994,121.35,122.05,75.45,187.35,88.6,151,164.65,191.35,100.1]
[null,"2,0 kg",{"$f":"IF(Sconti!$D$10=\"a\",40%,IF(Sconti!$D$10=\"b\",60%,IF(Sconti!$D$10=\"c\",65%)))","v":0.6},{"$f":"IF(Sconti!$D$10=\"a\",55%,IF(Sconti!$D$10=\"b\",71%,IF(Sconti!$D$10=\"c\",74%)))","v":0.71},{"$f":"IF(Sconti!$D$10=\"a\",55%,IF(Sconti!$D$10=\"b\",71%,IF(Sconti!$D$10=\"c\",74%)))","v":0.71},{"$f":"IF(Sconti!$D$10=\"a\",55%,IF(Sconti!$D$10=\"b\",71%,IF(Sconti!$D$10=\"c\",74%)))","v":0.71},{"$f":"IF(Sconti!$D$10=\"a\",55%,IF(Sconti!$D$10=\"b\",71%,IF(Sconti!$D$10=\"c\",74%)))","v":0.71},{"$f":"IF(Sconti!$D$10=\"a\",55%,IF(Sconti!$D$10=\"b\",71%,IF(Sconti!$D$10=\"c\",74%)))","v":0.71},{"$f":"IF(Sconti!$D$10=\"a\",55%,IF(Sconti!$D$10=\"b\",69%,IF(Sconti!$D$10=\"c\",72%)))","v":0.69},{"$f":"IF(Sconti!$D$10=\"a\",55%,IF(Sconti!$D$10=\"b\",69%,IF(Sconti!$D$10=\"c\",72%)))","v":0.69},{"$f":"IF(Sconti!$D$10=\"a\",55%,IF(Sconti!$D$10=\"b\",69%,IF(Sconti!$D$10=\"c\",72%)))","v":0.69},{"$f":"IF(Sconti!$D$10=\"a\",55%,IF(Sconti!$D$10=\"b\",69%,IF(Sconti!$D$10=\"c\",72%)))","v":0.69},{"$f":"IF(Sconti!$D$10=\"a\",55%,IF(Sconti!$D$10=\"b\",69%,IF(Sconti!$D$10=\"c\",72%)))","v":0.69},{"$f":"IF(Sconti!$D$10=\"a\",55%,IF(Sconti!$D$10=\"b\",69%,IF(Sconti!$D$10=\"c\",72%)))","v":0.69},{"$f":"IF(Sconti!$D$10=\"a\",55%,IF(Sconti!$D$10=\"b\",69%,IF(Sconti!$D$10=\"c\",72%)))","v":0.69},null,"2,0 kg",33.299999999999997,77.599999999999994,78,79.95,146.05000000000001,147.6,83.95,203.9,98.2,168.65,182.65,209.85,112.55]
[null,"2,5 kg",{"$f":"IF(Sconti!$D$10=\"a\",40%,IF(Sconti!$D$10=\"b\",60%,IF(Sconti!$D$10=\"c\",65%)))","v":0.6},{"$f":"IF(Sconti!$D$10=\"a\",55%,IF(Sconti!$D$10=\"b\",71%,IF(Sconti!$D$10=\"c\",74%)))","v":0.71},{"$f":"IF(Sconti!$D$10=\"a\",55%,IF(Sconti!$D$10=\"b\",71%,IF(Sconti!$D$10=\"c\",74%)))","v":0.71},{"$f":"IF(Sconti!$D$10=\"a\",55%,IF(Sconti!$D$10=\"b\",71%,IF(Sconti!$D$10=\"c\",74%)))","v":0.71},{"$f":"IF(Sconti!$D$10=\"a\",55%,IF(Sconti!$D$10=\"b\",71%,IF(Sconti!$D$10=\"c\",74%)))","v":0.71},{"$f":"IF(Sconti!$D$10=\"a\",55%,IF(Sconti!$D$10=\"b\",71%,IF(Sconti!$D$10=\"c\",74%)))","v":0.71},{"$f":"IF(Sconti!$D$10=\"a\",55%,IF(Sconti!$D$10=\"b\",69%,IF(Sconti!$D$10=\"c\",72%)))","v":0.69},{"$f":"IF(Sconti!$D$10=\"a\",55%,IF(Sconti!$D$10=\"b\",69%,IF(Sconti!$D$10=\"c\",72%)))","v":0.69},{"$f":"IF(Sconti!$D$10=\"a\",55%,IF(Sconti!$D$10=\"b\",69%,IF(Sconti!$D$10=\"c\",72%)))","v":0.69},{"$f":"IF(Sconti!$D$10=\"a\",55%,IF(Sconti!$D$10=\"b\",69%,IF(Sconti!$D$10=\"c\",72%)))","v":0.69},{"$f":"IF(Sconti!$D$10=\"a\",55%,IF(Sconti!$D$10=\"b\",69%,IF(Sconti!$D$10=\"c\",72%)))","v":0.69},{"$f":"IF(Sconti!$D$10=\"a\",55%,IF(Sconti!$D$10=\"b\",69%,IF(Sconti!$D$10=\"c\",72%)))","v":0.69},{"$f":"IF(Sconti!$D$10=\"a\",55%,IF(Sconti!$D$10=\"b\",69%,IF(Sconti!$D$10=\"c\",72%)))","v":0.69},null,"2,5 kg",34.700000000000003,87.65,88.05,89.75,170.85,173.1,92.15,220.45,108.05,186.25,200.7,228.2,125.2]
[null,"3,0 kg",{"$f":"IF(Sconti!$D$10=\"a\",40%,IF(Sconti!$D$10=\"b\",60%,IF(Sconti!$D$10=\"c\",65%)))","v":0.6},{"$f":"IF(Sconti!$D$10=\"a\",55%,IF(Sconti!$D$10=\"b\",71%,IF(Sconti!$D$10=\"c\",74%)))","v":0.71},{"$f":"IF(Sconti!$D$10=\"a\",55%,IF(Sconti!$D$10=\"b\",71%,IF(Sconti!$D$10=\"c\",74%)))","v":0.71},{"$f":"IF(Sconti!$D$10=\"a\",55%,IF(Sconti!$D$10=\"b\",71%,IF(Sconti!$D$10=\"c\",74%)))","v":0.71},{"$f":"IF(Sconti!$D$10=\"a\",55%,IF(Sconti!$D$10=\"b\",71%,IF(Sconti!$D$10=\"c\",74%)))","v":0.71},{"$f":"IF(Sconti!$D$10=\"a\",55%,IF(Sconti!$D$10=\"b\",71%,IF(Sconti!$D$10=\"c\",74%)))","v":0.71},{"$f":"IF(Sconti!$D$10=\"a\",55%,IF(Sconti!$D$10=\"b\",69%,IF(Sconti!$D$10=\"c\",72%)))","v":0.69},{"$f":"IF(Sconti!$D$10=\"a\",55%,IF(Sconti!$D$10=\"b\",69%,IF(Sconti!$D$10=\"c\",72%)))","v":0.69},{"$f":"IF(Sconti!$D$10=\"a\",55%,IF(Sconti!$D$10=\"b\",69%,IF(Sconti!$D$10=\"c\",72%)))","v":0.69},{"$f":"IF(Sconti!$D$10=\"a\",55%,IF(Sconti!$D$10=\"b\",69%,IF(Sconti!$D$10=\"c\",72%)))","v":0.69},{"$f":"IF(Sconti!$D$10=\"a\",55%,IF(Sconti!$D$10=\"b\",69%,IF(Sconti!$D$10=\"c\",72%)))","v":0.69},{"$f":"IF(Sconti!$D$10=\"a\",55%,IF(Sconti!$D$10=\"b\",69%,IF(Sconti!$D$10=\"c\",72%)))","v":0.69},{"$f":"IF(Sconti!$D$10=\"a\",55%,IF(Sconti!$D$10=\"b\",69%,IF(Sconti!$D$10=\"c\",72%)))","v":0.69},null,"3,0 kg",34.9,95.05,96.9,99.8,191.55,193.85,100.4,239.5,118.6,206.15,220.75,249.15,136.30000000000001]
[null,"3,5 kg",{"$f":"IF(Sconti!$D$10=\"a\",40%,IF(Sconti!$D$10=\"b\",60%,IF(Sconti!$D$10=\"c\",65%)))","v":0.6},{"$f":"IF(Sconti!$D$10=\"a\",55%,IF(Sconti!$D$10=\"b\",71%,IF(Sconti!$D$10=\"c\",74%)))","v":0.71},{"$f":"IF(Sconti!$D$10=\"a\",55%,IF(Sconti!$D$10=\"b\",71%,IF(Sconti!$D$10=\"c\",74%)))","v":0.71},{"$f":"IF(Sconti!$D$10=\"a\",55%,IF(Sconti!$D$10=\"b\",71%,IF(Sconti!$D$10=\"c\",74%)))","v":0.71},{"$f":"IF(Sconti!$D$10=\"a\",55%,IF(Sconti!$D$10=\"b\",71%,IF(Sconti!$D$10=\"c\",74%)))","v":0.71},{"$f":"IF(Sconti!$D$10=\"a\",55%,IF(Sconti!$D$10=\"b\",71%,IF(Sconti!$D$10=\"c\",74%)))","v":0.71},{"$f":"IF(Sconti!$D$10=\"a\",55%,IF(Sconti!$D$10=\"b\",69%,IF(Sconti!$D$10=\"c\",72%)))","v":0.69},{"$f":"IF(Sconti!$D$10=\"a\",55%,IF(Sconti!$D$10=\"b\",69%,IF(Sconti!$D$10=\"c\",72%)))","v":0.69},{"$f":"IF(Sconti!$D$10=\"a\",55%,IF(Sconti!$D$10=\"b\",69%,IF(Sconti!$D$10=\"c\",72%)))","v":0.69},{"$f":"IF(Sconti!$D$10=\"a\",55%,IF(Sconti!$D$10=\"b\",69%,IF(Sconti!$D$10=\"c\",72%)))","v":0.69},{"$f":"IF(Sconti!$D$10=\"a\",55%,IF(Sconti!$D$10=\"b\",69%,IF(Sconti!$D$10=\"c\",72%)))","v":0.69},{"$f":"IF(Sconti!$D$10=\"a\",55%,IF(Sconti!$D$10=\"b\",69%,IF(Sconti!$D$10=\"c\",72%)))","v":0.69},{"$f":"IF(Sconti!$D$10=\"a\",55%,IF(Sconti!$D$10=\"b\",69%,IF(Sconti!$D$10=\"c\",72%)))","v":0.69},null,"3,5 kg",36.35,103.6,105.7,109.9,216.15,218.05,108.9,256.2,128.44999999999999,224.05,238.95,267.8,146.6]
[null,"4,0 kg",{"$f":"IF(Sconti!$D$10=\"a\",40%,IF(Sconti!$D$10=\"b\",60%,IF(Sconti!$D$10=\"c\",65%)))","v":0.6},{"$f":"IF(Sconti!$D$10=\"a\",55%,IF(Sconti!$D$10=\"b\",71%,IF(Sconti!$D$10=\"c\",74%)))","v":0.71},{"$f":"IF(Sconti!$D$10=\"a\",55%,IF(Sconti!$D$10=\"b\",71%,IF(Sconti!$D$10=\"c\",74%)))","v":0.71},{"$f":"IF(Sconti!$D$10=\"a\",55%,IF(Sconti!$D$10=\"b\",71%,IF(Sconti!$D$10=\"c\",74%)))","v":0.71},{"$f":"IF(Sconti!$D$10=\"a\",55%,IF(Sconti!$D$10=\"b\",71%,IF(Sconti!$D$10=\"c\",74%)))","v":0.71},{"$f":"IF(Sconti!$D$10=\"a\",55%,IF(Sconti!$D$10=\"b\",71%,IF(Sconti!$D$10=\"c\",74%)))","v":0.71},{"$f":"IF(Sconti!$D$10=\"a\",55%,IF(Sconti!$D$10=\"b\",69%,IF(Sconti!$D$10=\"c\",72%)))","v":0.69},{"$f":"IF(Sconti!$D$10=\"a\",55%,IF(Sconti!$D$10=\"b\",69%,IF(Sconti!$D$10=\"c\",72%)))","v":0.69},{"$f":"IF(Sconti!$D$10=\"a\",55%,IF(Sconti!$D$10=\"b\",69%,IF(Sconti!$D$10=\"c\",72%)))","v":0.69},{"$f":"IF(Sconti!$D$10=\"a\",55%,IF(Sconti!$D$10=\"b\",69%,IF(Sconti!$D$10=\"c\",72%)))","v":0.69},{"$f":"IF(Sconti!$D$10=\"a\",55%,IF(Sconti!$D$10=\"b\",69%,IF(Sconti!$D$10=\"c\",72%)))","v":0.69},{"$f":"IF(Sconti!$D$10=\"a\",55%,IF(Sconti!$D$10=\"b\",69%,IF(Sconti!$D$10=\"c\",72%)))","v":0.69},{"$f":"IF(Sconti!$D$10=\"a\",55%,IF(Sconti!$D$10=\"b\",69%,IF(Sconti!$D$10=\"c\",72%)))","v":0.69},null,"4,0 kg",36.35,112.2,114.5,119.95,240.7,242.25,117.3,273.05,138.4,241.8,257.25,286.3,156.75]
[null,"4,5 kg",{"$f":"IF(Sconti!$D$10=\"a\",40%,IF(Sconti!$D$10=\"b\",60%,IF(Sconti!$D$10=\"c\",65%)))","v":0.6},{"$f":"IF(Sconti!$D$10=\"a\",55%,IF(Sconti!$D$10=\"b\",71%,IF(Sconti!$D$10=\"c\",74%)))","v":0.71},{"$f":"IF(Sconti!$D$10=\"a\",55%,IF(Sconti!$D$10=\"b\",71%,IF(Sconti!$D$10=\"c\",74%)))","v":0.71},{"$f":"IF(Sconti!$D$10=\"a\",55%,IF(Sconti!$D$10=\"b\",71%,IF(Sconti!$D$10=\"c\",74%)))","v":0.71},{"$f":"IF(Sconti!$D$10=\"a\",55%,IF(Sconti!$D$10=\"b\",71%,IF(Sconti!$D$10=\"c\",74%)))","v":0.71},{"$f":"IF(Sconti!$D$10=\"a\",55%,IF(Sconti!$D$10=\"b\",71%,IF(Sconti!$D$10=\"c\",74%)))","v":0.71},{"$f":"IF(Sconti!$D$10=\"a\",55%,IF(Sconti!$D$10=\"b\",69%,IF(Sconti!$D$10=\"c\",72%)))","v":0.69},{"$f":"IF(Sconti!$D$10=\"a\",55%,IF(Sconti!$D$10=\"b\",69%,IF(Sconti!$D$10=\"c\",72%)))","v":0.69},{"$f":"IF(Sconti!$D$10=\"a\",55%,IF(Sconti!$D$10=\"b\",69%,IF(Sconti!$D$10=\"c\",72%)))","v":0.69},{"$f":"IF(Sconti!$D$10=\"a\",55%,IF(Sconti!$D$10=\"b\",69%,IF(Sconti!$D$10=\"c\",72%)))","v":0.69},{"$f":"IF(Sconti!$D$10=\"a\",55%,IF(Sconti!$D$10=\"b\",69%,IF(Sconti!$D$10=\"c\",72%)))","v":0.69},{"$f":"IF(Sconti!$D$10=\"a\",55%,IF(Sconti!$D$10=\"b\",69%,IF(Sconti!$D$10=\"c\",72%)))","v":0.69},{"$f":"IF(Sconti!$D$10=\"a\",55%,IF(Sconti!$D$10=\"b\",69%,IF(Sconti!$D$10=\"c\",72%)))","v":0.69},null,"4,5 kg",37.9,120.85,123.35,129.85,265.3,266.60000000000002,125.65,289.85000000000002,148.35,259.64999999999998,275.60000000000002,304.95,167]
[null,"5,0 kg",{"$f":"IF(Sconti!$D$10=\"a\",40%,IF(Sconti!$D$10=\"b\",60%,IF(Sconti!$D$10=\"c\",65%)))","v":0.6},{"$f":"IF(Sconti!$D$10=\"a\",55%,IF(Sconti!$D$10=\"b\",71%,IF(Sconti!$D$10=\"c\",74%)))","v":0.71},{"$f":"IF(Sconti!$D$10=\"a\",55%,IF(Sconti!$D$10=\"b\",71%,IF(Sconti!$D$10=\"c\",74%)))","v":0.71},{"$f":"IF(Sconti!$D$10=\"a\",55%,IF(Sconti!$D$10=\"b\",71%,IF(Sconti!$D$10=\"c\",74%)))","v":0.71},{"$f":"IF(Sconti!$D$10=\"a\",55%,IF(Sconti!$D$10=\"b\",71%,IF(Sconti!$D$10=\"c\",74%)))","v":0.71},{"$f":"IF(Sconti!$D$10=\"a\",55%,IF(Sconti!$D$10=\"b\",71%,IF(Sconti!$D$10=\"c\",74%)))","v":0.71},{"$f":"IF(Sconti!$D$10=\"a\",55%,IF(Sconti!$D$10=\"b\",69%,IF(Sconti!$D$10=\"c\",72%)))","v":0.69},{"$f":"IF(Sconti!$D$10=\"a\",55%,IF(Sconti!$D$10=\"b\",69%,IF(Sconti!$D$10=\"c\",72%)))","v":0.69},{"$f":"IF(Sconti!$D$10=\"a\",55%,IF(Sconti!$D$10=\"b\",69%,IF(Sconti!$D$10=\"c\",72%)))","v":0.69},{"$f":"IF(Sconti!$D$10=\"a\",55%,IF(Sconti!$D$10=\"b\",69%,IF(Sconti!$D$10=\"c\",72%)))","v":0.69},{"$f":"IF(Sconti!$D$10=\"a\",55%,IF(Sconti!$D$10=\"b\",69%,IF(Sconti!$D$10=\"c\",72%)))","v":0.69},{"$f":"IF(Sconti!$D$10=\"a\",55%,IF(Sconti!$D$10=\"b\",69%,IF(Sconti!$D$10=\"c\",72%)))","v":0.69},{"$f":"IF(Sconti!$D$10=\"a\",55%,IF(Sconti!$D$10=\"b\",69%,IF(Sconti!$D$10=\"c\",72%)))","v":0.69},null,"5,0 kg",37.9,129.5,132.15,138.19999999999999,289.8,290.7,134.1,306.45,158.19999999999999,274.8,293.8,323.45,177.15]
[null,"5,5 kg",{"$f":"IF(Sconti!$D$10=\"a\",40%,IF(Sconti!$D$10=\"b\",60%,IF(Sconti!$D$10=\"c\",65%)))","v":0.6},{"$f":"IF(Sconti!$D$10=\"a\",55%,IF(Sconti!$D$10=\"b\",71%,IF(Sconti!$D$10=\"c\",74%)))","v":0.71},{"$f":"IF(Sconti!$D$10=\"a\",55%,IF(Sconti!$D$10=\"b\",71%,IF(Sconti!$D$10=\"c\",74%)))","v":0.71},{"$f":"IF(Sconti!$D$10=\"a\",55%,IF(Sconti!$D$10=\"b\",71%,IF(Sconti!$D$10=\"c\",74%)))","v":0.71},{"$f":"IF(Sconti!$D$10=\"a\",55%,IF(Sconti!$D$10=\"b\",71%,IF(Sconti!$D$10=\"c\",74%)))","v":0.71},{"$f":"IF(Sconti!$D$10=\"a\",55%,IF(Sconti!$D$10=\"b\",71%,IF(Sconti!$D$10=\"c\",74%)))","v":0.71},{"$f":"IF(Sconti!$D$10=\"a\",55%,IF(Sconti!$D$10=\"b\",69%,IF(Sconti!$D$10=\"c\",72%)))","v":0.69},{"$f":"IF(Sconti!$D$10=\"a\",55%,IF(Sconti!$D$10=\"b\",69%,IF(Sconti!$D$10=\"c\",72%)))","v":0.69},{"$f":"IF(Sconti!$D$10=\"a\",55%,IF(Sconti!$D$10=\"b\",69%,IF(Sconti!$D$10=\"c\",72%)))","v":0.69},{"$f":"IF(Sconti!$D$10=\"a\",55%,IF(Sconti!$D$10=\"b\",69%,IF(Sconti!$D$10=\"c\",72%)))","v":0.69},{"$f":"IF(Sconti!$D$10=\"a\",55%,IF(Sconti!$D$10=\"b\",69%,IF(Sconti!$D$10=\"c\",72%)))","v":0.69},{"$f":"IF(Sconti!$D$10=\"a\",55%,IF(Sconti!$D$10=\"b\",69%,IF(Sconti!$D$10=\"c\",72%)))","v":0.69},{"$f":"IF(Sconti!$D$10=\"a\",55%,IF(Sconti!$D$10=\"b\",69%,IF(Sconti!$D$10=\"c\",72%)))","v":0.69},null,"5,5 kg",39.4,135.85,138.55000000000001,144.94999999999999,304.35000000000002,306.10000000000002,140.15,323.2,167.05,280.60000000000002,296.7,342.15,186]
[null,"6,0 kg",{"$f":"IF(Sconti!$D$10=\"a\",40%,IF(Sconti!$D$10=\"b\",60%,IF(Sconti!$D$10=\"c\",65%)))","v":0.6},{"$f":"IF(Sconti!$D$10=\"a\",55%,IF(Sconti!$D$10=\"b\",71%,IF(Sconti!$D$10=\"c\",74%)))","v":0.71},{"$f":"IF(Sconti!$D$10=\"a\",55%,IF(Sconti!$D$10=\"b\",71%,IF(Sconti!$D$10=\"c\",74%)))","v":0.71},{"$f":"IF(Sconti!$D$10=\"a\",55%,IF(Sconti!$D$10=\"b\",71%,IF(Sconti!$D$10=\"c\",74%)))","v":0.71},{"$f":"IF(Sconti!$D$10=\"a\",55%,IF(Sconti!$D$10=\"b\",71%,IF(Sconti!$D$10=\"c\",74%)))","v":0.71},{"$f":"IF(Sconti!$D$10=\"a\",55%,IF(Sconti!$D$10=\"b\",71%,IF(Sconti!$D$10=\"c\",74%)))","v":0.71},{"$f":"IF(Sconti!$D$10=\"a\",55%,IF(Sconti!$D$10=\"b\",69%,IF(Sconti!$D$10=\"c\",72%)))","v":0.69},{"$f":"IF(Sconti!$D$10=\"a\",55%,IF(Sconti!$D$10=\"b\",69%,IF(Sconti!$D$10=\"c\",72%)))","v":0.69},{"$f":"IF(Sconti!$D$10=\"a\",55%,IF(Sconti!$D$10=\"b\",69%,IF(Sconti!$D$10=\"c\",72%)))","v":0.69},{"$f":"IF(Sconti!$D$10=\"a\",55%,IF(Sconti!$D$10=\"b\",69%,IF(Sconti!$D$10=\"c\",72%)))","v":0.69},{"$f":"IF(Sconti!$D$10=\"a\",55%,IF(Sconti!$D$10=\"b\",69%,IF(Sconti!$D$10=\"c\",72%)))","v":0.69},{"$f":"IF(Sconti!$D$10=\"a\",55%,IF(Sconti!$D$10=\"b\",69%,IF(Sconti!$D$10=\"c\",72%)))","v":0.69},{"$f":"IF(Sconti!$D$10=\"a\",55%,IF(Sconti!$D$10=\"b\",69%,IF(Sconti!$D$10=\"c\",72%)))","v":0.69},null,"6,0 kg",39.4,142.05000000000001,145.1,151.65,318.75,321.39999999999998,146.4,340.1,175.95,296.75,314.10000000000002,360.7,194.7]
[null,"6,5 kg",{"$f":"IF(Sconti!$D$10=\"a\",40%,IF(Sconti!$D$10=\"b\",60%,IF(Sconti!$D$10=\"c\",65%)))","v":0.6},{"$f":"IF(Sconti!$D$10=\"a\",55%,IF(Sconti!$D$10=\"b\",71%,IF(Sconti!$D$10=\"c\",74%)))","v":0.71},{"$f":"IF(Sconti!$D$10=\"a\",55%,IF(Sconti!$D$10=\"b\",71%,IF(Sconti!$D$10=\"c\",74%)))","v":0.71},{"$f":"IF(Sconti!$D$10=\"a\",55%,IF(Sconti!$D$10=\"b\",71%,IF(Sconti!$D$10=\"c\",74%)))","v":0.71},{"$f":"IF(Sconti!$D$10=\"a\",55%,IF(Sconti!$D$10=\"b\",71%,IF(Sconti!$D$10=\"c\",74%)))","v":0.71},{"$f":"IF(Sconti!$D$10=\"a\",55%,IF(Sconti!$D$10=\"b\",71%,IF(Sconti!$D$10=\"c\",74%)))","v":0.71},{"$f":"IF(Sconti!$D$10=\"a\",55%,IF(Sconti!$D$10=\"b\",69%,IF(Sconti!$D$10=\"c\",72%)))","v":0.69},{"$f":"IF(Sconti!$D$10=\"a\",55%,IF(Sconti!$D$10=\"b\",69%,IF(Sconti!$D$10=\"c\",72%)))","v":0.69},{"$f":"IF(Sconti!$D$10=\"a\",55%,IF(Sconti!$D$10=\"b\",69%,IF(Sconti!$D$10=\"c\",72%)))","v":0.69},{"$f":"IF(Sconti!$D$10=\"a\",55%,IF(Sconti!$D$10=\"b\",69%,IF(Sconti!$D$10=\"c\",72%)))","v":0.69},{"$f":"IF(Sconti!$D$10=\"a\",55%,IF(Sconti!$D$10=\"b\",69%,IF(Sconti!$D$10=\"c\",72%)))","v":0.69},{"$f":"IF(Sconti!$D$10=\"a\",55%,IF(Sconti!$D$10=\"b\",69%,IF(Sconti!$D$10=\"c\",72%)))","v":0.69},{"$f":"IF(Sconti!$D$10=\"a\",55%,IF(Sconti!$D$10=\"b\",69%,IF(Sconti!$D$10=\"c\",72%)))","v":0.69},null,"6,5 kg",40.950000000000003,148.44999999999999,151.6,158.4,333.25,336.7,152.5,356.7,184.8,313.05,331.4,379.25,203.65]
[null,"7,0 kg",{"$f":"IF(Sconti!$D$10=\"a\",40%,IF(Sconti!$D$10=\"b\",60%,IF(Sconti!$D$10=\"c\",65%)))","v":0.6},{"$f":"IF(Sconti!$D$10=\"a\",55%,IF(Sconti!$D$10=\"b\",71%,IF(Sconti!$D$10=\"c\",74%)))","v":0.71},{"$f":"IF(Sconti!$D$10=\"a\",55%,IF(Sconti!$D$10=\"b\",71%,IF(Sconti!$D$10=\"c\",74%)))","v":0.71},{"$f":"IF(Sconti!$D$10=\"a\",55%,IF(Sconti!$D$10=\"b\",71%,IF(Sconti!$D$10=\"c\",74%)))","v":0.71},{"$f":"IF(Sconti!$D$10=\"a\",55%,IF(Sconti!$D$10=\"b\",71%,IF(Sconti!$D$10=\"c\",74%)))","v":0.71},{"$f":"IF(Sconti!$D$10=\"a\",55%,IF(Sconti!$D$10=\"b\",71%,IF(Sconti!$D$10=\"c\",74%)))","v":0.71},{"$f":"IF(Sconti!$D$10=\"a\",55%,IF(Sconti!$D$10=\"b\",69%,IF(Sconti!$D$10=\"c\",72%)))","v":0.69},{"$f":"IF(Sconti!$D$10=\"a\",55%,IF(Sconti!$D$10=\"b\",69%,IF(Sconti!$D$10=\"c\",72%)))","v":0.69},{"$f":"IF(Sconti!$D$10=\"a\",55%,IF(Sconti!$D$10=\"b\",69%,IF(Sconti!$D$10=\"c\",72%)))","v":0.69},{"$f":"IF(Sconti!$D$10=\"a\",55%,IF(Sconti!$D$10=\"b\",69%,IF(Sconti!$D$10=\"c\",72%)))","v":0.69},{"$f":"IF(Sconti!$D$10=\"a\",55%,IF(Sconti!$D$10=\"b\",69%,IF(Sconti!$D$10=\"c\",72%)))","v":0.69},{"$f":"IF(Sconti!$D$10=\"a\",55%,IF(Sconti!$D$10=\"b\",69%,IF(Sconti!$D$10=\"c\",72%)))","v":0.69},{"$f":"IF(Sconti!$D$10=\"a\",55%,IF(Sconti!$D$10=\"b\",69%,IF(Sconti!$D$10=\"c\",72%)))","v":0.69},null,"7,0 kg",40.950000000000003,154.69999999999999,158.15,165.05,347.85,352.1,158.65,373.5,193.75,329.35,348.75,397.9,212.25]
[null,"7,5 kg",{"$f":"IF(Sconti!$D$10=\"a\",40%,IF(Sconti!$D$10=\"b\",60%,IF(Sconti!$D$10=\"c\",65%)))","v":0.6},{"$f":"IF(Sconti!$D$10=\"a\",55%,IF(Sconti!$D$10=\"b\",71%,IF(Sconti!$D$10=\"c\",74%)))","v":0.71},{"$f":"IF(Sconti!$D$10=\"a\",55%,IF(Sconti!$D$10=\"b\",71%,IF(Sconti!$D$10=\"c\",74%)))","v":0.71},{"$f":"IF(Sconti!$D$10=\"a\",55%,IF(Sconti!$D$10=\"b\",71%,IF(Sconti!$D$10=\"c\",74%)))","v":0.71},{"$f":"IF(Sconti!$D$10=\"a\",55%,IF(Sconti!$D$10=\"b\",71%,IF(Sconti!$D$10=\"c\",74%)))","v":0.71},{"$f":"IF(Sconti!$D$10=\"a\",55%,IF(Sconti!$D$10=\"b\",71%,IF(Sconti!$D$10=\"c\",74%)))","v":0.71},{"$f":"IF(Sconti!$D$10=\"a\",55%,IF(Sconti!$D$10=\"b\",69%,IF(Sconti!$D$10=\"c\",72%)))","v":0.69},{"$f":"IF(Sconti!$D$10=\"a\",55%,IF(Sconti!$D$10=\"b\",69%,IF(Sconti!$D$10=\"c\",72%)))","v":0.69},{"$f":"IF(Sconti!$D$10=\"a\",55%,IF(Sconti!$D$10=\"b\",69%,IF(Sconti!$D$10=\"c\",72%)))","v":0.69},{"$f":"IF(Sconti!$D$10=\"a\",55%,IF(Sconti!$D$10=\"b\",69%,IF(Sconti!$D$10=\"c\",72%)))","v":0.69},{"$f":"IF(Sconti!$D$10=\"a\",55%,IF(Sconti!$D$10=\"b\",69%,IF(Sconti!$D$10=\"c\",72%)))","v":0.69},{"$f":"IF(Sconti!$D$10=\"a\",55%,IF(Sconti!$D$10=\"b\",69%,IF(Sconti!$D$10=\"c\",72%)))","v":0.69},{"$f":"IF(Sconti!$D$10=\"a\",55%,IF(Sconti!$D$10=\"b\",69%,IF(Sconti!$D$10=\"c\",72%)))","v":0.69},null,"7,5 kg",42.65,161.05000000000001,164.6,171.95,362.2,367.3,164.8,390.2,202.65,345.55,366,416.6,221.2]
[null,"8,0 kg",{"$f":"IF(Sconti!$D$10=\"a\",40%,IF(Sconti!$D$10=\"b\",60%,IF(Sconti!$D$10=\"c\",65%)))","v":0.6},{"$f":"IF(Sconti!$D$10=\"a\",55%,IF(Sconti!$D$10=\"b\",71%,IF(Sconti!$D$10=\"c\",74%)))","v":0.71},{"$f":"IF(Sconti!$D$10=\"a\",55%,IF(Sconti!$D$10=\"b\",71%,IF(Sconti!$D$10=\"c\",74%)))","v":0.71},{"$f":"IF(Sconti!$D$10=\"a\",55%,IF(Sconti!$D$10=\"b\",71%,IF(Sconti!$D$10=\"c\",74%)))","v":0.71},{"$f":"IF(Sconti!$D$10=\"a\",55%,IF(Sconti!$D$10=\"b\",71%,IF(Sconti!$D$10=\"c\",74%)))","v":0.71},{"$f":"IF(Sconti!$D$10=\"a\",55%,IF(Sconti!$D$10=\"b\",71%,IF(Sconti!$D$10=\"c\",74%)))","v":0.71},{"$f":"IF(Sconti!$D$10=\"a\",55%,IF(Sconti!$D$10=\"b\",69%,IF(Sconti!$D$10=\"c\",72%)))","v":0.69},{"$f":"IF(Sconti!$D$10=\"a\",55%,IF(Sconti!$D$10=\"b\",69%,IF(Sconti!$D$10=\"c\",72%)))","v":0.69},{"$f":"IF(Sconti!$D$10=\"a\",55%,IF(Sconti!$D$10=\"b\",69%,IF(Sconti!$D$10=\"c\",72%)))","v":0.69},{"$f":"IF(Sconti!$D$10=\"a\",55%,IF(Sconti!$D$10=\"b\",69%,IF(Sconti!$D$10=\"c\",72%)))","v":0.69},{"$f":"IF(Sconti!$D$10=\"a\",55%,IF(Sconti!$D$10=\"b\",69%,IF(Sconti!$D$10=\"c\",72%)))","v":0.69},{"$f":"IF(Sconti!$D$10=\"a\",55%,IF(Sconti!$D$10=\"b\",69%,IF(Sconti!$D$10=\"c\",72%)))","v":0.69},{"$f":"IF(Sconti!$D$10=\"a\",55%,IF(Sconti!$D$10=\"b\",69%,IF(Sconti!$D$10=\"c\",72%)))","v":0.69},null,"8,0 kg",42.65,167.4,171.15,178.75,376.75,382.7,171,407.05,211.45,361.85,383.35,435.2,230]
[null,"8,5 kg",{"$f":"IF(Sconti!$D$10=\"a\",40%,IF(Sconti!$D$10=\"b\",60%,IF(Sconti!$D$10=\"c\",65%)))","v":0.6},{"$f":"IF(Sconti!$D$10=\"a\",55%,IF(Sconti!$D$10=\"b\",71%,IF(Sconti!$D$10=\"c\",74%)))","v":0.71},{"$f":"IF(Sconti!$D$10=\"a\",55%,IF(Sconti!$D$10=\"b\",71%,IF(Sconti!$D$10=\"c\",74%)))","v":0.71},{"$f":"IF(Sconti!$D$10=\"a\",55%,IF(Sconti!$D$10=\"b\",71%,IF(Sconti!$D$10=\"c\",74%)))","v":0.71},{"$f":"IF(Sconti!$D$10=\"a\",55%,IF(Sconti!$D$10=\"b\",71%,IF(Sconti!$D$10=\"c\",74%)))","v":0.71},{"$f":"IF(Sconti!$D$10=\"a\",55%,IF(Sconti!$D$10=\"b\",71%,IF(Sconti!$D$10=\"c\",74%)))","v":0.71},{"$f":"IF(Sconti!$D$10=\"a\",55%,IF(Sconti!$D$10=\"b\",69%,IF(Sconti!$D$10=\"c\",72%)))","v":0.69},{"$f":"IF(Sconti!$D$10=\"a\",55%,IF(Sconti!$D$10=\"b\",69%,IF(Sconti!$D$10=\"c\",72%)))","v":0.69},{"$f":"IF(Sconti!$D$10=\"a\",55%,IF(Sconti!$D$10=\"b\",69%,IF(Sconti!$D$10=\"c\",72%)))","v":0.69},{"$f":"IF(Sconti!$D$10=\"a\",55%,IF(Sconti!$D$10=\"b\",69%,IF(Sconti!$D$10=\"c\",72%)))","v":0.69},{"$f":"IF(Sconti!$D$10=\"a\",55%,IF(Sconti!$D$10=\"b\",69%,IF(Sconti!$D$10=\"c\",72%)))","v":0.69},{"$f":"IF(Sconti!$D$10=\"a\",55%,IF(Sconti!$D$10=\"b\",69%,IF(Sconti!$D$10=\"c\",72%)))","v":0.69},{"$f":"IF(Sconti!$D$10=\"a\",55%,IF(Sconti!$D$10=\"b\",69%,IF(Sconti!$D$10=\"c\",72%)))","v":0.69},null,"8,5 kg",44.2,173.65,177.6,185.45,391.3,398,177.15,423.7,220.25,378.1,400.65,453.7,238.75]
[null,"9,0 kg",{"$f":"IF(Sconti!$D$10=\"a\",40%,IF(Sconti!$D$10=\"b\",60%,IF(Sconti!$D$10=\"c\",65%)))","v":0.6},{"$f":"IF(Sconti!$D$10=\"a\",55%,IF(Sconti!$D$10=\"b\",71%,IF(Sconti!$D$10=\"c\",74%)))","v":0.71},{"$f":"IF(Sconti!$D$10=\"a\",55%,IF(Sconti!$D$10=\"b\",71%,IF(Sconti!$D$10=\"c\",74%)))","v":0.71},{"$f":"IF(Sconti!$D$10=\"a\",55%,IF(Sconti!$D$10=\"b\",71%,IF(Sconti!$D$10=\"c\",74%)))","v":0.71},{"$f":"IF(Sconti!$D$10=\"a\",55%,IF(Sconti!$D$10=\"b\",71%,IF(Sconti!$D$10=\"c\",74%)))","v":0.71},{"$f":"IF(Sconti!$D$10=\"a\",55%,IF(Sconti!$D$10=\"b\",71%,IF(Sconti!$D$10=\"c\",74%)))","v":0.71},{"$f":"IF(Sconti!$D$10=\"a\",55%,IF(Sconti!$D$10=\"b\",69%,IF(Sconti!$D$10=\"c\",72%)))","v":0.69},{"$f":"IF(Sconti!$D$10=\"a\",55%,IF(Sconti!$D$10=\"b\",69%,IF(Sconti!$D$10=\"c\",72%)))","v":0.69},{"$f":"IF(Sconti!$D$10=\"a\",55%,IF(Sconti!$D$10=\"b\",69%,IF(Sconti!$D$10=\"c\",72%)))","v":0.69},{"$f":"IF(Sconti!$D$10=\"a\",55%,IF(Sconti!$D$10=\"b\",69%,IF(Sconti!$D$10=\"c\",72%)))","v":0.69},{"$f":"IF(Sconti!$D$10=\"a\",55%,IF(Sconti!$D$10=\"b\",69%,IF(Sconti!$D$10=\"c\",72%)))","v":0.69},{"$f":"IF(Sconti!$D$10=\"a\",55%,IF(Sconti!$D$10=\"b\",69%,IF(Sconti!$D$10=\"c\",72%)))","v":0.69},{"$f":"IF(Sconti!$D$10=\"a\",55%,IF(Sconti!$D$10=\"b\",69%,IF(Sconti!$D$10=\"c\",72%)))","v":0.69},null,"9,0 kg",44.2,180,184.05,192.2,405.75,413.3,183.35,440.5,229.1,394.35,418.1,472.35,247.45]
[null,"9,5 kg",{"$f":"IF(Sconti!$D$10=\"a\",40%,IF(Sconti!$D$10=\"b\",60%,IF(Sconti!$D$10=\"c\",65%)))","v":0.6},{"$f":"IF(Sconti!$D$10=\"a\",55%,IF(Sconti!$D$10=\"b\",71%,IF(Sconti!$D$10=\"c\",74%)))","v":0.71},{"$f":"IF(Sconti!$D$10=\"a\",55%,IF(Sconti!$D$10=\"b\",71%,IF(Sconti!$D$10=\"c\",74%)))","v":0.71},{"$f":"IF(Sconti!$D$10=\"a\",55%,IF(Sconti!$D$10=\"b\",71%,IF(Sconti!$D$10=\"c\",74%)))","v":0.71},{"$f":"IF(Sconti!$D$10=\"a\",55%,IF(Sconti!$D$10=\"b\",71%,IF(Sconti!$D$10=\"c\",74%)))","v":0.71},{"$f":"IF(Sconti!$D$10=\"a\",55%,IF(Sconti!$D$10=\"b\",71%,IF(Sconti!$D$10=\"c\",74%)))","v":0.71},{"$f":"IF(Sconti!$D$10=\"a\",55%,IF(Sconti!$D$10=\"b\",69%,IF(Sconti!$D$10=\"c\",72%)))","v":0.69},{"$f":"IF(Sconti!$D$10=\"a\",55%,IF(Sconti!$D$10=\"b\",69%,IF(Sconti!$D$10=\"c\",72%)))","v":0.69},{"$f":"IF(Sconti!$D$10=\"a\",55%,IF(Sconti!$D$10=\"b\",69%,IF(Sconti!$D$10=\"c\",72%)))","v":0.69},{"$f":"IF(Sconti!$D$10=\"a\",55%,IF(Sconti!$D$10=\"b\",69%,IF(Sconti!$D$10=\"c\",72%)))","v":0.69},{"$f":"IF(Sconti!$D$10=\"a\",55%,IF(Sconti!$D$10=\"b\",69%,IF(Sconti!$D$10=\"c\",72%)))","v":0.69},{"$f":"IF(Sconti!$D$10=\"a\",55%,IF(Sconti!$D$10=\"b\",69%,IF(Sconti!$D$10=\"c\",72%)))","v":0.69},{"$f":"IF(Sconti!$D$10=\"a\",55%,IF(Sconti!$D$10=\"b\",69%,IF(Sconti!$D$10=\"c\",72%)))","v":0.69},null,"9,5 kg",45.8,186.25,190.9,198.95,420.2,428.65,189.4,457.15,238.1,410.5,435.4,490.95,256.39999999999998]
[null,"10 kg",{"$f":"IF(Sconti!$D$10=\"a\",40%,IF(Sconti!$D$10=\"b\",60%,IF(Sconti!$D$10=\"c\",65%)))","v":0.6},{"$f":"IF(Sconti!$D$10=\"a\",55%,IF(Sconti!$D$10=\"b\",71%,IF(Sconti!$D$10=\"c\",74%)))","v":0.71},{"$f":"IF(Sconti!$D$10=\"a\",55%,IF(Sconti!$D$10=\"b\",71%,IF(Sconti!$D$10=\"c\",74%)))","v":0.71},{"$f":"IF(Sconti!$D$10=\"a\",55%,IF(Sconti!$D$10=\"b\",71%,IF(Sconti!$D$10=\"c\",74%)))","v":0.71},{"$f":"IF(Sconti!$D$10=\"a\",55%,IF(Sconti!$D$10=\"b\",71%,IF(Sconti!$D$10=\"c\",74%)))","v":0.71},{"$f":"IF(Sconti!$D$10=\"a\",55%,IF(Sconti!$D$10=\"b\",71%,IF(Sconti!$D$10=\"c\",74%)))","v":0.71},{"$f":"IF(Sconti!$D$10=\"a\",55%,IF(Sconti!$D$10=\"b\",69%,IF(Sconti!$D$10=\"c\",72%)))","v":0.69},{"$f":"IF(Sconti!$D$10=\"a\",55%,IF(Sconti!$D$10=\"b\",69%,IF(Sconti!$D$10=\"c\",72%)))","v":0.69},{"$f":"IF(Sconti!$D$10=\"a\",55%,IF(Sconti!$D$10=\"b\",69%,IF(Sconti!$D$10=\"c\",72%)))","v":0.69},{"$f":"IF(Sconti!$D$10=\"a\",55%,IF(Sconti!$D$10=\"b\",69%,IF(Sconti!$D$10=\"c\",72%)))","v":0.69},{"$f":"IF(Sconti!$D$10=\"a\",55%,IF(Sconti!$D$10=\"b\",69%,IF(Sconti!$D$10=\"c\",72%)))","v":0.69},{"$f":"IF(Sconti!$D$10=\"a\",55%,IF(Sconti!$D$10=\"b\",69%,IF(Sconti!$D$10=\"c\",72%)))","v":0.69},{"$f":"IF(Sconti!$D$10=\"a\",55%,IF(Sconti!$D$10=\"b\",69%,IF(Sconti!$D$10=\"c\",72%)))","v":0.69},null,"10 kg",45.8,192.65,196.15,205.7,434.8,444,195.7,474.1,247,426.85,452.7,509.55,265.14999999999998]
[null,"11 kg",{"$f":"IF(Sconti!$D$10=\"a\",40%,IF(Sconti!$D$10=\"b\",60%,IF(Sconti!$D$10=\"c\",65%)))","v":0.6},{"$f":"IF(Sconti!$D$10=\"a\",55%,IF(Sconti!$D$10=\"b\",71%,IF(Sconti!$D$10=\"c\",74%)))","v":0.71},{"$f":"IF(Sconti!$D$10=\"a\",55%,IF(Sconti!$D$10=\"b\",71%,IF(Sconti!$D$10=\"c\",74%)))","v":0.71},{"$f":"IF(Sconti!$D$10=\"a\",55%,IF(Sconti!$D$10=\"b\",71%,IF(Sconti!$D$10=\"c\",74%)))","v":0.71},{"$f":"IF(Sconti!$D$10=\"a\",55%,IF(Sconti!$D$10=\"b\",71%,IF(Sconti!$D$10=\"c\",74%)))","v":0.71},{"$f":"IF(Sconti!$D$10=\"a\",55%,IF(Sconti!$D$10=\"b\",71%,IF(Sconti!$D$10=\"c\",74%)))","v":0.71},{"$f":"IF(Sconti!$D$10=\"a\",55%,IF(Sconti!$D$10=\"b\",69%,IF(Sconti!$D$10=\"c\",72%)))","v":0.69},{"$f":"IF(Sconti!$D$10=\"a\",55%,IF(Sconti!$D$10=\"b\",69%,IF(Sconti!$D$10=\"c\",72%)))","v":0.69},{"$f":"IF(Sconti!$D$10=\"a\",55%,IF(Sconti!$D$10=\"b\",69%,IF(Sconti!$D$10=\"c\",72%)))","v":0.69},{"$f":"IF(Sconti!$D$10=\"a\",55%,IF(Sconti!$D$10=\"b\",69%,IF(Sconti!$D$10=\"c\",72%)))","v":0.69},{"$f":"IF(Sconti!$D$10=\"a\",55%,IF(Sconti!$D$10=\"b\",69%,IF(Sconti!$D$10=\"c\",72%)))","v":0.69},{"$f":"IF(Sconti!$D$10=\"a\",55%,IF(Sconti!$D$10=\"b\",69%,IF(Sconti!$D$10=\"c\",72%)))","v":0.69},{"$f":"IF(Sconti!$D$10=\"a\",55%,IF(Sconti!$D$10=\"b\",69%,IF(Sconti!$D$10=\"c\",72%)))","v":0.69},null,"11 kg",61.65,198.75,199.1,211.3,467.9,473.15,206.3,503.35,265.7,451.2,477,538.15,277.35000000000002]
[null,"12 kg",{"$f":"IF(Sconti!$D$10=\"a\",40%,IF(Sconti!$D$10=\"b\",60%,IF(Sconti!$D$10=\"c\",65%)))","v":0.6},{"$f":"IF(Sconti!$D$10=\"a\",55%,IF(Sconti!$D$10=\"b\",71%,IF(Sconti!$D$10=\"c\",74%)))","v":0.71},{"$f":"IF(Sconti!$D$10=\"a\",55%,IF(Sconti!$D$10=\"b\",71%,IF(Sconti!$D$10=\"c\",74%)))","v":0.71},{"$f":"IF(Sconti!$D$10=\"a\",55%,IF(Sconti!$D$10=\"b\",71%,IF(Sconti!$D$10=\"c\",74%)))","v":0.71},{"$f":"IF(Sconti!$D$10=\"a\",55%,IF(Sconti!$D$10=\"b\",71%,IF(Sconti!$D$10=\"c\",74%)))","v":0.71},{"$f":"IF(Sconti!$D$10=\"a\",55%,IF(Sconti!$D$10=\"b\",71%,IF(Sconti!$D$10=\"c\",74%)))","v":0.71},{"$f":"IF(Sconti!$D$10=\"a\",55%,IF(Sconti!$D$10=\"b\",69%,IF(Sconti!$D$10=\"c\",72%)))","v":0.69},{"$f":"IF(Sconti!$D$10=\"a\",55%,IF(Sconti!$D$10=\"b\",69%,IF(Sconti!$D$10=\"c\",72%)))","v":0.69},{"$f":"IF(Sconti!$D$10=\"a\",55%,IF(Sconti!$D$10=\"b\",69%,IF(Sconti!$D$10=\"c\",72%)))","v":0.69},{"$f":"IF(Sconti!$D$10=\"a\",55%,IF(Sconti!$D$10=\"b\",69%,IF(Sconti!$D$10=\"c\",72%)))","v":0.69},{"$f":"IF(Sconti!$D$10=\"a\",55%,IF(Sconti!$D$10=\"b\",69%,IF(Sconti!$D$10=\"c\",72%)))","v":0.69},{"$f":"IF(Sconti!$D$10=\"a\",55%,IF(Sconti!$D$10=\"b\",69%,IF(Sconti!$D$10=\"c\",72%)))","v":0.69},{"$f":"IF(Sconti!$D$10=\"a\",55%,IF(Sconti!$D$10=\"b\",69%,IF(Sconti!$D$10=\"c\",72%)))","v":0.69},null,"12 kg",61.65,208.45,209.55,222.65,495.2,501.4,216.9,533.6,284.10000000000002,475.2,501.05,567.70000000000005,289.64999999999998]
[null,"13 kg",{"$f":"IF(Sconti!$D$10=\"a\",40%,IF(Sconti!$D$10=\"b\",60%,IF(Sconti!$D$10=\"c\",65%)))","v":0.6},{"$f":"IF(Sconti!$D$10=\"a\",55%,IF(Sconti!$D$10=\"b\",71%,IF(Sconti!$D$10=\"c\",74%)))","v":0.71},{"$f":"IF(Sconti!$D$10=\"a\",55%,IF(Sconti!$D$10=\"b\",71%,IF(Sconti!$D$10=\"c\",74%)))","v":0.71},{"$f":"IF(Sconti!$D$10=\"a\",55%,IF(Sconti!$D$10=\"b\",71%,IF(Sconti!$D$10=\"c\",74%)))","v":0.71},{"$f":"IF(Sconti!$D$10=\"a\",55%,IF(Sconti!$D$10=\"b\",71%,IF(Sconti!$D$10=\"c\",74%)))","v":0.71},{"$f":"IF(Sconti!$D$10=\"a\",55%,IF(Sconti!$D$10=\"b\",71%,IF(Sconti!$D$10=\"c\",74%)))","v":0.71},{"$f":"IF(Sconti!$D$10=\"a\",55%,IF(Sconti!$D$10=\"b\",69%,IF(Sconti!$D$10=\"c\",72%)))","v":0.69},{"$f":"IF(Sconti!$D$10=\"a\",55%,IF(Sconti!$D$10=\"b\",69%,IF(Sconti!$D$10=\"c\",72%)))","v":0.69},{"$f":"IF(Sconti!$D$10=\"a\",55%,IF(Sconti!$D$10=\"b\",69%,IF(Sconti!$D$10=\"c\",72%)))","v":0.69},{"$f":"IF(Sconti!$D$10=\"a\",55%,IF(Sconti!$D$10=\"b\",69%,IF(Sconti!$D$10=\"c\",72%)))","v":0.69},{"$f":"IF(Sconti!$D$10=\"a\",55%,IF(Sconti!$D$10=\"b\",69%,IF(Sconti!$D$10=\"c\",72%)))","v":0.69},{"$f":"IF(Sconti!$D$10=\"a\",55%,IF(Sconti!$D$10=\"b\",69%,IF(Sconti!$D$10=\"c\",72%)))","v":0.69},{"$f":"IF(Sconti!$D$10=\"a\",55%,IF(Sconti!$D$10=\"b\",69%,IF(Sconti!$D$10=\"c\",72%)))","v":0.69},null,"13 kg",61.65,217.95,220.1,233.9,522.35,529.54999999999995,227.7,563.45000000000005,302.35000000000002,499.25,525.04999999999995,597.29999999999995,301.89999999999998]
[null,"14 kg",{"$f":"IF(Sconti!$D$10=\"a\",40%,IF(Sconti!$D$10=\"b\",60%,IF(Sconti!$D$10=\"c\",65%)))","v":0.6},{"$f":"IF(Sconti!$D$10=\"a\",55%,IF(Sconti!$D$10=\"b\",71%,IF(Sconti!$D$10=\"c\",74%)))","v":0.71},{"$f":"IF(Sconti!$D$10=\"a\",55%,IF(Sconti!$D$10=\"b\",71%,IF(Sconti!$D$10=\"c\",74%)))","v":0.71},{"$f":"IF(Sconti!$D$10=\"a\",55%,IF(Sconti!$D$10=\"b\",71%,IF(Sconti!$D$10=\"c\",74%)))","v":0.71},{"$f":"IF(Sconti!$D$10=\"a\",55%,IF(Sconti!$D$10=\"b\",71%,IF(Sconti!$D$10=\"c\",74%)))","v":0.71},{"$f":"IF(Sconti!$D$10=\"a\",55%,IF(Sconti!$D$10=\"b\",71%,IF(Sconti!$D$10=\"c\",74%)))","v":0.71},{"$f":"IF(Sconti!$D$10=\"a\",55%,IF(Sconti!$D$10=\"b\",69%,IF(Sconti!$D$10=\"c\",72%)))","v":0.69},{"$f":"IF(Sconti!$D$10=\"a\",55%,IF(Sconti!$D$10=\"b\",69%,IF(Sconti!$D$10=\"c\",72%)))","v":0.69},{"$f":"IF(Sconti!$D$10=\"a\",55%,IF(Sconti!$D$10=\"b\",69%,IF(Sconti!$D$10=\"c\",72%)))","v":0.69},{"$f":"IF(Sconti!$D$10=\"a\",55%,IF(Sconti!$D$10=\"b\",69%,IF(Sconti!$D$10=\"c\",72%)))","v":0.69},{"$f":"IF(Sconti!$D$10=\"a\",55%,IF(Sconti!$D$10=\"b\",69%,IF(Sconti!$D$10=\"c\",72%)))","v":0.69},{"$f":"IF(Sconti!$D$10=\"a\",55%,IF(Sconti!$D$10=\"b\",69%,IF(Sconti!$D$10=\"c\",72%)))","v":0.69},{"$f":"IF(Sconti!$D$10=\"a\",55%,IF(Sconti!$D$10=\"b\",69%,IF(Sconti!$D$10=\"c\",72%)))","v":0.69},null,"14 kg",61.65,227.5,230.5,245.3,549.4,557.79999999999995,238.35,593.70000000000005,320.64999999999998,523.45000000000005,549.1,626.75,314.2]
[null,"15 kg",{"$f":"IF(Sconti!$D$10=\"a\",40%,IF(Sconti!$D$10=\"b\",60%,IF(Sconti!$D$10=\"c\",65%)))","v":0.6},{"$f":"IF(Sconti!$D$10=\"a\",55%,IF(Sconti!$D$10=\"b\",71%,IF(Sconti!$D$10=\"c\",74%)))","v":0.71},{"$f":"IF(Sconti!$D$10=\"a\",55%,IF(Sconti!$D$10=\"b\",71%,IF(Sconti!$D$10=\"c\",74%)))","v":0.71},{"$f":"IF(Sconti!$D$10=\"a\",55%,IF(Sconti!$D$10=\"b\",71%,IF(Sconti!$D$10=\"c\",74%)))","v":0.71},{"$f":"IF(Sconti!$D$10=\"a\",55%,IF(Sconti!$D$10=\"b\",71%,IF(Sconti!$D$10=\"c\",74%)))","v":0.71},{"$f":"IF(Sconti!$D$10=\"a\",55%,IF(Sconti!$D$10=\"b\",71%,IF(Sconti!$D$10=\"c\",74%)))","v":0.71},{"$f":"IF(Sconti!$D$10=\"a\",55%,IF(Sconti!$D$10=\"b\",69%,IF(Sconti!$D$10=\"c\",72%)))","v":0.69},{"$f":"IF(Sconti!$D$10=\"a\",55%,IF(Sconti!$D$10=\"b\",69%,IF(Sconti!$D$10=\"c\",72%)))","v":0.69},{"$f":"IF(Sconti!$D$10=\"a\",55%,IF(Sconti!$D$10=\"b\",69%,IF(Sconti!$D$10=\"c\",72%)))","v":0.69},{"$f":"IF(Sconti!$D$10=\"a\",55%,IF(Sconti!$D$10=\"b\",69%,IF(Sconti!$D$10=\"c\",72%)))","v":0.69},{"$f":"IF(Sconti!$D$10=\"a\",55%,IF(Sconti!$D$10=\"b\",69%,IF(Sconti!$D$10=\"c\",72%)))","v":0.69},{"$f":"IF(Sconti!$D$10=\"a\",55%,IF(Sconti!$D$10=\"b\",69%,IF(Sconti!$D$10=\"c\",72%)))","v":0.69},{"$f":"IF(Sconti!$D$10=\"a\",55%,IF(Sconti!$D$10=\"b\",69%,IF(Sconti!$D$10=\"c\",72%)))","v":0.69},null,"15 kg",61.65,237.2,240.95,256.75,576.6,585.9,249.05,623.75,338.9,547.54999999999995,573.20000000000005,656.3,326.39999999999998]
[null,"16 kg",{"$f":"IF(Sconti!$D$10=\"a\",40%,IF(Sconti!$D$10=\"b\",60%,IF(Sconti!$D$10=\"c\",65%)))","v":0.6},{"$f":"IF(Sconti!$D$10=\"a\",55%,IF(Sconti!$D$10=\"b\",71%,IF(Sconti!$D$10=\"c\",74%)))","v":0.71},{"$f":"IF(Sconti!$D$10=\"a\",55%,IF(Sconti!$D$10=\"b\",71%,IF(Sconti!$D$10=\"c\",74%)))","v":0.71},{"$f":"IF(Sconti!$D$10=\"a\",55%,IF(Sconti!$D$10=\"b\",71%,IF(Sconti!$D$10=\"c\",74%)))","v":0.71},{"$f":"IF(Sconti!$D$10=\"a\",55%,IF(Sconti!$D$10=\"b\",71%,IF(Sconti!$D$10=\"c\",74%)))","v":0.71},{"$f":"IF(Sconti!$D$10=\"a\",55%,IF(Sconti!$D$10=\"b\",71%,IF(Sconti!$D$10=\"c\",74%)))","v":0.71},{"$f":"IF(Sconti!$D$10=\"a\",55%,IF(Sconti!$D$10=\"b\",69%,IF(Sconti!$D$10=\"c\",72%)))","v":0.69},{"$f":"IF(Sconti!$D$10=\"a\",55%,IF(Sconti!$D$10=\"b\",69%,IF(Sconti!$D$10=\"c\",72%)))","v":0.69},{"$f":"IF(Sconti!$D$10=\"a\",55%,IF(Sconti!$D$10=\"b\",69%,IF(Sconti!$D$10=\"c\",72%)))","v":0.69},{"$f":"IF(Sconti!$D$10=\"a\",55%,IF(Sconti!$D$10=\"b\",69%,IF(Sconti!$D$10=\"c\",72%)))","v":0.69},{"$f":"IF(Sconti!$D$10=\"a\",55%,IF(Sconti!$D$10=\"b\",69%,IF(Sconti!$D$10=\"c\",72%)))","v":0.69},{"$f":"IF(Sconti!$D$10=\"a\",55%,IF(Sconti!$D$10=\"b\",69%,IF(Sconti!$D$10=\"c\",72%)))","v":0.69},{"$f":"IF(Sconti!$D$10=\"a\",55%,IF(Sconti!$D$10=\"b\",69%,IF(Sconti!$D$10=\"c\",72%)))","v":0.69},null,"16 kg",61.65,246.75,251.45,268,603.79999999999995,614.20000000000005,259.75,653.75,357.15,571.5,597.20000000000005,685.75,338.65]
[null,"17 kg",{"$f":"IF(Sconti!$D$10=\"a\",40%,IF(Sconti!$D$10=\"b\",60%,IF(Sconti!$D$10=\"c\",65%)))","v":0.6},{"$f":"IF(Sconti!$D$10=\"a\",55%,IF(Sconti!$D$10=\"b\",71%,IF(Sconti!$D$10=\"c\",74%)))","v":0.71},{"$f":"IF(Sconti!$D$10=\"a\",55%,IF(Sconti!$D$10=\"b\",71%,IF(Sconti!$D$10=\"c\",74%)))","v":0.71},{"$f":"IF(Sconti!$D$10=\"a\",55%,IF(Sconti!$D$10=\"b\",71%,IF(Sconti!$D$10=\"c\",74%)))","v":0.71},{"$f":"IF(Sconti!$D$10=\"a\",55%,IF(Sconti!$D$10=\"b\",71%,IF(Sconti!$D$10=\"c\",74%)))","v":0.71},{"$f":"IF(Sconti!$D$10=\"a\",55%,IF(Sconti!$D$10=\"b\",71%,IF(Sconti!$D$10=\"c\",74%)))","v":0.71},{"$f":"IF(Sconti!$D$10=\"a\",55%,IF(Sconti!$D$10=\"b\",69%,IF(Sconti!$D$10=\"c\",72%)))","v":0.69},{"$f":"IF(Sconti!$D$10=\"a\",55%,IF(Sconti!$D$10=\"b\",69%,IF(Sconti!$D$10=\"c\",72%)))","v":0.69},{"$f":"IF(Sconti!$D$10=\"a\",55%,IF(Sconti!$D$10=\"b\",69%,IF(Sconti!$D$10=\"c\",72%)))","v":0.69},{"$f":"IF(Sconti!$D$10=\"a\",55%,IF(Sconti!$D$10=\"b\",69%,IF(Sconti!$D$10=\"c\",72%)))","v":0.69},{"$f":"IF(Sconti!$D$10=\"a\",55%,IF(Sconti!$D$10=\"b\",69%,IF(Sconti!$D$10=\"c\",72%)))","v":0.69},{"$f":"IF(Sconti!$D$10=\"a\",55%,IF(Sconti!$D$10=\"b\",69%,IF(Sconti!$D$10=\"c\",72%)))","v":0.69},{"$f":"IF(Sconti!$D$10=\"a\",55%,IF(Sconti!$D$10=\"b\",69%,IF(Sconti!$D$10=\"c\",72%)))","v":0.69},null,"17 kg",61.65,256.5,261.85000000000002,279.39999999999998,630.85,642.45000000000005,270.39999999999998,683.9,375.45,595.75,621.1,715.3,350.85]
[null,"18 kg",{"$f":"IF(Sconti!$D$10=\"a\",40%,IF(Sconti!$D$10=\"b\",60%,IF(Sconti!$D$10=\"c\",65%)))","v":0.6},{"$f":"IF(Sconti!$D$10=\"a\",55%,IF(Sconti!$D$10=\"b\",71%,IF(Sconti!$D$10=\"c\",74%)))","v":0.71},{"$f":"IF(Sconti!$D$10=\"a\",55%,IF(Sconti!$D$10=\"b\",71%,IF(Sconti!$D$10=\"c\",74%)))","v":0.71},{"$f":"IF(Sconti!$D$10=\"a\",55%,IF(Sconti!$D$10=\"b\",71%,IF(Sconti!$D$10=\"c\",74%)))","v":0.71},{"$f":"IF(Sconti!$D$10=\"a\",55%,IF(Sconti!$D$10=\"b\",71%,IF(Sconti!$D$10=\"c\",74%)))","v":0.71},{"$f":"IF(Sconti!$D$10=\"a\",55%,IF(Sconti!$D$10=\"b\",71%,IF(Sconti!$D$10=\"c\",74%)))","v":0.71},{"$f":"IF(Sconti!$D$10=\"a\",55%,IF(Sconti!$D$10=\"b\",69%,IF(Sconti!$D$10=\"c\",72%)))","v":0.69},{"$f":"IF(Sconti!$D$10=\"a\",55%,IF(Sconti!$D$10=\"b\",69%,IF(Sconti!$D$10=\"c\",72%)))","v":0.69},{"$f":"IF(Sconti!$D$10=\"a\",55%,IF(Sconti!$D$10=\"b\",69%,IF(Sconti!$D$10=\"c\",72%)))","v":0.69},{"$f":"IF(Sconti!$D$10=\"a\",55%,IF(Sconti!$D$10=\"b\",69%,IF(Sconti!$D$10=\"c\",72%)))","v":0.69},{"$f":"IF(Sconti!$D$10=\"a\",55%,IF(Sconti!$D$10=\"b\",69%,IF(Sconti!$D$10=\"c\",72%)))","v":0.69},{"$f":"IF(Sconti!$D$10=\"a\",55%,IF(Sconti!$D$10=\"b\",69%,IF(Sconti!$D$10=\"c\",72%)))","v":0.69},{"$f":"IF(Sconti!$D$10=\"a\",55%,IF(Sconti!$D$10=\"b\",69%,IF(Sconti!$D$10=\"c\",72%)))","v":0.69},null,"18 kg",61.65,265.89999999999998,272.35000000000002,290.7,658.05,670.8,281.05,714,393.7,619.70000000000005,645.15,744.85,363.2]
[null,"19 kg",{"$f":"IF(Sconti!$D$10=\"a\",40%,IF(Sconti!$D$10=\"b\",60%,IF(Sconti!$D$10=\"c\",65%)))","v":0.6},{"$f":"IF(Sconti!$D$10=\"a\",55%,IF(Sconti!$D$10=\"b\",71%,IF(Sconti!$D$10=\"c\",74%)))","v":0.71},{"$f":"IF(Sconti!$D$10=\"a\",55%,IF(Sconti!$D$10=\"b\",71%,IF(Sconti!$D$10=\"c\",74%)))","v":0.71},{"$f":"IF(Sconti!$D$10=\"a\",55%,IF(Sconti!$D$10=\"b\",71%,IF(Sconti!$D$10=\"c\",74%)))","v":0.71},{"$f":"IF(Sconti!$D$10=\"a\",55%,IF(Sconti!$D$10=\"b\",71%,IF(Sconti!$D$10=\"c\",74%)))","v":0.71},{"$f":"IF(Sconti!$D$10=\"a\",55%,IF(Sconti!$D$10=\"b\",71%,IF(Sconti!$D$10=\"c\",74%)))","v":0.71},{"$f":"IF(Sconti!$D$10=\"a\",55%,IF(Sconti!$D$10=\"b\",69%,IF(Sconti!$D$10=\"c\",72%)))","v":0.69},{"$f":"IF(Sconti!$D$10=\"a\",55%,IF(Sconti!$D$10=\"b\",69%,IF(Sconti!$D$10=\"c\",72%)))","v":0.69},{"$f":"IF(Sconti!$D$10=\"a\",55%,IF(Sconti!$D$10=\"b\",69%,IF(Sconti!$D$10=\"c\",72%)))","v":0.69},{"$f":"IF(Sconti!$D$10=\"a\",55%,IF(Sconti!$D$10=\"b\",69%,IF(Sconti!$D$10=\"c\",72%)))","v":0.69},{"$f":"IF(Sconti!$D$10=\"a\",55%,IF(Sconti!$D$10=\"b\",69%,IF(Sconti!$D$10=\"c\",72%)))","v":0.69},{"$f":"IF(Sconti!$D$10=\"a\",55%,IF(Sconti!$D$10=\"b\",69%,IF(Sconti!$D$10=\"c\",72%)))","v":0.69},{"$f":"IF(Sconti!$D$10=\"a\",55%,IF(Sconti!$D$10=\"b\",69%,IF(Sconti!$D$10=\"c\",72%)))","v":0.69},null,"19 kg",61.65,275.5,282.85000000000002,302.10000000000002,685.2,698.85,291.75,744.1,412,643.65,669.3,774.35,375.25]
[null,"20 kg",{"$f":"IF(Sconti!$D$10=\"a\",40%,IF(Sconti!$D$10=\"b\",60%,IF(Sconti!$D$10=\"c\",65%)))","v":0.6},{"$f":"IF(Sconti!$D$10=\"a\",55%,IF(Sconti!$D$10=\"b\",71%,IF(Sconti!$D$10=\"c\",74%)))","v":0.71},{"$f":"IF(Sconti!$D$10=\"a\",55%,IF(Sconti!$D$10=\"b\",71%,IF(Sconti!$D$10=\"c\",74%)))","v":0.71},{"$f":"IF(Sconti!$D$10=\"a\",55%,IF(Sconti!$D$10=\"b\",71%,IF(Sconti!$D$10=\"c\",74%)))","v":0.71},{"$f":"IF(Sconti!$D$10=\"a\",55%,IF(Sconti!$D$10=\"b\",71%,IF(Sconti!$D$10=\"c\",74%)))","v":0.71},{"$f":"IF(Sconti!$D$10=\"a\",55%,IF(Sconti!$D$10=\"b\",71%,IF(Sconti!$D$10=\"c\",74%)))","v":0.71},{"$f":"IF(Sconti!$D$10=\"a\",55%,IF(Sconti!$D$10=\"b\",69%,IF(Sconti!$D$10=\"c\",72%)))","v":0.69},{"$f":"IF(Sconti!$D$10=\"a\",55%,IF(Sconti!$D$10=\"b\",69%,IF(Sconti!$D$10=\"c\",72%)))","v":0.69},{"$f":"IF(Sconti!$D$10=\"a\",55%,IF(Sconti!$D$10=\"b\",69%,IF(Sconti!$D$10=\"c\",72%)))","v":0.69},{"$f":"IF(Sconti!$D$10=\"a\",55%,IF(Sconti!$D$10=\"b\",69%,IF(Sconti!$D$10=\"c\",72%)))","v":0.69},{"$f":"IF(Sconti!$D$10=\"a\",55%,IF(Sconti!$D$10=\"b\",69%,IF(Sconti!$D$10=\"c\",72%)))","v":0.69},{"$f":"IF(Sconti!$D$10=\"a\",55%,IF(Sconti!$D$10=\"b\",69%,IF(Sconti!$D$10=\"c\",72%)))","v":0.69},{"$f":"IF(Sconti!$D$10=\"a\",55%,IF(Sconti!$D$10=\"b\",69%,IF(Sconti!$D$10=\"c\",72%)))","v":0.69},null,"20 kg",61.65,285.25,293.35000000000002,313.39999999999998,712.4,727.1,302.45,774.2,430.2,667.85,693.3,803.85,387.6]
[null,"22 kg",{"$f":"IF(Sconti!$D$10=\"a\",40%,IF(Sconti!$D$10=\"b\",60%,IF(Sconti!$D$10=\"c\",65%)))","v":0.6},{"$f":"IF(Sconti!$D$10=\"a\",55%,IF(Sconti!$D$10=\"b\",71%,IF(Sconti!$D$10=\"c\",74%)))","v":0.71},{"$f":"IF(Sconti!$D$10=\"a\",55%,IF(Sconti!$D$10=\"b\",71%,IF(Sconti!$D$10=\"c\",74%)))","v":0.71},{"$f":"IF(Sconti!$D$10=\"a\",55%,IF(Sconti!$D$10=\"b\",71%,IF(Sconti!$D$10=\"c\",74%)))","v":0.71},{"$f":"IF(Sconti!$D$10=\"a\",55%,IF(Sconti!$D$10=\"b\",71%,IF(Sconti!$D$10=\"c\",74%)))","v":0.71},{"$f":"IF(Sconti!$D$10=\"a\",55%,IF(Sconti!$D$10=\"b\",71%,IF(Sconti!$D$10=\"c\",74%)))","v":0.71},{"$f":"IF(Sconti!$D$10=\"a\",55%,IF(Sconti!$D$10=\"b\",69%,IF(Sconti!$D$10=\"c\",72%)))","v":0.69},{"$f":"IF(Sconti!$D$10=\"a\",55%,IF(Sconti!$D$10=\"b\",69%,IF(Sconti!$D$10=\"c\",72%)))","v":0.69},{"$f":"IF(Sconti!$D$10=\"a\",55%,IF(Sconti!$D$10=\"b\",69%,IF(Sconti!$D$10=\"c\",72%)))","v":0.69},{"$f":"IF(Sconti!$D$10=\"a\",55%,IF(Sconti!$D$10=\"b\",69%,IF(Sconti!$D$10=\"c\",72%)))","v":0.69},{"$f":"IF(Sconti!$D$10=\"a\",55%,IF(Sconti!$D$10=\"b\",69%,IF(Sconti!$D$10=\"c\",72%)))","v":0.69},{"$f":"IF(Sconti!$D$10=\"a\",55%,IF(Sconti!$D$10=\"b\",69%,IF(Sconti!$D$10=\"c\",72%)))","v":0.69},{"$f":"IF(Sconti!$D$10=\"a\",55%,IF(Sconti!$D$10=\"b\",69%,IF(Sconti!$D$10=\"c\",72%)))","v":0.69},null,"22 kg",78.05,303.60000000000002,312,332.65,772.45,785.75,321.95,838.7,468.25,717.7,744.95,865.05,414.35]
[null,"24 kg",{"$f":"IF(Sconti!$D$10=\"a\",40%,IF(Sconti!$D$10=\"b\",60%,IF(Sconti!$D$10=\"c\",65%)))","v":0.6},{"$f":"IF(Sconti!$D$10=\"a\",55%,IF(Sconti!$D$10=\"b\",71%,IF(Sconti!$D$10=\"c\",74%)))","v":0.71},{"$f":"IF(Sconti!$D$10=\"a\",55%,IF(Sconti!$D$10=\"b\",71%,IF(Sconti!$D$10=\"c\",74%)))","v":0.71},{"$f":"IF(Sconti!$D$10=\"a\",55%,IF(Sconti!$D$10=\"b\",71%,IF(Sconti!$D$10=\"c\",74%)))","v":0.71},{"$f":"IF(Sconti!$D$10=\"a\",55%,IF(Sconti!$D$10=\"b\",71%,IF(Sconti!$D$10=\"c\",74%)))","v":0.71},{"$f":"IF(Sconti!$D$10=\"a\",55%,IF(Sconti!$D$10=\"b\",71%,IF(Sconti!$D$10=\"c\",74%)))","v":0.71},{"$f":"IF(Sconti!$D$10=\"a\",55%,IF(Sconti!$D$10=\"b\",69%,IF(Sconti!$D$10=\"c\",72%)))","v":0.69},{"$f":"IF(Sconti!$D$10=\"a\",55%,IF(Sconti!$D$10=\"b\",69%,IF(Sconti!$D$10=\"c\",72%)))","v":0.69},{"$f":"IF(Sconti!$D$10=\"a\",55%,IF(Sconti!$D$10=\"b\",69%,IF(Sconti!$D$10=\"c\",72%)))","v":0.69},{"$f":"IF(Sconti!$D$10=\"a\",55%,IF(Sconti!$D$10=\"b\",69%,IF(Sconti!$D$10=\"c\",72%)))","v":0.69},{"$f":"IF(Sconti!$D$10=\"a\",55%,IF(Sconti!$D$10=\"b\",69%,IF(Sconti!$D$10=\"c\",72%)))","v":0.69},{"$f":"IF(Sconti!$D$10=\"a\",55%,IF(Sconti!$D$10=\"b\",69%,IF(Sconti!$D$10=\"c\",72%)))","v":0.69},{"$f":"IF(Sconti!$D$10=\"a\",55%,IF(Sconti!$D$10=\"b\",69%,IF(Sconti!$D$10=\"c\",72%)))","v":0.69},null,"24 kg",78.05,320.7,329.2,350.2,828.9,840.85,340.05,899.35,504.2,764.3,793.4,922.2,439.2]
[null,"26 kg",{"$f":"IF(Sconti!$D$10=\"a\",40%,IF(Sconti!$D$10=\"b\",60%,IF(Sconti!$D$10=\"c\",65%)))","v":0.6},{"$f":"IF(Sconti!$D$10=\"a\",55%,IF(Sconti!$D$10=\"b\",71%,IF(Sconti!$D$10=\"c\",74%)))","v":0.71},{"$f":"IF(Sconti!$D$10=\"a\",55%,IF(Sconti!$D$10=\"b\",71%,IF(Sconti!$D$10=\"c\",74%)))","v":0.71},{"$f":"IF(Sconti!$D$10=\"a\",55%,IF(Sconti!$D$10=\"b\",71%,IF(Sconti!$D$10=\"c\",74%)))","v":0.71},{"$f":"IF(Sconti!$D$10=\"a\",55%,IF(Sconti!$D$10=\"b\",71%,IF(Sconti!$D$10=\"c\",74%)))","v":0.71},{"$f":"IF(Sconti!$D$10=\"a\",55%,IF(Sconti!$D$10=\"b\",71%,IF(Sconti!$D$10=\"c\",74%)))","v":0.71},{"$f":"IF(Sconti!$D$10=\"a\",55%,IF(Sconti!$D$10=\"b\",69%,IF(Sconti!$D$10=\"c\",72%)))","v":0.69},{"$f":"IF(Sconti!$D$10=\"a\",55%,IF(Sconti!$D$10=\"b\",69%,IF(Sconti!$D$10=\"c\",72%)))","v":0.69},{"$f":"IF(Sconti!$D$10=\"a\",55%,IF(Sconti!$D$10=\"b\",69%,IF(Sconti!$D$10=\"c\",72%)))","v":0.69},{"$f":"IF(Sconti!$D$10=\"a\",55%,IF(Sconti!$D$10=\"b\",69%,IF(Sconti!$D$10=\"c\",72%)))","v":0.69},{"$f":"IF(Sconti!$D$10=\"a\",55%,IF(Sconti!$D$10=\"b\",69%,IF(Sconti!$D$10=\"c\",72%)))","v":0.69},{"$f":"IF(Sconti!$D$10=\"a\",55%,IF(Sconti!$D$10=\"b\",69%,IF(Sconti!$D$10=\"c\",72%)))","v":0.69},{"$f":"IF(Sconti!$D$10=\"a\",55%,IF(Sconti!$D$10=\"b\",69%,IF(Sconti!$D$10=\"c\",72%)))","v":0.69},null,"26 kg",78.05,337.85,346.4,367.8,885.35,895.8,357.9,960.05,540.15,810.9,841.55,979.3,464.3]
[null,"28 kg",{"$f":"IF(Sconti!$D$10=\"a\",40%,IF(Sconti!$D$10=\"b\",60%,IF(Sconti!$D$10=\"c\",65%)))","v":0.6},{"$f":"IF(Sconti!$D$10=\"a\",55%,IF(Sconti!$D$10=\"b\",71%,IF(Sconti!$D$10=\"c\",74%)))","v":0.71},{"$f":"IF(Sconti!$D$10=\"a\",55%,IF(Sconti!$D$10=\"b\",71%,IF(Sconti!$D$10=\"c\",74%)))","v":0.71},{"$f":"IF(Sconti!$D$10=\"a\",55%,IF(Sconti!$D$10=\"b\",71%,IF(Sconti!$D$10=\"c\",74%)))","v":0.71},{"$f":"IF(Sconti!$D$10=\"a\",55%,IF(Sconti!$D$10=\"b\",71%,IF(Sconti!$D$10=\"c\",74%)))","v":0.71},{"$f":"IF(Sconti!$D$10=\"a\",55%,IF(Sconti!$D$10=\"b\",71%,IF(Sconti!$D$10=\"c\",74%)))","v":0.71},{"$f":"IF(Sconti!$D$10=\"a\",55%,IF(Sconti!$D$10=\"b\",69%,IF(Sconti!$D$10=\"c\",72%)))","v":0.69},{"$f":"IF(Sconti!$D$10=\"a\",55%,IF(Sconti!$D$10=\"b\",69%,IF(Sconti!$D$10=\"c\",72%)))","v":0.69},{"$f":"IF(Sconti!$D$10=\"a\",55%,IF(Sconti!$D$10=\"b\",69%,IF(Sconti!$D$10=\"c\",72%)))","v":0.69},{"$f":"IF(Sconti!$D$10=\"a\",55%,IF(Sconti!$D$10=\"b\",69%,IF(Sconti!$D$10=\"c\",72%)))","v":0.69},{"$f":"IF(Sconti!$D$10=\"a\",55%,IF(Sconti!$D$10=\"b\",69%,IF(Sconti!$D$10=\"c\",72%)))","v":0.69},{"$f":"IF(Sconti!$D$10=\"a\",55%,IF(Sconti!$D$10=\"b\",69%,IF(Sconti!$D$10=\"c\",72%)))","v":0.69},{"$f":"IF(Sconti!$D$10=\"a\",55%,IF(Sconti!$D$10=\"b\",69%,IF(Sconti!$D$10=\"c\",72%)))","v":0.69},null,"28 kg",78.05,354.95,363.8,385.4,941.85,950.9,375.85,1020.7,576.04999999999995,857.5,889.8,1036.55,488.95]
[null,"30 kg",{"$f":"IF(Sconti!$D$10=\"a\",40%,IF(Sconti!$D$10=\"b\",60%,IF(Sconti!$D$10=\"c\",65%)))","v":0.6},{"$f":"IF(Sconti!$D$10=\"a\",55%,IF(Sconti!$D$10=\"b\",71%,IF(Sconti!$D$10=\"c\",74%)))","v":0.71},{"$f":"IF(Sconti!$D$10=\"a\",55%,IF(Sconti!$D$10=\"b\",71%,IF(Sconti!$D$10=\"c\",74%)))","v":0.71},{"$f":"IF(Sconti!$D$10=\"a\",55%,IF(Sconti!$D$10=\"b\",71%,IF(Sconti!$D$10=\"c\",74%)))","v":0.71},{"$f":"IF(Sconti!$D$10=\"a\",55%,IF(Sconti!$D$10=\"b\",71%,IF(Sconti!$D$10=\"c\",74%)))","v":0.71},{"$f":"IF(Sconti!$D$10=\"a\",55%,IF(Sconti!$D$10=\"b\",71%,IF(Sconti!$D$10=\"c\",74%)))","v":0.71},{"$f":"IF(Sconti!$D$10=\"a\",55%,IF(Sconti!$D$10=\"b\",69%,IF(Sconti!$D$10=\"c\",72%)))","v":0.69},{"$f":"IF(Sconti!$D$10=\"a\",55%,IF(Sconti!$D$10=\"b\",69%,IF(Sconti!$D$10=\"c\",72%)))","v":0.69},{"$f":"IF(Sconti!$D$10=\"a\",55%,IF(Sconti!$D$10=\"b\",69%,IF(Sconti!$D$10=\"c\",72%)))","v":0.69},{"$f":"IF(Sconti!$D$10=\"a\",55%,IF(Sconti!$D$10=\"b\",69%,IF(Sconti!$D$10=\"c\",72%)))","v":0.69},{"$f":"IF(Sconti!$D$10=\"a\",55%,IF(Sconti!$D$10=\"b\",69%,IF(Sconti!$D$10=\"c\",72%)))","v":0.69},{"$f":"IF(Sconti!$D$10=\"a\",55%,IF(Sconti!$D$10=\"b\",69%,IF(Sconti!$D$10=\"c\",72%)))","v":0.69},{"$f":"IF(Sconti!$D$10=\"a\",55%,IF(Sconti!$D$10=\"b\",69%,IF(Sconti!$D$10=\"c\",72%)))","v":0.69},null,"30 kg",78.05,372.15,380.9,403,998.35,1006.1,393.95,1081.4000000000001,612.04999999999995,904.05,938,1093.75,513.9]
[null,"35 kg",{"$f":"IF(Sconti!$D$10=\"a\",40%,IF(Sconti!$D$10=\"b\",60%,IF(Sconti!$D$10=\"c\",65%)))","v":0.6},{"$f":"IF(Sconti!$D$10=\"a\",55%,IF(Sconti!$D$10=\"b\",71%,IF(Sconti!$D$10=\"c\",74%)))","v":0.71},{"$f":"IF(Sconti!$D$10=\"a\",55%,IF(Sconti!$D$10=\"b\",71%,IF(Sconti!$D$10=\"c\",74%)))","v":0.71},{"$f":"IF(Sconti!$D$10=\"a\",55%,IF(Sconti!$D$10=\"b\",71%,IF(Sconti!$D$10=\"c\",74%)))","v":0.71},{"$f":"IF(Sconti!$D$10=\"a\",55%,IF(Sconti!$D$10=\"b\",71%,IF(Sconti!$D$10=\"c\",74%)))","v":0.71},{"$f":"IF(Sconti!$D$10=\"a\",55%,IF(Sconti!$D$10=\"b\",71%,IF(Sconti!$D$10=\"c\",74%)))","v":0.71},{"$f":"IF(Sconti!$D$10=\"a\",55%,IF(Sconti!$D$10=\"b\",69%,IF(Sconti!$D$10=\"c\",72%)))","v":0.69},{"$f":"IF(Sconti!$D$10=\"a\",55%,IF(Sconti!$D$10=\"b\",69%,IF(Sconti!$D$10=\"c\",72%)))","v":0.69},{"$f":"IF(Sconti!$D$10=\"a\",55%,IF(Sconti!$D$10=\"b\",69%,IF(Sconti!$D$10=\"c\",72%)))","v":0.69},{"$f":"IF(Sconti!$D$10=\"a\",55%,IF(Sconti!$D$10=\"b\",69%,IF(Sconti!$D$10=\"c\",72%)))","v":0.69},{"$f":"IF(Sconti!$D$10=\"a\",55%,IF(Sconti!$D$10=\"b\",69%,IF(Sconti!$D$10=\"c\",72%)))","v":0.69},{"$f":"IF(Sconti!$D$10=\"a\",55%,IF(Sconti!$D$10=\"b\",69%,IF(Sconti!$D$10=\"c\",72%)))","v":0.69},{"$f":"IF(Sconti!$D$10=\"a\",55%,IF(Sconti!$D$10=\"b\",69%,IF(Sconti!$D$10=\"c\",72%)))","v":0.69},null,"35 kg",94.05,407.35,422.85,441,1116.4000000000001,1140.3,430.5,1210.3499999999999,693,1021.9,1051.1500000000001,1210.25,561.15]
[null,"40 kg",{"$f":"IF(Sconti!$D$10=\"a\",40%,IF(Sconti!$D$10=\"b\",60%,IF(Sconti!$D$10=\"c\",65%)))","v":0.6},{"$f":"IF(Sconti!$D$10=\"a\",55%,IF(Sconti!$D$10=\"b\",71%,IF(Sconti!$D$10=\"c\",74%)))","v":0.71},{"$f":"IF(Sconti!$D$10=\"a\",55%,IF(Sconti!$D$10=\"b\",71%,IF(Sconti!$D$10=\"c\",74%)))","v":0.71},{"$f":"IF(Sconti!$D$10=\"a\",55%,IF(Sconti!$D$10=\"b\",71%,IF(Sconti!$D$10=\"c\",74%)))","v":0.71},{"$f":"IF(Sconti!$D$10=\"a\",55%,IF(Sconti!$D$10=\"b\",71%,IF(Sconti!$D$10=\"c\",74%)))","v":0.71},{"$f":"IF(Sconti!$D$10=\"a\",55%,IF(Sconti!$D$10=\"b\",71%,IF(Sconti!$D$10=\"c\",74%)))","v":0.71},{"$f":"IF(Sconti!$D$10=\"a\",55%,IF(Sconti!$D$10=\"b\",69%,IF(Sconti!$D$10=\"c\",72%)))","v":0.69},{"$f":"IF(Sconti!$D$10=\"a\",55%,IF(Sconti!$D$10=\"b\",69%,IF(Sconti!$D$10=\"c\",72%)))","v":0.69},{"$f":"IF(Sconti!$D$10=\"a\",55%,IF(Sconti!$D$10=\"b\",69%,IF(Sconti!$D$10=\"c\",72%)))","v":0.69},{"$f":"IF(Sconti!$D$10=\"a\",55%,IF(Sconti!$D$10=\"b\",69%,IF(Sconti!$D$10=\"c\",72%)))","v":0.69},{"$f":"IF(Sconti!$D$10=\"a\",55%,IF(Sconti!$D$10=\"b\",69%,IF(Sconti!$D$10=\"c\",72%)))","v":0.69},{"$f":"IF(Sconti!$D$10=\"a\",55%,IF(Sconti!$D$10=\"b\",69%,IF(Sconti!$D$10=\"c\",72%)))","v":0.69},{"$f":"IF(Sconti!$D$10=\"a\",55%,IF(Sconti!$D$10=\"b\",69%,IF(Sconti!$D$10=\"c\",72%)))","v":0.69},null,"40 kg",94.05,442.65,464.6,478.85,1237.95,1262.05,467.05,1339.25,772.7,1132.7,1164.3499999999999,1328.5,608.25]
[null,"45 kg",{"$f":"IF(Sconti!$D$10=\"a\",40%,IF(Sconti!$D$10=\"b\",60%,IF(Sconti!$D$10=\"c\",65%)))","v":0.6},{"$f":"IF(Sconti!$D$10=\"a\",55%,IF(Sconti!$D$10=\"b\",71%,IF(Sconti!$D$10=\"c\",74%)))","v":0.71},{"$f":"IF(Sconti!$D$10=\"a\",55%,IF(Sconti!$D$10=\"b\",71%,IF(Sconti!$D$10=\"c\",74%)))","v":0.71},{"$f":"IF(Sconti!$D$10=\"a\",55%,IF(Sconti!$D$10=\"b\",71%,IF(Sconti!$D$10=\"c\",74%)))","v":0.71},{"$f":"IF(Sconti!$D$10=\"a\",55%,IF(Sconti!$D$10=\"b\",71%,IF(Sconti!$D$10=\"c\",74%)))","v":0.71},{"$f":"IF(Sconti!$D$10=\"a\",55%,IF(Sconti!$D$10=\"b\",71%,IF(Sconti!$D$10=\"c\",74%)))","v":0.71},{"$f":"IF(Sconti!$D$10=\"a\",55%,IF(Sconti!$D$10=\"b\",69%,IF(Sconti!$D$10=\"c\",72%)))","v":0.69},{"$f":"IF(Sconti!$D$10=\"a\",55%,IF(Sconti!$D$10=\"b\",69%,IF(Sconti!$D$10=\"c\",72%)))","v":0.69},{"$f":"IF(Sconti!$D$10=\"a\",55%,IF(Sconti!$D$10=\"b\",69%,IF(Sconti!$D$10=\"c\",72%)))","v":0.69},{"$f":"IF(Sconti!$D$10=\"a\",55%,IF(Sconti!$D$10=\"b\",69%,IF(Sconti!$D$10=\"c\",72%)))","v":0.69},{"$f":"IF(Sconti!$D$10=\"a\",55%,IF(Sconti!$D$10=\"b\",69%,IF(Sconti!$D$10=\"c\",72%)))","v":0.69},{"$f":"IF(Sconti!$D$10=\"a\",55%,IF(Sconti!$D$10=\"b\",69%,IF(Sconti!$D$10=\"c\",72%)))","v":0.69},{"$f":"IF(Sconti!$D$10=\"a\",55%,IF(Sconti!$D$10=\"b\",69%,IF(Sconti!$D$10=\"c\",72%)))","v":0.69},null,"45 kg",110.05,477.95,506.25,525.54999999999995,1359.35,1383.85,503.65,1468.2,852.4,1243.5999999999999,1277.55,1446.7,655.45]
[null,"50 kg",{"$f":"IF(Sconti!$D$10=\"a\",40%,IF(Sconti!$D$10=\"b\",60%,IF(Sconti!$D$10=\"c\",65%)))","v":0.6},{"$f":"IF(Sconti!$D$10=\"a\",55%,IF(Sconti!$D$10=\"b\",71%,IF(Sconti!$D$10=\"c\",74%)))","v":0.71},{"$f":"IF(Sconti!$D$10=\"a\",55%,IF(Sconti!$D$10=\"b\",71%,IF(Sconti!$D$10=\"c\",74%)))","v":0.71},{"$f":"IF(Sconti!$D$10=\"a\",55%,IF(Sconti!$D$10=\"b\",71%,IF(Sconti!$D$10=\"c\",74%)))","v":0.71},{"$f":"IF(Sconti!$D$10=\"a\",55%,IF(Sconti!$D$10=\"b\",71%,IF(Sconti!$D$10=\"c\",74%)))","v":0.71},{"$f":"IF(Sconti!$D$10=\"a\",55%,IF(Sconti!$D$10=\"b\",71%,IF(Sconti!$D$10=\"c\",74%)))","v":0.71},{"$f":"IF(Sconti!$D$10=\"a\",55%,IF(Sconti!$D$10=\"b\",69%,IF(Sconti!$D$10=\"c\",72%)))","v":0.69},{"$f":"IF(Sconti!$D$10=\"a\",55%,IF(Sconti!$D$10=\"b\",69%,IF(Sconti!$D$10=\"c\",72%)))","v":0.69},{"$f":"IF(Sconti!$D$10=\"a\",55%,IF(Sconti!$D$10=\"b\",69%,IF(Sconti!$D$10=\"c\",72%)))","v":0.69},{"$f":"IF(Sconti!$D$10=\"a\",55%,IF(Sconti!$D$10=\"b\",69%,IF(Sconti!$D$10=\"c\",72%)))","v":0.69},{"$f":"IF(Sconti!$D$10=\"a\",55%,IF(Sconti!$D$10=\"b\",69%,IF(Sconti!$D$10=\"c\",72%)))","v":0.69},{"$f":"IF(Sconti!$D$10=\"a\",55%,IF(Sconti!$D$10=\"b\",69%,IF(Sconti!$D$10=\"c\",72%)))","v":0.69},{"$f":"IF(Sconti!$D$10=\"a\",55%,IF(Sconti!$D$10=\"b\",69%,IF(Sconti!$D$10=\"c\",72%)))","v":0.69},null,"50 kg",110.05,513.35,548.04999999999995,572.4,1480.95,1505.65,540.29999999999995,1597.2,931.95,1354.35,1418.45,1565,702.8]
[null,"55 kg",{"$f":"IF(Sconti!$D$10=\"a\",40%,IF(Sconti!$D$10=\"b\",60%,IF(Sconti!$D$10=\"c\",65%)))","v":0.6},{"$f":"IF(Sconti!$D$10=\"a\",55%,IF(Sconti!$D$10=\"b\",71%,IF(Sconti!$D$10=\"c\",74%)))","v":0.71},{"$f":"IF(Sconti!$D$10=\"a\",55%,IF(Sconti!$D$10=\"b\",71%,IF(Sconti!$D$10=\"c\",74%)))","v":0.71},{"$f":"IF(Sconti!$D$10=\"a\",55%,IF(Sconti!$D$10=\"b\",71%,IF(Sconti!$D$10=\"c\",74%)))","v":0.71},{"$f":"IF(Sconti!$D$10=\"a\",55%,IF(Sconti!$D$10=\"b\",71%,IF(Sconti!$D$10=\"c\",74%)))","v":0.71},{"$f":"IF(Sconti!$D$10=\"a\",55%,IF(Sconti!$D$10=\"b\",71%,IF(Sconti!$D$10=\"c\",74%)))","v":0.71},{"$f":"IF(Sconti!$D$10=\"a\",55%,IF(Sconti!$D$10=\"b\",69%,IF(Sconti!$D$10=\"c\",72%)))","v":0.69},{"$f":"IF(Sconti!$D$10=\"a\",55%,IF(Sconti!$D$10=\"b\",69%,IF(Sconti!$D$10=\"c\",72%)))","v":0.69},{"$f":"IF(Sconti!$D$10=\"a\",55%,IF(Sconti!$D$10=\"b\",69%,IF(Sconti!$D$10=\"c\",72%)))","v":0.69},{"$f":"IF(Sconti!$D$10=\"a\",55%,IF(Sconti!$D$10=\"b\",69%,IF(Sconti!$D$10=\"c\",72%)))","v":0.69},{"$f":"IF(Sconti!$D$10=\"a\",55%,IF(Sconti!$D$10=\"b\",69%,IF(Sconti!$D$10=\"c\",72%)))","v":0.69},{"$f":"IF(Sconti!$D$10=\"a\",55%,IF(Sconti!$D$10=\"b\",69%,IF(Sconti!$D$10=\"c\",72%)))","v":0.69},{"$f":"IF(Sconti!$D$10=\"a\",55%,IF(Sconti!$D$10=\"b\",69%,IF(Sconti!$D$10=\"c\",72%)))","v":0.69},null,"55 kg",126.1,548.6,589.85,619,1602.45,1627.3,576.95000000000005,1726.1,1011.55,1465.25,1531.65,1683.25,749.85]
[null,"60 kg",{"$f":"IF(Sconti!$D$10=\"a\",40%,IF(Sconti!$D$10=\"b\",60%,IF(Sconti!$D$10=\"c\",65%)))","v":0.6},{"$f":"IF(Sconti!$D$10=\"a\",55%,IF(Sconti!$D$10=\"b\",71%,IF(Sconti!$D$10=\"c\",74%)))","v":0.71},{"$f":"IF(Sconti!$D$10=\"a\",55%,IF(Sconti!$D$10=\"b\",71%,IF(Sconti!$D$10=\"c\",74%)))","v":0.71},{"$f":"IF(Sconti!$D$10=\"a\",55%,IF(Sconti!$D$10=\"b\",71%,IF(Sconti!$D$10=\"c\",74%)))","v":0.71},{"$f":"IF(Sconti!$D$10=\"a\",55%,IF(Sconti!$D$10=\"b\",71%,IF(Sconti!$D$10=\"c\",74%)))","v":0.71},{"$f":"IF(Sconti!$D$10=\"a\",55%,IF(Sconti!$D$10=\"b\",71%,IF(Sconti!$D$10=\"c\",74%)))","v":0.71},{"$f":"IF(Sconti!$D$10=\"a\",55%,IF(Sconti!$D$10=\"b\",69%,IF(Sconti!$D$10=\"c\",72%)))","v":0.69},{"$f":"IF(Sconti!$D$10=\"a\",55%,IF(Sconti!$D$10=\"b\",69%,IF(Sconti!$D$10=\"c\",72%)))","v":0.69},{"$f":"IF(Sconti!$D$10=\"a\",55%,IF(Sconti!$D$10=\"b\",69%,IF(Sconti!$D$10=\"c\",72%)))","v":0.69},{"$f":"IF(Sconti!$D$10=\"a\",55%,IF(Sconti!$D$10=\"b\",69%,IF(Sconti!$D$10=\"c\",72%)))","v":0.69},{"$f":"IF(Sconti!$D$10=\"a\",55%,IF(Sconti!$D$10=\"b\",69%,IF(Sconti!$D$10=\"c\",72%)))","v":0.69},{"$f":"IF(Sconti!$D$10=\"a\",55%,IF(Sconti!$D$10=\"b\",69%,IF(Sconti!$D$10=\"c\",72%)))","v":0.69},{"$f":"IF(Sconti!$D$10=\"a\",55%,IF(Sconti!$D$10=\"b\",69%,IF(Sconti!$D$10=\"c\",72%)))","v":0.69},null,"60 kg",126.1,583.95000000000005,631.54999999999995,665.75,1723.85,1749.15,613.5,1855.05,1091.3,1576.2,1644.8,1801.45,797]
[null,"65 kg",{"$f":"IF(Sconti!$D$10=\"a\",40%,IF(Sconti!$D$10=\"b\",60%,IF(Sconti!$D$10=\"c\",65%)))","v":0.6},{"$f":"IF(Sconti!$D$10=\"a\",55%,IF(Sconti!$D$10=\"b\",71%,IF(Sconti!$D$10=\"c\",74%)))","v":0.71},{"$f":"IF(Sconti!$D$10=\"a\",55%,IF(Sconti!$D$10=\"b\",71%,IF(Sconti!$D$10=\"c\",74%)))","v":0.71},{"$f":"IF(Sconti!$D$10=\"a\",55%,IF(Sconti!$D$10=\"b\",71%,IF(Sconti!$D$10=\"c\",74%)))","v":0.71},{"$f":"IF(Sconti!$D$10=\"a\",55%,IF(Sconti!$D$10=\"b\",71%,IF(Sconti!$D$10=\"c\",74%)))","v":0.71},{"$f":"IF(Sconti!$D$10=\"a\",55%,IF(Sconti!$D$10=\"b\",71%,IF(Sconti!$D$10=\"c\",74%)))","v":0.71},{"$f":"IF(Sconti!$D$10=\"a\",55%,IF(Sconti!$D$10=\"b\",69%,IF(Sconti!$D$10=\"c\",72%)))","v":0.69},{"$f":"IF(Sconti!$D$10=\"a\",55%,IF(Sconti!$D$10=\"b\",69%,IF(Sconti!$D$10=\"c\",72%)))","v":0.69},{"$f":"IF(Sconti!$D$10=\"a\",55%,IF(Sconti!$D$10=\"b\",69%,IF(Sconti!$D$10=\"c\",72%)))","v":0.69},{"$f":"IF(Sconti!$D$10=\"a\",55%,IF(Sconti!$D$10=\"b\",69%,IF(Sconti!$D$10=\"c\",72%)))","v":0.69},{"$f":"IF(Sconti!$D$10=\"a\",55%,IF(Sconti!$D$10=\"b\",69%,IF(Sconti!$D$10=\"c\",72%)))","v":0.69},{"$f":"IF(Sconti!$D$10=\"a\",55%,IF(Sconti!$D$10=\"b\",69%,IF(Sconti!$D$10=\"c\",72%)))","v":0.69},{"$f":"IF(Sconti!$D$10=\"a\",55%,IF(Sconti!$D$10=\"b\",69%,IF(Sconti!$D$10=\"c\",72%)))","v":0.69},null,"65 kg",142.25,619.20000000000005,673.35,712.55,1845.5,1870.9,650,1984,1170.9000000000001,1687.05,1758.05,1919.75,844.15]
[null,"70 kg",{"$f":"IF(Sconti!$D$10=\"a\",40%,IF(Sconti!$D$10=\"b\",60%,IF(Sconti!$D$10=\"c\",65%)))","v":0.6},{"$f":"IF(Sconti!$D$10=\"a\",55%,IF(Sconti!$D$10=\"b\",71%,IF(Sconti!$D$10=\"c\",74%)))","v":0.71},{"$f":"IF(Sconti!$D$10=\"a\",55%,IF(Sconti!$D$10=\"b\",71%,IF(Sconti!$D$10=\"c\",74%)))","v":0.71},{"$f":"IF(Sconti!$D$10=\"a\",55%,IF(Sconti!$D$10=\"b\",71%,IF(Sconti!$D$10=\"c\",74%)))","v":0.71},{"$f":"IF(Sconti!$D$10=\"a\",55%,IF(Sconti!$D$10=\"b\",71%,IF(Sconti!$D$10=\"c\",74%)))","v":0.71},{"$f":"IF(Sconti!$D$10=\"a\",55%,IF(Sconti!$D$10=\"b\",71%,IF(Sconti!$D$10=\"c\",74%)))","v":0.71},{"$f":"IF(Sconti!$D$10=\"a\",55%,IF(Sconti!$D$10=\"b\",69%,IF(Sconti!$D$10=\"c\",72%)))","v":0.69},{"$f":"IF(Sconti!$D$10=\"a\",55%,IF(Sconti!$D$10=\"b\",69%,IF(Sconti!$D$10=\"c\",72%)))","v":0.69},{"$f":"IF(Sconti!$D$10=\"a\",55%,IF(Sconti!$D$10=\"b\",69%,IF(Sconti!$D$10=\"c\",72%)))","v":0.69},{"$f":"IF(Sconti!$D$10=\"a\",55%,IF(Sconti!$D$10=\"b\",69%,IF(Sconti!$D$10=\"c\",72%)))","v":0.69},{"$f":"IF(Sconti!$D$10=\"a\",55%,IF(Sconti!$D$10=\"b\",69%,IF(Sconti!$D$10=\"c\",72%)))","v":0.69},{"$f":"IF(Sconti!$D$10=\"a\",55%,IF(Sconti!$D$10=\"b\",69%,IF(Sconti!$D$10=\"c\",72%)))","v":0.69},{"$f":"IF(Sconti!$D$10=\"a\",55%,IF(Sconti!$D$10=\"b\",69%,IF(Sconti!$D$10=\"c\",72%)))","v":0.69},null,"70 kg",142.25,654.54999999999995,715.15,759.2,1966.9,1992.7,686.65,2112.9,1250.5999999999999,1797.85,1871.25,2038,891.4]
[null,"Oltre 70 Kg",null,null,null,null,null,null,null,null,null,null,null,null,null,null,"Oltre 70 Kg"]
[null,"Prezzo al Kg",{"$f":"IF(Sconti!$D$10=\"a\",40%,IF(Sconti!$D$10=\"b\",60%,IF(Sconti!$D$10=\"c\",65%)))","v":0.6},{"$f":"IF(Sconti!$D$10=\"a\",55%,IF(Sconti!$D$10=\"b\",71%,IF(Sconti!$D$10=\"c\",74%)))","v":0.71},{"$f":"IF(Sconti!$D$10=\"a\",55%,IF(Sconti!$D$10=\"b\",71%,IF(Sconti!$D$10=\"c\",74%)))","v":0.71},{"$f":"IF(Sconti!$D$10=\"a\",55%,IF(Sconti!$D$10=\"b\",71%,IF(Sconti!$D$10=\"c\",74%)))","v":0.71},{"$f":"IF(Sconti!$D$10=\"a\",55%,IF(Sconti!$D$10=\"b\",71%,IF(Sconti!$D$10=\"c\",74%)))","v":0.71},{"$f":"IF(Sconti!$D$10=\"a\",55%,IF(Sconti!$D$10=\"b\",71%,IF(Sconti!$D$10=\"c\",74%)))","v":0.71},{"$f":"IF(Sconti!$D$10=\"a\",55%,IF(Sconti!$D$10=\"b\",69%,IF(Sconti!$D$10=\"c\",72%)))","v":0.69},{"$f":"IF(Sconti!$D$10=\"a\",55%,IF(Sconti!$D$10=\"b\",69%,IF(Sconti!$D$10=\"c\",72%)))","v":0.69},{"$f":"IF(Sconti!$D$10=\"a\",55%,IF(Sconti!$D$10=\"b\",69%,IF(Sconti!$D$10=\"c\",72%)))","v":0.69},{"$f":"IF(Sconti!$D$10=\"a\",55%,IF(Sconti!$D$10=\"b\",69%,IF(Sconti!$D$10=\"c\",72%)))","v":0.69},{"$f":"IF(Sconti!$D$10=\"a\",55%,IF(Sconti!$D$10=\"b\",69%,IF(Sconti!$D$10=\"c\",72%)))","v":0.69},{"$f":"IF(Sconti!$D$10=\"a\",55%,IF(Sconti!$D$10=\"b\",69%,IF(Sconti!$D$10=\"c\",72%)))","v":0.69},{"$f":"IF(Sconti!$D$10=\"a\",55%,IF(Sconti!$D$10=\"b\",69%,IF(Sconti!$D$10=\"c\",72%)))","v":0.69},null,"Prezzo al Kg",2.0299999999999998,9.35,10.210000000000001,10.84,28.09,28.46,9.8000000000000007,30.18,17.86,25.68,26.73,29.11,12.73]
[null,"Tariffa Minima",{"$f":"IF(Sconti!$D$10=\"a\",40%,IF(Sconti!$D$10=\"b\",60%,IF(Sconti!$D$10=\"c\",65%)))","v":0.6},{"$f":"IF(Sconti!$D$10=\"a\",55%,IF(Sconti!$D$10=\"b\",71%,IF(Sconti!$D$10=\"c\",74%)))","v":0.71},{"$f":"IF(Sconti!$D$10=\"a\",55%,IF(Sconti!$D$10=\"b\",71%,IF(Sconti!$D$10=\"c\",74%)))","v":0.71},{"$f":"IF(Sconti!$D$10=\"a\",55%,IF(Sconti!$D$10=\"b\",71%,IF(Sconti!$D$10=\"c\",74%)))","v":0.71},{"$f":"IF(Sconti!$D$10=\"a\",55%,IF(Sconti!$D$10=\"b\",71%,IF(Sconti!$D$10=\"c\",74%)))","v":0.71},{"$f":"IF(Sconti!$D$10=\"a\",55%,IF(Sconti!$D$10=\"b\",71%,IF(Sconti!$D$10=\"c\",74%)))","v":0.71},{"$f":"IF(Sconti!$D$10=\"a\",55%,IF(Sconti!$D$10=\"b\",69%,IF(Sconti!$D$10=\"c\",72%)))","v":0.69},{"$f":"IF(Sconti!$D$10=\"a\",55%,IF(Sconti!$D$10=\"b\",69%,IF(Sconti!$D$10=\"c\",72%)))","v":0.69},{"$f":"IF(Sconti!$D$10=\"a\",55%,IF(Sconti!$D$10=\"b\",69%,IF(Sconti!$D$10=\"c\",72%)))","v":0.69},{"$f":"IF(Sconti!$D$10=\"a\",55%,IF(Sconti!$D$10=\"b\",69%,IF(Sconti!$D$10=\"c\",72%)))","v":0.69},{"$f":"IF(Sconti!$D$10=\"a\",55%,IF(Sconti!$D$10=\"b\",69%,IF(Sconti!$D$10=\"c\",72%)))","v":0.69},{"$f":"IF(Sconti!$D$10=\"a\",55%,IF(Sconti!$D$10=\"b\",69%,IF(Sconti!$D$10=\"c\",72%)))","v":0.69},{"$f":"IF(Sconti!$D$10=\"a\",55%,IF(Sconti!$D$10=\"b\",69%,IF(Sconti!$D$10=\"c\",72%)))","v":0.69},null,"Tariffa Minima",142.25,654.54999999999995,715.15,759.2,1966.9,1992.7,686.65,2112.9,1250.5999999999999,1797.85,1871.25,2038,891.4]
[]
[]
[null,"Servizio UPS Standard - Inserimento percentuali di sconto",null,null,null,null,null,null,null,null,null,null,null,null,null,null,"Servizio UPS Standard - Tariffe di Listino"]
[]
[null,"Spedizioni Singole",null,null,null,null,null,null,null,null,null,null,null,null,null,null,"Spedizioni Singole"]
[null,"% Sconto","Zona","Zona","Zona","Zona","Zona","Zona","Zona","Zona",null,null,null,null,null,null,"€","Zona","Zona","Zona","Zona","Zona","Zona","Zona","Zona","Zona"]
[null,null,1,2,3,4,5,51,52,6,null,null,null,null,null,null,null,1,2,3,4,5,51,52,6,7]
[null,"MRS",0.77300000000000002,0.83,0.72599999999999998,0.74399999999999999,0.75,0.77300000000000002,0.86199999999999999,0.54700000000000004,null,null,null,null,null,null,"MRS",{"$f":"IF(C134=0,0,R135*(1-C134))","v":5.6295999999999999},{"$f":"IF(D134=0,0,S135*(1-D134))","v":5.4145000000000012},13.056100000000001,13.363200000000001,13.362500000000001,13.381649999999999,13.344600000000002,27.950099999999999,0]
[null,"1,0 kg",{"$f":"IF(Sconti!$D$10=\"a\",47%,IF(Sconti!$D$10=\"b\",70%,IF(Sconti!$D$10=\"c\",72%)))","v":0.7},{"$f":"IF(Sconti!$D$10=\"a\",47%,IF(Sconti!$D$10=\"b\",70%,IF(Sconti!$D$10=\"c\",72%)))","v":0.7},{"$f":"IF(Sconti!$D$10=\"a\",60%,IF(Sconti!$D$10=\"b\",80%,IF(Sconti!$D$10=\"c\",84%)))","v":0.8},{"$f":"IF(Sconti!$D$10=\"a\",60%,IF(Sconti!$D$10=\"b\",80%,IF(Sconti!$D$10=\"c\",84%)))","v":0.8},{"$f":"IF(Sconti!$D$10=\"a\",60%,IF(Sconti!$D$10=\"b\",80%,IF(Sconti!$D$10=\"c\",84%)))","v":0.8},{"$f":"IF(Sconti!$D$10=\"a\",60%,IF(Sconti!$D$10=\"b\",80%,IF(Sconti!$D$10=\"c\",84%)))","v":0.8},{"$f":"IF(Sconti!$D$10=\"a\",60%,IF(Sconti!$D$10=\"b\",80%,IF(Sconti!$D$10=\"c\",84%)))","v":0.8},{"$f":"IF(Sconti!$D$10=\"a\",55%,IF(Sconti!$D$10=\"b\",75%,IF(Sconti!$D$10=\"c\",79%)))","v":0.75},null,null,null,null,null,null,"1,0 kg",24.8,31.85,47.65,52.2,53.45,58.95,96.7,61.7,62.8]
[null,"2,0 kg",{"$f":"IF(Sconti!$D$10=\"a\",47%,IF(Sconti!$D$10=\"b\",70%,IF(Sconti!$D$10=\"c\",72%)))","v":0.7},{"$f":"IF(Sconti!$D$10=\"a\",47%,IF(Sconti!$D$10=\"b\",70%,IF(Sconti!$D$10=\"c\",72%)))","v":0.7},{"$f":"IF(Sconti!$D$10=\"a\",60%,IF(Sconti!$D$10=\"b\",80%,IF(Sconti!$D$10=\"c\",84%)))","v":0.8},{"$f":"IF(Sconti!$D$10=\"a\",60%,IF(Sconti!$D$10=\"b\",80%,IF(Sconti!$D$10=\"c\",84%)))","v":0.8},{"$f":"IF(Sconti!$D$10=\"a\",60%,IF(Sconti!$D$10=\"b\",80%,IF(Sconti!$D$10=\"c\",84%)))","v":0.8},{"$f":"IF(Sconti!$D$10=\"a\",60%,IF(Sconti!$D$10=\"b\",80%,IF(Sconti!$D$10=\"c\",84%)))","v":0.8},{"$f":"IF(Sconti!$D$10=\"a\",60%,IF(Sconti!$D$10=\"b\",80%,IF(Sconti!$D$10=\"c\",84%)))","v":0.8},{"$f":"IF(Sconti!$D$10=\"a\",55%,IF(Sconti!$D$10=\"b\",75%,IF(Sconti!$D$10=\"c\",79%)))","v":0.75},null,null,null,null,null,null,"2,0 kg",24.8,33.25,66.099999999999994,69.900000000000006,72.599999999999994,76.400000000000006,141.65,79.150000000000006,80.75]
[null,"3,0 kg",{"$f":"IF(Sconti!$D$10=\"a\",47%,IF(Sconti!$D$10=\"b\",70%,IF(Sconti!$D$10=\"c\",72%)))","v":0.7},{"$f":"IF(Sconti!$D$10=\"a\",47%,IF(Sconti!$D$10=\"b\",70%,IF(Sconti!$D$10=\"c\",72%)))","v":0.7},{"$f":"IF(Sconti!$D$10=\"a\",60%,IF(Sconti!$D$10=\"b\",80%,IF(Sconti!$D$10=\"c\",84%)))","v":0.8},{"$f":"IF(Sconti!$D$10=\"a\",60%,IF(Sconti!$D$10=\"b\",80%,IF(Sconti!$D$10=\"c\",84%)))","v":0.8},{"$f":"IF(Sconti!$D$10=\"a\",60%,IF(Sconti!$D$10=\"b\",80%,IF(Sconti!$D$10=\"c\",84%)))","v":0.8},{"$f":"IF(Sconti!$D$10=\"a\",60%,IF(Sconti!$D$10=\"b\",80%,IF(Sconti!$D$10=\"c\",84%)))","v":0.8},{"$f":"IF(Sconti!$D$10=\"a\",60%,IF(Sconti!$D$10=\"b\",80%,IF(Sconti!$D$10=\"c\",84%)))","v":0.8},{"$f":"IF(Sconti!$D$10=\"a\",55%,IF(Sconti!$D$10=\"b\",75%,IF(Sconti!$D$10=\"c\",79%)))","v":0.75},null,null,null,null,null,null,"3,0 kg",26.6,34.950000000000003,82.8,87.7,91.65,93.75,174.45,96.65,98.55]
[null,"4,0 kg",{"$f":"IF(Sconti!$D$10=\"a\",47%,IF(Sconti!$D$10=\"b\",70%,IF(Sconti!$D$10=\"c\",72%)))","v":0.7},{"$f":"IF(Sconti!$D$10=\"a\",47%,IF(Sconti!$D$10=\"b\",70%,IF(Sconti!$D$10=\"c\",72%)))","v":0.7},{"$f":"IF(Sconti!$D$10=\"a\",60%,IF(Sconti!$D$10=\"b\",80%,IF(Sconti!$D$10=\"c\",84%)))","v":0.8},{"$f":"IF(Sconti!$D$10=\"a\",60%,IF(Sconti!$D$10=\"b\",80%,IF(Sconti!$D$10=\"c\",84%)))","v":0.8},{"$f":"IF(Sconti!$D$10=\"a\",60%,IF(Sconti!$D$10=\"b\",80%,IF(Sconti!$D$10=\"c\",84%)))","v":0.8},{"$f":"IF(Sconti!$D$10=\"a\",60%,IF(Sconti!$D$10=\"b\",80%,IF(Sconti!$D$10=\"c\",84%)))","v":0.8},{"$f":"IF(Sconti!$D$10=\"a\",60%,IF(Sconti!$D$10=\"b\",80%,IF(Sconti!$D$10=\"c\",84%)))","v":0.8},{"$f":"IF(Sconti!$D$10=\"a\",55%,IF(Sconti!$D$10=\"b\",75%,IF(Sconti!$D$10=\"c\",79%)))","v":0.75},null,null,null,null,null,null,"4,0 kg",26.6,34.950000000000003,99.45,105.4,108.75,111.15,207.1,114.05,116.3]
[null,"5,0 kg",{"$f":"IF(Sconti!$D$10=\"a\",47%,IF(Sconti!$D$10=\"b\",70%,IF(Sconti!$D$10=\"c\",72%)))","v":0.7},{"$f":"IF(Sconti!$D$10=\"a\",47%,IF(Sconti!$D$10=\"b\",70%,IF(Sconti!$D$10=\"c\",72%)))","v":0.7},{"$f":"IF(Sconti!$D$10=\"a\",60%,IF(Sconti!$D$10=\"b\",80%,IF(Sconti!$D$10=\"c\",84%)))","v":0.8},{"$f":"IF(Sconti!$D$10=\"a\",60%,IF(Sconti!$D$10=\"b\",80%,IF(Sconti!$D$10=\"c\",84%)))","v":0.8},{"$f":"IF(Sconti!$D$10=\"a\",60%,IF(Sconti!$D$10=\"b\",80%,IF(Sconti!$D$10=\"c\",84%)))","v":0.8},{"$f":"IF(Sconti!$D$10=\"a\",60%,IF(Sconti!$D$10=\"b\",80%,IF(Sconti!$D$10=\"c\",84%)))","v":0.8},{"$f":"IF(Sconti!$D$10=\"a\",60%,IF(Sconti!$D$10=\"b\",80%,IF(Sconti!$D$10=\"c\",84%)))","v":0.8},{"$f":"IF(Sconti!$D$10=\"a\",55%,IF(Sconti!$D$10=\"b\",75%,IF(Sconti!$D$10=\"c\",79%)))","v":0.75},null,null,null,null,null,null,"5,0 kg",26.6,34.950000000000003,116.2,119.1,126.05,128.6,239.9,131.5,134.1]
[null,"6,0 kg",{"$f":"IF(Sconti!$D$10=\"a\",47%,IF(Sconti!$D$10=\"b\",70%,IF(Sconti!$D$10=\"c\",72%)))","v":0.7},{"$f":"IF(Sconti!$D$10=\"a\",47%,IF(Sconti!$D$10=\"b\",70%,IF(Sconti!$D$10=\"c\",72%)))","v":0.7},{"$f":"IF(Sconti!$D$10=\"a\",60%,IF(Sconti!$D$10=\"b\",80%,IF(Sconti!$D$10=\"c\",84%)))","v":0.8},{"$f":"IF(Sconti!$D$10=\"a\",60%,IF(Sconti!$D$10=\"b\",80%,IF(Sconti!$D$10=\"c\",84%)))","v":0.8},{"$f":"IF(Sconti!$D$10=\"a\",60%,IF(Sconti!$D$10=\"b\",80%,IF(Sconti!$D$10=\"c\",84%)))","v":0.8},{"$f":"IF(Sconti!$D$10=\"a\",60%,IF(Sconti!$D$10=\"b\",80%,IF(Sconti!$D$10=\"c\",84%)))","v":0.8},{"$f":"IF(Sconti!$D$10=\"a\",60%,IF(Sconti!$D$10=\"b\",80%,IF(Sconti!$D$10=\"c\",84%)))","v":0.8},{"$f":"IF(Sconti!$D$10=\"a\",55%,IF(Sconti!$D$10=\"b\",75%,IF(Sconti!$D$10=\"c\",79%)))","v":0.75},null,null,null,null,null,null,"6,0 kg",28.15,38.4,127.45,130.6,137.85,140.9,270.64999999999998,143.65,146.5]
[null,"7,0 kg",{"$f":"IF(Sconti!$D$10=\"a\",47%,IF(Sconti!$D$10=\"b\",70%,IF(Sconti!$D$10=\"c\",72%)))","v":0.7},{"$f":"IF(Sconti!$D$10=\"a\",47%,IF(Sconti!$D$10=\"b\",70%,IF(Sconti!$D$10=\"c\",72%)))","v":0.7},{"$f":"IF(Sconti!$D$10=\"a\",60%,IF(Sconti!$D$10=\"b\",80%,IF(Sconti!$D$10=\"c\",84%)))","v":0.8},{"$f":"IF(Sconti!$D$10=\"a\",60%,IF(Sconti!$D$10=\"b\",80%,IF(Sconti!$D$10=\"c\",84%)))","v":0.8},{"$f":"IF(Sconti!$D$10=\"a\",60%,IF(Sconti!$D$10=\"b\",80%,IF(Sconti!$D$10=\"c\",84%)))","v":0.8},{"$f":"IF(Sconti!$D$10=\"a\",60%,IF(Sconti!$D$10=\"b\",80%,IF(Sconti!$D$10=\"c\",84%)))","v":0.8},{"$f":"IF(Sconti!$D$10=\"a\",60%,IF(Sconti!$D$10=\"b\",80%,IF(Sconti!$D$10=\"c\",84%)))","v":0.8},{"$f":"IF(Sconti!$D$10=\"a\",55%,IF(Sconti!$D$10=\"b\",75%,IF(Sconti!$D$10=\"c\",79%)))","v":0.75},null,null,null,null,null,null,"7,0 kg",28.15,38.4,138.65,142.25,149.85,153.1,301.60000000000002,155.85,159]
[null,"8,0 kg",{"$f":"IF(Sconti!$D$10=\"a\",47%,IF(Sconti!$D$10=\"b\",70%,IF(Sconti!$D$10=\"c\",72%)))","v":0.7},{"$f":"IF(Sconti!$D$10=\"a\",47%,IF(Sconti!$D$10=\"b\",70%,IF(Sconti!$D$10=\"c\",72%)))","v":0.7},{"$f":"IF(Sconti!$D$10=\"a\",60%,IF(Sconti!$D$10=\"b\",80%,IF(Sconti!$D$10=\"c\",84%)))","v":0.8},{"$f":"IF(Sconti!$D$10=\"a\",60%,IF(Sconti!$D$10=\"b\",80%,IF(Sconti!$D$10=\"c\",84%)))","v":0.8},{"$f":"IF(Sconti!$D$10=\"a\",60%,IF(Sconti!$D$10=\"b\",80%,IF(Sconti!$D$10=\"c\",84%)))","v":0.8},{"$f":"IF(Sconti!$D$10=\"a\",60%,IF(Sconti!$D$10=\"b\",80%,IF(Sconti!$D$10=\"c\",84%)))","v":0.8},{"$f":"IF(Sconti!$D$10=\"a\",60%,IF(Sconti!$D$10=\"b\",80%,IF(Sconti!$D$10=\"c\",84%)))","v":0.8},{"$f":"IF(Sconti!$D$10=\"a\",55%,IF(Sconti!$D$10=\"b\",75%,IF(Sconti!$D$10=\"c\",79%)))","v":0.75},null,null,null,null,null,null,"8,0 kg",28.15,38.4,149.85,153.94999999999999,161.80000000000001,165.4,332.35,167.95,171.3]
[null,"9,0 kg",{"$f":"IF(Sconti!$D$10=\"a\",47%,IF(Sconti!$D$10=\"b\",70%,IF(Sconti!$D$10=\"c\",72%)))","v":0.7},{"$f":"IF(Sconti!$D$10=\"a\",47%,IF(Sconti!$D$10=\"b\",70%,IF(Sconti!$D$10=\"c\",72%)))","v":0.7},{"$f":"IF(Sconti!$D$10=\"a\",60%,IF(Sconti!$D$10=\"b\",80%,IF(Sconti!$D$10=\"c\",84%)))","v":0.8},{"$f":"IF(Sconti!$D$10=\"a\",60%,IF(Sconti!$D$10=\"b\",80%,IF(Sconti!$D$10=\"c\",84%)))","v":0.8},{"$f":"IF(Sconti!$D$10=\"a\",60%,IF(Sconti!$D$10=\"b\",80%,IF(Sconti!$D$10=\"c\",84%)))","v":0.8},{"$f":"IF(Sconti!$D$10=\"a\",60%,IF(Sconti!$D$10=\"b\",80%,IF(Sconti!$D$10=\"c\",84%)))","v":0.8},{"$f":"IF(Sconti!$D$10=\"a\",60%,IF(Sconti!$D$10=\"b\",80%,IF(Sconti!$D$10=\"c\",84%)))","v":0.8},{"$f":"IF(Sconti!$D$10=\"a\",55%,IF(Sconti!$D$10=\"b\",75%,IF(Sconti!$D$10=\"c\",79%)))","v":0.75},null,null,null,null,null,null,"9,0 kg",28.15,38.4,161.25,165.55,173.75,177.7,363.15,180.15,183.75]
[null,"10 kg",{"$f":"IF(Sconti!$D$10=\"a\",47%,IF(Sconti!$D$10=\"b\",70%,IF(Sconti!$D$10=\"c\",72%)))","v":0.7},{"$f":"IF(Sconti!$D$10=\"a\",47%,IF(Sconti!$D$10=\"b\",70%,IF(Sconti!$D$10=\"c\",72%)))","v":0.7},{"$f":"IF(Sconti!$D$10=\"a\",60%,IF(Sconti!$D$10=\"b\",80%,IF(Sconti!$D$10=\"c\",84%)))","v":0.8},{"$f":"IF(Sconti!$D$10=\"a\",60%,IF(Sconti!$D$10=\"b\",80%,IF(Sconti!$D$10=\"c\",84%)))","v":0.8},{"$f":"IF(Sconti!$D$10=\"a\",60%,IF(Sconti!$D$10=\"b\",80%,IF(Sconti!$D$10=\"c\",84%)))","v":0.8},{"$f":"IF(Sconti!$D$10=\"a\",60%,IF(Sconti!$D$10=\"b\",80%,IF(Sconti!$D$10=\"c\",84%)))","v":0.8},{"$f":"IF(Sconti!$D$10=\"a\",60%,IF(Sconti!$D$10=\"b\",80%,IF(Sconti!$D$10=\"c\",84%)))","v":0.8},{"$f":"IF(Sconti!$D$10=\"a\",55%,IF(Sconti!$D$10=\"b\",75%,IF(Sconti!$D$10=\"c\",79%)))","v":0.75},null,null,null,null,null,null,"10 kg",28.15,38.4,172.45,177.1,185.8,189.9,393.95,192.25,196.1]
[null,"12 kg",{"$f":"IF(Sconti!$D$10=\"a\",47%,IF(Sconti!$D$10=\"b\",70%,IF(Sconti!$D$10=\"c\",72%)))","v":0.7},{"$f":"IF(Sconti!$D$10=\"a\",47%,IF(Sconti!$D$10=\"b\",70%,IF(Sconti!$D$10=\"c\",72%)))","v":0.7},{"$f":"IF(Sconti!$D$10=\"a\",60%,IF(Sconti!$D$10=\"b\",80%,IF(Sconti!$D$10=\"c\",84%)))","v":0.8},{"$f":"IF(Sconti!$D$10=\"a\",60%,IF(Sconti!$D$10=\"b\",80%,IF(Sconti!$D$10=\"c\",84%)))","v":0.8},{"$f":"IF(Sconti!$D$10=\"a\",60%,IF(Sconti!$D$10=\"b\",80%,IF(Sconti!$D$10=\"c\",84%)))","v":0.8},{"$f":"IF(Sconti!$D$10=\"a\",60%,IF(Sconti!$D$10=\"b\",80%,IF(Sconti!$D$10=\"c\",84%)))","v":0.8},{"$f":"IF(Sconti!$D$10=\"a\",60%,IF(Sconti!$D$10=\"b\",80%,IF(Sconti!$D$10=\"c\",84%)))","v":0.8},{"$f":"IF(Sconti!$D$10=\"a\",55%,IF(Sconti!$D$10=\"b\",75%,IF(Sconti!$D$10=\"c\",79%)))","v":0.75},null,null,null,null,null,null,"12 kg",31.6,45.8,178.4,185.15,195.15,209.5,423.35,216.05,220.35]
[null,"14 kg",{"$f":"IF(Sconti!$D$10=\"a\",47%,IF(Sconti!$D$10=\"b\",70%,IF(Sconti!$D$10=\"c\",72%)))","v":0.7},{"$f":"IF(Sconti!$D$10=\"a\",47%,IF(Sconti!$D$10=\"b\",70%,IF(Sconti!$D$10=\"c\",72%)))","v":0.7},{"$f":"IF(Sconti!$D$10=\"a\",60%,IF(Sconti!$D$10=\"b\",80%,IF(Sconti!$D$10=\"c\",84%)))","v":0.8},{"$f":"IF(Sconti!$D$10=\"a\",60%,IF(Sconti!$D$10=\"b\",80%,IF(Sconti!$D$10=\"c\",84%)))","v":0.8},{"$f":"IF(Sconti!$D$10=\"a\",60%,IF(Sconti!$D$10=\"b\",80%,IF(Sconti!$D$10=\"c\",84%)))","v":0.8},{"$f":"IF(Sconti!$D$10=\"a\",60%,IF(Sconti!$D$10=\"b\",80%,IF(Sconti!$D$10=\"c\",84%)))","v":0.8},{"$f":"IF(Sconti!$D$10=\"a\",60%,IF(Sconti!$D$10=\"b\",80%,IF(Sconti!$D$10=\"c\",84%)))","v":0.8},{"$f":"IF(Sconti!$D$10=\"a\",55%,IF(Sconti!$D$10=\"b\",75%,IF(Sconti!$D$10=\"c\",79%)))","v":0.75},null,null,null,null,null,null,"14 kg",31.6,45.8,178.4,185.15,195.15,209.5,423.35,216.05,220.35]
[null,"16 kg",{"$f":"IF(Sconti!$D$10=\"a\",47%,IF(Sconti!$D$10=\"b\",70%,IF(Sconti!$D$10=\"c\",72%)))","v":0.7},{"$f":"IF(Sconti!$D$10=\"a\",47%,IF(Sconti!$D$10=\"b\",70%,IF(Sconti!$D$10=\"c\",72%)))","v":0.7},{"$f":"IF(Sconti!$D$10=\"a\",60%,IF(Sconti!$D$10=\"b\",80%,IF(Sconti!$D$10=\"c\",84%)))","v":0.8},{"$f":"IF(Sconti!$D$10=\"a\",60%,IF(Sconti!$D$10=\"b\",80%,IF(Sconti!$D$10=\"c\",84%)))","v":0.8},{"$f":"IF(Sconti!$D$10=\"a\",60%,IF(Sconti!$D$10=\"b\",80%,IF(Sconti!$D$10=\"c\",84%)))","v":0.8},{"$f":"IF(Sconti!$D$10=\"a\",60%,IF(Sconti!$D$10=\"b\",80%,IF(Sconti!$D$10=\"c\",84%)))","v":0.8},{"$f":"IF(Sconti!$D$10=\"a\",60%,IF(Sconti!$D$10=\"b\",80%,IF(Sconti!$D$10=\"c\",84%)))","v":0.8},{"$f":"IF(Sconti!$D$10=\"a\",55%,IF(Sconti!$D$10=\"b\",75%,IF(Sconti!$D$10=\"c\",79%)))","v":0.75},null,null,null,null,null,null,"16 kg",31.6,45.8,180.15,187.45,197.6,220.7,444.35,231.4,233.75]
[null,"18 kg",{"$f":"IF(Sconti!$D$10=\"a\",47%,IF(Sconti!$D$10=\"b\",70%,IF(Sconti!$D$10=\"c\",72%)))","v":0.7},{"$f":"IF(Sconti!$D$10=\"a\",47%,IF(Sconti!$D$10=\"b\",70%,IF(Sconti!$D$10=\"c\",72%)))","v":0.7},{"$f":"IF(Sconti!$D$10=\"a\",60%,IF(Sconti!$D$10=\"b\",80%,IF(Sconti!$D$10=\"c\",84%)))","v":0.8},{"$f":"IF(Sconti!$D$10=\"a\",60%,IF(Sconti!$D$10=\"b\",80%,IF(Sconti!$D$10=\"c\",84%)))","v":0.8},{"$f":"IF(Sconti!$D$10=\"a\",60%,IF(Sconti!$D$10=\"b\",80%,IF(Sconti!$D$10=\"c\",84%)))","v":0.8},{"$f":"IF(Sconti!$D$10=\"a\",60%,IF(Sconti!$D$10=\"b\",80%,IF(Sconti!$D$10=\"c\",84%)))","v":0.8},{"$f":"IF(Sconti!$D$10=\"a\",60%,IF(Sconti!$D$10=\"b\",80%,IF(Sconti!$D$10=\"c\",84%)))","v":0.8},{"$f":"IF(Sconti!$D$10=\"a\",55%,IF(Sconti!$D$10=\"b\",75%,IF(Sconti!$D$10=\"c\",79%)))","v":0.75},null,null,null,null,null,null,"18 kg",31.6,45.8,180.15,187.45,197.6,220.7,444.35,231.4,233.75]
[null,"20 kg",{"$f":"IF(Sconti!$D$10=\"a\",47%,IF(Sconti!$D$10=\"b\",70%,IF(Sconti!$D$10=\"c\",72%)))","v":0.7},{"$f":"IF(Sconti!$D$10=\"a\",47%,IF(Sconti!$D$10=\"b\",70%,IF(Sconti!$D$10=\"c\",72%)))","v":0.7},{"$f":"IF(Sconti!$D$10=\"a\",60%,IF(Sconti!$D$10=\"b\",80%,IF(Sconti!$D$10=\"c\",84%)))","v":0.8},{"$f":"IF(Sconti!$D$10=\"a\",60%,IF(Sconti!$D$10=\"b\",80%,IF(Sconti!$D$10=\"c\",84%)))","v":0.8},{"$f":"IF(Sconti!$D$10=\"a\",60%,IF(Sconti!$D$10=\"b\",80%,IF(Sconti!$D$10=\"c\",84%)))","v":0.8},{"$f":"IF(Sconti!$D$10=\"a\",60%,IF(Sconti!$D$10=\"b\",80%,IF(Sconti!$D$10=\"c\",84%)))","v":0.8},{"$f":"IF(Sconti!$D$10=\"a\",60%,IF(Sconti!$D$10=\"b\",80%,IF(Sconti!$D$10=\"c\",84%)))","v":0.8},{"$f":"IF(Sconti!$D$10=\"a\",55%,IF(Sconti!$D$10=\"b\",75%,IF(Sconti!$D$10=\"c\",79%)))","v":0.75},null,null,null,null,null,null,"20 kg",31.6,45.8,180.15,187.45,197.6,220.7,444.35,231.4,233.75]
[null,"22 kg",{"$f":"IF(Sconti!$D$10=\"a\",47%,IF(Sconti!$D$10=\"b\",70%,IF(Sconti!$D$10=\"c\",72%)))","v":0.7},{"$f":"IF(Sconti!$D$10=\"a\",47%,IF(Sconti!$D$10=\"b\",70%,IF(Sconti!$D$10=\"c\",72%)))","v":0.7},{"$f":"IF(Sconti!$D$10=\"a\",60%,IF(Sconti!$D$10=\"b\",80%,IF(Sconti!$D$10=\"c\",84%)))","v":0.8},{"$f":"IF(Sconti!$D$10=\"a\",60%,IF(Sconti!$D$10=\"b\",80%,IF(Sconti!$D$10=\"c\",84%)))","v":0.8},{"$f":"IF(Sconti!$D$10=\"a\",60%,IF(Sconti!$D$10=\"b\",80%,IF(Sconti!$D$10=\"c\",84%)))","v":0.8},{"$f":"IF(Sconti!$D$10=\"a\",60%,IF(Sconti!$D$10=\"b\",80%,IF(Sconti!$D$10=\"c\",84%)))","v":0.8},{"$f":"IF(Sconti!$D$10=\"a\",60%,IF(Sconti!$D$10=\"b\",80%,IF(Sconti!$D$10=\"c\",84%)))","v":0.8},{"$f":"IF(Sconti!$D$10=\"a\",55%,IF(Sconti!$D$10=\"b\",75%,IF(Sconti!$D$10=\"c\",79%)))","v":0.75},null,null,null,null,null,null,"22 kg",40.65,62.45,191.2,202.35,215.2,249.8,505.6,264.95,265.60000000000002]
[null,"24 kg",{"$f":"IF(Sconti!$D$10=\"a\",47%,IF(Sconti!$D$10=\"b\",70%,IF(Sconti!$D$10=\"c\",72%)))","v":0.7},{"$f":"IF(Sconti!$D$10=\"a\",47%,IF(Sconti!$D$10=\"b\",70%,IF(Sconti!$D$10=\"c\",72%)))","v":0.7},{"$f":"IF(Sconti!$D$10=\"a\",60%,IF(Sconti!$D$10=\"b\",80%,IF(Sconti!$D$10=\"c\",84%)))","v":0.8},{"$f":"IF(Sconti!$D$10=\"a\",60%,IF(Sconti!$D$10=\"b\",80%,IF(Sconti!$D$10=\"c\",84%)))","v":0.8},{"$f":"IF(Sconti!$D$10=\"a\",60%,IF(Sconti!$D$10=\"b\",80%,IF(Sconti!$D$10=\"c\",84%)))","v":0.8},{"$f":"IF(Sconti!$D$10=\"a\",60%,IF(Sconti!$D$10=\"b\",80%,IF(Sconti!$D$10=\"c\",84%)))","v":0.8},{"$f":"IF(Sconti!$D$10=\"a\",60%,IF(Sconti!$D$10=\"b\",80%,IF(Sconti!$D$10=\"c\",84%)))","v":0.8},{"$f":"IF(Sconti!$D$10=\"a\",55%,IF(Sconti!$D$10=\"b\",75%,IF(Sconti!$D$10=\"c\",79%)))","v":0.75},null,null,null,null,null,null,"24 kg",40.65,62.45,191.2,202.35,215.2,249.8,505.6,264.95,265.60000000000002]
[null,"26 kg",{"$f":"IF(Sconti!$D$10=\"a\",47%,IF(Sconti!$D$10=\"b\",70%,IF(Sconti!$D$10=\"c\",72%)))","v":0.7},{"$f":"IF(Sconti!$D$10=\"a\",47%,IF(Sconti!$D$10=\"b\",70%,IF(Sconti!$D$10=\"c\",72%)))","v":0.7},{"$f":"IF(Sconti!$D$10=\"a\",60%,IF(Sconti!$D$10=\"b\",80%,IF(Sconti!$D$10=\"c\",84%)))","v":0.8},{"$f":"IF(Sconti!$D$10=\"a\",60%,IF(Sconti!$D$10=\"b\",80%,IF(Sconti!$D$10=\"c\",84%)))","v":0.8},{"$f":"IF(Sconti!$D$10=\"a\",60%,IF(Sconti!$D$10=\"b\",80%,IF(Sconti!$D$10=\"c\",84%)))","v":0.8},{"$f":"IF(Sconti!$D$10=\"a\",60%,IF(Sconti!$D$10=\"b\",80%,IF(Sconti!$D$10=\"c\",84%)))","v":0.8},{"$f":"IF(Sconti!$D$10=\"a\",60%,IF(Sconti!$D$10=\"b\",80%,IF(Sconti!$D$10=\"c\",84%)))","v":0.8},{"$f":"IF(Sconti!$D$10=\"a\",55%,IF(Sconti!$D$10=\"b\",75%,IF(Sconti!$D$10=\"c\",79%)))","v":0.75},null,null,null,null,null,null,"26 kg",40.65,62.45,191.2,202.35,215.2,249.8,505.6,264.95,265.60000000000002]
[null,"28 kg",{"$f":"IF(Sconti!$D$10=\"a\",47%,IF(Sconti!$D$10=\"b\",70%,IF(Sconti!$D$10=\"c\",72%)))","v":0.7},{"$f":"IF(Sconti!$D$10=\"a\",47%,IF(Sconti!$D$10=\"b\",70%,IF(Sconti!$D$10=\"c\",72%)))","v":0.7},{"$f":"IF(Sconti!$D$10=\"a\",60%,IF(Sconti!$D$10=\"b\",80%,IF(Sconti!$D$10=\"c\",84%)))","v":0.8},{"$f":"IF(Sconti!$D$10=\"a\",60%,IF(Sconti!$D$10=\"b\",80%,IF(Sconti!$D$10=\"c\",84%)))","v":0.8},{"$f":"IF(Sconti!$D$10=\"a\",60%,IF(Sconti!$D$10=\"b\",80%,IF(Sconti!$D$10=\"c\",84%)))","v":0.8},{"$f":"IF(Sconti!$D$10=\"a\",60%,IF(Sconti!$D$10=\"b\",80%,IF(Sconti!$D$10=\"c\",84%)))","v":0.8},{"$f":"IF(Sconti!$D$10=\"a\",60%,IF(Sconti!$D$10=\"b\",80%,IF(Sconti!$D$10=\"c\",84%)))","v":0.8},{"$f":"IF(Sconti!$D$10=\"a\",55%,IF(Sconti!$D$10=\"b\",75%,IF(Sconti!$D$10=\"c\",79%)))","v":0.75},null,null,null,null,null,null,"28 kg",40.65,62.45,191.2,202.35,215.2,249.8,505.6,264.95,265.60000000000002]
[null,"30 kg",{"$f":"IF(Sconti!$D$10=\"a\",47%,IF(Sconti!$D$10=\"b\",70%,IF(Sconti!$D$10=\"c\",72%)))","v":0.7},{"$f":"IF(Sconti!$D$10=\"a\",47%,IF(Sconti!$D$10=\"b\",70%,IF(Sconti!$D$10=\"c\",72%)))","v":0.7},{"$f":"IF(Sconti!$D$10=\"a\",60%,IF(Sconti!$D$10=\"b\",80%,IF(Sconti!$D$10=\"c\",84%)))","v":0.8},{"$f":"IF(Sconti!$D$10=\"a\",60%,IF(Sconti!$D$10=\"b\",80%,IF(Sconti!$D$10=\"c\",84%)))","v":0.8},{"$f":"IF(Sconti!$D$10=\"a\",60%,IF(Sconti!$D$10=\"b\",80%,IF(Sconti!$D$10=\"c\",84%)))","v":0.8},{"$f":"IF(Sconti!$D$10=\"a\",60%,IF(Sconti!$D$10=\"b\",80%,IF(Sconti!$D$10=\"c\",84%)))","v":0.8},{"$f":"IF(Sconti!$D$10=\"a\",60%,IF(Sconti!$D$10=\"b\",80%,IF(Sconti!$D$10=\"c\",84%)))","v":0.8},{"$f":"IF(Sconti!$D$10=\"a\",55%,IF(Sconti!$D$10=\"b\",75%,IF(Sconti!$D$10=\"c\",79%)))","v":0.75},null,null,null,null,null,null,"30 kg",40.65,62.45,191.2,202.35,215.2,249.8,505.6,264.95,265.60000000000002]
[null,"32 kg",{"$f":"IF(Sconti!$D$10=\"a\",47%,IF(Sconti!$D$10=\"b\",70%,IF(Sconti!$D$10=\"c\",72%)))","v":0.7},{"$f":"IF(Sconti!$D$10=\"a\",47%,IF(Sconti!$D$10=\"b\",70%,IF(Sconti!$D$10=\"c\",72%)))","v":0.7},{"$f":"IF(Sconti!$D$10=\"a\",60%,IF(Sconti!$D$10=\"b\",80%,IF(Sconti!$D$10=\"c\",84%)))","v":0.8},{"$f":"IF(Sconti!$D$10=\"a\",60%,IF(Sconti!$D$10=\"b\",80%,IF(Sconti!$D$10=\"c\",84%)))","v":0.8},{"$f":"IF(Sconti!$D$10=\"a\",60%,IF(Sconti!$D$10=\"b\",80%,IF(Sconti!$D$10=\"c\",84%)))","v":0.8},{"$f":"IF(Sconti!$D$10=\"a\",60%,IF(Sconti!$D$10=\"b\",80%,IF(Sconti!$D$10=\"c\",84%)))","v":0.8},{"$f":"IF(Sconti!$D$10=\"a\",60%,IF(Sconti!$D$10=\"b\",80%,IF(Sconti!$D$10=\"c\",84%)))","v":0.8},{"$f":"IF(Sconti!$D$10=\"a\",55%,IF(Sconti!$D$10=\"b\",75%,IF(Sconti!$D$10=\"c\",79%)))","v":0.75},null,null,null,null,null,null,"32 kg",49.45,79.05,197.15,210.45,224.85,269.55,556.25,288.89999999999998,291.25]
[null,"34 kg",{"$f":"IF(Sconti!$D$10=\"a\",47%,IF(Sconti!$D$10=\"b\",70%,IF(Sconti!$D$10=\"c\",72%)))","v":0.7},{"$f":"IF(Sconti!$D$10=\"a\",47%,IF(Sconti!$D$10=\"b\",70%,IF(Sconti!$D$10=\"c\",72%)))","v":0.7},{"$f":"IF(Sconti!$D$10=\"a\",60%,IF(Sconti!$D$10=\"b\",80%,IF(Sconti!$D$10=\"c\",84%)))","v":0.8},{"$f":"IF(Sconti!$D$10=\"a\",60%,IF(Sconti!$D$10=\"b\",80%,IF(Sconti!$D$10=\"c\",84%)))","v":0.8},{"$f":"IF(Sconti!$D$10=\"a\",60%,IF(Sconti!$D$10=\"b\",80%,IF(Sconti!$D$10=\"c\",84%)))","v":0.8},{"$f":"IF(Sconti!$D$10=\"a\",60%,IF(Sconti!$D$10=\"b\",80%,IF(Sconti!$D$10=\"c\",84%)))","v":0.8},{"$f":"IF(Sconti!$D$10=\"a\",60%,IF(Sconti!$D$10=\"b\",80%,IF(Sconti!$D$10=\"c\",84%)))","v":0.8},{"$f":"IF(Sconti!$D$10=\"a\",55%,IF(Sconti!$D$10=\"b\",75%,IF(Sconti!$D$10=\"c\",79%)))","v":0.75},null,null,null,null,null,null,"34 kg",49.45,79.05,197.15,210.45,224.85,269.55,556.25,288.89999999999998,291.25]
[null,"36 kg",{"$f":"IF(Sconti!$D$10=\"a\",47%,IF(Sconti!$D$10=\"b\",70%,IF(Sconti!$D$10=\"c\",72%)))","v":0.7},{"$f":"IF(Sconti!$D$10=\"a\",47%,IF(Sconti!$D$10=\"b\",70%,IF(Sconti!$D$10=\"c\",72%)))","v":0.7},{"$f":"IF(Sconti!$D$10=\"a\",60%,IF(Sconti!$D$10=\"b\",80%,IF(Sconti!$D$10=\"c\",84%)))","v":0.8},{"$f":"IF(Sconti!$D$10=\"a\",60%,IF(Sconti!$D$10=\"b\",80%,IF(Sconti!$D$10=\"c\",84%)))","v":0.8},{"$f":"IF(Sconti!$D$10=\"a\",60%,IF(Sconti!$D$10=\"b\",80%,IF(Sconti!$D$10=\"c\",84%)))","v":0.8},{"$f":"IF(Sconti!$D$10=\"a\",60%,IF(Sconti!$D$10=\"b\",80%,IF(Sconti!$D$10=\"c\",84%)))","v":0.8},{"$f":"IF(Sconti!$D$10=\"a\",60%,IF(Sconti!$D$10=\"b\",80%,IF(Sconti!$D$10=\"c\",84%)))","v":0.8},{"$f":"IF(Sconti!$D$10=\"a\",55%,IF(Sconti!$D$10=\"b\",75%,IF(Sconti!$D$10=\"c\",79%)))","v":0.75},null,null,null,null,null,null,"36 kg",49.45,79.05,197.15,210.45,224.85,269.55,556.25,288.89999999999998,291.25]
[null,"38 kg",{"$f":"IF(Sconti!$D$10=\"a\",47%,IF(Sconti!$D$10=\"b\",70%,IF(Sconti!$D$10=\"c\",72%)))","v":0.7},{"$f":"IF(Sconti!$D$10=\"a\",47%,IF(Sconti!$D$10=\"b\",70%,IF(Sconti!$D$10=\"c\",72%)))","v":0.7},{"$f":"IF(Sconti!$D$10=\"a\",60%,IF(Sconti!$D$10=\"b\",80%,IF(Sconti!$D$10=\"c\",84%)))","v":0.8},{"$f":"IF(Sconti!$D$10=\"a\",60%,IF(Sconti!$D$10=\"b\",80%,IF(Sconti!$D$10=\"c\",84%)))","v":0.8},{"$f":"IF(Sconti!$D$10=\"a\",60%,IF(Sconti!$D$10=\"b\",80%,IF(Sconti!$D$10=\"c\",84%)))","v":0.8},{"$f":"IF(Sconti!$D$10=\"a\",60%,IF(Sconti!$D$10=\"b\",80%,IF(Sconti!$D$10=\"c\",84%)))","v":0.8},{"$f":"IF(Sconti!$D$10=\"a\",60%,IF(Sconti!$D$10=\"b\",80%,IF(Sconti!$D$10=\"c\",84%)))","v":0.8},{"$f":"IF(Sconti!$D$10=\"a\",55%,IF(Sconti!$D$10=\"b\",75%,IF(Sconti!$D$10=\"c\",79%)))","v":0.75},null,null,null,null,null,null,"38 kg",49.45,79.05,197.15,210.45,224.85,269.55,556.25,288.89999999999998,291.25]
[null,"40 kg",{"$f":"IF(Sconti!$D$10=\"a\",47%,IF(Sconti!$D$10=\"b\",70%,IF(Sconti!$D$10=\"c\",72%)))","v":0.7},{"$f":"IF(Sconti!$D$10=\"a\",47%,IF(Sconti!$D$10=\"b\",70%,IF(Sconti!$D$10=\"c\",72%)))","v":0.7},{"$f":"IF(Sconti!$D$10=\"a\",60%,IF(Sconti!$D$10=\"b\",80%,IF(Sconti!$D$10=\"c\",84%)))","v":0.8},{"$f":"IF(Sconti!$D$10=\"a\",60%,IF(Sconti!$D$10=\"b\",80%,IF(Sconti!$D$10=\"c\",84%)))","v":0.8},{"$f":"IF(Sconti!$D$10=\"a\",60%,IF(Sconti!$D$10=\"b\",80%,IF(Sconti!$D$10=\"c\",84%)))","v":0.8},{"$f":"IF(Sconti!$D$10=\"a\",60%,IF(Sconti!$D$10=\"b\",80%,IF(Sconti!$D$10=\"c\",84%)))","v":0.8},{"$f":"IF(Sconti!$D$10=\"a\",60%,IF(Sconti!$D$10=\"b\",80%,IF(Sconti!$D$10=\"c\",84%)))","v":0.8},{"$f":"IF(Sconti!$D$10=\"a\",55%,IF(Sconti!$D$10=\"b\",75%,IF(Sconti!$D$10=\"c\",79%)))","v":0.75},null,null,null,null,null,null,"40 kg",49.45,79.05,197.15,210.45,224.85,269.55,556.25,288.89999999999998,291.25]
[null,"42 kg",{"$f":"IF(Sconti!$D$10=\"a\",47%,IF(Sconti!$D$10=\"b\",70%,IF(Sconti!$D$10=\"c\",72%)))","v":0.7},{"$f":"IF(Sconti!$D$10=\"a\",47%,IF(Sconti!$D$10=\"b\",70%,IF(Sconti!$D$10=\"c\",72%)))","v":0.7},{"$f":"IF(Sconti!$D$10=\"a\",60%,IF(Sconti!$D$10=\"b\",80%,IF(Sconti!$D$10=\"c\",84%)))","v":0.8},{"$f":"IF(Sconti!$D$10=\"a\",60%,IF(Sconti!$D$10=\"b\",80%,IF(Sconti!$D$10=\"c\",84%)))","v":0.8},{"$f":"IF(Sconti!$D$10=\"a\",60%,IF(Sconti!$D$10=\"b\",80%,IF(Sconti!$D$10=\"c\",84%)))","v":0.8},{"$f":"IF(Sconti!$D$10=\"a\",60%,IF(Sconti!$D$10=\"b\",80%,IF(Sconti!$D$10=\"c\",84%)))","v":0.8},{"$f":"IF(Sconti!$D$10=\"a\",60%,IF(Sconti!$D$10=\"b\",80%,IF(Sconti!$D$10=\"c\",84%)))","v":0.8},{"$f":"IF(Sconti!$D$10=\"a\",55%,IF(Sconti!$D$10=\"b\",75%,IF(Sconti!$D$10=\"c\",79%)))","v":0.75},null,null,null,null,null,null,"42 kg",58.2,95.5,224,236.7,252,292.55,606.95000000000005,312.60000000000002,315.45]
[null,"44 kg",{"$f":"IF(Sconti!$D$10=\"a\",47%,IF(Sconti!$D$10=\"b\",70%,IF(Sconti!$D$10=\"c\",72%)))","v":0.7},{"$f":"IF(Sconti!$D$10=\"a\",47%,IF(Sconti!$D$10=\"b\",70%,IF(Sconti!$D$10=\"c\",72%)))","v":0.7},{"$f":"IF(Sconti!$D$10=\"a\",60%,IF(Sconti!$D$10=\"b\",80%,IF(Sconti!$D$10=\"c\",84%)))","v":0.8},{"$f":"IF(Sconti!$D$10=\"a\",60%,IF(Sconti!$D$10=\"b\",80%,IF(Sconti!$D$10=\"c\",84%)))","v":0.8},{"$f":"IF(Sconti!$D$10=\"a\",60%,IF(Sconti!$D$10=\"b\",80%,IF(Sconti!$D$10=\"c\",84%)))","v":0.8},{"$f":"IF(Sconti!$D$10=\"a\",60%,IF(Sconti!$D$10=\"b\",80%,IF(Sconti!$D$10=\"c\",84%)))","v":0.8},{"$f":"IF(Sconti!$D$10=\"a\",60%,IF(Sconti!$D$10=\"b\",80%,IF(Sconti!$D$10=\"c\",84%)))","v":0.8},{"$f":"IF(Sconti!$D$10=\"a\",55%,IF(Sconti!$D$10=\"b\",75%,IF(Sconti!$D$10=\"c\",79%)))","v":0.75},null,null,null,null,null,null,"44 kg",58.2,95.5,224,236.7,252,292.55,606.95000000000005,312.60000000000002,315.45]
[null,"46 kg",{"$f":"IF(Sconti!$D$10=\"a\",47%,IF(Sconti!$D$10=\"b\",70%,IF(Sconti!$D$10=\"c\",72%)))","v":0.7},{"$f":"IF(Sconti!$D$10=\"a\",47%,IF(Sconti!$D$10=\"b\",70%,IF(Sconti!$D$10=\"c\",72%)))","v":0.7},{"$f":"IF(Sconti!$D$10=\"a\",60%,IF(Sconti!$D$10=\"b\",80%,IF(Sconti!$D$10=\"c\",84%)))","v":0.8},{"$f":"IF(Sconti!$D$10=\"a\",60%,IF(Sconti!$D$10=\"b\",80%,IF(Sconti!$D$10=\"c\",84%)))","v":0.8},{"$f":"IF(Sconti!$D$10=\"a\",60%,IF(Sconti!$D$10=\"b\",80%,IF(Sconti!$D$10=\"c\",84%)))","v":0.8},{"$f":"IF(Sconti!$D$10=\"a\",60%,IF(Sconti!$D$10=\"b\",80%,IF(Sconti!$D$10=\"c\",84%)))","v":0.8},{"$f":"IF(Sconti!$D$10=\"a\",60%,IF(Sconti!$D$10=\"b\",80%,IF(Sconti!$D$10=\"c\",84%)))","v":0.8},{"$f":"IF(Sconti!$D$10=\"a\",55%,IF(Sconti!$D$10=\"b\",75%,IF(Sconti!$D$10=\"c\",79%)))","v":0.75},null,null,null,null,null,null,"46 kg",58.2,95.5,224,236.7,252,292.55,606.95000000000005,312.60000000000002,315.45]
[null,"48 kg",{"$f":"IF(Sconti!$D$10=\"a\",47%,IF(Sconti!$D$10=\"b\",70%,IF(Sconti!$D$10=\"c\",72%)))","v":0.7},{"$f":"IF(Sconti!$D$10=\"a\",47%,IF(Sconti!$D$10=\"b\",70%,IF(Sconti!$D$10=\"c\",72%)))","v":0.7},{"$f":"IF(Sconti!$D$10=\"a\",60%,IF(Sconti!$D$10=\"b\",80%,IF(Sconti!$D$10=\"c\",84%)))","v":0.8},{"$f":"IF(Sconti!$D$10=\"a\",60%,IF(Sconti!$D$10=\"b\",80%,IF(Sconti!$D$10=\"c\",84%)))","v":0.8},{"$f":"IF(Sconti!$D$10=\"a\",60%,IF(Sconti!$D$10=\"b\",80%,IF(Sconti!$D$10=\"c\",84%)))","v":0.8},{"$f":"IF(Sconti!$D$10=\"a\",60%,IF(Sconti!$D$10=\"b\",80%,IF(Sconti!$D$10=\"c\",84%)))","v":0.8},{"$f":"IF(Sconti!$D$10=\"a\",60%,IF(Sconti!$D$10=\"b\",80%,IF(Sconti!$D$10=\"c\",84%)))","v":0.8},{"$f":"IF(Sconti!$D$10=\"a\",55%,IF(Sconti!$D$10=\"b\",75%,IF(Sconti!$D$10=\"c\",79%)))","v":0.75},null,null,null,null,null,null,"48 kg",58.2,95.5,224,236.7,252,292.55,606.95000000000005,312.60000000000002,315.45]
[null,"50 kg",{"$f":"IF(Sconti!$D$10=\"a\",47%,IF(Sconti!$D$10=\"b\",70%,IF(Sconti!$D$10=\"c\",72%)))","v":0.7},{"$f":"IF(Sconti!$D$10=\"a\",47%,IF(Sconti!$D$10=\"b\",70%,IF(Sconti!$D$10=\"c\",72%)))","v":0.7},{"$f":"IF(Sconti!$D$10=\"a\",60%,IF(Sconti!$D$10=\"b\",80%,IF(Sconti!$D$10=\"c\",84%)))","v":0.8},{"$f":"IF(Sconti!$D$10=\"a\",60%,IF(Sconti!$D$10=\"b\",80%,IF(Sconti!$D$10=\"c\",84%)))","v":0.8},{"$f":"IF(Sconti!$D$10=\"a\",60%,IF(Sconti!$D$10=\"b\",80%,IF(Sconti!$D$10=\"c\",84%)))","v":0.8},{"$f":"IF(Sconti!$D$10=\"a\",60%,IF(Sconti!$D$10=\"b\",80%,IF(Sconti!$D$10=\"c\",84%)))","v":0.8},{"$f":"IF(Sconti!$D$10=\"a\",60%,IF(Sconti!$D$10=\"b\",80%,IF(Sconti!$D$10=\"c\",84%)))","v":0.8},{"$f":"IF(Sconti!$D$10=\"a\",55%,IF(Sconti!$D$10=\"b\",75%,IF(Sconti!$D$10=\"c\",79%)))","v":0.75},null,null,null,null,null,null,"50 kg",58.2,95.5,224,236.7,252,292.55,606.95000000000005,312.60000000000002,315.45]
[null,"55 kg",{"$f":"IF(Sconti!$D$10=\"a\",47%,IF(Sconti!$D$10=\"b\",70%,IF(Sconti!$D$10=\"c\",72%)))","v":0.7},{"$f":"IF(Sconti!$D$10=\"a\",47%,IF(Sconti!$D$10=\"b\",70%,IF(Sconti!$D$10=\"c\",72%)))","v":0.7},{"$f":"IF(Sconti!$D$10=\"a\",60%,IF(Sconti!$D$10=\"b\",80%,IF(Sconti!$D$10=\"c\",84%)))","v":0.8},{"$f":"IF(Sconti!$D$10=\"a\",60%,IF(Sconti!$D$10=\"b\",80%,IF(Sconti!$D$10=\"c\",84%)))","v":0.8},{"$f":"IF(Sconti!$D$10=\"a\",60%,IF(Sconti!$D$10=\"b\",80%,IF(Sconti!$D$10=\"c\",84%)))","v":0.8},{"$f":"IF(Sconti!$D$10=\"a\",60%,IF(Sconti!$D$10=\"b\",80%,IF(Sconti!$D$10=\"c\",84%)))","v":0.8},{"$f":"IF(Sconti!$D$10=\"a\",60%,IF(Sconti!$D$10=\"b\",80%,IF(Sconti!$D$10=\"c\",84%)))","v":0.8},{"$f":"IF(Sconti!$D$10=\"a\",55%,IF(Sconti!$D$10=\"b\",75%,IF(Sconti!$D$10=\"c\",79%)))","v":0.75},null,null,null,null,null,null,"55 kg",79,125.95,251.1,283.3,298.95,346.4,727.8,365.3,334.2]
[null,"60 kg",{"$f":"IF(Sconti!$D$10=\"a\",47%,IF(Sconti!$D$10=\"b\",70%,IF(Sconti!$D$10=\"c\",72%)))","v":0.7},{"$f":"IF(Sconti!$D$10=\"a\",47%,IF(Sconti!$D$10=\"b\",70%,IF(Sconti!$D$10=\"c\",72%)))","v":0.7},{"$f":"IF(Sconti!$D$10=\"a\",60%,IF(Sconti!$D$10=\"b\",80%,IF(Sconti!$D$10=\"c\",84%)))","v":0.8},{"$f":"IF(Sconti!$D$10=\"a\",60%,IF(Sconti!$D$10=\"b\",80%,IF(Sconti!$D$10=\"c\",84%)))","v":0.8},{"$f":"IF(Sconti!$D$10=\"a\",60%,IF(Sconti!$D$10=\"b\",80%,IF(Sconti!$D$10=\"c\",84%)))","v":0.8},{"$f":"IF(Sconti!$D$10=\"a\",60%,IF(Sconti!$D$10=\"b\",80%,IF(Sconti!$D$10=\"c\",84%)))","v":0.8},{"$f":"IF(Sconti!$D$10=\"a\",60%,IF(Sconti!$D$10=\"b\",80%,IF(Sconti!$D$10=\"c\",84%)))","v":0.8},{"$f":"IF(Sconti!$D$10=\"a\",55%,IF(Sconti!$D$10=\"b\",75%,IF(Sconti!$D$10=\"c\",79%)))","v":0.75},null,null,null,null,null,null,"60 kg",79,125.95,251.1,283.3,298.95,346.4,727.8,365.3,334.2]
[null,"65 kg",{"$f":"IF(Sconti!$D$10=\"a\",47%,IF(Sconti!$D$10=\"b\",70%,IF(Sconti!$D$10=\"c\",72%)))","v":0.7},{"$f":"IF(Sconti!$D$10=\"a\",47%,IF(Sconti!$D$10=\"b\",70%,IF(Sconti!$D$10=\"c\",72%)))","v":0.7},{"$f":"IF(Sconti!$D$10=\"a\",60%,IF(Sconti!$D$10=\"b\",80%,IF(Sconti!$D$10=\"c\",84%)))","v":0.8},{"$f":"IF(Sconti!$D$10=\"a\",60%,IF(Sconti!$D$10=\"b\",80%,IF(Sconti!$D$10=\"c\",84%)))","v":0.8},{"$f":"IF(Sconti!$D$10=\"a\",60%,IF(Sconti!$D$10=\"b\",80%,IF(Sconti!$D$10=\"c\",84%)))","v":0.8},{"$f":"IF(Sconti!$D$10=\"a\",60%,IF(Sconti!$D$10=\"b\",80%,IF(Sconti!$D$10=\"c\",84%)))","v":0.8},{"$f":"IF(Sconti!$D$10=\"a\",60%,IF(Sconti!$D$10=\"b\",80%,IF(Sconti!$D$10=\"c\",84%)))","v":0.8},{"$f":"IF(Sconti!$D$10=\"a\",55%,IF(Sconti!$D$10=\"b\",75%,IF(Sconti!$D$10=\"c\",79%)))","v":0.75},null,null,null,null,null,null,"65 kg",79,125.95,251.1,283.3,298.95,346.4,727.8,365.3,334.2]
[null,"70 kg",{"$f":"IF(Sconti!$D$10=\"a\",47%,IF(Sconti!$D$10=\"b\",70%,IF(Sconti!$D$10=\"c\",72%)))","v":0.7},{"$f":"IF(Sconti!$D$10=\"a\",47%,IF(Sconti!$D$10=\"b\",70%,IF(Sconti!$D$10=\"c\",72%)))","v":0.7},{"$f":"IF(Sconti!$D$10=\"a\",60%,IF(Sconti!$D$10=\"b\",80%,IF(Sconti!$D$10=\"c\",84%)))","v":0.8},{"$f":"IF(Sconti!$D$10=\"a\",60%,IF(Sconti!$D$10=\"b\",80%,IF(Sconti!$D$10=\"c\",84%)))","v":0.8},{"$f":"IF(Sconti!$D$10=\"a\",60%,IF(Sconti!$D$10=\"b\",80%,IF(Sconti!$D$10=\"c\",84%)))","v":0.8},{"$f":"IF(Sconti!$D$10=\"a\",60%,IF(Sconti!$D$10=\"b\",80%,IF(Sconti!$D$10=\"c\",84%)))","v":0.8},{"$f":"IF(Sconti!$D$10=\"a\",60%,IF(Sconti!$D$10=\"b\",80%,IF(Sconti!$D$10=\"c\",84%)))","v":0.8},{"$f":"IF(Sconti!$D$10=\"a\",55%,IF(Sconti!$D$10=\"b\",75%,IF(Sconti!$D$10=\"c\",79%)))","v":0.75},null,null,null,null,null,null,"70 kg",79,125.95,251.1,283.3,298.95,346.4,727.8,365.3,334.2]
[null,"Spedizioni Multiple",null,null,null,null,null,null,null,null,null,null,null,null,null,null,"Spedizioni Multiple"]
[null,"% Sconto","Zona","Zona","Zona","Zona","Zona","Zona","Zona","Zona",null,null,null,null,null,null,"€","Zona","Zona","Zona","Zona","Zona","Zona","Zona","Zona","Zona"]
[null,null,1,2,3,4,5,51,52,6,null,null,null,null,null,null,null,1,2,3,4,5,51,52,6,7]
[null,"MRPP",0.79600000000000004,0.84499999999999997,0.88800000000000001,0.88800000000000001,0.89400000000000002,0.89600000000000002,0.94399999999999995,0.78800000000000003,null,null,null,null,null,null,"MRPP",{"$f":"IF(C172=0,0,R173*(1-C172))","v":5.6507999999999985},{"$f":"IF(D172=0,0,S173*(1-D172))","v":5.6265000000000009},13.0984,13.395199999999997,13.414299999999997,13.389999999999997,13.445600000000011,{"$f":"IF(J172=0,0,Y173*(1-J172))","v":27.909799999999997},{"$f":"IF(K172=0,0,Z173*(1-K172))","v":0}]
[null,"5,0 kg",{"$f":"IF(Sconti!$D$10=\"a\",45%,IF(Sconti!$D$10=\"b\",68%,IF(Sconti!$D$10=\"c\",70%)))","v":0.68},{"$f":"IF(Sconti!$D$10=\"a\",45%,IF(Sconti!$D$10=\"b\",68%,IF(Sconti!$D$10=\"c\",70%)))","v":0.68},{"$f":"IF(Sconti!$D$10=\"a\",60%,IF(Sconti!$D$10=\"b\",80%,IF(Sconti!$D$10=\"c\",84%)))","v":0.8},{"$f":"IF(Sconti!$D$10=\"a\",60%,IF(Sconti!$D$10=\"b\",80%,IF(Sconti!$D$10=\"c\",84%)))","v":0.8},{"$f":"IF(Sconti!$D$10=\"a\",60%,IF(Sconti!$D$10=\"b\",80%,IF(Sconti!$D$10=\"c\",84%)))","v":0.8},{"$f":"IF(Sconti!$D$10=\"a\",60%,IF(Sconti!$D$10=\"b\",80%,IF(Sconti!$D$10=\"c\",84%)))","v":0.8},{"$f":"IF(Sconti!$D$10=\"a\",60%,IF(Sconti!$D$10=\"b\",80%,IF(Sconti!$D$10=\"c\",84%)))","v":0.8},{"$f":"IF(Sconti!$D$10=\"a\",55%,IF(Sconti!$D$10=\"b\",75%,IF(Sconti!$D$10=\"c\",79%)))","v":0.75},null,null,null,null,null,null,"5,0 kg",27.7,36.299999999999997,116.95,119.6,126.55,128.75,240.1,131.65,134.25]
[null,"10 kg",{"$f":"IF(Sconti!$D$10=\"a\",45%,IF(Sconti!$D$10=\"b\",68%,IF(Sconti!$D$10=\"c\",70%)))","v":0.68},{"$f":"IF(Sconti!$D$10=\"a\",45%,IF(Sconti!$D$10=\"b\",68%,IF(Sconti!$D$10=\"c\",70%)))","v":0.68},{"$f":"IF(Sconti!$D$10=\"a\",60%,IF(Sconti!$D$10=\"b\",80%,IF(Sconti!$D$10=\"c\",84%)))","v":0.8},{"$f":"IF(Sconti!$D$10=\"a\",60%,IF(Sconti!$D$10=\"b\",80%,IF(Sconti!$D$10=\"c\",84%)))","v":0.8},{"$f":"IF(Sconti!$D$10=\"a\",60%,IF(Sconti!$D$10=\"b\",80%,IF(Sconti!$D$10=\"c\",84%)))","v":0.8},{"$f":"IF(Sconti!$D$10=\"a\",60%,IF(Sconti!$D$10=\"b\",80%,IF(Sconti!$D$10=\"c\",84%)))","v":0.8},{"$f":"IF(Sconti!$D$10=\"a\",60%,IF(Sconti!$D$10=\"b\",80%,IF(Sconti!$D$10=\"c\",84%)))","v":0.8},{"$f":"IF(Sconti!$D$10=\"a\",55%,IF(Sconti!$D$10=\"b\",75%,IF(Sconti!$D$10=\"c\",79%)))","v":0.75},null,null,null,null,null,null,"10 kg",31.3,42.35,172.65,177.75,186,190.05,394.15,192.4,196.25]
[null,"15 kg",{"$f":"IF(Sconti!$D$10=\"a\",45%,IF(Sconti!$D$10=\"b\",68%,IF(Sconti!$D$10=\"c\",70%)))","v":0.68},{"$f":"IF(Sconti!$D$10=\"a\",45%,IF(Sconti!$D$10=\"b\",68%,IF(Sconti!$D$10=\"c\",70%)))","v":0.68},{"$f":"IF(Sconti!$D$10=\"a\",60%,IF(Sconti!$D$10=\"b\",80%,IF(Sconti!$D$10=\"c\",84%)))","v":0.8},{"$f":"IF(Sconti!$D$10=\"a\",60%,IF(Sconti!$D$10=\"b\",80%,IF(Sconti!$D$10=\"c\",84%)))","v":0.8},{"$f":"IF(Sconti!$D$10=\"a\",60%,IF(Sconti!$D$10=\"b\",80%,IF(Sconti!$D$10=\"c\",84%)))","v":0.8},{"$f":"IF(Sconti!$D$10=\"a\",60%,IF(Sconti!$D$10=\"b\",80%,IF(Sconti!$D$10=\"c\",84%)))","v":0.8},{"$f":"IF(Sconti!$D$10=\"a\",60%,IF(Sconti!$D$10=\"b\",80%,IF(Sconti!$D$10=\"c\",84%)))","v":0.8},{"$f":"IF(Sconti!$D$10=\"a\",55%,IF(Sconti!$D$10=\"b\",75%,IF(Sconti!$D$10=\"c\",79%)))","v":0.75},null,null,null,null,null,null,"15 kg",33.799999999999997,50.7,180.3,187.6,197.85,221,444.55,231.6,234]
[null,"20 kg",{"$f":"IF(Sconti!$D$10=\"a\",45%,IF(Sconti!$D$10=\"b\",68%,IF(Sconti!$D$10=\"c\",70%)))","v":0.68},{"$f":"IF(Sconti!$D$10=\"a\",45%,IF(Sconti!$D$10=\"b\",68%,IF(Sconti!$D$10=\"c\",70%)))","v":0.68},{"$f":"IF(Sconti!$D$10=\"a\",60%,IF(Sconti!$D$10=\"b\",80%,IF(Sconti!$D$10=\"c\",84%)))","v":0.8},{"$f":"IF(Sconti!$D$10=\"a\",60%,IF(Sconti!$D$10=\"b\",80%,IF(Sconti!$D$10=\"c\",84%)))","v":0.8},{"$f":"IF(Sconti!$D$10=\"a\",60%,IF(Sconti!$D$10=\"b\",80%,IF(Sconti!$D$10=\"c\",84%)))","v":0.8},{"$f":"IF(Sconti!$D$10=\"a\",60%,IF(Sconti!$D$10=\"b\",80%,IF(Sconti!$D$10=\"c\",84%)))","v":0.8},{"$f":"IF(Sconti!$D$10=\"a\",60%,IF(Sconti!$D$10=\"b\",80%,IF(Sconti!$D$10=\"c\",84%)))","v":0.8},{"$f":"IF(Sconti!$D$10=\"a\",55%,IF(Sconti!$D$10=\"b\",75%,IF(Sconti!$D$10=\"c\",79%)))","v":0.75},null,null,null,null,null,null,"20 kg",33.799999999999997,50.7,180.3,193.9,205,229.2,452.9,240,244.85]
[null,"25 kg",{"$f":"IF(Sconti!$D$10=\"a\",45%,IF(Sconti!$D$10=\"b\",68%,IF(Sconti!$D$10=\"c\",70%)))","v":0.68},{"$f":"IF(Sconti!$D$10=\"a\",45%,IF(Sconti!$D$10=\"b\",68%,IF(Sconti!$D$10=\"c\",70%)))","v":0.68},{"$f":"IF(Sconti!$D$10=\"a\",60%,IF(Sconti!$D$10=\"b\",80%,IF(Sconti!$D$10=\"c\",84%)))","v":0.8},{"$f":"IF(Sconti!$D$10=\"a\",60%,IF(Sconti!$D$10=\"b\",80%,IF(Sconti!$D$10=\"c\",84%)))","v":0.8},{"$f":"IF(Sconti!$D$10=\"a\",60%,IF(Sconti!$D$10=\"b\",80%,IF(Sconti!$D$10=\"c\",84%)))","v":0.8},{"$f":"IF(Sconti!$D$10=\"a\",60%,IF(Sconti!$D$10=\"b\",80%,IF(Sconti!$D$10=\"c\",84%)))","v":0.8},{"$f":"IF(Sconti!$D$10=\"a\",60%,IF(Sconti!$D$10=\"b\",80%,IF(Sconti!$D$10=\"c\",84%)))","v":0.8},{"$f":"IF(Sconti!$D$10=\"a\",55%,IF(Sconti!$D$10=\"b\",75%,IF(Sconti!$D$10=\"c\",79%)))","v":0.75},null,null,null,null,null,null,"25 kg",44.6,67.5,191.4,202.85,215.6,249.95,505.75,265.14999999999998,270.39999999999998]
[null,"30 kg",{"$f":"IF(Sconti!$D$10=\"a\",45%,IF(Sconti!$D$10=\"b\",68%,IF(Sconti!$D$10=\"c\",70%)))","v":0.68},{"$f":"IF(Sconti!$D$10=\"a\",45%,IF(Sconti!$D$10=\"b\",68%,IF(Sconti!$D$10=\"c\",70%)))","v":0.68},{"$f":"IF(Sconti!$D$10=\"a\",60%,IF(Sconti!$D$10=\"b\",80%,IF(Sconti!$D$10=\"c\",84%)))","v":0.8},{"$f":"IF(Sconti!$D$10=\"a\",60%,IF(Sconti!$D$10=\"b\",80%,IF(Sconti!$D$10=\"c\",84%)))","v":0.8},{"$f":"IF(Sconti!$D$10=\"a\",60%,IF(Sconti!$D$10=\"b\",80%,IF(Sconti!$D$10=\"c\",84%)))","v":0.8},{"$f":"IF(Sconti!$D$10=\"a\",60%,IF(Sconti!$D$10=\"b\",80%,IF(Sconti!$D$10=\"c\",84%)))","v":0.8},{"$f":"IF(Sconti!$D$10=\"a\",60%,IF(Sconti!$D$10=\"b\",80%,IF(Sconti!$D$10=\"c\",84%)))","v":0.8},{"$f":"IF(Sconti!$D$10=\"a\",55%,IF(Sconti!$D$10=\"b\",75%,IF(Sconti!$D$10=\"c\",79%)))","v":0.75},null,null,null,null,null,null,"30 kg",44.6,67.5,191.4,202.85,215.6,249.95,505.75,265.14999999999998,270.39999999999998]
[null,"40 kg",{"$f":"IF(Sconti!$D$10=\"a\",45%,IF(Sconti!$D$10=\"b\",68%,IF(Sconti!$D$10=\"c\",70%)))","v":0.68},{"$f":"IF(Sconti!$D$10=\"a\",45%,IF(Sconti!$D$10=\"b\",68%,IF(Sconti!$D$10=\"c\",70%)))","v":0.68},{"$f":"IF(Sconti!$D$10=\"a\",60%,IF(Sconti!$D$10=\"b\",80%,IF(Sconti!$D$10=\"c\",84%)))","v":0.8},{"$f":"IF(Sconti!$D$10=\"a\",60%,IF(Sconti!$D$10=\"b\",80%,IF(Sconti!$D$10=\"c\",84%)))","v":0.8},{"$f":"IF(Sconti!$D$10=\"a\",60%,IF(Sconti!$D$10=\"b\",80%,IF(Sconti!$D$10=\"c\",84%)))","v":0.8},{"$f":"IF(Sconti!$D$10=\"a\",60%,IF(Sconti!$D$10=\"b\",80%,IF(Sconti!$D$10=\"c\",84%)))","v":0.8},{"$f":"IF(Sconti!$D$10=\"a\",60%,IF(Sconti!$D$10=\"b\",80%,IF(Sconti!$D$10=\"c\",84%)))","v":0.8},{"$f":"IF(Sconti!$D$10=\"a\",55%,IF(Sconti!$D$10=\"b\",75%,IF(Sconti!$D$10=\"c\",79%)))","v":0.75},null,null,null,null,null,null,"40 kg",55.35,84.25,197.4,213.45,225.15,269.39999999999998,556.25,288.60000000000002,294.35000000000002]
[null,"50 kg",{"$f":"IF(Sconti!$D$10=\"a\",45%,IF(Sconti!$D$10=\"b\",68%,IF(Sconti!$D$10=\"c\",70%)))","v":0.68},{"$f":"IF(Sconti!$D$10=\"a\",45%,IF(Sconti!$D$10=\"b\",68%,IF(Sconti!$D$10=\"c\",70%)))","v":0.68},{"$f":"IF(Sconti!$D$10=\"a\",60%,IF(Sconti!$D$10=\"b\",80%,IF(Sconti!$D$10=\"c\",84%)))","v":0.8},{"$f":"IF(Sconti!$D$10=\"a\",60%,IF(Sconti!$D$10=\"b\",80%,IF(Sconti!$D$10=\"c\",84%)))","v":0.8},{"$f":"IF(Sconti!$D$10=\"a\",60%,IF(Sconti!$D$10=\"b\",80%,IF(Sconti!$D$10=\"c\",84%)))","v":0.8},{"$f":"IF(Sconti!$D$10=\"a\",60%,IF(Sconti!$D$10=\"b\",80%,IF(Sconti!$D$10=\"c\",84%)))","v":0.8},{"$f":"IF(Sconti!$D$10=\"a\",60%,IF(Sconti!$D$10=\"b\",80%,IF(Sconti!$D$10=\"c\",84%)))","v":0.8},{"$f":"IF(Sconti!$D$10=\"a\",55%,IF(Sconti!$D$10=\"b\",75%,IF(Sconti!$D$10=\"c\",79%)))","v":0.75},null,null,null,null,null,null,"50 kg",65.849999999999994,100.8,224.3,240.4,252.25,292.45,607.15,312.39999999999998,318.7]
[null,"60 kg",{"$f":"IF(Sconti!$D$10=\"a\",45%,IF(Sconti!$D$10=\"b\",68%,IF(Sconti!$D$10=\"c\",70%)))","v":0.68},{"$f":"IF(Sconti!$D$10=\"a\",45%,IF(Sconti!$D$10=\"b\",68%,IF(Sconti!$D$10=\"c\",70%)))","v":0.68},{"$f":"IF(Sconti!$D$10=\"a\",60%,IF(Sconti!$D$10=\"b\",80%,IF(Sconti!$D$10=\"c\",84%)))","v":0.8},{"$f":"IF(Sconti!$D$10=\"a\",60%,IF(Sconti!$D$10=\"b\",80%,IF(Sconti!$D$10=\"c\",84%)))","v":0.8},{"$f":"IF(Sconti!$D$10=\"a\",60%,IF(Sconti!$D$10=\"b\",80%,IF(Sconti!$D$10=\"c\",84%)))","v":0.8},{"$f":"IF(Sconti!$D$10=\"a\",60%,IF(Sconti!$D$10=\"b\",80%,IF(Sconti!$D$10=\"c\",84%)))","v":0.8},{"$f":"IF(Sconti!$D$10=\"a\",60%,IF(Sconti!$D$10=\"b\",80%,IF(Sconti!$D$10=\"c\",84%)))","v":0.8},{"$f":"IF(Sconti!$D$10=\"a\",55%,IF(Sconti!$D$10=\"b\",75%,IF(Sconti!$D$10=\"c\",79%)))","v":0.75},null,null,null,null,null,null,"60 kg",87.25,125.65,251.35,286.45,299.89999999999998,346.35,728.05,365.05,343.7]
[null,"70 kg",{"$f":"IF(Sconti!$D$10=\"a\",45%,IF(Sconti!$D$10=\"b\",68%,IF(Sconti!$D$10=\"c\",70%)))","v":0.68},{"$f":"IF(Sconti!$D$10=\"a\",45%,IF(Sconti!$D$10=\"b\",68%,IF(Sconti!$D$10=\"c\",70%)))","v":0.68},{"$f":"IF(Sconti!$D$10=\"a\",60%,IF(Sconti!$D$10=\"b\",80%,IF(Sconti!$D$10=\"c\",84%)))","v":0.8},{"$f":"IF(Sconti!$D$10=\"a\",60%,IF(Sconti!$D$10=\"b\",80%,IF(Sconti!$D$10=\"c\",84%)))","v":0.8},{"$f":"IF(Sconti!$D$10=\"a\",60%,IF(Sconti!$D$10=\"b\",80%,IF(Sconti!$D$10=\"c\",84%)))","v":0.8},{"$f":"IF(Sconti!$D$10=\"a\",60%,IF(Sconti!$D$10=\"b\",80%,IF(Sconti!$D$10=\"c\",84%)))","v":0.8},{"$f":"IF(Sconti!$D$10=\"a\",60%,IF(Sconti!$D$10=\"b\",80%,IF(Sconti!$D$10=\"c\",84%)))","v":0.8},{"$f":"IF(Sconti!$D$10=\"a\",55%,IF(Sconti!$D$10=\"b\",75%,IF(Sconti!$D$10=\"c\",79%)))","v":0.75},null,null,null,null,null,null,"70 kg",87.25,125.65,251.35,291.75,305.25,346.35,754.3,365.05,343.7]
[null,"80 kg",{"$f":"IF(Sconti!$D$10=\"a\",45%,IF(Sconti!$D$10=\"b\",68%,IF(Sconti!$D$10=\"c\",70%)))","v":0.68},{"$f":"IF(Sconti!$D$10=\"a\",45%,IF(Sconti!$D$10=\"b\",68%,IF(Sconti!$D$10=\"c\",70%)))","v":0.68},{"$f":"IF(Sconti!$D$10=\"a\",60%,IF(Sconti!$D$10=\"b\",80%,IF(Sconti!$D$10=\"c\",84%)))","v":0.8},{"$f":"IF(Sconti!$D$10=\"a\",60%,IF(Sconti!$D$10=\"b\",80%,IF(Sconti!$D$10=\"c\",84%)))","v":0.8},{"$f":"IF(Sconti!$D$10=\"a\",60%,IF(Sconti!$D$10=\"b\",80%,IF(Sconti!$D$10=\"c\",84%)))","v":0.8},{"$f":"IF(Sconti!$D$10=\"a\",60%,IF(Sconti!$D$10=\"b\",80%,IF(Sconti!$D$10=\"c\",84%)))","v":0.8},{"$f":"IF(Sconti!$D$10=\"a\",60%,IF(Sconti!$D$10=\"b\",80%,IF(Sconti!$D$10=\"c\",84%)))","v":0.8},{"$f":"IF(Sconti!$D$10=\"a\",55%,IF(Sconti!$D$10=\"b\",75%,IF(Sconti!$D$10=\"c\",79%)))","v":0.75},null,null,null,null,null,null,"80 kg",116.6,161.6,278.14999999999998,331.15,346.85,449.7,971.25,484.7,414.25]
[null,"90 kg",{"$f":"IF(Sconti!$D$10=\"a\",45%,IF(Sconti!$D$10=\"b\",68%,IF(Sconti!$D$10=\"c\",70%)))","v":0.68},{"$f":"IF(Sconti!$D$10=\"a\",45%,IF(Sconti!$D$10=\"b\",68%,IF(Sconti!$D$10=\"c\",70%)))","v":0.68},{"$f":"IF(Sconti!$D$10=\"a\",60%,IF(Sconti!$D$10=\"b\",80%,IF(Sconti!$D$10=\"c\",84%)))","v":0.8},{"$f":"IF(Sconti!$D$10=\"a\",60%,IF(Sconti!$D$10=\"b\",80%,IF(Sconti!$D$10=\"c\",84%)))","v":0.8},{"$f":"IF(Sconti!$D$10=\"a\",60%,IF(Sconti!$D$10=\"b\",80%,IF(Sconti!$D$10=\"c\",84%)))","v":0.8},{"$f":"IF(Sconti!$D$10=\"a\",60%,IF(Sconti!$D$10=\"b\",80%,IF(Sconti!$D$10=\"c\",84%)))","v":0.8},{"$f":"IF(Sconti!$D$10=\"a\",60%,IF(Sconti!$D$10=\"b\",80%,IF(Sconti!$D$10=\"c\",84%)))","v":0.8},{"$f":"IF(Sconti!$D$10=\"a\",55%,IF(Sconti!$D$10=\"b\",75%,IF(Sconti!$D$10=\"c\",79%)))","v":0.75},null,null,null,null,null,null,"90 kg",116.6,161.6,278.14999999999998,331.15,346.85,449.7,971.25,484.7,414.25]
[null,"100 kg",{"$f":"IF(Sconti!$D$10=\"a\",45%,IF(Sconti!$D$10=\"b\",68%,IF(Sconti!$D$10=\"c\",70%)))","v":0.68},{"$f":"IF(Sconti!$D$10=\"a\",45%,IF(Sconti!$D$10=\"b\",68%,IF(Sconti!$D$10=\"c\",70%)))","v":0.68},{"$f":"IF(Sconti!$D$10=\"a\",60%,IF(Sconti!$D$10=\"b\",80%,IF(Sconti!$D$10=\"c\",84%)))","v":0.8},{"$f":"IF(Sconti!$D$10=\"a\",60%,IF(Sconti!$D$10=\"b\",80%,IF(Sconti!$D$10=\"c\",84%)))","v":0.8},{"$f":"IF(Sconti!$D$10=\"a\",60%,IF(Sconti!$D$10=\"b\",80%,IF(Sconti!$D$10=\"c\",84%)))","v":0.8},{"$f":"IF(Sconti!$D$10=\"a\",60%,IF(Sconti!$D$10=\"b\",80%,IF(Sconti!$D$10=\"c\",84%)))","v":0.8},{"$f":"IF(Sconti!$D$10=\"a\",60%,IF(Sconti!$D$10=\"b\",80%,IF(Sconti!$D$10=\"c\",84%)))","v":0.8},{"$f":"IF(Sconti!$D$10=\"a\",55%,IF(Sconti!$D$10=\"b\",75%,IF(Sconti!$D$10=\"c\",79%)))","v":0.75},null,null,null,null,null,null,"100 kg",116.6,161.6,278.14999999999998,331.15,346.85,449.7,971.25,484.7,414.25]
[null,"120 kg",{"$f":"IF(Sconti!$D$10=\"a\",45%,IF(Sconti!$D$10=\"b\",68%,IF(Sconti!$D$10=\"c\",70%)))","v":0.68},{"$f":"IF(Sconti!$D$10=\"a\",45%,IF(Sconti!$D$10=\"b\",68%,IF(Sconti!$D$10=\"c\",70%)))","v":0.68},{"$f":"IF(Sconti!$D$10=\"a\",60%,IF(Sconti!$D$10=\"b\",80%,IF(Sconti!$D$10=\"c\",84%)))","v":0.8},{"$f":"IF(Sconti!$D$10=\"a\",60%,IF(Sconti!$D$10=\"b\",80%,IF(Sconti!$D$10=\"c\",84%)))","v":0.8},{"$f":"IF(Sconti!$D$10=\"a\",60%,IF(Sconti!$D$10=\"b\",80%,IF(Sconti!$D$10=\"c\",84%)))","v":0.8},{"$f":"IF(Sconti!$D$10=\"a\",60%,IF(Sconti!$D$10=\"b\",80%,IF(Sconti!$D$10=\"c\",84%)))","v":0.8},{"$f":"IF(Sconti!$D$10=\"a\",60%,IF(Sconti!$D$10=\"b\",80%,IF(Sconti!$D$10=\"c\",84%)))","v":0.8},{"$f":"IF(Sconti!$D$10=\"a\",55%,IF(Sconti!$D$10=\"b\",75%,IF(Sconti!$D$10=\"c\",79%)))","v":0.75},null,null,null,null,null,null,"120 kg",139.6,237.1,333.7,397.25,416.05,539.25,1165.4000000000001,581.35,592.95000000000005]
[null,"140 kg",{"$f":"IF(Sconti!$D$10=\"a\",45%,IF(Sconti!$D$10=\"b\",68%,IF(Sconti!$D$10=\"c\",70%)))","v":0.68},{"$f":"IF(Sconti!$D$10=\"a\",45%,IF(Sconti!$D$10=\"b\",68%,IF(Sconti!$D$10=\"c\",70%)))","v":0.68},{"$f":"IF(Sconti!$D$10=\"a\",60%,IF(Sconti!$D$10=\"b\",80%,IF(Sconti!$D$10=\"c\",84%)))","v":0.8},{"$f":"IF(Sconti!$D$10=\"a\",60%,IF(Sconti!$D$10=\"b\",80%,IF(Sconti!$D$10=\"c\",84%)))","v":0.8},{"$f":"IF(Sconti!$D$10=\"a\",60%,IF(Sconti!$D$10=\"b\",80%,IF(Sconti!$D$10=\"c\",84%)))","v":0.8},{"$f":"IF(Sconti!$D$10=\"a\",60%,IF(Sconti!$D$10=\"b\",80%,IF(Sconti!$D$10=\"c\",84%)))","v":0.8},{"$f":"IF(Sconti!$D$10=\"a\",60%,IF(Sconti!$D$10=\"b\",80%,IF(Sconti!$D$10=\"c\",84%)))","v":0.8},{"$f":"IF(Sconti!$D$10=\"a\",55%,IF(Sconti!$D$10=\"b\",75%,IF(Sconti!$D$10=\"c\",79%)))","v":0.75},null,null,null,null,null,null,"140 kg",162.85,276.55,389.2,463.15,485.2,629.04999999999995,1359.6,677.8,691.4]
[null,"160 kg",{"$f":"IF(Sconti!$D$10=\"a\",45%,IF(Sconti!$D$10=\"b\",68%,IF(Sconti!$D$10=\"c\",70%)))","v":0.68},{"$f":"IF(Sconti!$D$10=\"a\",45%,IF(Sconti!$D$10=\"b\",68%,IF(Sconti!$D$10=\"c\",70%)))","v":0.68},{"$f":"IF(Sconti!$D$10=\"a\",60%,IF(Sconti!$D$10=\"b\",80%,IF(Sconti!$D$10=\"c\",84%)))","v":0.8},{"$f":"IF(Sconti!$D$10=\"a\",60%,IF(Sconti!$D$10=\"b\",80%,IF(Sconti!$D$10=\"c\",84%)))","v":0.8},{"$f":"IF(Sconti!$D$10=\"a\",60%,IF(Sconti!$D$10=\"b\",80%,IF(Sconti!$D$10=\"c\",84%)))","v":0.8},{"$f":"IF(Sconti!$D$10=\"a\",60%,IF(Sconti!$D$10=\"b\",80%,IF(Sconti!$D$10=\"c\",84%)))","v":0.8},{"$f":"IF(Sconti!$D$10=\"a\",60%,IF(Sconti!$D$10=\"b\",80%,IF(Sconti!$D$10=\"c\",84%)))","v":0.8},{"$f":"IF(Sconti!$D$10=\"a\",55%,IF(Sconti!$D$10=\"b\",75%,IF(Sconti!$D$10=\"c\",79%)))","v":0.75},null,null,null,null,null,null,"160 kg",186.1,316,444.65,529.25,554.1,718.9,1553.7,774.35,789.85]
[null,"180 kg",{"$f":"IF(Sconti!$D$10=\"a\",45%,IF(Sconti!$D$10=\"b\",68%,IF(Sconti!$D$10=\"c\",70%)))","v":0.68},{"$f":"IF(Sconti!$D$10=\"a\",45%,IF(Sconti!$D$10=\"b\",68%,IF(Sconti!$D$10=\"c\",70%)))","v":0.68},{"$f":"IF(Sconti!$D$10=\"a\",60%,IF(Sconti!$D$10=\"b\",80%,IF(Sconti!$D$10=\"c\",84%)))","v":0.8},{"$f":"IF(Sconti!$D$10=\"a\",60%,IF(Sconti!$D$10=\"b\",80%,IF(Sconti!$D$10=\"c\",84%)))","v":0.8},{"$f":"IF(Sconti!$D$10=\"a\",60%,IF(Sconti!$D$10=\"b\",80%,IF(Sconti!$D$10=\"c\",84%)))","v":0.8},{"$f":"IF(Sconti!$D$10=\"a\",60%,IF(Sconti!$D$10=\"b\",80%,IF(Sconti!$D$10=\"c\",84%)))","v":0.8},{"$f":"IF(Sconti!$D$10=\"a\",60%,IF(Sconti!$D$10=\"b\",80%,IF(Sconti!$D$10=\"c\",84%)))","v":0.8},{"$f":"IF(Sconti!$D$10=\"a\",55%,IF(Sconti!$D$10=\"b\",75%,IF(Sconti!$D$10=\"c\",79%)))","v":0.75},null,null,null,null,null,null,"180 kg",209.3,355.45,500.2,595.25,623.20000000000005,808.7,1747.8,870.9,888.3]
[null,"200 kg",{"$f":"IF(Sconti!$D$10=\"a\",45%,IF(Sconti!$D$10=\"b\",68%,IF(Sconti!$D$10=\"c\",70%)))","v":0.68},{"$f":"IF(Sconti!$D$10=\"a\",45%,IF(Sconti!$D$10=\"b\",68%,IF(Sconti!$D$10=\"c\",70%)))","v":0.68},{"$f":"IF(Sconti!$D$10=\"a\",60%,IF(Sconti!$D$10=\"b\",80%,IF(Sconti!$D$10=\"c\",84%)))","v":0.8},{"$f":"IF(Sconti!$D$10=\"a\",60%,IF(Sconti!$D$10=\"b\",80%,IF(Sconti!$D$10=\"c\",84%)))","v":0.8},{"$f":"IF(Sconti!$D$10=\"a\",60%,IF(Sconti!$D$10=\"b\",80%,IF(Sconti!$D$10=\"c\",84%)))","v":0.8},{"$f":"IF(Sconti!$D$10=\"a\",60%,IF(Sconti!$D$10=\"b\",80%,IF(Sconti!$D$10=\"c\",84%)))","v":0.8},{"$f":"IF(Sconti!$D$10=\"a\",60%,IF(Sconti!$D$10=\"b\",80%,IF(Sconti!$D$10=\"c\",84%)))","v":0.8},{"$f":"IF(Sconti!$D$10=\"a\",55%,IF(Sconti!$D$10=\"b\",75%,IF(Sconti!$D$10=\"c\",79%)))","v":0.75},null,null,null,null,null,null,"200 kg",232.45,394.9,555.75,661.25,692.4,898.5,1941.85,967.3,986.65]
[null,"Oltre 200 Kg",null,null,null,null,null,null,null,null,null,null,null,null,null,null,"Oltre 200 Kg"]
[null,"Prezzo al Kg",{"$f":"IF(Sconti!$D$10=\"a\",45%,IF(Sconti!$D$10=\"b\",68%,IF(Sconti!$D$10=\"c\",70%)))","v":0.68},{"$f":"IF(Sconti!$D$10=\"a\",45%,IF(Sconti!$D$10=\"b\",68%,IF(Sconti!$D$10=\"c\",70%)))","v":0.68},{"$f":"IF(Sconti!$D$10=\"a\",60%,IF(Sconti!$D$10=\"b\",80%,IF(Sconti!$D$10=\"c\",84%)))","v":0.8},{"$f":"IF(Sconti!$D$10=\"a\",60%,IF(Sconti!$D$10=\"b\",80%,IF(Sconti!$D$10=\"c\",84%)))","v":0.8},{"$f":"IF(Sconti!$D$10=\"a\",60%,IF(Sconti!$D$10=\"b\",80%,IF(Sconti!$D$10=\"c\",84%)))","v":0.8},{"$f":"IF(Sconti!$D$10=\"a\",60%,IF(Sconti!$D$10=\"b\",80%,IF(Sconti!$D$10=\"c\",84%)))","v":0.8},{"$f":"IF(Sconti!$D$10=\"a\",60%,IF(Sconti!$D$10=\"b\",80%,IF(Sconti!$D$10=\"c\",84%)))","v":0.8},{"$f":"IF(Sconti!$D$10=\"a\",55%,IF(Sconti!$D$10=\"b\",75%,IF(Sconti!$D$10=\"c\",79%)))","v":0.75},null,null,null,null,null,null,"Prezzo al Kg",1.1599999999999999,1.97,2.77,3.3,3.46,4.49,9.6999999999999993,4.83,4.93]
[null,"Tariffa Minima",{"$f":"IF(Sconti!$D$10=\"a\",45%,IF(Sconti!$D$10=\"b\",68%,IF(Sconti!$D$10=\"c\",70%)))","v":0.68},{"$f":"IF(Sconti!$D$10=\"a\",45%,IF(Sconti!$D$10=\"b\",68%,IF(Sconti!$D$10=\"c\",70%)))","v":0.68},{"$f":"IF(Sconti!$D$10=\"a\",60%,IF(Sconti!$D$10=\"b\",80%,IF(Sconti!$D$10=\"c\",84%)))","v":0.8},{"$f":"IF(Sconti!$D$10=\"a\",60%,IF(Sconti!$D$10=\"b\",80%,IF(Sconti!$D$10=\"c\",84%)))","v":0.8},{"$f":"IF(Sconti!$D$10=\"a\",60%,IF(Sconti!$D$10=\"b\",80%,IF(Sconti!$D$10=\"c\",84%)))","v":0.8},{"$f":"IF(Sconti!$D$10=\"a\",60%,IF(Sconti!$D$10=\"b\",80%,IF(Sconti!$D$10=\"c\",84%)))","v":0.8},{"$f":"IF(Sconti!$D$10=\"a\",60%,IF(Sconti!$D$10=\"b\",80%,IF(Sconti!$D$10=\"c\",84%)))","v":0.8},{"$f":"IF(Sconti!$D$10=\"a\",55%,IF(Sconti!$D$10=\"b\",75%,IF(Sconti!$D$10=\"c\",79%)))","v":0.75},null,null,null,null,null,null,"Tariffa Minima",232.45,394.9,555.75,661.25,692.4,898.5,1941.85,967.3,986.65]
[]
[]
[null,"Servizio UPS Expedited - Inserimento percentuali di sconto",null,null,null,null,null,null,null,null,null,null,null,null,null,null,"Servizio UPS Expedited - Tariffe di listino"]
[]
[null,"Pacchi",null,null,null,null,null,null,null,null,null,null,null,null,null,null,null,"Pacchi"]
[null,"% Sconto","Zona","Zona","Zona","Zona","Zona","Zona",null,null,null,null,null,null,null,null,null,"€","Zona","Zona","Zona","Zona","Zona","Zona","Zona"]
[null,null,101,"2     ","4     ","5     ",6,7,null,null,null,null,null,null,null,null,null,null,1,101,"2     ","4     ","5     ",6,7]
[null,"MRS",0,0,0,0,0,0,null,null,null,null,null,null,null,null,null,"MRS",{"$f":"IF(C201=0,0,S202*(1-C201))","v":0},0,0,0,0,0,0]
[null,"1,0 kg",{"$f":"IF(Sconti!$D$10=\"a\",50%,IF(Sconti!$D$10=\"b\",65%,IF(Sconti!$D$10=\"c\",70%)))","v":0.65},{"$f":"IF(Sconti!$D$10=\"a\",50%,IF(Sconti!$D$10=\"b\",65%,IF(Sconti!$D$10=\"c\",70%)))","v":0.65},{"$f":"IF(Sconti!$D$10=\"a\",50%,IF(Sconti!$D$10=\"b\",65%,IF(Sconti!$D$10=\"c\",70%)))","v":0.65},{"$f":"IF(Sconti!$D$10=\"a\",50%,IF(Sconti!$D$10=\"b\",65%,IF(Sconti!$D$10=\"c\",70%)))","v":0.65},{"$f":"IF(Sconti!$D$10=\"a\",50%,IF(Sconti!$D$10=\"b\",65%,IF(Sconti!$D$10=\"c\",70%)))","v":0.65},{"$f":"IF(Sconti!$D$10=\"a\",50%,IF(Sconti!$D$10=\"b\",65%,IF(Sconti!$D$10=\"c\",70%)))","v":0.65},null,null,null,null,null,null,null,null,null,"1,0 kg",65,169.05,78.5,125.1,126.3,171.4,86.55]
[null,"2,0 kg",{"$f":"IF(Sconti!$D$10=\"a\",50%,IF(Sconti!$D$10=\"b\",65%,IF(Sconti!$D$10=\"c\",70%)))","v":0.65},{"$f":"IF(Sconti!$D$10=\"a\",50%,IF(Sconti!$D$10=\"b\",65%,IF(Sconti!$D$10=\"c\",70%)))","v":0.65},{"$f":"IF(Sconti!$D$10=\"a\",50%,IF(Sconti!$D$10=\"b\",65%,IF(Sconti!$D$10=\"c\",70%)))","v":0.65},{"$f":"IF(Sconti!$D$10=\"a\",50%,IF(Sconti!$D$10=\"b\",65%,IF(Sconti!$D$10=\"c\",70%)))","v":0.65},{"$f":"IF(Sconti!$D$10=\"a\",50%,IF(Sconti!$D$10=\"b\",65%,IF(Sconti!$D$10=\"c\",70%)))","v":0.65},{"$f":"IF(Sconti!$D$10=\"a\",50%,IF(Sconti!$D$10=\"b\",65%,IF(Sconti!$D$10=\"c\",70%)))","v":0.65},null,null,null,null,null,null,null,null,null,"2,0 kg",83.5,202,98.1,162.1,163.30000000000001,207.9,111.45]
[null,"3,0 kg",{"$f":"IF(Sconti!$D$10=\"a\",50%,IF(Sconti!$D$10=\"b\",65%,IF(Sconti!$D$10=\"c\",70%)))","v":0.65},{"$f":"IF(Sconti!$D$10=\"a\",50%,IF(Sconti!$D$10=\"b\",65%,IF(Sconti!$D$10=\"c\",70%)))","v":0.65},{"$f":"IF(Sconti!$D$10=\"a\",50%,IF(Sconti!$D$10=\"b\",65%,IF(Sconti!$D$10=\"c\",70%)))","v":0.65},{"$f":"IF(Sconti!$D$10=\"a\",50%,IF(Sconti!$D$10=\"b\",65%,IF(Sconti!$D$10=\"c\",70%)))","v":0.65},{"$f":"IF(Sconti!$D$10=\"a\",50%,IF(Sconti!$D$10=\"b\",65%,IF(Sconti!$D$10=\"c\",70%)))","v":0.65},{"$f":"IF(Sconti!$D$10=\"a\",50%,IF(Sconti!$D$10=\"b\",65%,IF(Sconti!$D$10=\"c\",70%)))","v":0.65},null,null,null,null,null,null,null,null,null,"3,0 kg",100.35,237.3,118.4,199.25,200.3,246.85,135]
[null,"4,0 kg",{"$f":"IF(Sconti!$D$10=\"a\",50%,IF(Sconti!$D$10=\"b\",65%,IF(Sconti!$D$10=\"c\",70%)))","v":0.65},{"$f":"IF(Sconti!$D$10=\"a\",50%,IF(Sconti!$D$10=\"b\",65%,IF(Sconti!$D$10=\"c\",70%)))","v":0.65},{"$f":"IF(Sconti!$D$10=\"a\",50%,IF(Sconti!$D$10=\"b\",65%,IF(Sconti!$D$10=\"c\",70%)))","v":0.65},{"$f":"IF(Sconti!$D$10=\"a\",50%,IF(Sconti!$D$10=\"b\",65%,IF(Sconti!$D$10=\"c\",70%)))","v":0.65},{"$f":"IF(Sconti!$D$10=\"a\",50%,IF(Sconti!$D$10=\"b\",65%,IF(Sconti!$D$10=\"c\",70%)))","v":0.65},{"$f":"IF(Sconti!$D$10=\"a\",50%,IF(Sconti!$D$10=\"b\",65%,IF(Sconti!$D$10=\"c\",70%)))","v":0.65},null,null,null,null,null,null,null,null,null,"4,0 kg",117,270.55,138.35,236.45,237.3,283.7,155.30000000000001]
[null,"5,0 kg",{"$f":"IF(Sconti!$D$10=\"a\",50%,IF(Sconti!$D$10=\"b\",65%,IF(Sconti!$D$10=\"c\",70%)))","v":0.65},{"$f":"IF(Sconti!$D$10=\"a\",50%,IF(Sconti!$D$10=\"b\",65%,IF(Sconti!$D$10=\"c\",70%)))","v":0.65},{"$f":"IF(Sconti!$D$10=\"a\",50%,IF(Sconti!$D$10=\"b\",65%,IF(Sconti!$D$10=\"c\",70%)))","v":0.65},{"$f":"IF(Sconti!$D$10=\"a\",50%,IF(Sconti!$D$10=\"b\",65%,IF(Sconti!$D$10=\"c\",70%)))","v":0.65},{"$f":"IF(Sconti!$D$10=\"a\",50%,IF(Sconti!$D$10=\"b\",65%,IF(Sconti!$D$10=\"c\",70%)))","v":0.65},{"$f":"IF(Sconti!$D$10=\"a\",50%,IF(Sconti!$D$10=\"b\",65%,IF(Sconti!$D$10=\"c\",70%)))","v":0.65},null,null,null,null,null,null,null,null,null,"5,0 kg",134,303.64999999999998,158,273.55,274.3,320.55,175.55]
[null,"6,0 kg",{"$f":"IF(Sconti!$D$10=\"a\",50%,IF(Sconti!$D$10=\"b\",65%,IF(Sconti!$D$10=\"c\",70%)))","v":0.65},{"$f":"IF(Sconti!$D$10=\"a\",50%,IF(Sconti!$D$10=\"b\",65%,IF(Sconti!$D$10=\"c\",70%)))","v":0.65},{"$f":"IF(Sconti!$D$10=\"a\",50%,IF(Sconti!$D$10=\"b\",65%,IF(Sconti!$D$10=\"c\",70%)))","v":0.65},{"$f":"IF(Sconti!$D$10=\"a\",50%,IF(Sconti!$D$10=\"b\",65%,IF(Sconti!$D$10=\"c\",70%)))","v":0.65},{"$f":"IF(Sconti!$D$10=\"a\",50%,IF(Sconti!$D$10=\"b\",65%,IF(Sconti!$D$10=\"c\",70%)))","v":0.65},{"$f":"IF(Sconti!$D$10=\"a\",50%,IF(Sconti!$D$10=\"b\",65%,IF(Sconti!$D$10=\"c\",70%)))","v":0.65},null,null,null,null,null,null,null,null,null,"6,0 kg",146,337,173.35,296,295,357.45,193]
[null,"7,0 kg",{"$f":"IF(Sconti!$D$10=\"a\",50%,IF(Sconti!$D$10=\"b\",65%,IF(Sconti!$D$10=\"c\",70%)))","v":0.65},{"$f":"IF(Sconti!$D$10=\"a\",50%,IF(Sconti!$D$10=\"b\",65%,IF(Sconti!$D$10=\"c\",70%)))","v":0.65},{"$f":"IF(Sconti!$D$10=\"a\",50%,IF(Sconti!$D$10=\"b\",65%,IF(Sconti!$D$10=\"c\",70%)))","v":0.65},{"$f":"IF(Sconti!$D$10=\"a\",50%,IF(Sconti!$D$10=\"b\",65%,IF(Sconti!$D$10=\"c\",70%)))","v":0.65},{"$f":"IF(Sconti!$D$10=\"a\",50%,IF(Sconti!$D$10=\"b\",65%,IF(Sconti!$D$10=\"c\",70%)))","v":0.65},{"$f":"IF(Sconti!$D$10=\"a\",50%,IF(Sconti!$D$10=\"b\",65%,IF(Sconti!$D$10=\"c\",70%)))","v":0.65},null,null,null,null,null,null,null,null,null,"7,0 kg",157.80000000000001,370.05,193.2,329,328,394.25,210.4]
[null,"8,0 kg",{"$f":"IF(Sconti!$D$10=\"a\",50%,IF(Sconti!$D$10=\"b\",65%,IF(Sconti!$D$10=\"c\",70%)))","v":0.65},{"$f":"IF(Sconti!$D$10=\"a\",50%,IF(Sconti!$D$10=\"b\",65%,IF(Sconti!$D$10=\"c\",70%)))","v":0.65},{"$f":"IF(Sconti!$D$10=\"a\",50%,IF(Sconti!$D$10=\"b\",65%,IF(Sconti!$D$10=\"c\",70%)))","v":0.65},{"$f":"IF(Sconti!$D$10=\"a\",50%,IF(Sconti!$D$10=\"b\",65%,IF(Sconti!$D$10=\"c\",70%)))","v":0.65},{"$f":"IF(Sconti!$D$10=\"a\",50%,IF(Sconti!$D$10=\"b\",65%,IF(Sconti!$D$10=\"c\",70%)))","v":0.65},{"$f":"IF(Sconti!$D$10=\"a\",50%,IF(Sconti!$D$10=\"b\",65%,IF(Sconti!$D$10=\"c\",70%)))","v":0.65},null,null,null,null,null,null,null,null,null,"8,0 kg",170.8,403.3,211.2,360,361,431.2,227.85]
[null,"9,0 kg",{"$f":"IF(Sconti!$D$10=\"a\",50%,IF(Sconti!$D$10=\"b\",65%,IF(Sconti!$D$10=\"c\",70%)))","v":0.65},{"$f":"IF(Sconti!$D$10=\"a\",50%,IF(Sconti!$D$10=\"b\",65%,IF(Sconti!$D$10=\"c\",70%)))","v":0.65},{"$f":"IF(Sconti!$D$10=\"a\",50%,IF(Sconti!$D$10=\"b\",65%,IF(Sconti!$D$10=\"c\",70%)))","v":0.65},{"$f":"IF(Sconti!$D$10=\"a\",50%,IF(Sconti!$D$10=\"b\",65%,IF(Sconti!$D$10=\"c\",70%)))","v":0.65},{"$f":"IF(Sconti!$D$10=\"a\",50%,IF(Sconti!$D$10=\"b\",65%,IF(Sconti!$D$10=\"c\",70%)))","v":0.65},{"$f":"IF(Sconti!$D$10=\"a\",50%,IF(Sconti!$D$10=\"b\",65%,IF(Sconti!$D$10=\"c\",70%)))","v":0.65},null,null,null,null,null,null,null,null,null,"9,0 kg",183.3,436.45,229,393,394,468.05,245.25]
[null,"10 kg",{"$f":"IF(Sconti!$D$10=\"a\",50%,IF(Sconti!$D$10=\"b\",65%,IF(Sconti!$D$10=\"c\",70%)))","v":0.65},{"$f":"IF(Sconti!$D$10=\"a\",50%,IF(Sconti!$D$10=\"b\",65%,IF(Sconti!$D$10=\"c\",70%)))","v":0.65},{"$f":"IF(Sconti!$D$10=\"a\",50%,IF(Sconti!$D$10=\"b\",65%,IF(Sconti!$D$10=\"c\",70%)))","v":0.65},{"$f":"IF(Sconti!$D$10=\"a\",50%,IF(Sconti!$D$10=\"b\",65%,IF(Sconti!$D$10=\"c\",70%)))","v":0.65},{"$f":"IF(Sconti!$D$10=\"a\",50%,IF(Sconti!$D$10=\"b\",65%,IF(Sconti!$D$10=\"c\",70%)))","v":0.65},{"$f":"IF(Sconti!$D$10=\"a\",50%,IF(Sconti!$D$10=\"b\",65%,IF(Sconti!$D$10=\"c\",70%)))","v":0.65},null,null,null,null,null,null,null,null,null,"10 kg",195.3,469.7,246.95,426,426,504.9,262.7]
[null,"11 kg",{"$f":"IF(Sconti!$D$10=\"a\",50%,IF(Sconti!$D$10=\"b\",65%,IF(Sconti!$D$10=\"c\",70%)))","v":0.65},{"$f":"IF(Sconti!$D$10=\"a\",50%,IF(Sconti!$D$10=\"b\",65%,IF(Sconti!$D$10=\"c\",70%)))","v":0.65},{"$f":"IF(Sconti!$D$10=\"a\",50%,IF(Sconti!$D$10=\"b\",65%,IF(Sconti!$D$10=\"c\",70%)))","v":0.65},{"$f":"IF(Sconti!$D$10=\"a\",50%,IF(Sconti!$D$10=\"b\",65%,IF(Sconti!$D$10=\"c\",70%)))","v":0.65},{"$f":"IF(Sconti!$D$10=\"a\",50%,IF(Sconti!$D$10=\"b\",65%,IF(Sconti!$D$10=\"c\",70%)))","v":0.65},{"$f":"IF(Sconti!$D$10=\"a\",50%,IF(Sconti!$D$10=\"b\",65%,IF(Sconti!$D$10=\"c\",70%)))","v":0.65},null,null,null,null,null,null,null,null,null,"11 kg",205.8,493.6,264.05,450,451,527.79999999999995,272]
[null,"12 kg",{"$f":"IF(Sconti!$D$10=\"a\",50%,IF(Sconti!$D$10=\"b\",65%,IF(Sconti!$D$10=\"c\",70%)))","v":0.65},{"$f":"IF(Sconti!$D$10=\"a\",50%,IF(Sconti!$D$10=\"b\",65%,IF(Sconti!$D$10=\"c\",70%)))","v":0.65},{"$f":"IF(Sconti!$D$10=\"a\",50%,IF(Sconti!$D$10=\"b\",65%,IF(Sconti!$D$10=\"c\",70%)))","v":0.65},{"$f":"IF(Sconti!$D$10=\"a\",50%,IF(Sconti!$D$10=\"b\",65%,IF(Sconti!$D$10=\"c\",70%)))","v":0.65},{"$f":"IF(Sconti!$D$10=\"a\",50%,IF(Sconti!$D$10=\"b\",65%,IF(Sconti!$D$10=\"c\",70%)))","v":0.65},{"$f":"IF(Sconti!$D$10=\"a\",50%,IF(Sconti!$D$10=\"b\",65%,IF(Sconti!$D$10=\"c\",70%)))","v":0.65},null,null,null,null,null,null,null,null,null,"12 kg",215.5,523.29999999999995,273.14999999999998,473.2,473.35,556.75,284.05]
[null,"13 kg",{"$f":"IF(Sconti!$D$10=\"a\",50%,IF(Sconti!$D$10=\"b\",65%,IF(Sconti!$D$10=\"c\",70%)))","v":0.65},{"$f":"IF(Sconti!$D$10=\"a\",50%,IF(Sconti!$D$10=\"b\",65%,IF(Sconti!$D$10=\"c\",70%)))","v":0.65},{"$f":"IF(Sconti!$D$10=\"a\",50%,IF(Sconti!$D$10=\"b\",65%,IF(Sconti!$D$10=\"c\",70%)))","v":0.65},{"$f":"IF(Sconti!$D$10=\"a\",50%,IF(Sconti!$D$10=\"b\",65%,IF(Sconti!$D$10=\"c\",70%)))","v":0.65},{"$f":"IF(Sconti!$D$10=\"a\",50%,IF(Sconti!$D$10=\"b\",65%,IF(Sconti!$D$10=\"c\",70%)))","v":0.65},{"$f":"IF(Sconti!$D$10=\"a\",50%,IF(Sconti!$D$10=\"b\",65%,IF(Sconti!$D$10=\"c\",70%)))","v":0.65},null,null,null,null,null,null,null,null,null,"13 kg",223.7,552.54999999999995,282.25,480.2,480.45,585.70000000000005,296.10000000000002]
[null,"14 kg",{"$f":"IF(Sconti!$D$10=\"a\",50%,IF(Sconti!$D$10=\"b\",65%,IF(Sconti!$D$10=\"c\",70%)))","v":0.65},{"$f":"IF(Sconti!$D$10=\"a\",50%,IF(Sconti!$D$10=\"b\",65%,IF(Sconti!$D$10=\"c\",70%)))","v":0.65},{"$f":"IF(Sconti!$D$10=\"a\",50%,IF(Sconti!$D$10=\"b\",65%,IF(Sconti!$D$10=\"c\",70%)))","v":0.65},{"$f":"IF(Sconti!$D$10=\"a\",50%,IF(Sconti!$D$10=\"b\",65%,IF(Sconti!$D$10=\"c\",70%)))","v":0.65},{"$f":"IF(Sconti!$D$10=\"a\",50%,IF(Sconti!$D$10=\"b\",65%,IF(Sconti!$D$10=\"c\",70%)))","v":0.65},{"$f":"IF(Sconti!$D$10=\"a\",50%,IF(Sconti!$D$10=\"b\",65%,IF(Sconti!$D$10=\"c\",70%)))","v":0.65},null,null,null,null,null,null,null,null,null,"14 kg",228,582.25,291.14999999999998,487.2,487.45,614.6,308.10000000000002]
[null,"15 kg",{"$f":"IF(Sconti!$D$10=\"a\",50%,IF(Sconti!$D$10=\"b\",65%,IF(Sconti!$D$10=\"c\",70%)))","v":0.65},{"$f":"IF(Sconti!$D$10=\"a\",50%,IF(Sconti!$D$10=\"b\",65%,IF(Sconti!$D$10=\"c\",70%)))","v":0.65},{"$f":"IF(Sconti!$D$10=\"a\",50%,IF(Sconti!$D$10=\"b\",65%,IF(Sconti!$D$10=\"c\",70%)))","v":0.65},{"$f":"IF(Sconti!$D$10=\"a\",50%,IF(Sconti!$D$10=\"b\",65%,IF(Sconti!$D$10=\"c\",70%)))","v":0.65},{"$f":"IF(Sconti!$D$10=\"a\",50%,IF(Sconti!$D$10=\"b\",65%,IF(Sconti!$D$10=\"c\",70%)))","v":0.65},{"$f":"IF(Sconti!$D$10=\"a\",50%,IF(Sconti!$D$10=\"b\",65%,IF(Sconti!$D$10=\"c\",70%)))","v":0.65},null,null,null,null,null,null,null,null,null,"15 kg",232.3,611.65,300.2,494.15,494.5,643.6,320.05]
[null,"16 kg",{"$f":"IF(Sconti!$D$10=\"a\",50%,IF(Sconti!$D$10=\"b\",65%,IF(Sconti!$D$10=\"c\",70%)))","v":0.65},{"$f":"IF(Sconti!$D$10=\"a\",50%,IF(Sconti!$D$10=\"b\",65%,IF(Sconti!$D$10=\"c\",70%)))","v":0.65},{"$f":"IF(Sconti!$D$10=\"a\",50%,IF(Sconti!$D$10=\"b\",65%,IF(Sconti!$D$10=\"c\",70%)))","v":0.65},{"$f":"IF(Sconti!$D$10=\"a\",50%,IF(Sconti!$D$10=\"b\",65%,IF(Sconti!$D$10=\"c\",70%)))","v":0.65},{"$f":"IF(Sconti!$D$10=\"a\",50%,IF(Sconti!$D$10=\"b\",65%,IF(Sconti!$D$10=\"c\",70%)))","v":0.65},{"$f":"IF(Sconti!$D$10=\"a\",50%,IF(Sconti!$D$10=\"b\",65%,IF(Sconti!$D$10=\"c\",70%)))","v":0.65},null,null,null,null,null,null,null,null,null,"16 kg",236.7,641.15,309.25,501,501.55,672.55,332.15]
[null,"17 kg",{"$f":"IF(Sconti!$D$10=\"a\",50%,IF(Sconti!$D$10=\"b\",65%,IF(Sconti!$D$10=\"c\",70%)))","v":0.65},{"$f":"IF(Sconti!$D$10=\"a\",50%,IF(Sconti!$D$10=\"b\",65%,IF(Sconti!$D$10=\"c\",70%)))","v":0.65},{"$f":"IF(Sconti!$D$10=\"a\",50%,IF(Sconti!$D$10=\"b\",65%,IF(Sconti!$D$10=\"c\",70%)))","v":0.65},{"$f":"IF(Sconti!$D$10=\"a\",50%,IF(Sconti!$D$10=\"b\",65%,IF(Sconti!$D$10=\"c\",70%)))","v":0.65},{"$f":"IF(Sconti!$D$10=\"a\",50%,IF(Sconti!$D$10=\"b\",65%,IF(Sconti!$D$10=\"c\",70%)))","v":0.65},{"$f":"IF(Sconti!$D$10=\"a\",50%,IF(Sconti!$D$10=\"b\",65%,IF(Sconti!$D$10=\"c\",70%)))","v":0.65},null,null,null,null,null,null,null,null,null,"17 kg",241,670.7,318.3,508,508.45,701.5,344]
[null,"18 kg",{"$f":"IF(Sconti!$D$10=\"a\",50%,IF(Sconti!$D$10=\"b\",65%,IF(Sconti!$D$10=\"c\",70%)))","v":0.65},{"$f":"IF(Sconti!$D$10=\"a\",50%,IF(Sconti!$D$10=\"b\",65%,IF(Sconti!$D$10=\"c\",70%)))","v":0.65},{"$f":"IF(Sconti!$D$10=\"a\",50%,IF(Sconti!$D$10=\"b\",65%,IF(Sconti!$D$10=\"c\",70%)))","v":0.65},{"$f":"IF(Sconti!$D$10=\"a\",50%,IF(Sconti!$D$10=\"b\",65%,IF(Sconti!$D$10=\"c\",70%)))","v":0.65},{"$f":"IF(Sconti!$D$10=\"a\",50%,IF(Sconti!$D$10=\"b\",65%,IF(Sconti!$D$10=\"c\",70%)))","v":0.65},{"$f":"IF(Sconti!$D$10=\"a\",50%,IF(Sconti!$D$10=\"b\",65%,IF(Sconti!$D$10=\"c\",70%)))","v":0.65},null,null,null,null,null,null,null,null,null,"18 kg",245.3,692.95,327.25,515,515.54999999999995,722.85,352.45]
[null,"19 kg",{"$f":"IF(Sconti!$D$10=\"a\",50%,IF(Sconti!$D$10=\"b\",65%,IF(Sconti!$D$10=\"c\",70%)))","v":0.65},{"$f":"IF(Sconti!$D$10=\"a\",50%,IF(Sconti!$D$10=\"b\",65%,IF(Sconti!$D$10=\"c\",70%)))","v":0.65},{"$f":"IF(Sconti!$D$10=\"a\",50%,IF(Sconti!$D$10=\"b\",65%,IF(Sconti!$D$10=\"c\",70%)))","v":0.65},{"$f":"IF(Sconti!$D$10=\"a\",50%,IF(Sconti!$D$10=\"b\",65%,IF(Sconti!$D$10=\"c\",70%)))","v":0.65},{"$f":"IF(Sconti!$D$10=\"a\",50%,IF(Sconti!$D$10=\"b\",65%,IF(Sconti!$D$10=\"c\",70%)))","v":0.65},{"$f":"IF(Sconti!$D$10=\"a\",50%,IF(Sconti!$D$10=\"b\",65%,IF(Sconti!$D$10=\"c\",70%)))","v":0.65},null,null,null,null,null,null,null,null,null,"19 kg",249.6,722.15,336.4,522,522.54999999999995,751.5,364.15]
[null,"20 kg",{"$f":"IF(Sconti!$D$10=\"a\",50%,IF(Sconti!$D$10=\"b\",65%,IF(Sconti!$D$10=\"c\",70%)))","v":0.65},{"$f":"IF(Sconti!$D$10=\"a\",50%,IF(Sconti!$D$10=\"b\",65%,IF(Sconti!$D$10=\"c\",70%)))","v":0.65},{"$f":"IF(Sconti!$D$10=\"a\",50%,IF(Sconti!$D$10=\"b\",65%,IF(Sconti!$D$10=\"c\",70%)))","v":0.65},{"$f":"IF(Sconti!$D$10=\"a\",50%,IF(Sconti!$D$10=\"b\",65%,IF(Sconti!$D$10=\"c\",70%)))","v":0.65},{"$f":"IF(Sconti!$D$10=\"a\",50%,IF(Sconti!$D$10=\"b\",65%,IF(Sconti!$D$10=\"c\",70%)))","v":0.65},{"$f":"IF(Sconti!$D$10=\"a\",50%,IF(Sconti!$D$10=\"b\",65%,IF(Sconti!$D$10=\"c\",70%)))","v":0.65},null,null,null,null,null,null,null,null,null,"20 kg",254,751.35,345.4,528.9,529.65,780.1,376.1]
[null,"21 kg",{"$f":"IF(Sconti!$D$10=\"a\",50%,IF(Sconti!$D$10=\"b\",65%,IF(Sconti!$D$10=\"c\",70%)))","v":0.65},{"$f":"IF(Sconti!$D$10=\"a\",50%,IF(Sconti!$D$10=\"b\",65%,IF(Sconti!$D$10=\"c\",70%)))","v":0.65},{"$f":"IF(Sconti!$D$10=\"a\",50%,IF(Sconti!$D$10=\"b\",65%,IF(Sconti!$D$10=\"c\",70%)))","v":0.65},{"$f":"IF(Sconti!$D$10=\"a\",50%,IF(Sconti!$D$10=\"b\",65%,IF(Sconti!$D$10=\"c\",70%)))","v":0.65},{"$f":"IF(Sconti!$D$10=\"a\",50%,IF(Sconti!$D$10=\"b\",65%,IF(Sconti!$D$10=\"c\",70%)))","v":0.65},{"$f":"IF(Sconti!$D$10=\"a\",50%,IF(Sconti!$D$10=\"b\",65%,IF(Sconti!$D$10=\"c\",70%)))","v":0.65},null,null,null,null,null,null,null,null,null,"21 kg",259.45,784.4,353.5,538.4,539.20000000000005,811.7,390]
[null,"22 kg",{"$f":"IF(Sconti!$D$10=\"a\",50%,IF(Sconti!$D$10=\"b\",65%,IF(Sconti!$D$10=\"c\",70%)))","v":0.65},{"$f":"IF(Sconti!$D$10=\"a\",50%,IF(Sconti!$D$10=\"b\",65%,IF(Sconti!$D$10=\"c\",70%)))","v":0.65},{"$f":"IF(Sconti!$D$10=\"a\",50%,IF(Sconti!$D$10=\"b\",65%,IF(Sconti!$D$10=\"c\",70%)))","v":0.65},{"$f":"IF(Sconti!$D$10=\"a\",50%,IF(Sconti!$D$10=\"b\",65%,IF(Sconti!$D$10=\"c\",70%)))","v":0.65},{"$f":"IF(Sconti!$D$10=\"a\",50%,IF(Sconti!$D$10=\"b\",65%,IF(Sconti!$D$10=\"c\",70%)))","v":0.65},{"$f":"IF(Sconti!$D$10=\"a\",50%,IF(Sconti!$D$10=\"b\",65%,IF(Sconti!$D$10=\"c\",70%)))","v":0.65},null,null,null,null,null,null,null,null,null,"22 kg",263.85000000000002,813.85,359.95,545.45000000000005,546.29999999999995,839.45,402.05]
[null,"23 kg",{"$f":"IF(Sconti!$D$10=\"a\",50%,IF(Sconti!$D$10=\"b\",65%,IF(Sconti!$D$10=\"c\",70%)))","v":0.65},{"$f":"IF(Sconti!$D$10=\"a\",50%,IF(Sconti!$D$10=\"b\",65%,IF(Sconti!$D$10=\"c\",70%)))","v":0.65},{"$f":"IF(Sconti!$D$10=\"a\",50%,IF(Sconti!$D$10=\"b\",65%,IF(Sconti!$D$10=\"c\",70%)))","v":0.65},{"$f":"IF(Sconti!$D$10=\"a\",50%,IF(Sconti!$D$10=\"b\",65%,IF(Sconti!$D$10=\"c\",70%)))","v":0.65},{"$f":"IF(Sconti!$D$10=\"a\",50%,IF(Sconti!$D$10=\"b\",65%,IF(Sconti!$D$10=\"c\",70%)))","v":0.65},{"$f":"IF(Sconti!$D$10=\"a\",50%,IF(Sconti!$D$10=\"b\",65%,IF(Sconti!$D$10=\"c\",70%)))","v":0.65},null,null,null,null,null,null,null,null,null,"23 kg",268.3,843.3,366.25,552.5,553.4,867.2,414.15]
[null,"24 kg",{"$f":"IF(Sconti!$D$10=\"a\",50%,IF(Sconti!$D$10=\"b\",65%,IF(Sconti!$D$10=\"c\",70%)))","v":0.65},{"$f":"IF(Sconti!$D$10=\"a\",50%,IF(Sconti!$D$10=\"b\",65%,IF(Sconti!$D$10=\"c\",70%)))","v":0.65},{"$f":"IF(Sconti!$D$10=\"a\",50%,IF(Sconti!$D$10=\"b\",65%,IF(Sconti!$D$10=\"c\",70%)))","v":0.65},{"$f":"IF(Sconti!$D$10=\"a\",50%,IF(Sconti!$D$10=\"b\",65%,IF(Sconti!$D$10=\"c\",70%)))","v":0.65},{"$f":"IF(Sconti!$D$10=\"a\",50%,IF(Sconti!$D$10=\"b\",65%,IF(Sconti!$D$10=\"c\",70%)))","v":0.65},{"$f":"IF(Sconti!$D$10=\"a\",50%,IF(Sconti!$D$10=\"b\",65%,IF(Sconti!$D$10=\"c\",70%)))","v":0.65},null,null,null,null,null,null,null,null,null,"24 kg",272.55,872.75,372.8,559.4,560.45000000000005,894.85,426.25]
[null,"25 kg",{"$f":"IF(Sconti!$D$10=\"a\",50%,IF(Sconti!$D$10=\"b\",65%,IF(Sconti!$D$10=\"c\",70%)))","v":0.65},{"$f":"IF(Sconti!$D$10=\"a\",50%,IF(Sconti!$D$10=\"b\",65%,IF(Sconti!$D$10=\"c\",70%)))","v":0.65},{"$f":"IF(Sconti!$D$10=\"a\",50%,IF(Sconti!$D$10=\"b\",65%,IF(Sconti!$D$10=\"c\",70%)))","v":0.65},{"$f":"IF(Sconti!$D$10=\"a\",50%,IF(Sconti!$D$10=\"b\",65%,IF(Sconti!$D$10=\"c\",70%)))","v":0.65},{"$f":"IF(Sconti!$D$10=\"a\",50%,IF(Sconti!$D$10=\"b\",65%,IF(Sconti!$D$10=\"c\",70%)))","v":0.65},{"$f":"IF(Sconti!$D$10=\"a\",50%,IF(Sconti!$D$10=\"b\",65%,IF(Sconti!$D$10=\"c\",70%)))","v":0.65},null,null,null,null,null,null,null,null,null,"25 kg",276.89999999999998,902.15,379.15,566.5,567.5,922.65,438.4]
[null,"26 kg",{"$f":"IF(Sconti!$D$10=\"a\",50%,IF(Sconti!$D$10=\"b\",65%,IF(Sconti!$D$10=\"c\",70%)))","v":0.65},{"$f":"IF(Sconti!$D$10=\"a\",50%,IF(Sconti!$D$10=\"b\",65%,IF(Sconti!$D$10=\"c\",70%)))","v":0.65},{"$f":"IF(Sconti!$D$10=\"a\",50%,IF(Sconti!$D$10=\"b\",65%,IF(Sconti!$D$10=\"c\",70%)))","v":0.65},{"$f":"IF(Sconti!$D$10=\"a\",50%,IF(Sconti!$D$10=\"b\",65%,IF(Sconti!$D$10=\"c\",70%)))","v":0.65},{"$f":"IF(Sconti!$D$10=\"a\",50%,IF(Sconti!$D$10=\"b\",65%,IF(Sconti!$D$10=\"c\",70%)))","v":0.65},{"$f":"IF(Sconti!$D$10=\"a\",50%,IF(Sconti!$D$10=\"b\",65%,IF(Sconti!$D$10=\"c\",70%)))","v":0.65},null,null,null,null,null,null,null,null,null,"26 kg",278.7,921.85,385.55,573.45000000000005,574.54999999999995,940.35,445.8]
[null,"27 kg",{"$f":"IF(Sconti!$D$10=\"a\",50%,IF(Sconti!$D$10=\"b\",65%,IF(Sconti!$D$10=\"c\",70%)))","v":0.65},{"$f":"IF(Sconti!$D$10=\"a\",50%,IF(Sconti!$D$10=\"b\",65%,IF(Sconti!$D$10=\"c\",70%)))","v":0.65},{"$f":"IF(Sconti!$D$10=\"a\",50%,IF(Sconti!$D$10=\"b\",65%,IF(Sconti!$D$10=\"c\",70%)))","v":0.65},{"$f":"IF(Sconti!$D$10=\"a\",50%,IF(Sconti!$D$10=\"b\",65%,IF(Sconti!$D$10=\"c\",70%)))","v":0.65},{"$f":"IF(Sconti!$D$10=\"a\",50%,IF(Sconti!$D$10=\"b\",65%,IF(Sconti!$D$10=\"c\",70%)))","v":0.65},{"$f":"IF(Sconti!$D$10=\"a\",50%,IF(Sconti!$D$10=\"b\",65%,IF(Sconti!$D$10=\"c\",70%)))","v":0.65},null,null,null,null,null,null,null,null,null,"27 kg",280.39999999999998,950.95,392,580.45000000000005,581.54999999999995,967.8,457.65]
[null,"28 kg",{"$f":"IF(Sconti!$D$10=\"a\",50%,IF(Sconti!$D$10=\"b\",65%,IF(Sconti!$D$10=\"c\",70%)))","v":0.65},{"$f":"IF(Sconti!$D$10=\"a\",50%,IF(Sconti!$D$10=\"b\",65%,IF(Sconti!$D$10=\"c\",70%)))","v":0.65},{"$f":"IF(Sconti!$D$10=\"a\",50%,IF(Sconti!$D$10=\"b\",65%,IF(Sconti!$D$10=\"c\",70%)))","v":0.65},{"$f":"IF(Sconti!$D$10=\"a\",50%,IF(Sconti!$D$10=\"b\",65%,IF(Sconti!$D$10=\"c\",70%)))","v":0.65},{"$f":"IF(Sconti!$D$10=\"a\",50%,IF(Sconti!$D$10=\"b\",65%,IF(Sconti!$D$10=\"c\",70%)))","v":0.65},{"$f":"IF(Sconti!$D$10=\"a\",50%,IF(Sconti!$D$10=\"b\",65%,IF(Sconti!$D$10=\"c\",70%)))","v":0.65},null,null,null,null,null,null,null,null,null,"28 kg",282.2,980.05,398.35,587.4,588.65,995.3,469.55]
[null,"29 kg",{"$f":"IF(Sconti!$D$10=\"a\",50%,IF(Sconti!$D$10=\"b\",65%,IF(Sconti!$D$10=\"c\",70%)))","v":0.65},{"$f":"IF(Sconti!$D$10=\"a\",50%,IF(Sconti!$D$10=\"b\",65%,IF(Sconti!$D$10=\"c\",70%)))","v":0.65},{"$f":"IF(Sconti!$D$10=\"a\",50%,IF(Sconti!$D$10=\"b\",65%,IF(Sconti!$D$10=\"c\",70%)))","v":0.65},{"$f":"IF(Sconti!$D$10=\"a\",50%,IF(Sconti!$D$10=\"b\",65%,IF(Sconti!$D$10=\"c\",70%)))","v":0.65},{"$f":"IF(Sconti!$D$10=\"a\",50%,IF(Sconti!$D$10=\"b\",65%,IF(Sconti!$D$10=\"c\",70%)))","v":0.65},{"$f":"IF(Sconti!$D$10=\"a\",50%,IF(Sconti!$D$10=\"b\",65%,IF(Sconti!$D$10=\"c\",70%)))","v":0.65},null,null,null,null,null,null,null,null,null,"29 kg",284,1009.25,404.8,594.4,595.70000000000005,1022.8,481.45]
[null,"30 kg",{"$f":"IF(Sconti!$D$10=\"a\",50%,IF(Sconti!$D$10=\"b\",65%,IF(Sconti!$D$10=\"c\",70%)))","v":0.65},{"$f":"IF(Sconti!$D$10=\"a\",50%,IF(Sconti!$D$10=\"b\",65%,IF(Sconti!$D$10=\"c\",70%)))","v":0.65},{"$f":"IF(Sconti!$D$10=\"a\",50%,IF(Sconti!$D$10=\"b\",65%,IF(Sconti!$D$10=\"c\",70%)))","v":0.65},{"$f":"IF(Sconti!$D$10=\"a\",50%,IF(Sconti!$D$10=\"b\",65%,IF(Sconti!$D$10=\"c\",70%)))","v":0.65},{"$f":"IF(Sconti!$D$10=\"a\",50%,IF(Sconti!$D$10=\"b\",65%,IF(Sconti!$D$10=\"c\",70%)))","v":0.65},{"$f":"IF(Sconti!$D$10=\"a\",50%,IF(Sconti!$D$10=\"b\",65%,IF(Sconti!$D$10=\"c\",70%)))","v":0.65},null,null,null,null,null,null,null,null,null,"30 kg",285.64999999999998,1038.4000000000001,411.1,601.4,602.75,1050.1500000000001,493.45]
[null,"31 kg",{"$f":"IF(Sconti!$D$10=\"a\",50%,IF(Sconti!$D$10=\"b\",65%,IF(Sconti!$D$10=\"c\",70%)))","v":0.65},{"$f":"IF(Sconti!$D$10=\"a\",50%,IF(Sconti!$D$10=\"b\",65%,IF(Sconti!$D$10=\"c\",70%)))","v":0.65},{"$f":"IF(Sconti!$D$10=\"a\",50%,IF(Sconti!$D$10=\"b\",65%,IF(Sconti!$D$10=\"c\",70%)))","v":0.65},{"$f":"IF(Sconti!$D$10=\"a\",50%,IF(Sconti!$D$10=\"b\",65%,IF(Sconti!$D$10=\"c\",70%)))","v":0.65},{"$f":"IF(Sconti!$D$10=\"a\",50%,IF(Sconti!$D$10=\"b\",65%,IF(Sconti!$D$10=\"c\",70%)))","v":0.65},{"$f":"IF(Sconti!$D$10=\"a\",50%,IF(Sconti!$D$10=\"b\",65%,IF(Sconti!$D$10=\"c\",70%)))","v":0.65},null,null,null,null,null,null,null,null,null,"31 kg",287.55,1063.1500000000001,417.6,608.35,609.85,1072.55,502.55]
[null,"32 kg",{"$f":"IF(Sconti!$D$10=\"a\",50%,IF(Sconti!$D$10=\"b\",65%,IF(Sconti!$D$10=\"c\",70%)))","v":0.65},{"$f":"IF(Sconti!$D$10=\"a\",50%,IF(Sconti!$D$10=\"b\",65%,IF(Sconti!$D$10=\"c\",70%)))","v":0.65},{"$f":"IF(Sconti!$D$10=\"a\",50%,IF(Sconti!$D$10=\"b\",65%,IF(Sconti!$D$10=\"c\",70%)))","v":0.65},{"$f":"IF(Sconti!$D$10=\"a\",50%,IF(Sconti!$D$10=\"b\",65%,IF(Sconti!$D$10=\"c\",70%)))","v":0.65},{"$f":"IF(Sconti!$D$10=\"a\",50%,IF(Sconti!$D$10=\"b\",65%,IF(Sconti!$D$10=\"c\",70%)))","v":0.65},{"$f":"IF(Sconti!$D$10=\"a\",50%,IF(Sconti!$D$10=\"b\",65%,IF(Sconti!$D$10=\"c\",70%)))","v":0.65},null,null,null,null,null,null,null,null,null,"32 kg",289.35000000000002,1087.8,424.05,615.4,617,1094.95,511.6]
[null,"33 kg",{"$f":"IF(Sconti!$D$10=\"a\",50%,IF(Sconti!$D$10=\"b\",65%,IF(Sconti!$D$10=\"c\",70%)))","v":0.65},{"$f":"IF(Sconti!$D$10=\"a\",50%,IF(Sconti!$D$10=\"b\",65%,IF(Sconti!$D$10=\"c\",70%)))","v":0.65},{"$f":"IF(Sconti!$D$10=\"a\",50%,IF(Sconti!$D$10=\"b\",65%,IF(Sconti!$D$10=\"c\",70%)))","v":0.65},{"$f":"IF(Sconti!$D$10=\"a\",50%,IF(Sconti!$D$10=\"b\",65%,IF(Sconti!$D$10=\"c\",70%)))","v":0.65},{"$f":"IF(Sconti!$D$10=\"a\",50%,IF(Sconti!$D$10=\"b\",65%,IF(Sconti!$D$10=\"c\",70%)))","v":0.65},{"$f":"IF(Sconti!$D$10=\"a\",50%,IF(Sconti!$D$10=\"b\",65%,IF(Sconti!$D$10=\"c\",70%)))","v":0.65},null,null,null,null,null,null,null,null,null,"33 kg",291,1112.5999999999999,430.45,622.54999999999995,624,1117.3499999999999,520.65]
[null,"34 kg",{"$f":"IF(Sconti!$D$10=\"a\",50%,IF(Sconti!$D$10=\"b\",65%,IF(Sconti!$D$10=\"c\",70%)))","v":0.65},{"$f":"IF(Sconti!$D$10=\"a\",50%,IF(Sconti!$D$10=\"b\",65%,IF(Sconti!$D$10=\"c\",70%)))","v":0.65},{"$f":"IF(Sconti!$D$10=\"a\",50%,IF(Sconti!$D$10=\"b\",65%,IF(Sconti!$D$10=\"c\",70%)))","v":0.65},{"$f":"IF(Sconti!$D$10=\"a\",50%,IF(Sconti!$D$10=\"b\",65%,IF(Sconti!$D$10=\"c\",70%)))","v":0.65},{"$f":"IF(Sconti!$D$10=\"a\",50%,IF(Sconti!$D$10=\"b\",65%,IF(Sconti!$D$10=\"c\",70%)))","v":0.65},{"$f":"IF(Sconti!$D$10=\"a\",50%,IF(Sconti!$D$10=\"b\",65%,IF(Sconti!$D$10=\"c\",70%)))","v":0.65},null,null,null,null,null,null,null,null,null,"34 kg",292.8,1137.3499999999999,436.85,629.35,631.15,1139.7,529.70000000000005]
[null,"35 kg",{"$f":"IF(Sconti!$D$10=\"a\",50%,IF(Sconti!$D$10=\"b\",65%,IF(Sconti!$D$10=\"c\",70%)))","v":0.65},{"$f":"IF(Sconti!$D$10=\"a\",50%,IF(Sconti!$D$10=\"b\",65%,IF(Sconti!$D$10=\"c\",70%)))","v":0.65},{"$f":"IF(Sconti!$D$10=\"a\",50%,IF(Sconti!$D$10=\"b\",65%,IF(Sconti!$D$10=\"c\",70%)))","v":0.65},{"$f":"IF(Sconti!$D$10=\"a\",50%,IF(Sconti!$D$10=\"b\",65%,IF(Sconti!$D$10=\"c\",70%)))","v":0.65},{"$f":"IF(Sconti!$D$10=\"a\",50%,IF(Sconti!$D$10=\"b\",65%,IF(Sconti!$D$10=\"c\",70%)))","v":0.65},{"$f":"IF(Sconti!$D$10=\"a\",50%,IF(Sconti!$D$10=\"b\",65%,IF(Sconti!$D$10=\"c\",70%)))","v":0.65},null,null,null,null,null,null,null,null,null,"35 kg",294.64999999999998,1162.0999999999999,443.3,636.4,638.20000000000005,1162.0999999999999,538.79999999999995]
[null,"40 kg",{"$f":"IF(Sconti!$D$10=\"a\",50%,IF(Sconti!$D$10=\"b\",65%,IF(Sconti!$D$10=\"c\",70%)))","v":0.65},{"$f":"IF(Sconti!$D$10=\"a\",50%,IF(Sconti!$D$10=\"b\",65%,IF(Sconti!$D$10=\"c\",70%)))","v":0.65},{"$f":"IF(Sconti!$D$10=\"a\",50%,IF(Sconti!$D$10=\"b\",65%,IF(Sconti!$D$10=\"c\",70%)))","v":0.65},{"$f":"IF(Sconti!$D$10=\"a\",50%,IF(Sconti!$D$10=\"b\",65%,IF(Sconti!$D$10=\"c\",70%)))","v":0.65},{"$f":"IF(Sconti!$D$10=\"a\",50%,IF(Sconti!$D$10=\"b\",65%,IF(Sconti!$D$10=\"c\",70%)))","v":0.65},{"$f":"IF(Sconti!$D$10=\"a\",50%,IF(Sconti!$D$10=\"b\",65%,IF(Sconti!$D$10=\"c\",70%)))","v":0.65},null,null,null,null,null,null,null,null,null,"40 kg",303.95,1272.2,458.6,661.1,663.1,1262.05,577.85]
[null,"45 kg",{"$f":"IF(Sconti!$D$10=\"a\",50%,IF(Sconti!$D$10=\"b\",65%,IF(Sconti!$D$10=\"c\",70%)))","v":0.65},{"$f":"IF(Sconti!$D$10=\"a\",50%,IF(Sconti!$D$10=\"b\",65%,IF(Sconti!$D$10=\"c\",70%)))","v":0.65},{"$f":"IF(Sconti!$D$10=\"a\",50%,IF(Sconti!$D$10=\"b\",65%,IF(Sconti!$D$10=\"c\",70%)))","v":0.65},{"$f":"IF(Sconti!$D$10=\"a\",50%,IF(Sconti!$D$10=\"b\",65%,IF(Sconti!$D$10=\"c\",70%)))","v":0.65},{"$f":"IF(Sconti!$D$10=\"a\",50%,IF(Sconti!$D$10=\"b\",65%,IF(Sconti!$D$10=\"c\",70%)))","v":0.65},{"$f":"IF(Sconti!$D$10=\"a\",50%,IF(Sconti!$D$10=\"b\",65%,IF(Sconti!$D$10=\"c\",70%)))","v":0.65},null,null,null,null,null,null,null,null,null,"45 kg",313.39999999999998,1394.7,473.7,685.85,688.15,1374.4,622.75]
[null,"50 kg",{"$f":"IF(Sconti!$D$10=\"a\",50%,IF(Sconti!$D$10=\"b\",65%,IF(Sconti!$D$10=\"c\",70%)))","v":0.65},{"$f":"IF(Sconti!$D$10=\"a\",50%,IF(Sconti!$D$10=\"b\",65%,IF(Sconti!$D$10=\"c\",70%)))","v":0.65},{"$f":"IF(Sconti!$D$10=\"a\",50%,IF(Sconti!$D$10=\"b\",65%,IF(Sconti!$D$10=\"c\",70%)))","v":0.65},{"$f":"IF(Sconti!$D$10=\"a\",50%,IF(Sconti!$D$10=\"b\",65%,IF(Sconti!$D$10=\"c\",70%)))","v":0.65},{"$f":"IF(Sconti!$D$10=\"a\",50%,IF(Sconti!$D$10=\"b\",65%,IF(Sconti!$D$10=\"c\",70%)))","v":0.65},{"$f":"IF(Sconti!$D$10=\"a\",50%,IF(Sconti!$D$10=\"b\",65%,IF(Sconti!$D$10=\"c\",70%)))","v":0.65},null,null,null,null,null,null,null,null,null,"50 kg",322.75,1517.35,489,710.5,713.05,1486.65,667.65]
[null,"55 kg",{"$f":"IF(Sconti!$D$10=\"a\",50%,IF(Sconti!$D$10=\"b\",65%,IF(Sconti!$D$10=\"c\",70%)))","v":0.65},{"$f":"IF(Sconti!$D$10=\"a\",50%,IF(Sconti!$D$10=\"b\",65%,IF(Sconti!$D$10=\"c\",70%)))","v":0.65},{"$f":"IF(Sconti!$D$10=\"a\",50%,IF(Sconti!$D$10=\"b\",65%,IF(Sconti!$D$10=\"c\",70%)))","v":0.65},{"$f":"IF(Sconti!$D$10=\"a\",50%,IF(Sconti!$D$10=\"b\",65%,IF(Sconti!$D$10=\"c\",70%)))","v":0.65},{"$f":"IF(Sconti!$D$10=\"a\",50%,IF(Sconti!$D$10=\"b\",65%,IF(Sconti!$D$10=\"c\",70%)))","v":0.65},{"$f":"IF(Sconti!$D$10=\"a\",50%,IF(Sconti!$D$10=\"b\",65%,IF(Sconti!$D$10=\"c\",70%)))","v":0.65},null,null,null,null,null,null,null,null,null,"55 kg",332,1639.75,504.15,735.2,738.2,1599,712.35]
[null,"60 kg",{"$f":"IF(Sconti!$D$10=\"a\",50%,IF(Sconti!$D$10=\"b\",65%,IF(Sconti!$D$10=\"c\",70%)))","v":0.65},{"$f":"IF(Sconti!$D$10=\"a\",50%,IF(Sconti!$D$10=\"b\",65%,IF(Sconti!$D$10=\"c\",70%)))","v":0.65},{"$f":"IF(Sconti!$D$10=\"a\",50%,IF(Sconti!$D$10=\"b\",65%,IF(Sconti!$D$10=\"c\",70%)))","v":0.65},{"$f":"IF(Sconti!$D$10=\"a\",50%,IF(Sconti!$D$10=\"b\",65%,IF(Sconti!$D$10=\"c\",70%)))","v":0.65},{"$f":"IF(Sconti!$D$10=\"a\",50%,IF(Sconti!$D$10=\"b\",65%,IF(Sconti!$D$10=\"c\",70%)))","v":0.65},{"$f":"IF(Sconti!$D$10=\"a\",50%,IF(Sconti!$D$10=\"b\",65%,IF(Sconti!$D$10=\"c\",70%)))","v":0.65},null,null,null,null,null,null,null,null,null,"60 kg",341.45,1762.25,519.4,759.85,763.15,1711.35,757.15]
[null,"65 kg",{"$f":"IF(Sconti!$D$10=\"a\",50%,IF(Sconti!$D$10=\"b\",65%,IF(Sconti!$D$10=\"c\",70%)))","v":0.65},{"$f":"IF(Sconti!$D$10=\"a\",50%,IF(Sconti!$D$10=\"b\",65%,IF(Sconti!$D$10=\"c\",70%)))","v":0.65},{"$f":"IF(Sconti!$D$10=\"a\",50%,IF(Sconti!$D$10=\"b\",65%,IF(Sconti!$D$10=\"c\",70%)))","v":0.65},{"$f":"IF(Sconti!$D$10=\"a\",50%,IF(Sconti!$D$10=\"b\",65%,IF(Sconti!$D$10=\"c\",70%)))","v":0.65},{"$f":"IF(Sconti!$D$10=\"a\",50%,IF(Sconti!$D$10=\"b\",65%,IF(Sconti!$D$10=\"c\",70%)))","v":0.65},{"$f":"IF(Sconti!$D$10=\"a\",50%,IF(Sconti!$D$10=\"b\",65%,IF(Sconti!$D$10=\"c\",70%)))","v":0.65},null,null,null,null,null,null,null,null,null,"65 kg",350.8,1884.75,534.65,784.5,788.05,1823.7,801.95]
[null,"70 kg",{"$f":"IF(Sconti!$D$10=\"a\",50%,IF(Sconti!$D$10=\"b\",65%,IF(Sconti!$D$10=\"c\",70%)))","v":0.65},{"$f":"IF(Sconti!$D$10=\"a\",50%,IF(Sconti!$D$10=\"b\",65%,IF(Sconti!$D$10=\"c\",70%)))","v":0.65},{"$f":"IF(Sconti!$D$10=\"a\",50%,IF(Sconti!$D$10=\"b\",65%,IF(Sconti!$D$10=\"c\",70%)))","v":0.65},{"$f":"IF(Sconti!$D$10=\"a\",50%,IF(Sconti!$D$10=\"b\",65%,IF(Sconti!$D$10=\"c\",70%)))","v":0.65},{"$f":"IF(Sconti!$D$10=\"a\",50%,IF(Sconti!$D$10=\"b\",65%,IF(Sconti!$D$10=\"c\",70%)))","v":0.65},{"$f":"IF(Sconti!$D$10=\"a\",50%,IF(Sconti!$D$10=\"b\",65%,IF(Sconti!$D$10=\"c\",70%)))","v":0.65},null,null,null,null,null,null,null,null,null,"70 kg",360.25,2007.15,549.79999999999995,809.25,813.15,1936.05,846.8]
[null,"Oltre 70 Kg",null,null,null,null,null,null,null,null,null,null,null,null,null,null,null,"Oltre 70 Kg"]
[null,"Prezzo al Kg",{"$f":"IF(Sconti!$D$10=\"a\",50%,IF(Sconti!$D$10=\"b\",65%,IF(Sconti!$D$10=\"c\",70%)))","v":0.65},{"$f":"IF(Sconti!$D$10=\"a\",50%,IF(Sconti!$D$10=\"b\",65%,IF(Sconti!$D$10=\"c\",70%)))","v":0.65},{"$f":"IF(Sconti!$D$10=\"a\",50%,IF(Sconti!$D$10=\"b\",65%,IF(Sconti!$D$10=\"c\",70%)))","v":0.65},{"$f":"IF(Sconti!$D$10=\"a\",50%,IF(Sconti!$D$10=\"b\",65%,IF(Sconti!$D$10=\"c\",70%)))","v":0.65},{"$f":"IF(Sconti!$D$10=\"a\",50%,IF(Sconti!$D$10=\"b\",65%,IF(Sconti!$D$10=\"c\",70%)))","v":0.65},{"$f":"IF(Sconti!$D$10=\"a\",50%,IF(Sconti!$D$10=\"b\",65%,IF(Sconti!$D$10=\"c\",70%)))","v":0.65},null,null,null,null,null,null,null,null,null,"Prezzo al Kg",5.14,28.67,7.85,11.56,11.61,27.65,12.09]
[null,"Tariffa Minima",{"$f":"IF(Sconti!$D$10=\"a\",50%,IF(Sconti!$D$10=\"b\",65%,IF(Sconti!$D$10=\"c\",70%)))","v":0.65},{"$f":"IF(Sconti!$D$10=\"a\",50%,IF(Sconti!$D$10=\"b\",65%,IF(Sconti!$D$10=\"c\",70%)))","v":0.65},{"$f":"IF(Sconti!$D$10=\"a\",50%,IF(Sconti!$D$10=\"b\",65%,IF(Sconti!$D$10=\"c\",70%)))","v":0.65},{"$f":"IF(Sconti!$D$10=\"a\",50%,IF(Sconti!$D$10=\"b\",65%,IF(Sconti!$D$10=\"c\",70%)))","v":0.65},{"$f":"IF(Sconti!$D$10=\"a\",50%,IF(Sconti!$D$10=\"b\",65%,IF(Sconti!$D$10=\"c\",70%)))","v":0.65},{"$f":"IF(Sconti!$D$10=\"a\",50%,IF(Sconti!$D$10=\"b\",65%,IF(Sconti!$D$10=\"c\",70%)))","v":0.65},null,null,null,null,null,null,null,null,null,"Tariffa Minima",360.25,2007.15,549.79999999999995,809.25,813.15,1936.05,846.8]
[]
[]
[]
[null,"Servizio UPS Express Plus - Inserimento percentuali di sconto",null,null,null,null,null,null,null,null,null,null,null,null,null,null,"Servizio UPS Express Plus - Tariffe di Listino"]
[]
[null,"Spedizioni Singole",null,null,null,null,null,null,null,null,null,null,null,null,null,null,"Spedizioni Singole"]
[null,"% Sconto","Zona","Zona","Zona","Zona","Zona","Zona","Zona","Zona",null,null,null,null,null,null,"€","Zona","Zona","Zona","Zona","Zona","Zona","Zona","Zona"]
[null,null,"1     ","2     ","3     ","4     ","41    ","5     ","8     ","9     ",null,null,null,null,null,null,null,"1     ","2     ","3     ","4     ","41    ","5     ","8     ","9     "]
[null,"MRS",0,0,0,0,0,0,0,0,null,null,null,null,null,null,"MRS",{"$f":"IF(C255=0,0,R256*(1-C255))","v":0},{"$f":"IF(D255=0,0,S256*(1-D255))","v":0},0,0,0,0,0,0]
[null,"0,5 kg",0,0,0,0,0,0,0,0,null,null,null,null,null,null,"0,5 kg",78.400000000000006,100.9,102.75,106.3,143.25,119.85,132.55000000000001,176.85]
[null,"1,0 kg",0,0,0,0,0,0,0,0,null,null,null,null,null,null,"1,0 kg",78.400000000000006,111.65,113.65,117.1,155.4,129.5,138.65,195.3]
[null,"1,5 kg",0,0,0,0,0,0,0,0,null,null,null,null,null,null,"1,5 kg",81.45,122.35,124.55,127.95,179.3,139.19999999999999,147.25,213.95]
[null,"2,0 kg",0,0,0,0,0,0,0,0,null,null,null,null,null,null,"2,0 kg",81.45,133,135.5,138.75,203.2,148.9,157.6,232.35]
[null,"2,5 kg",0,0,0,0,0,0,0,0,null,null,null,null,null,null,"2,5 kg",81.45,143.80000000000001,146.44999999999999,149.44999999999999,227.1,158.75,167.95,250.85]
[null,"3,0 kg",0,0,0,0,0,0,0,0,null,null,null,null,null,null,"3,0 kg",81.45,152.65,155.4,159.69999999999999,252.6,167.4,178.2,269.25]
[null,"3,5 kg",0,0,0,0,0,0,0,0,null,null,null,null,null,null,"3,5 kg",82.6,161.5,164.4,170,278.10000000000002,176.2,188.7,287.8]
[null,"4,0 kg",0,0,0,0,0,0,0,0,null,null,null,null,null,null,"4,0 kg",82.6,170.35,173.35,180.2,303.60000000000002,185.2,198.95,306.39999999999998]
[null,"4,5 kg",0,0,0,0,0,0,0,0,null,null,null,null,null,null,"4,5 kg",83.8,179.2,182.3,190.4,329.15,193.95,209.35,324.85000000000002]
[null,"5,0 kg",0,0,0,0,0,0,0,0,null,null,null,null,null,null,"5,0 kg",83.8,185.85,191.3,200.55,354.55,202.8,219.65,343.35]
[null,"5,5 kg",0,0,0,0,0,0,0,0,null,null,null,null,null,null,"5,5 kg",86.25,192.55,195.7,207.3,369.85,209.5,229.05,349.6]
[null,"6,0 kg",0,0,0,0,0,0,0,0,null,null,null,null,null,null,"6,0 kg",86.25,199.3,202.5,214,384.95,216.1,238.45,366.7]
[null,"6,5 kg",0,0,0,0,0,0,0,0,null,null,null,null,null,null,"6,5 kg",88.65,205.9,209.25,220.75,400.25,222.6,247.85,384.1]
[null,"7,0 kg",0,0,0,0,0,0,0,0,null,null,null,null,null,null,"7,0 kg",88.65,212.6,216.05,227.35,415.5,229.25,257.35000000000002,401.15]
[null,"7,5 kg",0,0,0,0,0,0,0,0,null,null,null,null,null,null,"7,5 kg",91.1,219.25,222.85,234,430.75,235.9,266.8,418.4]
[null,"8,0 kg",0,0,0,0,0,0,0,0,null,null,null,null,null,null,"8,0 kg",91.1,225.95,229.75,240.7,445.85,242.4,276.2,435.6]
[null,"8,5 kg",0,0,0,0,0,0,0,0,null,null,null,null,null,null,"8,5 kg",93.65,232.7,236.55,247.35,461.15,249.05,285.64999999999998,452.75]
[null,"9,0 kg",0,0,0,0,0,0,0,0,null,null,null,null,null,null,"9,0 kg",93.65,239.5,243.3,254.1,476.4,255.65,294.95,470.05]
[null,"9,5 kg",0,0,0,0,0,0,0,0,null,null,null,null,null,null,"9,5 kg",96.1,246.1,250.1,260.85000000000002,491.65,262.25,304.39999999999998,487.2]
[null,"10 kg",0,0,0,0,0,0,0,0,null,null,null,null,null,null,"10 kg",96.1,252.8,257,267.55,506.9,268.89999999999998,313.85000000000002,504.45]
[null,"11 kg",0,0,0,0,0,0,0,0,null,null,null,null,null,null,"11 kg",114.35,262.95,268.5,280.10000000000002,536.45000000000005,281.64999999999998,333.2,529.65]
[null,"12 kg",0,0,0,0,0,0,0,0,null,null,null,null,null,null,"12 kg",114.35,273.05,280.25,292.60000000000002,566.1,294.39999999999998,352.4,554.85]
[null,"13 kg",0,0,0,0,0,0,0,0,null,null,null,null,null,null,"13 kg",114.35,283.2,291.85000000000002,305.14999999999998,595.70000000000005,307.2,371.7,580.1]
[null,"14 kg",0,0,0,0,0,0,0,0,null,null,null,null,null,null,"14 kg",114.35,293.39999999999998,303.55,317.7,625.45000000000005,319.95,390.95,605.29999999999995]
[null,"15 kg",0,0,0,0,0,0,0,0,null,null,null,null,null,null,"15 kg",114.35,303.55,315.10000000000002,330.2,655,332.8,410.3,630.6]
[null,"16 kg",0,0,0,0,0,0,0,0,null,null,null,null,null,null,"16 kg",114.35,312.7,326.8,342.75,684.55,345.55,429.55,655.75]
[null,"17 kg",0,0,0,0,0,0,0,0,null,null,null,null,null,null,"17 kg",114.35,321.7,338.4,355.25,714.2,358.25,448.8,681.1]
[null,"18 kg",0,0,0,0,0,0,0,0,null,null,null,null,null,null,"18 kg",114.35,330.95,350.1,367.75,743.7,371,468.05,706.4]
[null,"19 kg",0,0,0,0,0,0,0,0,null,null,null,null,null,null,"19 kg",114.35,340.05,361.7,380.4,773.45,383.95,487.3,731.55]
[null,"20 kg",0,0,0,0,0,0,0,0,null,null,null,null,null,null,"20 kg",114.35,349.2,373.4,392.95,803.05,396.7,506.65,756.8]
[null,"22 kg",0,0,0,0,0,0,0,0,null,null,null,null,null,null,"22 kg",133.19999999999999,369.2,394,415.3,864,418.8,547.15,809.45]
[null,"24 kg",0,0,0,0,0,0,0,0,null,null,null,null,null,null,"24 kg",133.19999999999999,387.6,413,435.85,921,439.15,585.15,858.45]
[null,"26 kg",0,0,0,0,0,0,0,0,null,null,null,null,null,null,"26 kg",133.19999999999999,405.95,432,456.45,978,459.4,623.29999999999995,907.45]
[null,"28 kg",0,0,0,0,0,0,0,0,null,null,null,null,null,null,"28 kg",133.19999999999999,424.3,450.7,476.9,1034.95,479.8,661.3,956.35]
[null,"30 kg",0,0,0,0,0,0,0,0,null,null,null,null,null,null,"30 kg",133.19999999999999,442.7,469.75,497.45,1092,500,699.4,1005.35]
[null,"35 kg",0,0,0,0,0,0,0,0,null,null,null,null,null,null,"35 kg",151.65,484.7,513.79999999999995,539.25,1219.05,541.6,783.45,1116.1500000000001]
[null,"40 kg",0,0,0,0,0,0,0,0,null,null,null,null,null,null,"40 kg",151.65,526.70000000000005,557.79999999999995,581.15,1346,583.1,867.45,1226.75]
[null,"45 kg",0,0,0,0,0,0,0,0,null,null,null,null,null,null,"45 kg",170.05,568.70000000000005,601.79999999999995,627,1473,624.75,951.6,1343]
[null,"50 kg",0,0,0,0,0,0,0,0,null,null,null,null,null,null,"50 kg",170.05,610,645.85,673,1599.9,666.45,1035.5999999999999,1492]
[null,"55 kg",0,0,0,0,0,0,0,0,null,null,null,null,null,null,"55 kg",188.25,651.35,689.9,718.75,1729.5,708,1119.75,1612.5]
[null,"60 kg",0,0,0,0,0,0,0,0,null,null,null,null,null,null,"60 kg",188.25,692.6,734,764.8,1861.15,749.55,1203.75,1727.85]
[null,"65 kg",0,0,0,0,0,0,0,0,null,null,null,null,null,null,"65 kg",206.65,733.9,778.1,810.65,1992.6,791.1,1287.8,1843.3]
[null,"70 kg",0,0,0,0,0,0,0,0,null,null,null,null,null,null,"70 kg",206.65,775.15,822.05,856.5,2122.4,832.75,1371.95,1958.65]
[null,"Oltre 70 Kg",null,null,null,null,null,null,null,null,null,null,null,null,null,null,"Oltre 70 Kg"]
[null,"Prezzo al Kg",0,0,0,0,0,0,0,0,null,null,null,null,null,null,"Prezzo al Kg",2.95,11.07,11.74,12.23,30.32,11.89,19.59,27.98]
[null,"Tariffa Minima",0,0,0,0,0,0,0,0,null,null,null,null,null,null,"Tariffa Minima",206.65,775.15,822.05,856.5,2122.4,832.75,1371.95,1958.65]
[]
[]
[]
[]
[]
[null,"UPS Express Envelopes "]
[null,"% Sconto","Zona","Zona","Zona","Zona","Zona","Zona","Zona","Zona",null,null,null,null,null,null,"€","Zona","Zona","Zona","Zona","Zona","Zona","Zona","Zona"]
[null,null,"1     ","2     ","3     ","4     ","41    ","5     ","8     ","9     ",null,null,null,null,null,null,null,"1     ","2     ","3     ","4     ","41    ","5     ","8     ","9     "]
[null,"UPS Express Envelopes ",null,null,null,null,null,null,null,null,null,null,null,null,null,null,"UPS Express Envelopes "]
[null,null,0,0,0,0,0,0,0,0,null,null,null,null,null,null,null,75.349999999999994,96.9,97,100.55,135.94999999999999,102.9,102.95,108.9]
[null,"Documenti",null,null,null,null,null,null,null,null,null,null,null,null,null,null,"Documenti"]
[null,"0,5 kg",0,0,0,0,0,0,0,0,null,null,null,null,null,null,"0,5 kg",78.400000000000006,100.9,102.75,106.3,143.25,102.9,102.95,108.9]
[null,"1,0 kg",0,0,0,0,0,0,0,0,null,null,null,null,null,null,"1,0 kg",78.400000000000006,111.65,113.65,117.1,155.4,114.1,114.15,128.19999999999999]
[null,"1,5 kg",0,0,0,0,0,0,0,0,null,null,null,null,null,null,"1,5 kg",81.45,122.35,124.55,127.95,179.3,125.35,127,147.55000000000001]
[null,"2,0 kg",0,0,0,0,0,0,0,0,null,null,null,null,null,null,"2,0 kg",81.45,133,135.5,138.75,203.2,136.5,141.44999999999999,166.9]
[null,"2,5 kg",0,0,0,0,0,0,0,0,null,null,null,null,null,null,"2,5 kg",81.45,143.80000000000001,146.44999999999999,149.44999999999999,227.1,147.80000000000001,155.9,186.65]
[]
[]
[]
[]
[]
[null,"Servizio UPS Express Freight - Inserimento percentuali di sconto",null,null,null,null,null,null,null,null,null,null,null,null,null,null,"Servizio UPS Express Freight - Tariffe di Listino"]
[]
[]
[null,"% Sconto","Zona","Zona","Zona","Zona","Zona","Zona","Zona","Zona",null,null,null,null,null,null,"€","Zona","Zona","Zona","Zona","Zona","Zona","Zona","Zona","Zona","Zona"]
[null,null,"2     ","3     ","4     ","41    ","5     ","6     ","8     ","9     ",null,null,null,null,null,null,null,"2     ","3     ","4     ","41    ","5     ","8     ","9     ","10","11","12"]
[null,"Peso",null,null,null,null,null,null,null,null,null,null,null,null,null,null,"Peso"]
[null,"Fino a 70 kg",null,null,null,null,null,null,null,null,null,null,null,null,null,null,"Fino a 70 kg",663.15,724.2,768.95,1994.4,695.8,1268.0999999999999,1822.6,1897.85,2066.85,903.85]
[null,"Prezzo al Kg\nfino a 99.0",{"$f":"IF(Sconti!$D$10=\"a\",0%,IF(Sconti!$D$10=\"b\",0%,IF(Sconti!$D$10=\"c\",0%)))","v":0},{"$f":"IF(Sconti!$D$10=\"a\",0%,IF(Sconti!$D$10=\"b\",0%,IF(Sconti!$D$10=\"c\",0%)))","v":0},{"$f":"IF(Sconti!$D$10=\"a\",0%,IF(Sconti!$D$10=\"b\",0%,IF(Sconti!$D$10=\"c\",0%)))","v":0},{"$f":"IF(Sconti!$D$10=\"a\",0%,IF(Sconti!$D$10=\"b\",0%,IF(Sconti!$D$10=\"c\",0%)))","v":0},{"$f":"IF(Sconti!$D$10=\"a\",0%,IF(Sconti!$D$10=\"b\",0%,IF(Sconti!$D$10=\"c\",0%)))","v":0},null,{"$f":"IF(Sconti!$D$10=\"a\",0%,IF(Sconti!$D$10=\"b\",0%,IF(Sconti!$D$10=\"c\",0%)))","v":0},{"$f":"IF(Sconti!$D$10=\"a\",0%,IF(Sconti!$D$10=\"b\",0%,IF(Sconti!$D$10=\"c\",0%)))","v":0},null,null,null,null,null,null,"Prezzo al Kg\nfino a 99.0",9.35,10.210000000000001,10.84,28.09,9.8000000000000007,17.86,25.68,26.73,29.11,12.73]
[null,"Prezzo al Kg\nfino a 299.0",{"$f":"IF(Sconti!$D$10=\"a\",0%,IF(Sconti!$D$10=\"b\",0%,IF(Sconti!$D$10=\"c\",0%)))","v":0},{"$f":"IF(Sconti!$D$10=\"a\",0%,IF(Sconti!$D$10=\"b\",0%,IF(Sconti!$D$10=\"c\",0%)))","v":0},{"$f":"IF(Sconti!$D$10=\"a\",0%,IF(Sconti!$D$10=\"b\",0%,IF(Sconti!$D$10=\"c\",0%)))","v":0},{"$f":"IF(Sconti!$D$10=\"a\",0%,IF(Sconti!$D$10=\"b\",0%,IF(Sconti!$D$10=\"c\",0%)))","v":0},{"$f":"IF(Sconti!$D$10=\"a\",0%,IF(Sconti!$D$10=\"b\",0%,IF(Sconti!$D$10=\"c\",0%)))","v":0},null,{"$f":"IF(Sconti!$D$10=\"a\",0%,IF(Sconti!$D$10=\"b\",0%,IF(Sconti!$D$10=\"c\",0%)))","v":0},{"$f":"IF(Sconti!$D$10=\"a\",0%,IF(Sconti!$D$10=\"b\",0%,IF(Sconti!$D$10=\"c\",0%)))","v":0},null,null,null,null,null,null,"Prezzo al Kg\nfino a 299.0",7.24,7.88,9.19,26.95,9.16,16.95,23.63,26.19,28.52,12.47]
[null,"Prezzo al Kg\nfino a 499.0",{"$f":"IF(Sconti!$D$10=\"a\",0%,IF(Sconti!$D$10=\"b\",0%,IF(Sconti!$D$10=\"c\",0%)))","v":0},{"$f":"IF(Sconti!$D$10=\"a\",0%,IF(Sconti!$D$10=\"b\",0%,IF(Sconti!$D$10=\"c\",0%)))","v":0},{"$f":"IF(Sconti!$D$10=\"a\",0%,IF(Sconti!$D$10=\"b\",0%,IF(Sconti!$D$10=\"c\",0%)))","v":0},{"$f":"IF(Sconti!$D$10=\"a\",0%,IF(Sconti!$D$10=\"b\",0%,IF(Sconti!$D$10=\"c\",0%)))","v":0},{"$f":"IF(Sconti!$D$10=\"a\",0%,IF(Sconti!$D$10=\"b\",0%,IF(Sconti!$D$10=\"c\",0%)))","v":0},null,{"$f":"IF(Sconti!$D$10=\"a\",0%,IF(Sconti!$D$10=\"b\",0%,IF(Sconti!$D$10=\"c\",0%)))","v":0},{"$f":"IF(Sconti!$D$10=\"a\",0%,IF(Sconti!$D$10=\"b\",0%,IF(Sconti!$D$10=\"c\",0%)))","v":0},null,null,null,null,null,null,"Prezzo al Kg\nfino a 499.0",6.5,7.09,8.34,25.84,7.73,16.100000000000001,21.39,25.66,27.94,12.22]
[null,"Prezzo al Kg\nfino a 999.0",{"$f":"IF(Sconti!$D$10=\"a\",0%,IF(Sconti!$D$10=\"b\",0%,IF(Sconti!$D$10=\"c\",0%)))","v":0},{"$f":"IF(Sconti!$D$10=\"a\",0%,IF(Sconti!$D$10=\"b\",0%,IF(Sconti!$D$10=\"c\",0%)))","v":0},{"$f":"IF(Sconti!$D$10=\"a\",0%,IF(Sconti!$D$10=\"b\",0%,IF(Sconti!$D$10=\"c\",0%)))","v":0},{"$f":"IF(Sconti!$D$10=\"a\",0%,IF(Sconti!$D$10=\"b\",0%,IF(Sconti!$D$10=\"c\",0%)))","v":0},{"$f":"IF(Sconti!$D$10=\"a\",0%,IF(Sconti!$D$10=\"b\",0%,IF(Sconti!$D$10=\"c\",0%)))","v":0},null,{"$f":"IF(Sconti!$D$10=\"a\",0%,IF(Sconti!$D$10=\"b\",0%,IF(Sconti!$D$10=\"c\",0%)))","v":0},{"$f":"IF(Sconti!$D$10=\"a\",0%,IF(Sconti!$D$10=\"b\",0%,IF(Sconti!$D$10=\"c\",0%)))","v":0},null,null,null,null,null,null,"Prezzo al Kg\nfino a 999.0",5.86,6.4,7.3,25.72,7.35,15.7,20.95,25.14,27.38,11.97]
[null,"Prezzo al Kg\noltre i 999.0",{"$f":"IF(Sconti!$D$10=\"a\",0%,IF(Sconti!$D$10=\"b\",0%,IF(Sconti!$D$10=\"c\",0%)))","v":0},{"$f":"IF(Sconti!$D$10=\"a\",0%,IF(Sconti!$D$10=\"b\",0%,IF(Sconti!$D$10=\"c\",0%)))","v":0},{"$f":"IF(Sconti!$D$10=\"a\",0%,IF(Sconti!$D$10=\"b\",0%,IF(Sconti!$D$10=\"c\",0%)))","v":0},{"$f":"IF(Sconti!$D$10=\"a\",0%,IF(Sconti!$D$10=\"b\",0%,IF(Sconti!$D$10=\"c\",0%)))","v":0},{"$f":"IF(Sconti!$D$10=\"a\",0%,IF(Sconti!$D$10=\"b\",0%,IF(Sconti!$D$10=\"c\",0%)))","v":0},null,{"$f":"IF(Sconti!$D$10=\"a\",0%,IF(Sconti!$D$10=\"b\",0%,IF(Sconti!$D$10=\"c\",0%)))","v":0},{"$f":"IF(Sconti!$D$10=\"a\",0%,IF(Sconti!$D$10=\"b\",0%,IF(Sconti!$D$10=\"c\",0%)))","v":0},null,null,null,null,null,null,"Prezzo al Kg\noltre i 999.0",5.4,5.89,6.94,25.09,7.09,15.33,19.920000000000002,24.63,26.83,11.73]

{"sheet":"Sconti Import","index":4,"n_rows":328,"n_cols":30,"rows_kept":328,"cut":false,"hidden":true,"merged":[[128,15,129,22],[128,1,129,12],[66,1,67,1],[13,1,14,1],[2,1,3,1],[64,15,65,27],[64,1,65,13],[76,15,76,27],[66,15,67,15],[77,1,78,1],[77,15,78,15],[0,15,1,27],[12,15,12,27],[2,15,3,15],[13,15,14,15],[0,1,1,13],[319,1,320,1],[319,16,320,16],[303,1,304,1],[303,16,304,16],[249,1,250,14],[249,16,250,24],[252,1,253,1],[252,16,253,16],[169,1,170,1],[195,1,196,12],[195,15,196,27],[131,15,132,15],[316,1,317,14],[316,16,317,24],[131,1,132,1],[198,16,199,16],[169,15,170,15],[198,1,199,1]]}
[null,"Servizio UPS Express - Inserimento percentuali di sconto",null,null,null,null,null,null,null,null,null,null,null,null,null,"Servizio UPS Express - Tariffe di listino"]
[]
[null,"% Sconto","Zona","Zona","Zona","Zona","Zona","Zona","Zona","Zona","Zona","Zona","Zona","Zona",null,"€","Zona","Zona","Zona","Zona","Zona","Zona","Zona","Zona","Zona","Zona","Zona","Zona","Zona"]
[null,null,2,3,4,41,42,5,6,7,8,81,9,10,null,null,"1     ","2     ","3     ","4     ","41    ","42    ","5     ","6     ","7     ","8     ","81    ","9     ",10]
[null,"UPS Express Envelopes ",null,null,null,null,null,null,null,null,null,null,null,null,null,"UPS Express Envelopes "]
[null,null,{"$f":"IF(Sconti!$D$10=\"a\",55%,IF(Sconti!$D$10=\"b\",55%,IF(Sconti!$D$10=\"c\",55%)))","v":0.55000000000000004},{"$f":"IF(Sconti!$D$10=\"a\",55%,IF(Sconti!$D$10=\"b\",55%,IF(Sconti!$D$10=\"c\",55%)))","v":0.55000000000000004},{"$f":"IF(Sconti!$D$10=\"a\",55%,IF(Sconti!$D$10=\"b\",55%,IF(Sconti!$D$10=\"c\",55%)))","v":0.55000000000000004},{"$f":"IF(Sconti!$D$10=\"a\",55%,IF(Sconti!$D$10=\"b\",55%,IF(Sconti!$D$10=\"c\",55%)))","v":0.55000000000000004},{"$f":"IF(Sconti!$D$10=\"a\",55%,IF(Sconti!$D$10=\"b\",55%,IF(Sconti!$D$10=\"c\",55%)))","v":0.55000000000000004},{"$f":"IF(Sconti!$D$10=\"a\",55%,IF(Sconti!$D$10=\"b\",55%,IF(Sconti!$D$10=\"c\",55%)))","v":0.55000000000000004},{"$f":"IF(Sconti!$D$10=\"a\",55%,IF(Sconti!$D$10=\"b\",55%,IF(Sconti!$D$10=\"c\",55%)))","v":0.55000000000000004},{"$f":"IF(Sconti!$D$10=\"a\",55%,IF(Sconti!$D$10=\"b\",55%,IF(Sconti!$D$10=\"c\",55%)))","v":0.55000000000000004},{"$f":"IF(Sconti!$D$10=\"a\",55%,IF(Sconti!$D$10=\"b\",55%,IF(Sconti!$D$10=\"c\",55%)))","v":0.55000000000000004},{"$f":"IF(Sconti!$D$10=\"a\",55%,IF(Sconti!$D$10=\"b\",55%,IF(Sconti!$D$10=\"c\",55%)))","v":0.55000000000000004},{"$f":"IF(Sconti!$D$10=\"a\",55%,IF(Sconti!$D$10=\"b\",55%,IF(Sconti!$D$10=\"c\",55%)))","v":0.55000000000000004},{"$f":"IF(Sconti!$D$10=\"a\",55%,IF(Sconti!$D$10=\"b\",55%,IF(Sconti!$D$10=\"c\",55%)))","v":0.55000000000000004},null,null,null,51,59.25,75.5,49.65,51.5,55,62.75,46.35,54.3,49.55,55.3,61.5]
[null,"Documenti  ",null,null,null,null,null,null,null,null,null,null,null,null,null,"Documenti  "]
[null,"0,5 kg",{"$f":"IF(Sconti!$D$10=\"a\",55%,IF(Sconti!$D$10=\"b\",55%,IF(Sconti!$D$10=\"c\",55%)))","v":0.55000000000000004},{"$f":"IF(Sconti!$D$10=\"a\",55%,IF(Sconti!$D$10=\"b\",55%,IF(Sconti!$D$10=\"c\",55%)))","v":0.55000000000000004},{"$f":"IF(Sconti!$D$10=\"a\",55%,IF(Sconti!$D$10=\"b\",55%,IF(Sconti!$D$10=\"c\",55%)))","v":0.55000000000000004},{"$f":"IF(Sconti!$D$10=\"a\",55%,IF(Sconti!$D$10=\"b\",55%,IF(Sconti!$D$10=\"c\",55%)))","v":0.55000000000000004},{"$f":"IF(Sconti!$D$10=\"a\",55%,IF(Sconti!$D$10=\"b\",55%,IF(Sconti!$D$10=\"c\",55%)))","v":0.55000000000000004},{"$f":"IF(Sconti!$D$10=\"a\",55%,IF(Sconti!$D$10=\"b\",55%,IF(Sconti!$D$10=\"c\",55%)))","v":0.55000000000000004},{"$f":"IF(Sconti!$D$10=\"a\",55%,IF(Sconti!$D$10=\"b\",55%,IF(Sconti!$D$10=\"c\",55%)))","v":0.55000000000000004},{"$f":"IF(Sconti!$D$10=\"a\",55%,IF(Sconti!$D$10=\"b\",55%,IF(Sconti!$D$10=\"c\",55%)))","v":0.55000000000000004},{"$f":"IF(Sconti!$D$10=\"a\",55%,IF(Sconti!$D$10=\"b\",55%,IF(Sconti!$D$10=\"c\",55%)))","v":0.55000000000000004},{"$f":"IF(Sconti!$D$10=\"a\",55%,IF(Sconti!$D$10=\"b\",55%,IF(Sconti!$D$10=\"c\",55%)))","v":0.55000000000000004},{"$f":"IF(Sconti!$D$10=\"a\",55%,IF(Sconti!$D$10=\"b\",55%,IF(Sconti!$D$10=\"c\",55%)))","v":0.55000000000000004},{"$f":"IF(Sconti!$D$10=\"a\",55%,IF(Sconti!$D$10=\"b\",55%,IF(Sconti!$D$10=\"c\",55%)))","v":0.55000000000000004},null,"0,5 kg",null,74.75,74.95,104.45,97.25,99.85,99.9,99.95,63.15,71.900000000000006,65.2,93.35,99.75]
[null,"1,0 kg",{"$f":"IF(Sconti!$D$10=\"a\",55%,IF(Sconti!$D$10=\"b\",55%,IF(Sconti!$D$10=\"c\",55%)))","v":0.55000000000000004},{"$f":"IF(Sconti!$D$10=\"a\",55%,IF(Sconti!$D$10=\"b\",55%,IF(Sconti!$D$10=\"c\",55%)))","v":0.55000000000000004},{"$f":"IF(Sconti!$D$10=\"a\",55%,IF(Sconti!$D$10=\"b\",55%,IF(Sconti!$D$10=\"c\",55%)))","v":0.55000000000000004},{"$f":"IF(Sconti!$D$10=\"a\",55%,IF(Sconti!$D$10=\"b\",55%,IF(Sconti!$D$10=\"c\",55%)))","v":0.55000000000000004},{"$f":"IF(Sconti!$D$10=\"a\",55%,IF(Sconti!$D$10=\"b\",55%,IF(Sconti!$D$10=\"c\",55%)))","v":0.55000000000000004},{"$f":"IF(Sconti!$D$10=\"a\",55%,IF(Sconti!$D$10=\"b\",55%,IF(Sconti!$D$10=\"c\",55%)))","v":0.55000000000000004},{"$f":"IF(Sconti!$D$10=\"a\",55%,IF(Sconti!$D$10=\"b\",55%,IF(Sconti!$D$10=\"c\",55%)))","v":0.55000000000000004},{"$f":"IF(Sconti!$D$10=\"a\",55%,IF(Sconti!$D$10=\"b\",55%,IF(Sconti!$D$10=\"c\",55%)))","v":0.55000000000000004},{"$f":"IF(Sconti!$D$10=\"a\",55%,IF(Sconti!$D$10=\"b\",55%,IF(Sconti!$D$10=\"c\",55%)))","v":0.55000000000000004},{"$f":"IF(Sconti!$D$10=\"a\",55%,IF(Sconti!$D$10=\"b\",55%,IF(Sconti!$D$10=\"c\",55%)))","v":0.55000000000000004},{"$f":"IF(Sconti!$D$10=\"a\",55%,IF(Sconti!$D$10=\"b\",55%,IF(Sconti!$D$10=\"c\",55%)))","v":0.55000000000000004},{"$f":"IF(Sconti!$D$10=\"a\",55%,IF(Sconti!$D$10=\"b\",55%,IF(Sconti!$D$10=\"c\",55%)))","v":0.55000000000000004},null,"1,0 kg",null,84.3,87.2,121.5,108.35,111.2,111.25,111.3,75,85.35,77.45,108.25,115.35]
[null,"1,5 kg",{"$f":"IF(Sconti!$D$10=\"a\",55%,IF(Sconti!$D$10=\"b\",55%,IF(Sconti!$D$10=\"c\",55%)))","v":0.55000000000000004},{"$f":"IF(Sconti!$D$10=\"a\",55%,IF(Sconti!$D$10=\"b\",55%,IF(Sconti!$D$10=\"c\",55%)))","v":0.55000000000000004},{"$f":"IF(Sconti!$D$10=\"a\",55%,IF(Sconti!$D$10=\"b\",55%,IF(Sconti!$D$10=\"c\",55%)))","v":0.55000000000000004},{"$f":"IF(Sconti!$D$10=\"a\",55%,IF(Sconti!$D$10=\"b\",55%,IF(Sconti!$D$10=\"c\",55%)))","v":0.55000000000000004},{"$f":"IF(Sconti!$D$10=\"a\",55%,IF(Sconti!$D$10=\"b\",55%,IF(Sconti!$D$10=\"c\",55%)))","v":0.55000000000000004},{"$f":"IF(Sconti!$D$10=\"a\",55%,IF(Sconti!$D$10=\"b\",55%,IF(Sconti!$D$10=\"c\",55%)))","v":0.55000000000000004},{"$f":"IF(Sconti!$D$10=\"a\",55%,IF(Sconti!$D$10=\"b\",55%,IF(Sconti!$D$10=\"c\",55%)))","v":0.55000000000000004},{"$f":"IF(Sconti!$D$10=\"a\",55%,IF(Sconti!$D$10=\"b\",55%,IF(Sconti!$D$10=\"c\",55%)))","v":0.55000000000000004},{"$f":"IF(Sconti!$D$10=\"a\",55%,IF(Sconti!$D$10=\"b\",55%,IF(Sconti!$D$10=\"c\",55%)))","v":0.55000000000000004},{"$f":"IF(Sconti!$D$10=\"a\",55%,IF(Sconti!$D$10=\"b\",55%,IF(Sconti!$D$10=\"c\",55%)))","v":0.55000000000000004},{"$f":"IF(Sconti!$D$10=\"a\",55%,IF(Sconti!$D$10=\"b\",55%,IF(Sconti!$D$10=\"c\",55%)))","v":0.55000000000000004},{"$f":"IF(Sconti!$D$10=\"a\",55%,IF(Sconti!$D$10=\"b\",55%,IF(Sconti!$D$10=\"c\",55%)))","v":0.55000000000000004},null,"1,5 kg",null,93.7,99.35,138.4,119.45,122.65,122.7,122.75,86.95,98.45,89.65,123.2,130.9]
[null,"2,0 kg",{"$f":"IF(Sconti!$D$10=\"a\",55%,IF(Sconti!$D$10=\"b\",55%,IF(Sconti!$D$10=\"c\",55%)))","v":0.55000000000000004},{"$f":"IF(Sconti!$D$10=\"a\",55%,IF(Sconti!$D$10=\"b\",55%,IF(Sconti!$D$10=\"c\",55%)))","v":0.55000000000000004},{"$f":"IF(Sconti!$D$10=\"a\",55%,IF(Sconti!$D$10=\"b\",55%,IF(Sconti!$D$10=\"c\",55%)))","v":0.55000000000000004},{"$f":"IF(Sconti!$D$10=\"a\",55%,IF(Sconti!$D$10=\"b\",55%,IF(Sconti!$D$10=\"c\",55%)))","v":0.55000000000000004},{"$f":"IF(Sconti!$D$10=\"a\",55%,IF(Sconti!$D$10=\"b\",55%,IF(Sconti!$D$10=\"c\",55%)))","v":0.55000000000000004},{"$f":"IF(Sconti!$D$10=\"a\",55%,IF(Sconti!$D$10=\"b\",55%,IF(Sconti!$D$10=\"c\",55%)))","v":0.55000000000000004},{"$f":"IF(Sconti!$D$10=\"a\",55%,IF(Sconti!$D$10=\"b\",55%,IF(Sconti!$D$10=\"c\",55%)))","v":0.55000000000000004},{"$f":"IF(Sconti!$D$10=\"a\",55%,IF(Sconti!$D$10=\"b\",55%,IF(Sconti!$D$10=\"c\",55%)))","v":0.55000000000000004},{"$f":"IF(Sconti!$D$10=\"a\",55%,IF(Sconti!$D$10=\"b\",55%,IF(Sconti!$D$10=\"c\",55%)))","v":0.55000000000000004},{"$f":"IF(Sconti!$D$10=\"a\",55%,IF(Sconti!$D$10=\"b\",55%,IF(Sconti!$D$10=\"c\",55%)))","v":0.55000000000000004},{"$f":"IF(Sconti!$D$10=\"a\",55%,IF(Sconti!$D$10=\"b\",55%,IF(Sconti!$D$10=\"c\",55%)))","v":0.55000000000000004},{"$f":"IF(Sconti!$D$10=\"a\",55%,IF(Sconti!$D$10=\"b\",55%,IF(Sconti!$D$10=\"c\",55%)))","v":0.55000000000000004},null,"2,0 kg",null,103.25,111.5,155.4,130.44999999999999,134.15,134.19999999999999,134.25,98.75,111.9,102,138,146.55000000000001]
[null,"2,5 kg",{"$f":"IF(Sconti!$D$10=\"a\",55%,IF(Sconti!$D$10=\"b\",55%,IF(Sconti!$D$10=\"c\",55%)))","v":0.55000000000000004},{"$f":"IF(Sconti!$D$10=\"a\",55%,IF(Sconti!$D$10=\"b\",55%,IF(Sconti!$D$10=\"c\",55%)))","v":0.55000000000000004},{"$f":"IF(Sconti!$D$10=\"a\",55%,IF(Sconti!$D$10=\"b\",55%,IF(Sconti!$D$10=\"c\",55%)))","v":0.55000000000000004},{"$f":"IF(Sconti!$D$10=\"a\",55%,IF(Sconti!$D$10=\"b\",55%,IF(Sconti!$D$10=\"c\",55%)))","v":0.55000000000000004},{"$f":"IF(Sconti!$D$10=\"a\",55%,IF(Sconti!$D$10=\"b\",55%,IF(Sconti!$D$10=\"c\",55%)))","v":0.55000000000000004},{"$f":"IF(Sconti!$D$10=\"a\",55%,IF(Sconti!$D$10=\"b\",55%,IF(Sconti!$D$10=\"c\",55%)))","v":0.55000000000000004},{"$f":"IF(Sconti!$D$10=\"a\",55%,IF(Sconti!$D$10=\"b\",55%,IF(Sconti!$D$10=\"c\",55%)))","v":0.55000000000000004},{"$f":"IF(Sconti!$D$10=\"a\",55%,IF(Sconti!$D$10=\"b\",55%,IF(Sconti!$D$10=\"c\",55%)))","v":0.55000000000000004},{"$f":"IF(Sconti!$D$10=\"a\",55%,IF(Sconti!$D$10=\"b\",55%,IF(Sconti!$D$10=\"c\",55%)))","v":0.55000000000000004},{"$f":"IF(Sconti!$D$10=\"a\",55%,IF(Sconti!$D$10=\"b\",55%,IF(Sconti!$D$10=\"c\",55%)))","v":0.55000000000000004},{"$f":"IF(Sconti!$D$10=\"a\",55%,IF(Sconti!$D$10=\"b\",55%,IF(Sconti!$D$10=\"c\",55%)))","v":0.55000000000000004},{"$f":"IF(Sconti!$D$10=\"a\",55%,IF(Sconti!$D$10=\"b\",55%,IF(Sconti!$D$10=\"c\",55%)))","v":0.55000000000000004},null,"2,5 kg",null,112.75,123.6,172.4,141.65,145.6,145.65,145.69999999999999,110.5,125.15,114.1,152.75,162.15]
[null,"Documenti al di sopra dei 2,5 Kg e Pacchi",null,null,null,null,null,null,null,null,null,null,null,null,null,"Documenti al di sopra dei 2,5 Kg e Pacchi"]
[null,"% Sconto","Zona","Zona","Zona","Zona","Zona","Zona","Zona","Zona","Zona","Zona","Zona","Zona",null,"€","Zona","Zona","Zona","Zona","Zona","Zona","Zona","Zona","Zona","Zona","Zona","Zona","Zona"]
[null,null,2,3,4,41,42,5,6,7,8,81,9,10,null,null,"1     ","2     ","3     ","4     ","41    ","42    ","5     ","6     ","7     ","8     ","81    ","9     ",10]
[null,"Peso",null,null,null,null,null,null,null,null,null,null,null,null,null,"Peso"]
[null,"0,5 kg",{"$f":"IF(Sconti!$D$10=\"a\",55%,IF(Sconti!$D$10=\"b\",55%,IF(Sconti!$D$10=\"c\",55%)))","v":0.55000000000000004},{"$f":"IF(Sconti!$D$10=\"a\",55%,IF(Sconti!$D$10=\"b\",55%,IF(Sconti!$D$10=\"c\",55%)))","v":0.55000000000000004},{"$f":"IF(Sconti!$D$10=\"a\",55%,IF(Sconti!$D$10=\"b\",55%,IF(Sconti!$D$10=\"c\",55%)))","v":0.55000000000000004},{"$f":"IF(Sconti!$D$10=\"a\",55%,IF(Sconti!$D$10=\"b\",55%,IF(Sconti!$D$10=\"c\",55%)))","v":0.55000000000000004},{"$f":"IF(Sconti!$D$10=\"a\",55%,IF(Sconti!$D$10=\"b\",55%,IF(Sconti!$D$10=\"c\",55%)))","v":0.55000000000000004},{"$f":"IF(Sconti!$D$10=\"a\",55%,IF(Sconti!$D$10=\"b\",55%,IF(Sconti!$D$10=\"c\",55%)))","v":0.55000000000000004},{"$f":"IF(Sconti!$D$10=\"a\",55%,IF(Sconti!$D$10=\"b\",55%,IF(Sconti!$D$10=\"c\",55%)))","v":0.55000000000000004},{"$f":"IF(Sconti!$D$10=\"a\",55%,IF(Sconti!$D$10=\"b\",55%,IF(Sconti!$D$10=\"c\",55%)))","v":0.55000000000000004},{"$f":"IF(Sconti!$D$10=\"a\",55%,IF(Sconti!$D$10=\"b\",55%,IF(Sconti!$D$10=\"c\",55%)))","v":0.55000000000000004},{"$f":"IF(Sconti!$D$10=\"a\",55%,IF(Sconti!$D$10=\"b\",55%,IF(Sconti!$D$10=\"c\",55%)))","v":0.55000000000000004},{"$f":"IF(Sconti!$D$10=\"a\",55%,IF(Sconti!$D$10=\"b\",55%,IF(Sconti!$D$10=\"c\",55%)))","v":0.55000000000000004},{"$f":"IF(Sconti!$D$10=\"a\",55%,IF(Sconti!$D$10=\"b\",55%,IF(Sconti!$D$10=\"c\",55%)))","v":0.55000000000000004},null,"0,5 kg",null,74.75,74.95,104.45,97.25,99.85,135,135.05000000000001,68.099999999999994,80.05,72.650000000000006,112.85,119.45]
[null,"1,0 kg",{"$f":"IF(Sconti!$D$10=\"a\",55%,IF(Sconti!$D$10=\"b\",55%,IF(Sconti!$D$10=\"c\",55%)))","v":0.55000000000000004},{"$f":"IF(Sconti!$D$10=\"a\",55%,IF(Sconti!$D$10=\"b\",55%,IF(Sconti!$D$10=\"c\",55%)))","v":0.55000000000000004},{"$f":"IF(Sconti!$D$10=\"a\",55%,IF(Sconti!$D$10=\"b\",55%,IF(Sconti!$D$10=\"c\",55%)))","v":0.55000000000000004},{"$f":"IF(Sconti!$D$10=\"a\",55%,IF(Sconti!$D$10=\"b\",55%,IF(Sconti!$D$10=\"c\",55%)))","v":0.55000000000000004},{"$f":"IF(Sconti!$D$10=\"a\",55%,IF(Sconti!$D$10=\"b\",55%,IF(Sconti!$D$10=\"c\",55%)))","v":0.55000000000000004},{"$f":"IF(Sconti!$D$10=\"a\",55%,IF(Sconti!$D$10=\"b\",55%,IF(Sconti!$D$10=\"c\",55%)))","v":0.55000000000000004},{"$f":"IF(Sconti!$D$10=\"a\",55%,IF(Sconti!$D$10=\"b\",55%,IF(Sconti!$D$10=\"c\",55%)))","v":0.55000000000000004},{"$f":"IF(Sconti!$D$10=\"a\",55%,IF(Sconti!$D$10=\"b\",55%,IF(Sconti!$D$10=\"c\",55%)))","v":0.55000000000000004},{"$f":"IF(Sconti!$D$10=\"a\",55%,IF(Sconti!$D$10=\"b\",55%,IF(Sconti!$D$10=\"c\",55%)))","v":0.55000000000000004},{"$f":"IF(Sconti!$D$10=\"a\",55%,IF(Sconti!$D$10=\"b\",55%,IF(Sconti!$D$10=\"c\",55%)))","v":0.55000000000000004},{"$f":"IF(Sconti!$D$10=\"a\",55%,IF(Sconti!$D$10=\"b\",55%,IF(Sconti!$D$10=\"c\",55%)))","v":0.55000000000000004},{"$f":"IF(Sconti!$D$10=\"a\",55%,IF(Sconti!$D$10=\"b\",55%,IF(Sconti!$D$10=\"c\",55%)))","v":0.55000000000000004},null,"1,0 kg",null,84.3,87.2,121.5,108.35,111.2,144.85,144.9,79.849999999999994,93.7,85.05,127.45,134.94999999999999]
[null,"1,5 kg",{"$f":"IF(Sconti!$D$10=\"a\",55%,IF(Sconti!$D$10=\"b\",55%,IF(Sconti!$D$10=\"c\",55%)))","v":0.55000000000000004},{"$f":"IF(Sconti!$D$10=\"a\",55%,IF(Sconti!$D$10=\"b\",55%,IF(Sconti!$D$10=\"c\",55%)))","v":0.55000000000000004},{"$f":"IF(Sconti!$D$10=\"a\",55%,IF(Sconti!$D$10=\"b\",55%,IF(Sconti!$D$10=\"c\",55%)))","v":0.55000000000000004},{"$f":"IF(Sconti!$D$10=\"a\",55%,IF(Sconti!$D$10=\"b\",55%,IF(Sconti!$D$10=\"c\",55%)))","v":0.55000000000000004},{"$f":"IF(Sconti!$D$10=\"a\",55%,IF(Sconti!$D$10=\"b\",55%,IF(Sconti!$D$10=\"c\",55%)))","v":0.55000000000000004},{"$f":"IF(Sconti!$D$10=\"a\",55%,IF(Sconti!$D$10=\"b\",55%,IF(Sconti!$D$10=\"c\",55%)))","v":0.55000000000000004},{"$f":"IF(Sconti!$D$10=\"a\",55%,IF(Sconti!$D$10=\"b\",55%,IF(Sconti!$D$10=\"c\",55%)))","v":0.55000000000000004},{"$f":"IF(Sconti!$D$10=\"a\",55%,IF(Sconti!$D$10=\"b\",55%,IF(Sconti!$D$10=\"c\",55%)))","v":0.55000000000000004},{"$f":"IF(Sconti!$D$10=\"a\",55%,IF(Sconti!$D$10=\"b\",55%,IF(Sconti!$D$10=\"c\",55%)))","v":0.55000000000000004},{"$f":"IF(Sconti!$D$10=\"a\",55%,IF(Sconti!$D$10=\"b\",55%,IF(Sconti!$D$10=\"c\",55%)))","v":0.55000000000000004},{"$f":"IF(Sconti!$D$10=\"a\",55%,IF(Sconti!$D$10=\"b\",55%,IF(Sconti!$D$10=\"c\",55%)))","v":0.55000000000000004},{"$f":"IF(Sconti!$D$10=\"a\",55%,IF(Sconti!$D$10=\"b\",55%,IF(Sconti!$D$10=\"c\",55%)))","v":0.55000000000000004},null,"1,5 kg",null,93.7,99.35,138.4,119.45,122.65,154.75,154.80000000000001,91.8,106.95,97.3,142,150.35]
[null,"2,0 kg",{"$f":"IF(Sconti!$D$10=\"a\",55%,IF(Sconti!$D$10=\"b\",55%,IF(Sconti!$D$10=\"c\",55%)))","v":0.55000000000000004},{"$f":"IF(Sconti!$D$10=\"a\",55%,IF(Sconti!$D$10=\"b\",55%,IF(Sconti!$D$10=\"c\",55%)))","v":0.55000000000000004},{"$f":"IF(Sconti!$D$10=\"a\",55%,IF(Sconti!$D$10=\"b\",55%,IF(Sconti!$D$10=\"c\",55%)))","v":0.55000000000000004},{"$f":"IF(Sconti!$D$10=\"a\",55%,IF(Sconti!$D$10=\"b\",55%,IF(Sconti!$D$10=\"c\",55%)))","v":0.55000000000000004},{"$f":"IF(Sconti!$D$10=\"a\",55%,IF(Sconti!$D$10=\"b\",55%,IF(Sconti!$D$10=\"c\",55%)))","v":0.55000000000000004},{"$f":"IF(Sconti!$D$10=\"a\",55%,IF(Sconti!$D$10=\"b\",55%,IF(Sconti!$D$10=\"c\",55%)))","v":0.55000000000000004},{"$f":"IF(Sconti!$D$10=\"a\",55%,IF(Sconti!$D$10=\"b\",55%,IF(Sconti!$D$10=\"c\",55%)))","v":0.55000000000000004},{"$f":"IF(Sconti!$D$10=\"a\",55%,IF(Sconti!$D$10=\"b\",55%,IF(Sconti!$D$10=\"c\",55%)))","v":0.55000000000000004},{"$f":"IF(Sconti!$D$10=\"a\",55%,IF(Sconti!$D$10=\"b\",55%,IF(Sconti!$D$10=\"c\",55%)))","v":0.55000000000000004},{"$f":"IF(Sconti!$D$10=\"a\",55%,IF(Sconti!$D$10=\"b\",55%,IF(Sconti!$D$10=\"c\",55%)))","v":0.55000000000000004},{"$f":"IF(Sconti!$D$10=\"a\",55%,IF(Sconti!$D$10=\"b\",55%,IF(Sconti!$D$10=\"c\",55%)))","v":0.55000000000000004},{"$f":"IF(Sconti!$D$10=\"a\",55%,IF(Sconti!$D$10=\"b\",55%,IF(Sconti!$D$10=\"c\",55%)))","v":0.55000000000000004},null,"2,0 kg",null,103.25,111.5,155.4,130.44999999999999,134.15,163.69999999999999,163.75,103.6,120.5,109.8,156.65,165.75]
[null,"2,5 kg",{"$f":"IF(Sconti!$D$10=\"a\",55%,IF(Sconti!$D$10=\"b\",55%,IF(Sconti!$D$10=\"c\",55%)))","v":0.55000000000000004},{"$f":"IF(Sconti!$D$10=\"a\",55%,IF(Sconti!$D$10=\"b\",55%,IF(Sconti!$D$10=\"c\",55%)))","v":0.55000000000000004},{"$f":"IF(Sconti!$D$10=\"a\",55%,IF(Sconti!$D$10=\"b\",55%,IF(Sconti!$D$10=\"c\",55%)))","v":0.55000000000000004},{"$f":"IF(Sconti!$D$10=\"a\",55%,IF(Sconti!$D$10=\"b\",55%,IF(Sconti!$D$10=\"c\",55%)))","v":0.55000000000000004},{"$f":"IF(Sconti!$D$10=\"a\",55%,IF(Sconti!$D$10=\"b\",55%,IF(Sconti!$D$10=\"c\",55%)))","v":0.55000000000000004},{"$f":"IF(Sconti!$D$10=\"a\",55%,IF(Sconti!$D$10=\"b\",55%,IF(Sconti!$D$10=\"c\",55%)))","v":0.55000000000000004},{"$f":"IF(Sconti!$D$10=\"a\",55%,IF(Sconti!$D$10=\"b\",55%,IF(Sconti!$D$10=\"c\",55%)))","v":0.55000000000000004},{"$f":"IF(Sconti!$D$10=\"a\",55%,IF(Sconti!$D$10=\"b\",55%,IF(Sconti!$D$10=\"c\",55%)))","v":0.55000000000000004},{"$f":"IF(Sconti!$D$10=\"a\",55%,IF(Sconti!$D$10=\"b\",55%,IF(Sconti!$D$10=\"c\",55%)))","v":0.55000000000000004},{"$f":"IF(Sconti!$D$10=\"a\",55%,IF(Sconti!$D$10=\"b\",55%,IF(Sconti!$D$10=\"c\",55%)))","v":0.55000000000000004},{"$f":"IF(Sconti!$D$10=\"a\",55%,IF(Sconti!$D$10=\"b\",55%,IF(Sconti!$D$10=\"c\",55%)))","v":0.55000000000000004},{"$f":"IF(Sconti!$D$10=\"a\",55%,IF(Sconti!$D$10=\"b\",55%,IF(Sconti!$D$10=\"c\",55%)))","v":0.55000000000000004},null,"2,5 kg",null,112.75,123.6,172.4,141.65,145.6,164.55,173.35,115.45,133.80000000000001,121.9,171.05,181.05]
[null,"3,0 kg",{"$f":"IF(Sconti!$D$10=\"a\",55%,IF(Sconti!$D$10=\"b\",55%,IF(Sconti!$D$10=\"c\",55%)))","v":0.55000000000000004},{"$f":"IF(Sconti!$D$10=\"a\",55%,IF(Sconti!$D$10=\"b\",55%,IF(Sconti!$D$10=\"c\",55%)))","v":0.55000000000000004},{"$f":"IF(Sconti!$D$10=\"a\",55%,IF(Sconti!$D$10=\"b\",55%,IF(Sconti!$D$10=\"c\",55%)))","v":0.55000000000000004},{"$f":"IF(Sconti!$D$10=\"a\",55%,IF(Sconti!$D$10=\"b\",55%,IF(Sconti!$D$10=\"c\",55%)))","v":0.55000000000000004},{"$f":"IF(Sconti!$D$10=\"a\",55%,IF(Sconti!$D$10=\"b\",55%,IF(Sconti!$D$10=\"c\",55%)))","v":0.55000000000000004},{"$f":"IF(Sconti!$D$10=\"a\",55%,IF(Sconti!$D$10=\"b\",55%,IF(Sconti!$D$10=\"c\",55%)))","v":0.55000000000000004},{"$f":"IF(Sconti!$D$10=\"a\",55%,IF(Sconti!$D$10=\"b\",55%,IF(Sconti!$D$10=\"c\",55%)))","v":0.55000000000000004},{"$f":"IF(Sconti!$D$10=\"a\",55%,IF(Sconti!$D$10=\"b\",55%,IF(Sconti!$D$10=\"c\",55%)))","v":0.55000000000000004},{"$f":"IF(Sconti!$D$10=\"a\",55%,IF(Sconti!$D$10=\"b\",55%,IF(Sconti!$D$10=\"c\",55%)))","v":0.55000000000000004},{"$f":"IF(Sconti!$D$10=\"a\",55%,IF(Sconti!$D$10=\"b\",55%,IF(Sconti!$D$10=\"c\",55%)))","v":0.55000000000000004},{"$f":"IF(Sconti!$D$10=\"a\",55%,IF(Sconti!$D$10=\"b\",55%,IF(Sconti!$D$10=\"c\",55%)))","v":0.55000000000000004},{"$f":"IF(Sconti!$D$10=\"a\",55%,IF(Sconti!$D$10=\"b\",55%,IF(Sconti!$D$10=\"c\",55%)))","v":0.55000000000000004},null,"3,0 kg",null,117.95,131.69999999999999,183.2,149.25,154.44999999999999,164.6,178.55,123,144.05000000000001,131.94999999999999,185.65,196.2]
[null,"3,5 kg",{"$f":"IF(Sconti!$D$10=\"a\",55%,IF(Sconti!$D$10=\"b\",55%,IF(Sconti!$D$10=\"c\",55%)))","v":0.55000000000000004},{"$f":"IF(Sconti!$D$10=\"a\",55%,IF(Sconti!$D$10=\"b\",55%,IF(Sconti!$D$10=\"c\",55%)))","v":0.55000000000000004},{"$f":"IF(Sconti!$D$10=\"a\",55%,IF(Sconti!$D$10=\"b\",55%,IF(Sconti!$D$10=\"c\",55%)))","v":0.55000000000000004},{"$f":"IF(Sconti!$D$10=\"a\",55%,IF(Sconti!$D$10=\"b\",55%,IF(Sconti!$D$10=\"c\",55%)))","v":0.55000000000000004},{"$f":"IF(Sconti!$D$10=\"a\",55%,IF(Sconti!$D$10=\"b\",55%,IF(Sconti!$D$10=\"c\",55%)))","v":0.55000000000000004},{"$f":"IF(Sconti!$D$10=\"a\",55%,IF(Sconti!$D$10=\"b\",55%,IF(Sconti!$D$10=\"c\",55%)))","v":0.55000000000000004},{"$f":"IF(Sconti!$D$10=\"a\",55%,IF(Sconti!$D$10=\"b\",55%,IF(Sconti!$D$10=\"c\",55%)))","v":0.55000000000000004},{"$f":"IF(Sconti!$D$10=\"a\",55%,IF(Sconti!$D$10=\"b\",55%,IF(Sconti!$D$10=\"c\",55%)))","v":0.55000000000000004},{"$f":"IF(Sconti!$D$10=\"a\",55%,IF(Sconti!$D$10=\"b\",55%,IF(Sconti!$D$10=\"c\",55%)))","v":0.55000000000000004},{"$f":"IF(Sconti!$D$10=\"a\",55%,IF(Sconti!$D$10=\"b\",55%,IF(Sconti!$D$10=\"c\",55%)))","v":0.55000000000000004},{"$f":"IF(Sconti!$D$10=\"a\",55%,IF(Sconti!$D$10=\"b\",55%,IF(Sconti!$D$10=\"c\",55%)))","v":0.55000000000000004},{"$f":"IF(Sconti!$D$10=\"a\",55%,IF(Sconti!$D$10=\"b\",55%,IF(Sconti!$D$10=\"c\",55%)))","v":0.55000000000000004},null,"3,5 kg",null,123.2,139.65,193.9,157,162.30000000000001,172.9,189.8,130.6,154.5,141.6,200.2,211.6]
[null,"4,0 kg",{"$f":"IF(Sconti!$D$10=\"a\",55%,IF(Sconti!$D$10=\"b\",55%,IF(Sconti!$D$10=\"c\",55%)))","v":0.55000000000000004},{"$f":"IF(Sconti!$D$10=\"a\",55%,IF(Sconti!$D$10=\"b\",55%,IF(Sconti!$D$10=\"c\",55%)))","v":0.55000000000000004},{"$f":"IF(Sconti!$D$10=\"a\",55%,IF(Sconti!$D$10=\"b\",55%,IF(Sconti!$D$10=\"c\",55%)))","v":0.55000000000000004},{"$f":"IF(Sconti!$D$10=\"a\",55%,IF(Sconti!$D$10=\"b\",55%,IF(Sconti!$D$10=\"c\",55%)))","v":0.55000000000000004},{"$f":"IF(Sconti!$D$10=\"a\",55%,IF(Sconti!$D$10=\"b\",55%,IF(Sconti!$D$10=\"c\",55%)))","v":0.55000000000000004},{"$f":"IF(Sconti!$D$10=\"a\",55%,IF(Sconti!$D$10=\"b\",55%,IF(Sconti!$D$10=\"c\",55%)))","v":0.55000000000000004},{"$f":"IF(Sconti!$D$10=\"a\",55%,IF(Sconti!$D$10=\"b\",55%,IF(Sconti!$D$10=\"c\",55%)))","v":0.55000000000000004},{"$f":"IF(Sconti!$D$10=\"a\",55%,IF(Sconti!$D$10=\"b\",55%,IF(Sconti!$D$10=\"c\",55%)))","v":0.55000000000000004},{"$f":"IF(Sconti!$D$10=\"a\",55%,IF(Sconti!$D$10=\"b\",55%,IF(Sconti!$D$10=\"c\",55%)))","v":0.55000000000000004},{"$f":"IF(Sconti!$D$10=\"a\",55%,IF(Sconti!$D$10=\"b\",55%,IF(Sconti!$D$10=\"c\",55%)))","v":0.55000000000000004},{"$f":"IF(Sconti!$D$10=\"a\",55%,IF(Sconti!$D$10=\"b\",55%,IF(Sconti!$D$10=\"c\",55%)))","v":0.55000000000000004},{"$f":"IF(Sconti!$D$10=\"a\",55%,IF(Sconti!$D$10=\"b\",55%,IF(Sconti!$D$10=\"c\",55%)))","v":0.55000000000000004},null,"4,0 kg",null,128.5,147.75,204.6,164.8,170.05,181.15,201.5,138.15,164.8,151.4,214.75,226.85]
[null,"4,5 kg",{"$f":"IF(Sconti!$D$10=\"a\",55%,IF(Sconti!$D$10=\"b\",55%,IF(Sconti!$D$10=\"c\",55%)))","v":0.55000000000000004},{"$f":"IF(Sconti!$D$10=\"a\",55%,IF(Sconti!$D$10=\"b\",55%,IF(Sconti!$D$10=\"c\",55%)))","v":0.55000000000000004},{"$f":"IF(Sconti!$D$10=\"a\",55%,IF(Sconti!$D$10=\"b\",55%,IF(Sconti!$D$10=\"c\",55%)))","v":0.55000000000000004},{"$f":"IF(Sconti!$D$10=\"a\",55%,IF(Sconti!$D$10=\"b\",55%,IF(Sconti!$D$10=\"c\",55%)))","v":0.55000000000000004},{"$f":"IF(Sconti!$D$10=\"a\",55%,IF(Sconti!$D$10=\"b\",55%,IF(Sconti!$D$10=\"c\",55%)))","v":0.55000000000000004},{"$f":"IF(Sconti!$D$10=\"a\",55%,IF(Sconti!$D$10=\"b\",55%,IF(Sconti!$D$10=\"c\",55%)))","v":0.55000000000000004},{"$f":"IF(Sconti!$D$10=\"a\",55%,IF(Sconti!$D$10=\"b\",55%,IF(Sconti!$D$10=\"c\",55%)))","v":0.55000000000000004},{"$f":"IF(Sconti!$D$10=\"a\",55%,IF(Sconti!$D$10=\"b\",55%,IF(Sconti!$D$10=\"c\",55%)))","v":0.55000000000000004},{"$f":"IF(Sconti!$D$10=\"a\",55%,IF(Sconti!$D$10=\"b\",55%,IF(Sconti!$D$10=\"c\",55%)))","v":0.55000000000000004},{"$f":"IF(Sconti!$D$10=\"a\",55%,IF(Sconti!$D$10=\"b\",55%,IF(Sconti!$D$10=\"c\",55%)))","v":0.55000000000000004},{"$f":"IF(Sconti!$D$10=\"a\",55%,IF(Sconti!$D$10=\"b\",55%,IF(Sconti!$D$10=\"c\",55%)))","v":0.55000000000000004},{"$f":"IF(Sconti!$D$10=\"a\",55%,IF(Sconti!$D$10=\"b\",55%,IF(Sconti!$D$10=\"c\",55%)))","v":0.55000000000000004},null,"4,5 kg",null,133.69999999999999,155.75,215.35,172.55,177.95,189.5,212.8,145.75,175.2,161.30000000000001,229.2,242.2]
[null,"5,0 kg",{"$f":"IF(Sconti!$D$10=\"a\",55%,IF(Sconti!$D$10=\"b\",55%,IF(Sconti!$D$10=\"c\",55%)))","v":0.55000000000000004},{"$f":"IF(Sconti!$D$10=\"a\",55%,IF(Sconti!$D$10=\"b\",55%,IF(Sconti!$D$10=\"c\",55%)))","v":0.55000000000000004},{"$f":"IF(Sconti!$D$10=\"a\",55%,IF(Sconti!$D$10=\"b\",55%,IF(Sconti!$D$10=\"c\",55%)))","v":0.55000000000000004},{"$f":"IF(Sconti!$D$10=\"a\",55%,IF(Sconti!$D$10=\"b\",55%,IF(Sconti!$D$10=\"c\",55%)))","v":0.55000000000000004},{"$f":"IF(Sconti!$D$10=\"a\",55%,IF(Sconti!$D$10=\"b\",55%,IF(Sconti!$D$10=\"c\",55%)))","v":0.55000000000000004},{"$f":"IF(Sconti!$D$10=\"a\",55%,IF(Sconti!$D$10=\"b\",55%,IF(Sconti!$D$10=\"c\",55%)))","v":0.55000000000000004},{"$f":"IF(Sconti!$D$10=\"a\",55%,IF(Sconti!$D$10=\"b\",55%,IF(Sconti!$D$10=\"c\",55%)))","v":0.55000000000000004},{"$f":"IF(Sconti!$D$10=\"a\",55%,IF(Sconti!$D$10=\"b\",55%,IF(Sconti!$D$10=\"c\",55%)))","v":0.55000000000000004},{"$f":"IF(Sconti!$D$10=\"a\",55%,IF(Sconti!$D$10=\"b\",55%,IF(Sconti!$D$10=\"c\",55%)))","v":0.55000000000000004},{"$f":"IF(Sconti!$D$10=\"a\",55%,IF(Sconti!$D$10=\"b\",55%,IF(Sconti!$D$10=\"c\",55%)))","v":0.55000000000000004},{"$f":"IF(Sconti!$D$10=\"a\",55%,IF(Sconti!$D$10=\"b\",55%,IF(Sconti!$D$10=\"c\",55%)))","v":0.55000000000000004},{"$f":"IF(Sconti!$D$10=\"a\",55%,IF(Sconti!$D$10=\"b\",55%,IF(Sconti!$D$10=\"c\",55%)))","v":0.55000000000000004},null,"5,0 kg",null,138.65,163.69999999999999,226.2,180.05,185.8,197.7,224.3,153.4,185.7,170.9,243.8,257.45]
[null,"5,5 kg",{"$f":"IF(Sconti!$D$10=\"a\",55%,IF(Sconti!$D$10=\"b\",55%,IF(Sconti!$D$10=\"c\",55%)))","v":0.55000000000000004},{"$f":"IF(Sconti!$D$10=\"a\",55%,IF(Sconti!$D$10=\"b\",55%,IF(Sconti!$D$10=\"c\",55%)))","v":0.55000000000000004},{"$f":"IF(Sconti!$D$10=\"a\",55%,IF(Sconti!$D$10=\"b\",55%,IF(Sconti!$D$10=\"c\",55%)))","v":0.55000000000000004},{"$f":"IF(Sconti!$D$10=\"a\",55%,IF(Sconti!$D$10=\"b\",55%,IF(Sconti!$D$10=\"c\",55%)))","v":0.55000000000000004},{"$f":"IF(Sconti!$D$10=\"a\",55%,IF(Sconti!$D$10=\"b\",55%,IF(Sconti!$D$10=\"c\",55%)))","v":0.55000000000000004},{"$f":"IF(Sconti!$D$10=\"a\",55%,IF(Sconti!$D$10=\"b\",55%,IF(Sconti!$D$10=\"c\",55%)))","v":0.55000000000000004},{"$f":"IF(Sconti!$D$10=\"a\",55%,IF(Sconti!$D$10=\"b\",55%,IF(Sconti!$D$10=\"c\",55%)))","v":0.55000000000000004},{"$f":"IF(Sconti!$D$10=\"a\",55%,IF(Sconti!$D$10=\"b\",55%,IF(Sconti!$D$10=\"c\",55%)))","v":0.55000000000000004},{"$f":"IF(Sconti!$D$10=\"a\",55%,IF(Sconti!$D$10=\"b\",55%,IF(Sconti!$D$10=\"c\",55%)))","v":0.55000000000000004},{"$f":"IF(Sconti!$D$10=\"a\",55%,IF(Sconti!$D$10=\"b\",55%,IF(Sconti!$D$10=\"c\",55%)))","v":0.55000000000000004},{"$f":"IF(Sconti!$D$10=\"a\",55%,IF(Sconti!$D$10=\"b\",55%,IF(Sconti!$D$10=\"c\",55%)))","v":0.55000000000000004},{"$f":"IF(Sconti!$D$10=\"a\",55%,IF(Sconti!$D$10=\"b\",55%,IF(Sconti!$D$10=\"c\",55%)))","v":0.55000000000000004},null,"5,5 kg",null,143.15,169.1,234.8,184.95,190.8,202.9,233.4,159.9,193.85,178.3,257.55,272.75]
[null,"6,0 kg",{"$f":"IF(Sconti!$D$10=\"a\",55%,IF(Sconti!$D$10=\"b\",55%,IF(Sconti!$D$10=\"c\",55%)))","v":0.55000000000000004},{"$f":"IF(Sconti!$D$10=\"a\",55%,IF(Sconti!$D$10=\"b\",55%,IF(Sconti!$D$10=\"c\",55%)))","v":0.55000000000000004},{"$f":"IF(Sconti!$D$10=\"a\",55%,IF(Sconti!$D$10=\"b\",55%,IF(Sconti!$D$10=\"c\",55%)))","v":0.55000000000000004},{"$f":"IF(Sconti!$D$10=\"a\",55%,IF(Sconti!$D$10=\"b\",55%,IF(Sconti!$D$10=\"c\",55%)))","v":0.55000000000000004},{"$f":"IF(Sconti!$D$10=\"a\",55%,IF(Sconti!$D$10=\"b\",55%,IF(Sconti!$D$10=\"c\",55%)))","v":0.55000000000000004},{"$f":"IF(Sconti!$D$10=\"a\",55%,IF(Sconti!$D$10=\"b\",55%,IF(Sconti!$D$10=\"c\",55%)))","v":0.55000000000000004},{"$f":"IF(Sconti!$D$10=\"a\",55%,IF(Sconti!$D$10=\"b\",55%,IF(Sconti!$D$10=\"c\",55%)))","v":0.55000000000000004},{"$f":"IF(Sconti!$D$10=\"a\",55%,IF(Sconti!$D$10=\"b\",55%,IF(Sconti!$D$10=\"c\",55%)))","v":0.55000000000000004},{"$f":"IF(Sconti!$D$10=\"a\",55%,IF(Sconti!$D$10=\"b\",55%,IF(Sconti!$D$10=\"c\",55%)))","v":0.55000000000000004},{"$f":"IF(Sconti!$D$10=\"a\",55%,IF(Sconti!$D$10=\"b\",55%,IF(Sconti!$D$10=\"c\",55%)))","v":0.55000000000000004},{"$f":"IF(Sconti!$D$10=\"a\",55%,IF(Sconti!$D$10=\"b\",55%,IF(Sconti!$D$10=\"c\",55%)))","v":0.55000000000000004},{"$f":"IF(Sconti!$D$10=\"a\",55%,IF(Sconti!$D$10=\"b\",55%,IF(Sconti!$D$10=\"c\",55%)))","v":0.55000000000000004},null,"6,0 kg",null,147.44999999999999,174.4,243.55,189.7,195.95,208.15,242.55,166.4,202.05,185.8,271.3,288.10000000000002]
[null,"6,5 kg",{"$f":"IF(Sconti!$D$10=\"a\",55%,IF(Sconti!$D$10=\"b\",55%,IF(Sconti!$D$10=\"c\",55%)))","v":0.55000000000000004},{"$f":"IF(Sconti!$D$10=\"a\",55%,IF(Sconti!$D$10=\"b\",55%,IF(Sconti!$D$10=\"c\",55%)))","v":0.55000000000000004},{"$f":"IF(Sconti!$D$10=\"a\",55%,IF(Sconti!$D$10=\"b\",55%,IF(Sconti!$D$10=\"c\",55%)))","v":0.55000000000000004},{"$f":"IF(Sconti!$D$10=\"a\",55%,IF(Sconti!$D$10=\"b\",55%,IF(Sconti!$D$10=\"c\",55%)))","v":0.55000000000000004},{"$f":"IF(Sconti!$D$10=\"a\",55%,IF(Sconti!$D$10=\"b\",55%,IF(Sconti!$D$10=\"c\",55%)))","v":0.55000000000000004},{"$f":"IF(Sconti!$D$10=\"a\",55%,IF(Sconti!$D$10=\"b\",55%,IF(Sconti!$D$10=\"c\",55%)))","v":0.55000000000000004},{"$f":"IF(Sconti!$D$10=\"a\",55%,IF(Sconti!$D$10=\"b\",55%,IF(Sconti!$D$10=\"c\",55%)))","v":0.55000000000000004},{"$f":"IF(Sconti!$D$10=\"a\",55%,IF(Sconti!$D$10=\"b\",55%,IF(Sconti!$D$10=\"c\",55%)))","v":0.55000000000000004},{"$f":"IF(Sconti!$D$10=\"a\",55%,IF(Sconti!$D$10=\"b\",55%,IF(Sconti!$D$10=\"c\",55%)))","v":0.55000000000000004},{"$f":"IF(Sconti!$D$10=\"a\",55%,IF(Sconti!$D$10=\"b\",55%,IF(Sconti!$D$10=\"c\",55%)))","v":0.55000000000000004},{"$f":"IF(Sconti!$D$10=\"a\",55%,IF(Sconti!$D$10=\"b\",55%,IF(Sconti!$D$10=\"c\",55%)))","v":0.55000000000000004},{"$f":"IF(Sconti!$D$10=\"a\",55%,IF(Sconti!$D$10=\"b\",55%,IF(Sconti!$D$10=\"c\",55%)))","v":0.55000000000000004},null,"6,5 kg",null,151.85,179.65,252.35,194.45,200.95,213.4,251.6,172.85,210.25,193.3,284.95,303.25]
[null,"7,0 kg",{"$f":"IF(Sconti!$D$10=\"a\",55%,IF(Sconti!$D$10=\"b\",55%,IF(Sconti!$D$10=\"c\",55%)))","v":0.55000000000000004},{"$f":"IF(Sconti!$D$10=\"a\",55%,IF(Sconti!$D$10=\"b\",55%,IF(Sconti!$D$10=\"c\",55%)))","v":0.55000000000000004},{"$f":"IF(Sconti!$D$10=\"a\",55%,IF(Sconti!$D$10=\"b\",55%,IF(Sconti!$D$10=\"c\",55%)))","v":0.55000000000000004},{"$f":"IF(Sconti!$D$10=\"a\",55%,IF(Sconti!$D$10=\"b\",55%,IF(Sconti!$D$10=\"c\",55%)))","v":0.55000000000000004},{"$f":"IF(Sconti!$D$10=\"a\",55%,IF(Sconti!$D$10=\"b\",55%,IF(Sconti!$D$10=\"c\",55%)))","v":0.55000000000000004},{"$f":"IF(Sconti!$D$10=\"a\",55%,IF(Sconti!$D$10=\"b\",55%,IF(Sconti!$D$10=\"c\",55%)))","v":0.55000000000000004},{"$f":"IF(Sconti!$D$10=\"a\",55%,IF(Sconti!$D$10=\"b\",55%,IF(Sconti!$D$10=\"c\",55%)))","v":0.55000000000000004},{"$f":"IF(Sconti!$D$10=\"a\",55%,IF(Sconti!$D$10=\"b\",55%,IF(Sconti!$D$10=\"c\",55%)))","v":0.55000000000000004},{"$f":"IF(Sconti!$D$10=\"a\",55%,IF(Sconti!$D$10=\"b\",55%,IF(Sconti!$D$10=\"c\",55%)))","v":0.55000000000000004},{"$f":"IF(Sconti!$D$10=\"a\",55%,IF(Sconti!$D$10=\"b\",55%,IF(Sconti!$D$10=\"c\",55%)))","v":0.55000000000000004},{"$f":"IF(Sconti!$D$10=\"a\",55%,IF(Sconti!$D$10=\"b\",55%,IF(Sconti!$D$10=\"c\",55%)))","v":0.55000000000000004},{"$f":"IF(Sconti!$D$10=\"a\",55%,IF(Sconti!$D$10=\"b\",55%,IF(Sconti!$D$10=\"c\",55%)))","v":0.55000000000000004},null,"7,0 kg",null,156.1,184.85,261.14999999999998,199.35,206.1,218.65,260.7,179.45,218.45,200.5,298.7,318.7]
[null,"7,5 kg",{"$f":"IF(Sconti!$D$10=\"a\",55%,IF(Sconti!$D$10=\"b\",55%,IF(Sconti!$D$10=\"c\",55%)))","v":0.55000000000000004},{"$f":"IF(Sconti!$D$10=\"a\",55%,IF(Sconti!$D$10=\"b\",55%,IF(Sconti!$D$10=\"c\",55%)))","v":0.55000000000000004},{"$f":"IF(Sconti!$D$10=\"a\",55%,IF(Sconti!$D$10=\"b\",55%,IF(Sconti!$D$10=\"c\",55%)))","v":0.55000000000000004},{"$f":"IF(Sconti!$D$10=\"a\",55%,IF(Sconti!$D$10=\"b\",55%,IF(Sconti!$D$10=\"c\",55%)))","v":0.55000000000000004},{"$f":"IF(Sconti!$D$10=\"a\",55%,IF(Sconti!$D$10=\"b\",55%,IF(Sconti!$D$10=\"c\",55%)))","v":0.55000000000000004},{"$f":"IF(Sconti!$D$10=\"a\",55%,IF(Sconti!$D$10=\"b\",55%,IF(Sconti!$D$10=\"c\",55%)))","v":0.55000000000000004},{"$f":"IF(Sconti!$D$10=\"a\",55%,IF(Sconti!$D$10=\"b\",55%,IF(Sconti!$D$10=\"c\",55%)))","v":0.55000000000000004},{"$f":"IF(Sconti!$D$10=\"a\",55%,IF(Sconti!$D$10=\"b\",55%,IF(Sconti!$D$10=\"c\",55%)))","v":0.55000000000000004},{"$f":"IF(Sconti!$D$10=\"a\",55%,IF(Sconti!$D$10=\"b\",55%,IF(Sconti!$D$10=\"c\",55%)))","v":0.55000000000000004},{"$f":"IF(Sconti!$D$10=\"a\",55%,IF(Sconti!$D$10=\"b\",55%,IF(Sconti!$D$10=\"c\",55%)))","v":0.55000000000000004},{"$f":"IF(Sconti!$D$10=\"a\",55%,IF(Sconti!$D$10=\"b\",55%,IF(Sconti!$D$10=\"c\",55%)))","v":0.55000000000000004},{"$f":"IF(Sconti!$D$10=\"a\",55%,IF(Sconti!$D$10=\"b\",55%,IF(Sconti!$D$10=\"c\",55%)))","v":0.55000000000000004},null,"7,5 kg",null,160.5,190,269.75,204.05,211.15,223.95,269.75,186,226.5,208.05,312.5,333.85]
[null,"8,0 kg",{"$f":"IF(Sconti!$D$10=\"a\",55%,IF(Sconti!$D$10=\"b\",55%,IF(Sconti!$D$10=\"c\",55%)))","v":0.55000000000000004},{"$f":"IF(Sconti!$D$10=\"a\",55%,IF(Sconti!$D$10=\"b\",55%,IF(Sconti!$D$10=\"c\",55%)))","v":0.55000000000000004},{"$f":"IF(Sconti!$D$10=\"a\",55%,IF(Sconti!$D$10=\"b\",55%,IF(Sconti!$D$10=\"c\",55%)))","v":0.55000000000000004},{"$f":"IF(Sconti!$D$10=\"a\",55%,IF(Sconti!$D$10=\"b\",55%,IF(Sconti!$D$10=\"c\",55%)))","v":0.55000000000000004},{"$f":"IF(Sconti!$D$10=\"a\",55%,IF(Sconti!$D$10=\"b\",55%,IF(Sconti!$D$10=\"c\",55%)))","v":0.55000000000000004},{"$f":"IF(Sconti!$D$10=\"a\",55%,IF(Sconti!$D$10=\"b\",55%,IF(Sconti!$D$10=\"c\",55%)))","v":0.55000000000000004},{"$f":"IF(Sconti!$D$10=\"a\",55%,IF(Sconti!$D$10=\"b\",55%,IF(Sconti!$D$10=\"c\",55%)))","v":0.55000000000000004},{"$f":"IF(Sconti!$D$10=\"a\",55%,IF(Sconti!$D$10=\"b\",55%,IF(Sconti!$D$10=\"c\",55%)))","v":0.55000000000000004},{"$f":"IF(Sconti!$D$10=\"a\",55%,IF(Sconti!$D$10=\"b\",55%,IF(Sconti!$D$10=\"c\",55%)))","v":0.55000000000000004},{"$f":"IF(Sconti!$D$10=\"a\",55%,IF(Sconti!$D$10=\"b\",55%,IF(Sconti!$D$10=\"c\",55%)))","v":0.55000000000000004},{"$f":"IF(Sconti!$D$10=\"a\",55%,IF(Sconti!$D$10=\"b\",55%,IF(Sconti!$D$10=\"c\",55%)))","v":0.55000000000000004},{"$f":"IF(Sconti!$D$10=\"a\",55%,IF(Sconti!$D$10=\"b\",55%,IF(Sconti!$D$10=\"c\",55%)))","v":0.55000000000000004},null,"8,0 kg",null,164.95,195.4,278.45,208.8,215.85,229.15,277.75,192.45,234.65,215.5,326.2,349.15]
[null,"8,5 kg",{"$f":"IF(Sconti!$D$10=\"a\",55%,IF(Sconti!$D$10=\"b\",55%,IF(Sconti!$D$10=\"c\",55%)))","v":0.55000000000000004},{"$f":"IF(Sconti!$D$10=\"a\",55%,IF(Sconti!$D$10=\"b\",55%,IF(Sconti!$D$10=\"c\",55%)))","v":0.55000000000000004},{"$f":"IF(Sconti!$D$10=\"a\",55%,IF(Sconti!$D$10=\"b\",55%,IF(Sconti!$D$10=\"c\",55%)))","v":0.55000000000000004},{"$f":"IF(Sconti!$D$10=\"a\",55%,IF(Sconti!$D$10=\"b\",55%,IF(Sconti!$D$10=\"c\",55%)))","v":0.55000000000000004},{"$f":"IF(Sconti!$D$10=\"a\",55%,IF(Sconti!$D$10=\"b\",55%,IF(Sconti!$D$10=\"c\",55%)))","v":0.55000000000000004},{"$f":"IF(Sconti!$D$10=\"a\",55%,IF(Sconti!$D$10=\"b\",55%,IF(Sconti!$D$10=\"c\",55%)))","v":0.55000000000000004},{"$f":"IF(Sconti!$D$10=\"a\",55%,IF(Sconti!$D$10=\"b\",55%,IF(Sconti!$D$10=\"c\",55%)))","v":0.55000000000000004},{"$f":"IF(Sconti!$D$10=\"a\",55%,IF(Sconti!$D$10=\"b\",55%,IF(Sconti!$D$10=\"c\",55%)))","v":0.55000000000000004},{"$f":"IF(Sconti!$D$10=\"a\",55%,IF(Sconti!$D$10=\"b\",55%,IF(Sconti!$D$10=\"c\",55%)))","v":0.55000000000000004},{"$f":"IF(Sconti!$D$10=\"a\",55%,IF(Sconti!$D$10=\"b\",55%,IF(Sconti!$D$10=\"c\",55%)))","v":0.55000000000000004},{"$f":"IF(Sconti!$D$10=\"a\",55%,IF(Sconti!$D$10=\"b\",55%,IF(Sconti!$D$10=\"c\",55%)))","v":0.55000000000000004},{"$f":"IF(Sconti!$D$10=\"a\",55%,IF(Sconti!$D$10=\"b\",55%,IF(Sconti!$D$10=\"c\",55%)))","v":0.55000000000000004},null,"8,5 kg",null,169.3,200.65,287.25,213.55,220.3,234.35,285.60000000000002,199.05,242.6,222.9,339.9,364.4]
[null,"9,0 kg",{"$f":"IF(Sconti!$D$10=\"a\",55%,IF(Sconti!$D$10=\"b\",55%,IF(Sconti!$D$10=\"c\",55%)))","v":0.55000000000000004},{"$f":"IF(Sconti!$D$10=\"a\",55%,IF(Sconti!$D$10=\"b\",55%,IF(Sconti!$D$10=\"c\",55%)))","v":0.55000000000000004},{"$f":"IF(Sconti!$D$10=\"a\",55%,IF(Sconti!$D$10=\"b\",55%,IF(Sconti!$D$10=\"c\",55%)))","v":0.55000000000000004},{"$f":"IF(Sconti!$D$10=\"a\",55%,IF(Sconti!$D$10=\"b\",55%,IF(Sconti!$D$10=\"c\",55%)))","v":0.55000000000000004},{"$f":"IF(Sconti!$D$10=\"a\",55%,IF(Sconti!$D$10=\"b\",55%,IF(Sconti!$D$10=\"c\",55%)))","v":0.55000000000000004},{"$f":"IF(Sconti!$D$10=\"a\",55%,IF(Sconti!$D$10=\"b\",55%,IF(Sconti!$D$10=\"c\",55%)))","v":0.55000000000000004},{"$f":"IF(Sconti!$D$10=\"a\",55%,IF(Sconti!$D$10=\"b\",55%,IF(Sconti!$D$10=\"c\",55%)))","v":0.55000000000000004},{"$f":"IF(Sconti!$D$10=\"a\",55%,IF(Sconti!$D$10=\"b\",55%,IF(Sconti!$D$10=\"c\",55%)))","v":0.55000000000000004},{"$f":"IF(Sconti!$D$10=\"a\",55%,IF(Sconti!$D$10=\"b\",55%,IF(Sconti!$D$10=\"c\",55%)))","v":0.55000000000000004},{"$f":"IF(Sconti!$D$10=\"a\",55%,IF(Sconti!$D$10=\"b\",55%,IF(Sconti!$D$10=\"c\",55%)))","v":0.55000000000000004},{"$f":"IF(Sconti!$D$10=\"a\",55%,IF(Sconti!$D$10=\"b\",55%,IF(Sconti!$D$10=\"c\",55%)))","v":0.55000000000000004},{"$f":"IF(Sconti!$D$10=\"a\",55%,IF(Sconti!$D$10=\"b\",55%,IF(Sconti!$D$10=\"c\",55%)))","v":0.55000000000000004},null,"9,0 kg",null,173.75,205.95,296,218.4,225.4,239.65,293.64999999999998,205.5,250.8,230.25,353.65,379.7]
[null,"9,5 kg",{"$f":"IF(Sconti!$D$10=\"a\",55%,IF(Sconti!$D$10=\"b\",55%,IF(Sconti!$D$10=\"c\",55%)))","v":0.55000000000000004},{"$f":"IF(Sconti!$D$10=\"a\",55%,IF(Sconti!$D$10=\"b\",55%,IF(Sconti!$D$10=\"c\",55%)))","v":0.55000000000000004},{"$f":"IF(Sconti!$D$10=\"a\",55%,IF(Sconti!$D$10=\"b\",55%,IF(Sconti!$D$10=\"c\",55%)))","v":0.55000000000000004},{"$f":"IF(Sconti!$D$10=\"a\",55%,IF(Sconti!$D$10=\"b\",55%,IF(Sconti!$D$10=\"c\",55%)))","v":0.55000000000000004},{"$f":"IF(Sconti!$D$10=\"a\",55%,IF(Sconti!$D$10=\"b\",55%,IF(Sconti!$D$10=\"c\",55%)))","v":0.55000000000000004},{"$f":"IF(Sconti!$D$10=\"a\",55%,IF(Sconti!$D$10=\"b\",55%,IF(Sconti!$D$10=\"c\",55%)))","v":0.55000000000000004},{"$f":"IF(Sconti!$D$10=\"a\",55%,IF(Sconti!$D$10=\"b\",55%,IF(Sconti!$D$10=\"c\",55%)))","v":0.55000000000000004},{"$f":"IF(Sconti!$D$10=\"a\",55%,IF(Sconti!$D$10=\"b\",55%,IF(Sconti!$D$10=\"c\",55%)))","v":0.55000000000000004},{"$f":"IF(Sconti!$D$10=\"a\",55%,IF(Sconti!$D$10=\"b\",55%,IF(Sconti!$D$10=\"c\",55%)))","v":0.55000000000000004},{"$f":"IF(Sconti!$D$10=\"a\",55%,IF(Sconti!$D$10=\"b\",55%,IF(Sconti!$D$10=\"c\",55%)))","v":0.55000000000000004},{"$f":"IF(Sconti!$D$10=\"a\",55%,IF(Sconti!$D$10=\"b\",55%,IF(Sconti!$D$10=\"c\",55%)))","v":0.55000000000000004},{"$f":"IF(Sconti!$D$10=\"a\",55%,IF(Sconti!$D$10=\"b\",55%,IF(Sconti!$D$10=\"c\",55%)))","v":0.55000000000000004},null,"9,5 kg",null,178.2,211.25,304.7,223.15,230.05,244.9,301.55,212.05,258.85000000000002,237.65,367.4,394.9]
[null,"10 kg",{"$f":"IF(Sconti!$D$10=\"a\",55%,IF(Sconti!$D$10=\"b\",55%,IF(Sconti!$D$10=\"c\",55%)))","v":0.55000000000000004},{"$f":"IF(Sconti!$D$10=\"a\",55%,IF(Sconti!$D$10=\"b\",55%,IF(Sconti!$D$10=\"c\",55%)))","v":0.55000000000000004},{"$f":"IF(Sconti!$D$10=\"a\",55%,IF(Sconti!$D$10=\"b\",55%,IF(Sconti!$D$10=\"c\",55%)))","v":0.55000000000000004},{"$f":"IF(Sconti!$D$10=\"a\",55%,IF(Sconti!$D$10=\"b\",55%,IF(Sconti!$D$10=\"c\",55%)))","v":0.55000000000000004},{"$f":"IF(Sconti!$D$10=\"a\",55%,IF(Sconti!$D$10=\"b\",55%,IF(Sconti!$D$10=\"c\",55%)))","v":0.55000000000000004},{"$f":"IF(Sconti!$D$10=\"a\",55%,IF(Sconti!$D$10=\"b\",55%,IF(Sconti!$D$10=\"c\",55%)))","v":0.55000000000000004},{"$f":"IF(Sconti!$D$10=\"a\",55%,IF(Sconti!$D$10=\"b\",55%,IF(Sconti!$D$10=\"c\",55%)))","v":0.55000000000000004},{"$f":"IF(Sconti!$D$10=\"a\",55%,IF(Sconti!$D$10=\"b\",55%,IF(Sconti!$D$10=\"c\",55%)))","v":0.55000000000000004},{"$f":"IF(Sconti!$D$10=\"a\",55%,IF(Sconti!$D$10=\"b\",55%,IF(Sconti!$D$10=\"c\",55%)))","v":0.55000000000000004},{"$f":"IF(Sconti!$D$10=\"a\",55%,IF(Sconti!$D$10=\"b\",55%,IF(Sconti!$D$10=\"c\",55%)))","v":0.55000000000000004},{"$f":"IF(Sconti!$D$10=\"a\",55%,IF(Sconti!$D$10=\"b\",55%,IF(Sconti!$D$10=\"c\",55%)))","v":0.55000000000000004},{"$f":"IF(Sconti!$D$10=\"a\",55%,IF(Sconti!$D$10=\"b\",55%,IF(Sconti!$D$10=\"c\",55%)))","v":0.55000000000000004},null,"10 kg",null,182.65,216.5,313.35000000000002,227.9,234.6,250.25,309.5,218.6,267.10000000000002,245.15,381.1,410.2]
[null,"11 kg",{"$f":"IF(Sconti!$D$10=\"a\",55%,IF(Sconti!$D$10=\"b\",55%,IF(Sconti!$D$10=\"c\",55%)))","v":0.55000000000000004},{"$f":"IF(Sconti!$D$10=\"a\",55%,IF(Sconti!$D$10=\"b\",55%,IF(Sconti!$D$10=\"c\",55%)))","v":0.55000000000000004},{"$f":"IF(Sconti!$D$10=\"a\",55%,IF(Sconti!$D$10=\"b\",55%,IF(Sconti!$D$10=\"c\",55%)))","v":0.55000000000000004},{"$f":"IF(Sconti!$D$10=\"a\",55%,IF(Sconti!$D$10=\"b\",55%,IF(Sconti!$D$10=\"c\",55%)))","v":0.55000000000000004},{"$f":"IF(Sconti!$D$10=\"a\",55%,IF(Sconti!$D$10=\"b\",55%,IF(Sconti!$D$10=\"c\",55%)))","v":0.55000000000000004},{"$f":"IF(Sconti!$D$10=\"a\",55%,IF(Sconti!$D$10=\"b\",55%,IF(Sconti!$D$10=\"c\",55%)))","v":0.55000000000000004},{"$f":"IF(Sconti!$D$10=\"a\",55%,IF(Sconti!$D$10=\"b\",55%,IF(Sconti!$D$10=\"c\",55%)))","v":0.55000000000000004},{"$f":"IF(Sconti!$D$10=\"a\",55%,IF(Sconti!$D$10=\"b\",55%,IF(Sconti!$D$10=\"c\",55%)))","v":0.55000000000000004},{"$f":"IF(Sconti!$D$10=\"a\",55%,IF(Sconti!$D$10=\"b\",55%,IF(Sconti!$D$10=\"c\",55%)))","v":0.55000000000000004},{"$f":"IF(Sconti!$D$10=\"a\",55%,IF(Sconti!$D$10=\"b\",55%,IF(Sconti!$D$10=\"c\",55%)))","v":0.55000000000000004},{"$f":"IF(Sconti!$D$10=\"a\",55%,IF(Sconti!$D$10=\"b\",55%,IF(Sconti!$D$10=\"c\",55%)))","v":0.55000000000000004},{"$f":"IF(Sconti!$D$10=\"a\",55%,IF(Sconti!$D$10=\"b\",55%,IF(Sconti!$D$10=\"c\",55%)))","v":0.55000000000000004},null,"11 kg",null,187.75,224.95,322.75,236,242.95,258.64999999999998,320,230.35,282,258.89999999999998,401.9,438.35]
[null,"12 kg",{"$f":"IF(Sconti!$D$10=\"a\",55%,IF(Sconti!$D$10=\"b\",55%,IF(Sconti!$D$10=\"c\",55%)))","v":0.55000000000000004},{"$f":"IF(Sconti!$D$10=\"a\",55%,IF(Sconti!$D$10=\"b\",55%,IF(Sconti!$D$10=\"c\",55%)))","v":0.55000000000000004},{"$f":"IF(Sconti!$D$10=\"a\",55%,IF(Sconti!$D$10=\"b\",55%,IF(Sconti!$D$10=\"c\",55%)))","v":0.55000000000000004},{"$f":"IF(Sconti!$D$10=\"a\",55%,IF(Sconti!$D$10=\"b\",55%,IF(Sconti!$D$10=\"c\",55%)))","v":0.55000000000000004},{"$f":"IF(Sconti!$D$10=\"a\",55%,IF(Sconti!$D$10=\"b\",55%,IF(Sconti!$D$10=\"c\",55%)))","v":0.55000000000000004},{"$f":"IF(Sconti!$D$10=\"a\",55%,IF(Sconti!$D$10=\"b\",55%,IF(Sconti!$D$10=\"c\",55%)))","v":0.55000000000000004},{"$f":"IF(Sconti!$D$10=\"a\",55%,IF(Sconti!$D$10=\"b\",55%,IF(Sconti!$D$10=\"c\",55%)))","v":0.55000000000000004},{"$f":"IF(Sconti!$D$10=\"a\",55%,IF(Sconti!$D$10=\"b\",55%,IF(Sconti!$D$10=\"c\",55%)))","v":0.55000000000000004},{"$f":"IF(Sconti!$D$10=\"a\",55%,IF(Sconti!$D$10=\"b\",55%,IF(Sconti!$D$10=\"c\",55%)))","v":0.55000000000000004},{"$f":"IF(Sconti!$D$10=\"a\",55%,IF(Sconti!$D$10=\"b\",55%,IF(Sconti!$D$10=\"c\",55%)))","v":0.55000000000000004},{"$f":"IF(Sconti!$D$10=\"a\",55%,IF(Sconti!$D$10=\"b\",55%,IF(Sconti!$D$10=\"c\",55%)))","v":0.55000000000000004},{"$f":"IF(Sconti!$D$10=\"a\",55%,IF(Sconti!$D$10=\"b\",55%,IF(Sconti!$D$10=\"c\",55%)))","v":0.55000000000000004},null,"12 kg",null,192.8,233.6,332.1,244.15,251.25,267.2,330.55,242.2,296.89999999999998,272.60000000000002,422.45,466.35]
[null,"13 kg",{"$f":"IF(Sconti!$D$10=\"a\",55%,IF(Sconti!$D$10=\"b\",55%,IF(Sconti!$D$10=\"c\",55%)))","v":0.55000000000000004},{"$f":"IF(Sconti!$D$10=\"a\",55%,IF(Sconti!$D$10=\"b\",55%,IF(Sconti!$D$10=\"c\",55%)))","v":0.55000000000000004},{"$f":"IF(Sconti!$D$10=\"a\",55%,IF(Sconti!$D$10=\"b\",55%,IF(Sconti!$D$10=\"c\",55%)))","v":0.55000000000000004},{"$f":"IF(Sconti!$D$10=\"a\",55%,IF(Sconti!$D$10=\"b\",55%,IF(Sconti!$D$10=\"c\",55%)))","v":0.55000000000000004},{"$f":"IF(Sconti!$D$10=\"a\",55%,IF(Sconti!$D$10=\"b\",55%,IF(Sconti!$D$10=\"c\",55%)))","v":0.55000000000000004},{"$f":"IF(Sconti!$D$10=\"a\",55%,IF(Sconti!$D$10=\"b\",55%,IF(Sconti!$D$10=\"c\",55%)))","v":0.55000000000000004},{"$f":"IF(Sconti!$D$10=\"a\",55%,IF(Sconti!$D$10=\"b\",55%,IF(Sconti!$D$10=\"c\",55%)))","v":0.55000000000000004},{"$f":"IF(Sconti!$D$10=\"a\",55%,IF(Sconti!$D$10=\"b\",55%,IF(Sconti!$D$10=\"c\",55%)))","v":0.55000000000000004},{"$f":"IF(Sconti!$D$10=\"a\",55%,IF(Sconti!$D$10=\"b\",55%,IF(Sconti!$D$10=\"c\",55%)))","v":0.55000000000000004},{"$f":"IF(Sconti!$D$10=\"a\",55%,IF(Sconti!$D$10=\"b\",55%,IF(Sconti!$D$10=\"c\",55%)))","v":0.55000000000000004},{"$f":"IF(Sconti!$D$10=\"a\",55%,IF(Sconti!$D$10=\"b\",55%,IF(Sconti!$D$10=\"c\",55%)))","v":0.55000000000000004},{"$f":"IF(Sconti!$D$10=\"a\",55%,IF(Sconti!$D$10=\"b\",55%,IF(Sconti!$D$10=\"c\",55%)))","v":0.55000000000000004},null,"13 kg",null,197.85,242.1,341.45,252.25,259.55,275.64999999999998,341,254.1,312.3,286.55,443.15,494.55]
[null,"14 kg",{"$f":"IF(Sconti!$D$10=\"a\",55%,IF(Sconti!$D$10=\"b\",55%,IF(Sconti!$D$10=\"c\",55%)))","v":0.55000000000000004},{"$f":"IF(Sconti!$D$10=\"a\",55%,IF(Sconti!$D$10=\"b\",55%,IF(Sconti!$D$10=\"c\",55%)))","v":0.55000000000000004},{"$f":"IF(Sconti!$D$10=\"a\",55%,IF(Sconti!$D$10=\"b\",55%,IF(Sconti!$D$10=\"c\",55%)))","v":0.55000000000000004},{"$f":"IF(Sconti!$D$10=\"a\",55%,IF(Sconti!$D$10=\"b\",55%,IF(Sconti!$D$10=\"c\",55%)))","v":0.55000000000000004},{"$f":"IF(Sconti!$D$10=\"a\",55%,IF(Sconti!$D$10=\"b\",55%,IF(Sconti!$D$10=\"c\",55%)))","v":0.55000000000000004},{"$f":"IF(Sconti!$D$10=\"a\",55%,IF(Sconti!$D$10=\"b\",55%,IF(Sconti!$D$10=\"c\",55%)))","v":0.55000000000000004},{"$f":"IF(Sconti!$D$10=\"a\",55%,IF(Sconti!$D$10=\"b\",55%,IF(Sconti!$D$10=\"c\",55%)))","v":0.55000000000000004},{"$f":"IF(Sconti!$D$10=\"a\",55%,IF(Sconti!$D$10=\"b\",55%,IF(Sconti!$D$10=\"c\",55%)))","v":0.55000000000000004},{"$f":"IF(Sconti!$D$10=\"a\",55%,IF(Sconti!$D$10=\"b\",55%,IF(Sconti!$D$10=\"c\",55%)))","v":0.55000000000000004},{"$f":"IF(Sconti!$D$10=\"a\",55%,IF(Sconti!$D$10=\"b\",55%,IF(Sconti!$D$10=\"c\",55%)))","v":0.55000000000000004},{"$f":"IF(Sconti!$D$10=\"a\",55%,IF(Sconti!$D$10=\"b\",55%,IF(Sconti!$D$10=\"c\",55%)))","v":0.55000000000000004},{"$f":"IF(Sconti!$D$10=\"a\",55%,IF(Sconti!$D$10=\"b\",55%,IF(Sconti!$D$10=\"c\",55%)))","v":0.55000000000000004},null,"14 kg",null,202.9,250.6,350.8,260.25,267.95,284.05,351.5,265.75,327.2,300.25,463.75,522.54999999999995]
[null,"15 kg",{"$f":"IF(Sconti!$D$10=\"a\",55%,IF(Sconti!$D$10=\"b\",55%,IF(Sconti!$D$10=\"c\",55%)))","v":0.55000000000000004},{"$f":"IF(Sconti!$D$10=\"a\",55%,IF(Sconti!$D$10=\"b\",55%,IF(Sconti!$D$10=\"c\",55%)))","v":0.55000000000000004},{"$f":"IF(Sconti!$D$10=\"a\",55%,IF(Sconti!$D$10=\"b\",55%,IF(Sconti!$D$10=\"c\",55%)))","v":0.55000000000000004},{"$f":"IF(Sconti!$D$10=\"a\",55%,IF(Sconti!$D$10=\"b\",55%,IF(Sconti!$D$10=\"c\",55%)))","v":0.55000000000000004},{"$f":"IF(Sconti!$D$10=\"a\",55%,IF(Sconti!$D$10=\"b\",55%,IF(Sconti!$D$10=\"c\",55%)))","v":0.55000000000000004},{"$f":"IF(Sconti!$D$10=\"a\",55%,IF(Sconti!$D$10=\"b\",55%,IF(Sconti!$D$10=\"c\",55%)))","v":0.55000000000000004},{"$f":"IF(Sconti!$D$10=\"a\",55%,IF(Sconti!$D$10=\"b\",55%,IF(Sconti!$D$10=\"c\",55%)))","v":0.55000000000000004},{"$f":"IF(Sconti!$D$10=\"a\",55%,IF(Sconti!$D$10=\"b\",55%,IF(Sconti!$D$10=\"c\",55%)))","v":0.55000000000000004},{"$f":"IF(Sconti!$D$10=\"a\",55%,IF(Sconti!$D$10=\"b\",55%,IF(Sconti!$D$10=\"c\",55%)))","v":0.55000000000000004},{"$f":"IF(Sconti!$D$10=\"a\",55%,IF(Sconti!$D$10=\"b\",55%,IF(Sconti!$D$10=\"c\",55%)))","v":0.55000000000000004},{"$f":"IF(Sconti!$D$10=\"a\",55%,IF(Sconti!$D$10=\"b\",55%,IF(Sconti!$D$10=\"c\",55%)))","v":0.55000000000000004},{"$f":"IF(Sconti!$D$10=\"a\",55%,IF(Sconti!$D$10=\"b\",55%,IF(Sconti!$D$10=\"c\",55%)))","v":0.55000000000000004},null,"15 kg",null,207.9,259.10000000000002,360.25,268.39999999999998,276.3,292.64999999999998,362.1,277.55,342.15,314.05,484.45,550.75]
[null,"16 kg",{"$f":"IF(Sconti!$D$10=\"a\",55%,IF(Sconti!$D$10=\"b\",55%,IF(Sconti!$D$10=\"c\",55%)))","v":0.55000000000000004},{"$f":"IF(Sconti!$D$10=\"a\",55%,IF(Sconti!$D$10=\"b\",55%,IF(Sconti!$D$10=\"c\",55%)))","v":0.55000000000000004},{"$f":"IF(Sconti!$D$10=\"a\",55%,IF(Sconti!$D$10=\"b\",55%,IF(Sconti!$D$10=\"c\",55%)))","v":0.55000000000000004},{"$f":"IF(Sconti!$D$10=\"a\",55%,IF(Sconti!$D$10=\"b\",55%,IF(Sconti!$D$10=\"c\",55%)))","v":0.55000000000000004},{"$f":"IF(Sconti!$D$10=\"a\",55%,IF(Sconti!$D$10=\"b\",55%,IF(Sconti!$D$10=\"c\",55%)))","v":0.55000000000000004},{"$f":"IF(Sconti!$D$10=\"a\",55%,IF(Sconti!$D$10=\"b\",55%,IF(Sconti!$D$10=\"c\",55%)))","v":0.55000000000000004},{"$f":"IF(Sconti!$D$10=\"a\",55%,IF(Sconti!$D$10=\"b\",55%,IF(Sconti!$D$10=\"c\",55%)))","v":0.55000000000000004},{"$f":"IF(Sconti!$D$10=\"a\",55%,IF(Sconti!$D$10=\"b\",55%,IF(Sconti!$D$10=\"c\",55%)))","v":0.55000000000000004},{"$f":"IF(Sconti!$D$10=\"a\",55%,IF(Sconti!$D$10=\"b\",55%,IF(Sconti!$D$10=\"c\",55%)))","v":0.55000000000000004},{"$f":"IF(Sconti!$D$10=\"a\",55%,IF(Sconti!$D$10=\"b\",55%,IF(Sconti!$D$10=\"c\",55%)))","v":0.55000000000000004},{"$f":"IF(Sconti!$D$10=\"a\",55%,IF(Sconti!$D$10=\"b\",55%,IF(Sconti!$D$10=\"c\",55%)))","v":0.55000000000000004},{"$f":"IF(Sconti!$D$10=\"a\",55%,IF(Sconti!$D$10=\"b\",55%,IF(Sconti!$D$10=\"c\",55%)))","v":0.55000000000000004},null,"16 kg",null,212.95,267.55,369.5,275.05,283.2,301.10000000000002,372.55,289.3,357.2,327.9,502.4,578.75]
[null,"17 kg",{"$f":"IF(Sconti!$D$10=\"a\",55%,IF(Sconti!$D$10=\"b\",55%,IF(Sconti!$D$10=\"c\",55%)))","v":0.55000000000000004},{"$f":"IF(Sconti!$D$10=\"a\",55%,IF(Sconti!$D$10=\"b\",55%,IF(Sconti!$D$10=\"c\",55%)))","v":0.55000000000000004},{"$f":"IF(Sconti!$D$10=\"a\",55%,IF(Sconti!$D$10=\"b\",55%,IF(Sconti!$D$10=\"c\",55%)))","v":0.55000000000000004},{"$f":"IF(Sconti!$D$10=\"a\",55%,IF(Sconti!$D$10=\"b\",55%,IF(Sconti!$D$10=\"c\",55%)))","v":0.55000000000000004},{"$f":"IF(Sconti!$D$10=\"a\",55%,IF(Sconti!$D$10=\"b\",55%,IF(Sconti!$D$10=\"c\",55%)))","v":0.55000000000000004},{"$f":"IF(Sconti!$D$10=\"a\",55%,IF(Sconti!$D$10=\"b\",55%,IF(Sconti!$D$10=\"c\",55%)))","v":0.55000000000000004},{"$f":"IF(Sconti!$D$10=\"a\",55%,IF(Sconti!$D$10=\"b\",55%,IF(Sconti!$D$10=\"c\",55%)))","v":0.55000000000000004},{"$f":"IF(Sconti!$D$10=\"a\",55%,IF(Sconti!$D$10=\"b\",55%,IF(Sconti!$D$10=\"c\",55%)))","v":0.55000000000000004},{"$f":"IF(Sconti!$D$10=\"a\",55%,IF(Sconti!$D$10=\"b\",55%,IF(Sconti!$D$10=\"c\",55%)))","v":0.55000000000000004},{"$f":"IF(Sconti!$D$10=\"a\",55%,IF(Sconti!$D$10=\"b\",55%,IF(Sconti!$D$10=\"c\",55%)))","v":0.55000000000000004},{"$f":"IF(Sconti!$D$10=\"a\",55%,IF(Sconti!$D$10=\"b\",55%,IF(Sconti!$D$10=\"c\",55%)))","v":0.55000000000000004},{"$f":"IF(Sconti!$D$10=\"a\",55%,IF(Sconti!$D$10=\"b\",55%,IF(Sconti!$D$10=\"c\",55%)))","v":0.55000000000000004},null,"17 kg",null,218.05,276.10000000000002,378.8,281.64999999999998,290.3,309.64999999999998,383,301.10000000000002,372.1,341.75,520.5,606.95000000000005]
[null,"18 kg",{"$f":"IF(Sconti!$D$10=\"a\",55%,IF(Sconti!$D$10=\"b\",55%,IF(Sconti!$D$10=\"c\",55%)))","v":0.55000000000000004},{"$f":"IF(Sconti!$D$10=\"a\",55%,IF(Sconti!$D$10=\"b\",55%,IF(Sconti!$D$10=\"c\",55%)))","v":0.55000000000000004},{"$f":"IF(Sconti!$D$10=\"a\",55%,IF(Sconti!$D$10=\"b\",55%,IF(Sconti!$D$10=\"c\",55%)))","v":0.55000000000000004},{"$f":"IF(Sconti!$D$10=\"a\",55%,IF(Sconti!$D$10=\"b\",55%,IF(Sconti!$D$10=\"c\",55%)))","v":0.55000000000000004},{"$f":"IF(Sconti!$D$10=\"a\",55%,IF(Sconti!$D$10=\"b\",55%,IF(Sconti!$D$10=\"c\",55%)))","v":0.55000000000000004},{"$f":"IF(Sconti!$D$10=\"a\",55%,IF(Sconti!$D$10=\"b\",55%,IF(Sconti!$D$10=\"c\",55%)))","v":0.55000000000000004},{"$f":"IF(Sconti!$D$10=\"a\",55%,IF(Sconti!$D$10=\"b\",55%,IF(Sconti!$D$10=\"c\",55%)))","v":0.55000000000000004},{"$f":"IF(Sconti!$D$10=\"a\",55%,IF(Sconti!$D$10=\"b\",55%,IF(Sconti!$D$10=\"c\",55%)))","v":0.55000000000000004},{"$f":"IF(Sconti!$D$10=\"a\",55%,IF(Sconti!$D$10=\"b\",55%,IF(Sconti!$D$10=\"c\",55%)))","v":0.55000000000000004},{"$f":"IF(Sconti!$D$10=\"a\",55%,IF(Sconti!$D$10=\"b\",55%,IF(Sconti!$D$10=\"c\",55%)))","v":0.55000000000000004},{"$f":"IF(Sconti!$D$10=\"a\",55%,IF(Sconti!$D$10=\"b\",55%,IF(Sconti!$D$10=\"c\",55%)))","v":0.55000000000000004},{"$f":"IF(Sconti!$D$10=\"a\",55%,IF(Sconti!$D$10=\"b\",55%,IF(Sconti!$D$10=\"c\",55%)))","v":0.55000000000000004},null,"18 kg",null,223.15,284.7,388.25,288.39999999999998,297.25,318,393.5,312.85000000000002,387.15,355.65,538.5,635]
[null,"19 kg",{"$f":"IF(Sconti!$D$10=\"a\",55%,IF(Sconti!$D$10=\"b\",55%,IF(Sconti!$D$10=\"c\",55%)))","v":0.55000000000000004},{"$f":"IF(Sconti!$D$10=\"a\",55%,IF(Sconti!$D$10=\"b\",55%,IF(Sconti!$D$10=\"c\",55%)))","v":0.55000000000000004},{"$f":"IF(Sconti!$D$10=\"a\",55%,IF(Sconti!$D$10=\"b\",55%,IF(Sconti!$D$10=\"c\",55%)))","v":0.55000000000000004},{"$f":"IF(Sconti!$D$10=\"a\",55%,IF(Sconti!$D$10=\"b\",55%,IF(Sconti!$D$10=\"c\",55%)))","v":0.55000000000000004},{"$f":"IF(Sconti!$D$10=\"a\",55%,IF(Sconti!$D$10=\"b\",55%,IF(Sconti!$D$10=\"c\",55%)))","v":0.55000000000000004},{"$f":"IF(Sconti!$D$10=\"a\",55%,IF(Sconti!$D$10=\"b\",55%,IF(Sconti!$D$10=\"c\",55%)))","v":0.55000000000000004},{"$f":"IF(Sconti!$D$10=\"a\",55%,IF(Sconti!$D$10=\"b\",55%,IF(Sconti!$D$10=\"c\",55%)))","v":0.55000000000000004},{"$f":"IF(Sconti!$D$10=\"a\",55%,IF(Sconti!$D$10=\"b\",55%,IF(Sconti!$D$10=\"c\",55%)))","v":0.55000000000000004},{"$f":"IF(Sconti!$D$10=\"a\",55%,IF(Sconti!$D$10=\"b\",55%,IF(Sconti!$D$10=\"c\",55%)))","v":0.55000000000000004},{"$f":"IF(Sconti!$D$10=\"a\",55%,IF(Sconti!$D$10=\"b\",55%,IF(Sconti!$D$10=\"c\",55%)))","v":0.55000000000000004},{"$f":"IF(Sconti!$D$10=\"a\",55%,IF(Sconti!$D$10=\"b\",55%,IF(Sconti!$D$10=\"c\",55%)))","v":0.55000000000000004},{"$f":"IF(Sconti!$D$10=\"a\",55%,IF(Sconti!$D$10=\"b\",55%,IF(Sconti!$D$10=\"c\",55%)))","v":0.55000000000000004},null,"19 kg",null,228.05,293.14999999999998,397.55,295,304.2,326.60000000000002,404.2,324.64999999999998,402.6,369.45,556.54999999999995,663.15]
[null,"20 kg",{"$f":"IF(Sconti!$D$10=\"a\",55%,IF(Sconti!$D$10=\"b\",55%,IF(Sconti!$D$10=\"c\",55%)))","v":0.55000000000000004},{"$f":"IF(Sconti!$D$10=\"a\",55%,IF(Sconti!$D$10=\"b\",55%,IF(Sconti!$D$10=\"c\",55%)))","v":0.55000000000000004},{"$f":"IF(Sconti!$D$10=\"a\",55%,IF(Sconti!$D$10=\"b\",55%,IF(Sconti!$D$10=\"c\",55%)))","v":0.55000000000000004},{"$f":"IF(Sconti!$D$10=\"a\",55%,IF(Sconti!$D$10=\"b\",55%,IF(Sconti!$D$10=\"c\",55%)))","v":0.55000000000000004},{"$f":"IF(Sconti!$D$10=\"a\",55%,IF(Sconti!$D$10=\"b\",55%,IF(Sconti!$D$10=\"c\",55%)))","v":0.55000000000000004},{"$f":"IF(Sconti!$D$10=\"a\",55%,IF(Sconti!$D$10=\"b\",55%,IF(Sconti!$D$10=\"c\",55%)))","v":0.55000000000000004},{"$f":"IF(Sconti!$D$10=\"a\",55%,IF(Sconti!$D$10=\"b\",55%,IF(Sconti!$D$10=\"c\",55%)))","v":0.55000000000000004},{"$f":"IF(Sconti!$D$10=\"a\",55%,IF(Sconti!$D$10=\"b\",55%,IF(Sconti!$D$10=\"c\",55%)))","v":0.55000000000000004},{"$f":"IF(Sconti!$D$10=\"a\",55%,IF(Sconti!$D$10=\"b\",55%,IF(Sconti!$D$10=\"c\",55%)))","v":0.55000000000000004},{"$f":"IF(Sconti!$D$10=\"a\",55%,IF(Sconti!$D$10=\"b\",55%,IF(Sconti!$D$10=\"c\",55%)))","v":0.55000000000000004},{"$f":"IF(Sconti!$D$10=\"a\",55%,IF(Sconti!$D$10=\"b\",55%,IF(Sconti!$D$10=\"c\",55%)))","v":0.55000000000000004},{"$f":"IF(Sconti!$D$10=\"a\",55%,IF(Sconti!$D$10=\"b\",55%,IF(Sconti!$D$10=\"c\",55%)))","v":0.55000000000000004},null,"20 kg",null,233.1,301.7,406.95,301.75,311.25,335.05,414.65,336.5,417.5,383.15,574.65,691.2]
[null,"22 kg",{"$f":"IF(Sconti!$D$10=\"a\",55%,IF(Sconti!$D$10=\"b\",55%,IF(Sconti!$D$10=\"c\",55%)))","v":0.55000000000000004},{"$f":"IF(Sconti!$D$10=\"a\",55%,IF(Sconti!$D$10=\"b\",55%,IF(Sconti!$D$10=\"c\",55%)))","v":0.55000000000000004},{"$f":"IF(Sconti!$D$10=\"a\",55%,IF(Sconti!$D$10=\"b\",55%,IF(Sconti!$D$10=\"c\",55%)))","v":0.55000000000000004},{"$f":"IF(Sconti!$D$10=\"a\",55%,IF(Sconti!$D$10=\"b\",55%,IF(Sconti!$D$10=\"c\",55%)))","v":0.55000000000000004},{"$f":"IF(Sconti!$D$10=\"a\",55%,IF(Sconti!$D$10=\"b\",55%,IF(Sconti!$D$10=\"c\",55%)))","v":0.55000000000000004},{"$f":"IF(Sconti!$D$10=\"a\",55%,IF(Sconti!$D$10=\"b\",55%,IF(Sconti!$D$10=\"c\",55%)))","v":0.55000000000000004},{"$f":"IF(Sconti!$D$10=\"a\",55%,IF(Sconti!$D$10=\"b\",55%,IF(Sconti!$D$10=\"c\",55%)))","v":0.55000000000000004},{"$f":"IF(Sconti!$D$10=\"a\",55%,IF(Sconti!$D$10=\"b\",55%,IF(Sconti!$D$10=\"c\",55%)))","v":0.55000000000000004},{"$f":"IF(Sconti!$D$10=\"a\",55%,IF(Sconti!$D$10=\"b\",55%,IF(Sconti!$D$10=\"c\",55%)))","v":0.55000000000000004},{"$f":"IF(Sconti!$D$10=\"a\",55%,IF(Sconti!$D$10=\"b\",55%,IF(Sconti!$D$10=\"c\",55%)))","v":0.55000000000000004},{"$f":"IF(Sconti!$D$10=\"a\",55%,IF(Sconti!$D$10=\"b\",55%,IF(Sconti!$D$10=\"c\",55%)))","v":0.55000000000000004},{"$f":"IF(Sconti!$D$10=\"a\",55%,IF(Sconti!$D$10=\"b\",55%,IF(Sconti!$D$10=\"c\",55%)))","v":0.55000000000000004},null,"22 kg",null,243.9,320.25,423.25,316.89999999999998,326.85000000000002,351.6,437.75,364.6,449.75,412.75,611.6,754.3]
[null,"24 kg",{"$f":"IF(Sconti!$D$10=\"a\",55%,IF(Sconti!$D$10=\"b\",55%,IF(Sconti!$D$10=\"c\",55%)))","v":0.55000000000000004},{"$f":"IF(Sconti!$D$10=\"a\",55%,IF(Sconti!$D$10=\"b\",55%,IF(Sconti!$D$10=\"c\",55%)))","v":0.55000000000000004},{"$f":"IF(Sconti!$D$10=\"a\",55%,IF(Sconti!$D$10=\"b\",55%,IF(Sconti!$D$10=\"c\",55%)))","v":0.55000000000000004},{"$f":"IF(Sconti!$D$10=\"a\",55%,IF(Sconti!$D$10=\"b\",55%,IF(Sconti!$D$10=\"c\",55%)))","v":0.55000000000000004},{"$f":"IF(Sconti!$D$10=\"a\",55%,IF(Sconti!$D$10=\"b\",55%,IF(Sconti!$D$10=\"c\",55%)))","v":0.55000000000000004},{"$f":"IF(Sconti!$D$10=\"a\",55%,IF(Sconti!$D$10=\"b\",55%,IF(Sconti!$D$10=\"c\",55%)))","v":0.55000000000000004},{"$f":"IF(Sconti!$D$10=\"a\",55%,IF(Sconti!$D$10=\"b\",55%,IF(Sconti!$D$10=\"c\",55%)))","v":0.55000000000000004},{"$f":"IF(Sconti!$D$10=\"a\",55%,IF(Sconti!$D$10=\"b\",55%,IF(Sconti!$D$10=\"c\",55%)))","v":0.55000000000000004},{"$f":"IF(Sconti!$D$10=\"a\",55%,IF(Sconti!$D$10=\"b\",55%,IF(Sconti!$D$10=\"c\",55%)))","v":0.55000000000000004},{"$f":"IF(Sconti!$D$10=\"a\",55%,IF(Sconti!$D$10=\"b\",55%,IF(Sconti!$D$10=\"c\",55%)))","v":0.55000000000000004},{"$f":"IF(Sconti!$D$10=\"a\",55%,IF(Sconti!$D$10=\"b\",55%,IF(Sconti!$D$10=\"c\",55%)))","v":0.55000000000000004},{"$f":"IF(Sconti!$D$10=\"a\",55%,IF(Sconti!$D$10=\"b\",55%,IF(Sconti!$D$10=\"c\",55%)))","v":0.55000000000000004},null,"24 kg",null,253.45,337.2,437.65,330.5,341,366.5,458.8,391.3,479.9,440.4,645.9,813.95]
[null,"26 kg",{"$f":"IF(Sconti!$D$10=\"a\",55%,IF(Sconti!$D$10=\"b\",55%,IF(Sconti!$D$10=\"c\",55%)))","v":0.55000000000000004},{"$f":"IF(Sconti!$D$10=\"a\",55%,IF(Sconti!$D$10=\"b\",55%,IF(Sconti!$D$10=\"c\",55%)))","v":0.55000000000000004},{"$f":"IF(Sconti!$D$10=\"a\",55%,IF(Sconti!$D$10=\"b\",55%,IF(Sconti!$D$10=\"c\",55%)))","v":0.55000000000000004},{"$f":"IF(Sconti!$D$10=\"a\",55%,IF(Sconti!$D$10=\"b\",55%,IF(Sconti!$D$10=\"c\",55%)))","v":0.55000000000000004},{"$f":"IF(Sconti!$D$10=\"a\",55%,IF(Sconti!$D$10=\"b\",55%,IF(Sconti!$D$10=\"c\",55%)))","v":0.55000000000000004},{"$f":"IF(Sconti!$D$10=\"a\",55%,IF(Sconti!$D$10=\"b\",55%,IF(Sconti!$D$10=\"c\",55%)))","v":0.55000000000000004},{"$f":"IF(Sconti!$D$10=\"a\",55%,IF(Sconti!$D$10=\"b\",55%,IF(Sconti!$D$10=\"c\",55%)))","v":0.55000000000000004},{"$f":"IF(Sconti!$D$10=\"a\",55%,IF(Sconti!$D$10=\"b\",55%,IF(Sconti!$D$10=\"c\",55%)))","v":0.55000000000000004},{"$f":"IF(Sconti!$D$10=\"a\",55%,IF(Sconti!$D$10=\"b\",55%,IF(Sconti!$D$10=\"c\",55%)))","v":0.55000000000000004},{"$f":"IF(Sconti!$D$10=\"a\",55%,IF(Sconti!$D$10=\"b\",55%,IF(Sconti!$D$10=\"c\",55%)))","v":0.55000000000000004},{"$f":"IF(Sconti!$D$10=\"a\",55%,IF(Sconti!$D$10=\"b\",55%,IF(Sconti!$D$10=\"c\",55%)))","v":0.55000000000000004},{"$f":"IF(Sconti!$D$10=\"a\",55%,IF(Sconti!$D$10=\"b\",55%,IF(Sconti!$D$10=\"c\",55%)))","v":0.55000000000000004},null,"26 kg",null,263.10000000000002,354.4,451.9,344.25,355.2,381.45,480.05,417.8,509.95,468.05,680.1,873.55]
[null,"28 kg",{"$f":"IF(Sconti!$D$10=\"a\",55%,IF(Sconti!$D$10=\"b\",55%,IF(Sconti!$D$10=\"c\",55%)))","v":0.55000000000000004},{"$f":"IF(Sconti!$D$10=\"a\",55%,IF(Sconti!$D$10=\"b\",55%,IF(Sconti!$D$10=\"c\",55%)))","v":0.55000000000000004},{"$f":"IF(Sconti!$D$10=\"a\",55%,IF(Sconti!$D$10=\"b\",55%,IF(Sconti!$D$10=\"c\",55%)))","v":0.55000000000000004},{"$f":"IF(Sconti!$D$10=\"a\",55%,IF(Sconti!$D$10=\"b\",55%,IF(Sconti!$D$10=\"c\",55%)))","v":0.55000000000000004},{"$f":"IF(Sconti!$D$10=\"a\",55%,IF(Sconti!$D$10=\"b\",55%,IF(Sconti!$D$10=\"c\",55%)))","v":0.55000000000000004},{"$f":"IF(Sconti!$D$10=\"a\",55%,IF(Sconti!$D$10=\"b\",55%,IF(Sconti!$D$10=\"c\",55%)))","v":0.55000000000000004},{"$f":"IF(Sconti!$D$10=\"a\",55%,IF(Sconti!$D$10=\"b\",55%,IF(Sconti!$D$10=\"c\",55%)))","v":0.55000000000000004},{"$f":"IF(Sconti!$D$10=\"a\",55%,IF(Sconti!$D$10=\"b\",55%,IF(Sconti!$D$10=\"c\",55%)))","v":0.55000000000000004},{"$f":"IF(Sconti!$D$10=\"a\",55%,IF(Sconti!$D$10=\"b\",55%,IF(Sconti!$D$10=\"c\",55%)))","v":0.55000000000000004},{"$f":"IF(Sconti!$D$10=\"a\",55%,IF(Sconti!$D$10=\"b\",55%,IF(Sconti!$D$10=\"c\",55%)))","v":0.55000000000000004},{"$f":"IF(Sconti!$D$10=\"a\",55%,IF(Sconti!$D$10=\"b\",55%,IF(Sconti!$D$10=\"c\",55%)))","v":0.55000000000000004},{"$f":"IF(Sconti!$D$10=\"a\",55%,IF(Sconti!$D$10=\"b\",55%,IF(Sconti!$D$10=\"c\",55%)))","v":0.55000000000000004},null,"28 kg",null,272.7,371.4,466.3,357.8,369.35,396.4,501.1,444.4,540,495.7,714.25,933.15]
[null,"30 kg",{"$f":"IF(Sconti!$D$10=\"a\",55%,IF(Sconti!$D$10=\"b\",55%,IF(Sconti!$D$10=\"c\",55%)))","v":0.55000000000000004},{"$f":"IF(Sconti!$D$10=\"a\",55%,IF(Sconti!$D$10=\"b\",55%,IF(Sconti!$D$10=\"c\",55%)))","v":0.55000000000000004},{"$f":"IF(Sconti!$D$10=\"a\",55%,IF(Sconti!$D$10=\"b\",55%,IF(Sconti!$D$10=\"c\",55%)))","v":0.55000000000000004},{"$f":"IF(Sconti!$D$10=\"a\",55%,IF(Sconti!$D$10=\"b\",55%,IF(Sconti!$D$10=\"c\",55%)))","v":0.55000000000000004},{"$f":"IF(Sconti!$D$10=\"a\",55%,IF(Sconti!$D$10=\"b\",55%,IF(Sconti!$D$10=\"c\",55%)))","v":0.55000000000000004},{"$f":"IF(Sconti!$D$10=\"a\",55%,IF(Sconti!$D$10=\"b\",55%,IF(Sconti!$D$10=\"c\",55%)))","v":0.55000000000000004},{"$f":"IF(Sconti!$D$10=\"a\",55%,IF(Sconti!$D$10=\"b\",55%,IF(Sconti!$D$10=\"c\",55%)))","v":0.55000000000000004},{"$f":"IF(Sconti!$D$10=\"a\",55%,IF(Sconti!$D$10=\"b\",55%,IF(Sconti!$D$10=\"c\",55%)))","v":0.55000000000000004},{"$f":"IF(Sconti!$D$10=\"a\",55%,IF(Sconti!$D$10=\"b\",55%,IF(Sconti!$D$10=\"c\",55%)))","v":0.55000000000000004},{"$f":"IF(Sconti!$D$10=\"a\",55%,IF(Sconti!$D$10=\"b\",55%,IF(Sconti!$D$10=\"c\",55%)))","v":0.55000000000000004},{"$f":"IF(Sconti!$D$10=\"a\",55%,IF(Sconti!$D$10=\"b\",55%,IF(Sconti!$D$10=\"c\",55%)))","v":0.55000000000000004},{"$f":"IF(Sconti!$D$10=\"a\",55%,IF(Sconti!$D$10=\"b\",55%,IF(Sconti!$D$10=\"c\",55%)))","v":0.55000000000000004},null,"30 kg",null,282.39999999999998,388.55,480.65,371.5,383.5,411.35,522.35,470.95,570.1,523.4,748.65,992.75]
[null,"35 kg",{"$f":"IF(Sconti!$D$10=\"a\",55%,IF(Sconti!$D$10=\"b\",55%,IF(Sconti!$D$10=\"c\",55%)))","v":0.55000000000000004},{"$f":"IF(Sconti!$D$10=\"a\",55%,IF(Sconti!$D$10=\"b\",55%,IF(Sconti!$D$10=\"c\",55%)))","v":0.55000000000000004},{"$f":"IF(Sconti!$D$10=\"a\",55%,IF(Sconti!$D$10=\"b\",55%,IF(Sconti!$D$10=\"c\",55%)))","v":0.55000000000000004},{"$f":"IF(Sconti!$D$10=\"a\",55%,IF(Sconti!$D$10=\"b\",55%,IF(Sconti!$D$10=\"c\",55%)))","v":0.55000000000000004},{"$f":"IF(Sconti!$D$10=\"a\",55%,IF(Sconti!$D$10=\"b\",55%,IF(Sconti!$D$10=\"c\",55%)))","v":0.55000000000000004},{"$f":"IF(Sconti!$D$10=\"a\",55%,IF(Sconti!$D$10=\"b\",55%,IF(Sconti!$D$10=\"c\",55%)))","v":0.55000000000000004},{"$f":"IF(Sconti!$D$10=\"a\",55%,IF(Sconti!$D$10=\"b\",55%,IF(Sconti!$D$10=\"c\",55%)))","v":0.55000000000000004},{"$f":"IF(Sconti!$D$10=\"a\",55%,IF(Sconti!$D$10=\"b\",55%,IF(Sconti!$D$10=\"c\",55%)))","v":0.55000000000000004},{"$f":"IF(Sconti!$D$10=\"a\",55%,IF(Sconti!$D$10=\"b\",55%,IF(Sconti!$D$10=\"c\",55%)))","v":0.55000000000000004},{"$f":"IF(Sconti!$D$10=\"a\",55%,IF(Sconti!$D$10=\"b\",55%,IF(Sconti!$D$10=\"c\",55%)))","v":0.55000000000000004},{"$f":"IF(Sconti!$D$10=\"a\",55%,IF(Sconti!$D$10=\"b\",55%,IF(Sconti!$D$10=\"c\",55%)))","v":0.55000000000000004},{"$f":"IF(Sconti!$D$10=\"a\",55%,IF(Sconti!$D$10=\"b\",55%,IF(Sconti!$D$10=\"c\",55%)))","v":0.55000000000000004},null,"35 kg",null,302.85000000000002,426.35,514,402.45,415.2,445.45,579.54999999999995,537.20000000000005,645.29999999999995,592.54999999999995,834.3,1139.45]
[null,"40 kg",{"$f":"IF(Sconti!$D$10=\"a\",55%,IF(Sconti!$D$10=\"b\",55%,IF(Sconti!$D$10=\"c\",55%)))","v":0.55000000000000004},{"$f":"IF(Sconti!$D$10=\"a\",55%,IF(Sconti!$D$10=\"b\",55%,IF(Sconti!$D$10=\"c\",55%)))","v":0.55000000000000004},{"$f":"IF(Sconti!$D$10=\"a\",55%,IF(Sconti!$D$10=\"b\",55%,IF(Sconti!$D$10=\"c\",55%)))","v":0.55000000000000004},{"$f":"IF(Sconti!$D$10=\"a\",55%,IF(Sconti!$D$10=\"b\",55%,IF(Sconti!$D$10=\"c\",55%)))","v":0.55000000000000004},{"$f":"IF(Sconti!$D$10=\"a\",55%,IF(Sconti!$D$10=\"b\",55%,IF(Sconti!$D$10=\"c\",55%)))","v":0.55000000000000004},{"$f":"IF(Sconti!$D$10=\"a\",55%,IF(Sconti!$D$10=\"b\",55%,IF(Sconti!$D$10=\"c\",55%)))","v":0.55000000000000004},{"$f":"IF(Sconti!$D$10=\"a\",55%,IF(Sconti!$D$10=\"b\",55%,IF(Sconti!$D$10=\"c\",55%)))","v":0.55000000000000004},{"$f":"IF(Sconti!$D$10=\"a\",55%,IF(Sconti!$D$10=\"b\",55%,IF(Sconti!$D$10=\"c\",55%)))","v":0.55000000000000004},{"$f":"IF(Sconti!$D$10=\"a\",55%,IF(Sconti!$D$10=\"b\",55%,IF(Sconti!$D$10=\"c\",55%)))","v":0.55000000000000004},{"$f":"IF(Sconti!$D$10=\"a\",55%,IF(Sconti!$D$10=\"b\",55%,IF(Sconti!$D$10=\"c\",55%)))","v":0.55000000000000004},{"$f":"IF(Sconti!$D$10=\"a\",55%,IF(Sconti!$D$10=\"b\",55%,IF(Sconti!$D$10=\"c\",55%)))","v":0.55000000000000004},{"$f":"IF(Sconti!$D$10=\"a\",55%,IF(Sconti!$D$10=\"b\",55%,IF(Sconti!$D$10=\"c\",55%)))","v":0.55000000000000004},null,"40 kg",null,322.60000000000002,464.25,547.25,433.45,446.95,479.85,636.85,603.6,720.5,661.6,920.2,1286.2]
[null,"45 kg",{"$f":"IF(Sconti!$D$10=\"a\",55%,IF(Sconti!$D$10=\"b\",55%,IF(Sconti!$D$10=\"c\",55%)))","v":0.55000000000000004},{"$f":"IF(Sconti!$D$10=\"a\",55%,IF(Sconti!$D$10=\"b\",55%,IF(Sconti!$D$10=\"c\",55%)))","v":0.55000000000000004},{"$f":"IF(Sconti!$D$10=\"a\",55%,IF(Sconti!$D$10=\"b\",55%,IF(Sconti!$D$10=\"c\",55%)))","v":0.55000000000000004},{"$f":"IF(Sconti!$D$10=\"a\",55%,IF(Sconti!$D$10=\"b\",55%,IF(Sconti!$D$10=\"c\",55%)))","v":0.55000000000000004},{"$f":"IF(Sconti!$D$10=\"a\",55%,IF(Sconti!$D$10=\"b\",55%,IF(Sconti!$D$10=\"c\",55%)))","v":0.55000000000000004},{"$f":"IF(Sconti!$D$10=\"a\",55%,IF(Sconti!$D$10=\"b\",55%,IF(Sconti!$D$10=\"c\",55%)))","v":0.55000000000000004},{"$f":"IF(Sconti!$D$10=\"a\",55%,IF(Sconti!$D$10=\"b\",55%,IF(Sconti!$D$10=\"c\",55%)))","v":0.55000000000000004},{"$f":"IF(Sconti!$D$10=\"a\",55%,IF(Sconti!$D$10=\"b\",55%,IF(Sconti!$D$10=\"c\",55%)))","v":0.55000000000000004},{"$f":"IF(Sconti!$D$10=\"a\",55%,IF(Sconti!$D$10=\"b\",55%,IF(Sconti!$D$10=\"c\",55%)))","v":0.55000000000000004},{"$f":"IF(Sconti!$D$10=\"a\",55%,IF(Sconti!$D$10=\"b\",55%,IF(Sconti!$D$10=\"c\",55%)))","v":0.55000000000000004},{"$f":"IF(Sconti!$D$10=\"a\",55%,IF(Sconti!$D$10=\"b\",55%,IF(Sconti!$D$10=\"c\",55%)))","v":0.55000000000000004},{"$f":"IF(Sconti!$D$10=\"a\",55%,IF(Sconti!$D$10=\"b\",55%,IF(Sconti!$D$10=\"c\",55%)))","v":0.55000000000000004},null,"45 kg",null,342.5,502.15,580.54999999999995,464.3,478.7,514.04999999999995,694.25,669.85,795.75,731.3,1005.9,1432.9]
[null,"50 kg",{"$f":"IF(Sconti!$D$10=\"a\",55%,IF(Sconti!$D$10=\"b\",55%,IF(Sconti!$D$10=\"c\",55%)))","v":0.55000000000000004},{"$f":"IF(Sconti!$D$10=\"a\",55%,IF(Sconti!$D$10=\"b\",55%,IF(Sconti!$D$10=\"c\",55%)))","v":0.55000000000000004},{"$f":"IF(Sconti!$D$10=\"a\",55%,IF(Sconti!$D$10=\"b\",55%,IF(Sconti!$D$10=\"c\",55%)))","v":0.55000000000000004},{"$f":"IF(Sconti!$D$10=\"a\",55%,IF(Sconti!$D$10=\"b\",55%,IF(Sconti!$D$10=\"c\",55%)))","v":0.55000000000000004},{"$f":"IF(Sconti!$D$10=\"a\",55%,IF(Sconti!$D$10=\"b\",55%,IF(Sconti!$D$10=\"c\",55%)))","v":0.55000000000000004},{"$f":"IF(Sconti!$D$10=\"a\",55%,IF(Sconti!$D$10=\"b\",55%,IF(Sconti!$D$10=\"c\",55%)))","v":0.55000000000000004},{"$f":"IF(Sconti!$D$10=\"a\",55%,IF(Sconti!$D$10=\"b\",55%,IF(Sconti!$D$10=\"c\",55%)))","v":0.55000000000000004},{"$f":"IF(Sconti!$D$10=\"a\",55%,IF(Sconti!$D$10=\"b\",55%,IF(Sconti!$D$10=\"c\",55%)))","v":0.55000000000000004},{"$f":"IF(Sconti!$D$10=\"a\",55%,IF(Sconti!$D$10=\"b\",55%,IF(Sconti!$D$10=\"c\",55%)))","v":0.55000000000000004},{"$f":"IF(Sconti!$D$10=\"a\",55%,IF(Sconti!$D$10=\"b\",55%,IF(Sconti!$D$10=\"c\",55%)))","v":0.55000000000000004},{"$f":"IF(Sconti!$D$10=\"a\",55%,IF(Sconti!$D$10=\"b\",55%,IF(Sconti!$D$10=\"c\",55%)))","v":0.55000000000000004},{"$f":"IF(Sconti!$D$10=\"a\",55%,IF(Sconti!$D$10=\"b\",55%,IF(Sconti!$D$10=\"c\",55%)))","v":0.55000000000000004},null,"50 kg",null,362.2,540,613.85,495.3,510.6,548.4,751.8,736.1,870.95,800.45,1091.8,1579.85]
[null,"55 kg",{"$f":"IF(Sconti!$D$10=\"a\",55%,IF(Sconti!$D$10=\"b\",55%,IF(Sconti!$D$10=\"c\",55%)))","v":0.55000000000000004},{"$f":"IF(Sconti!$D$10=\"a\",55%,IF(Sconti!$D$10=\"b\",55%,IF(Sconti!$D$10=\"c\",55%)))","v":0.55000000000000004},{"$f":"IF(Sconti!$D$10=\"a\",55%,IF(Sconti!$D$10=\"b\",55%,IF(Sconti!$D$10=\"c\",55%)))","v":0.55000000000000004},{"$f":"IF(Sconti!$D$10=\"a\",55%,IF(Sconti!$D$10=\"b\",55%,IF(Sconti!$D$10=\"c\",55%)))","v":0.55000000000000004},{"$f":"IF(Sconti!$D$10=\"a\",55%,IF(Sconti!$D$10=\"b\",55%,IF(Sconti!$D$10=\"c\",55%)))","v":0.55000000000000004},{"$f":"IF(Sconti!$D$10=\"a\",55%,IF(Sconti!$D$10=\"b\",55%,IF(Sconti!$D$10=\"c\",55%)))","v":0.55000000000000004},{"$f":"IF(Sconti!$D$10=\"a\",55%,IF(Sconti!$D$10=\"b\",55%,IF(Sconti!$D$10=\"c\",55%)))","v":0.55000000000000004},{"$f":"IF(Sconti!$D$10=\"a\",55%,IF(Sconti!$D$10=\"b\",55%,IF(Sconti!$D$10=\"c\",55%)))","v":0.55000000000000004},{"$f":"IF(Sconti!$D$10=\"a\",55%,IF(Sconti!$D$10=\"b\",55%,IF(Sconti!$D$10=\"c\",55%)))","v":0.55000000000000004},{"$f":"IF(Sconti!$D$10=\"a\",55%,IF(Sconti!$D$10=\"b\",55%,IF(Sconti!$D$10=\"c\",55%)))","v":0.55000000000000004},{"$f":"IF(Sconti!$D$10=\"a\",55%,IF(Sconti!$D$10=\"b\",55%,IF(Sconti!$D$10=\"c\",55%)))","v":0.55000000000000004},{"$f":"IF(Sconti!$D$10=\"a\",55%,IF(Sconti!$D$10=\"b\",55%,IF(Sconti!$D$10=\"c\",55%)))","v":0.55000000000000004},null,"55 kg",null,382.1,577.95000000000005,647,526.25,542.4,582.6,809.1,802.4,946.15,869.4,1177.75,1726.7]
[null,"60 kg",{"$f":"IF(Sconti!$D$10=\"a\",55%,IF(Sconti!$D$10=\"b\",55%,IF(Sconti!$D$10=\"c\",55%)))","v":0.55000000000000004},{"$f":"IF(Sconti!$D$10=\"a\",55%,IF(Sconti!$D$10=\"b\",55%,IF(Sconti!$D$10=\"c\",55%)))","v":0.55000000000000004},{"$f":"IF(Sconti!$D$10=\"a\",55%,IF(Sconti!$D$10=\"b\",55%,IF(Sconti!$D$10=\"c\",55%)))","v":0.55000000000000004},{"$f":"IF(Sconti!$D$10=\"a\",55%,IF(Sconti!$D$10=\"b\",55%,IF(Sconti!$D$10=\"c\",55%)))","v":0.55000000000000004},{"$f":"IF(Sconti!$D$10=\"a\",55%,IF(Sconti!$D$10=\"b\",55%,IF(Sconti!$D$10=\"c\",55%)))","v":0.55000000000000004},{"$f":"IF(Sconti!$D$10=\"a\",55%,IF(Sconti!$D$10=\"b\",55%,IF(Sconti!$D$10=\"c\",55%)))","v":0.55000000000000004},{"$f":"IF(Sconti!$D$10=\"a\",55%,IF(Sconti!$D$10=\"b\",55%,IF(Sconti!$D$10=\"c\",55%)))","v":0.55000000000000004},{"$f":"IF(Sconti!$D$10=\"a\",55%,IF(Sconti!$D$10=\"b\",55%,IF(Sconti!$D$10=\"c\",55%)))","v":0.55000000000000004},{"$f":"IF(Sconti!$D$10=\"a\",55%,IF(Sconti!$D$10=\"b\",55%,IF(Sconti!$D$10=\"c\",55%)))","v":0.55000000000000004},{"$f":"IF(Sconti!$D$10=\"a\",55%,IF(Sconti!$D$10=\"b\",55%,IF(Sconti!$D$10=\"c\",55%)))","v":0.55000000000000004},{"$f":"IF(Sconti!$D$10=\"a\",55%,IF(Sconti!$D$10=\"b\",55%,IF(Sconti!$D$10=\"c\",55%)))","v":0.55000000000000004},{"$f":"IF(Sconti!$D$10=\"a\",55%,IF(Sconti!$D$10=\"b\",55%,IF(Sconti!$D$10=\"c\",55%)))","v":0.55000000000000004},null,"60 kg",null,401.9,615.65,680.4,557.25,574.20000000000005,616.9,866.5,866.45,1021.25,938.45,1263.5999999999999,1873.55]
[null,"65 kg",{"$f":"IF(Sconti!$D$10=\"a\",55%,IF(Sconti!$D$10=\"b\",55%,IF(Sconti!$D$10=\"c\",55%)))","v":0.55000000000000004},{"$f":"IF(Sconti!$D$10=\"a\",55%,IF(Sconti!$D$10=\"b\",55%,IF(Sconti!$D$10=\"c\",55%)))","v":0.55000000000000004},{"$f":"IF(Sconti!$D$10=\"a\",55%,IF(Sconti!$D$10=\"b\",55%,IF(Sconti!$D$10=\"c\",55%)))","v":0.55000000000000004},{"$f":"IF(Sconti!$D$10=\"a\",55%,IF(Sconti!$D$10=\"b\",55%,IF(Sconti!$D$10=\"c\",55%)))","v":0.55000000000000004},{"$f":"IF(Sconti!$D$10=\"a\",55%,IF(Sconti!$D$10=\"b\",55%,IF(Sconti!$D$10=\"c\",55%)))","v":0.55000000000000004},{"$f":"IF(Sconti!$D$10=\"a\",55%,IF(Sconti!$D$10=\"b\",55%,IF(Sconti!$D$10=\"c\",55%)))","v":0.55000000000000004},{"$f":"IF(Sconti!$D$10=\"a\",55%,IF(Sconti!$D$10=\"b\",55%,IF(Sconti!$D$10=\"c\",55%)))","v":0.55000000000000004},{"$f":"IF(Sconti!$D$10=\"a\",55%,IF(Sconti!$D$10=\"b\",55%,IF(Sconti!$D$10=\"c\",55%)))","v":0.55000000000000004},{"$f":"IF(Sconti!$D$10=\"a\",55%,IF(Sconti!$D$10=\"b\",55%,IF(Sconti!$D$10=\"c\",55%)))","v":0.55000000000000004},{"$f":"IF(Sconti!$D$10=\"a\",55%,IF(Sconti!$D$10=\"b\",55%,IF(Sconti!$D$10=\"c\",55%)))","v":0.55000000000000004},{"$f":"IF(Sconti!$D$10=\"a\",55%,IF(Sconti!$D$10=\"b\",55%,IF(Sconti!$D$10=\"c\",55%)))","v":0.55000000000000004},{"$f":"IF(Sconti!$D$10=\"a\",55%,IF(Sconti!$D$10=\"b\",55%,IF(Sconti!$D$10=\"c\",55%)))","v":0.55000000000000004},null,"65 kg",null,421.75,653.70000000000005,713.7,588.25,606.20000000000005,651.15,923.95,923.9,1096.55,1007.4,1349.45,2020.4]
[null,"70 kg",{"$f":"IF(Sconti!$D$10=\"a\",55%,IF(Sconti!$D$10=\"b\",55%,IF(Sconti!$D$10=\"c\",55%)))","v":0.55000000000000004},{"$f":"IF(Sconti!$D$10=\"a\",55%,IF(Sconti!$D$10=\"b\",55%,IF(Sconti!$D$10=\"c\",55%)))","v":0.55000000000000004},{"$f":"IF(Sconti!$D$10=\"a\",55%,IF(Sconti!$D$10=\"b\",55%,IF(Sconti!$D$10=\"c\",55%)))","v":0.55000000000000004},{"$f":"IF(Sconti!$D$10=\"a\",55%,IF(Sconti!$D$10=\"b\",55%,IF(Sconti!$D$10=\"c\",55%)))","v":0.55000000000000004},{"$f":"IF(Sconti!$D$10=\"a\",55%,IF(Sconti!$D$10=\"b\",55%,IF(Sconti!$D$10=\"c\",55%)))","v":0.55000000000000004},{"$f":"IF(Sconti!$D$10=\"a\",55%,IF(Sconti!$D$10=\"b\",55%,IF(Sconti!$D$10=\"c\",55%)))","v":0.55000000000000004},{"$f":"IF(Sconti!$D$10=\"a\",55%,IF(Sconti!$D$10=\"b\",55%,IF(Sconti!$D$10=\"c\",55%)))","v":0.55000000000000004},{"$f":"IF(Sconti!$D$10=\"a\",55%,IF(Sconti!$D$10=\"b\",55%,IF(Sconti!$D$10=\"c\",55%)))","v":0.55000000000000004},{"$f":"IF(Sconti!$D$10=\"a\",55%,IF(Sconti!$D$10=\"b\",55%,IF(Sconti!$D$10=\"c\",55%)))","v":0.55000000000000004},{"$f":"IF(Sconti!$D$10=\"a\",55%,IF(Sconti!$D$10=\"b\",55%,IF(Sconti!$D$10=\"c\",55%)))","v":0.55000000000000004},{"$f":"IF(Sconti!$D$10=\"a\",55%,IF(Sconti!$D$10=\"b\",55%,IF(Sconti!$D$10=\"c\",55%)))","v":0.55000000000000004},{"$f":"IF(Sconti!$D$10=\"a\",55%,IF(Sconti!$D$10=\"b\",55%,IF(Sconti!$D$10=\"c\",55%)))","v":0.55000000000000004},null,"70 kg",null,441.65,691.6,747,619.20000000000005,637.95000000000005,685.35,981.35,981.3,1171.9000000000001,1076.5999999999999,1435.4,2167.3000000000002]
[null,"Oltre 70 Kg",null,null,null,null,null,null,null,null,null,null,null,null,null,"Oltre 70 Kg"]
[null,"Prezzo al Kg",{"$f":"IF(Sconti!$D$10=\"a\",55%,IF(Sconti!$D$10=\"b\",55%,IF(Sconti!$D$10=\"c\",55%)))","v":0.55000000000000004},{"$f":"IF(Sconti!$D$10=\"a\",55%,IF(Sconti!$D$10=\"b\",55%,IF(Sconti!$D$10=\"c\",55%)))","v":0.55000000000000004},{"$f":"IF(Sconti!$D$10=\"a\",55%,IF(Sconti!$D$10=\"b\",55%,IF(Sconti!$D$10=\"c\",55%)))","v":0.55000000000000004},{"$f":"IF(Sconti!$D$10=\"a\",55%,IF(Sconti!$D$10=\"b\",55%,IF(Sconti!$D$10=\"c\",55%)))","v":0.55000000000000004},{"$f":"IF(Sconti!$D$10=\"a\",55%,IF(Sconti!$D$10=\"b\",55%,IF(Sconti!$D$10=\"c\",55%)))","v":0.55000000000000004},{"$f":"IF(Sconti!$D$10=\"a\",55%,IF(Sconti!$D$10=\"b\",55%,IF(Sconti!$D$10=\"c\",55%)))","v":0.55000000000000004},{"$f":"IF(Sconti!$D$10=\"a\",55%,IF(Sconti!$D$10=\"b\",55%,IF(Sconti!$D$10=\"c\",55%)))","v":0.55000000000000004},{"$f":"IF(Sconti!$D$10=\"a\",55%,IF(Sconti!$D$10=\"b\",55%,IF(Sconti!$D$10=\"c\",55%)))","v":0.55000000000000004},{"$f":"IF(Sconti!$D$10=\"a\",55%,IF(Sconti!$D$10=\"b\",55%,IF(Sconti!$D$10=\"c\",55%)))","v":0.55000000000000004},{"$f":"IF(Sconti!$D$10=\"a\",55%,IF(Sconti!$D$10=\"b\",55%,IF(Sconti!$D$10=\"c\",55%)))","v":0.55000000000000004},{"$f":"IF(Sconti!$D$10=\"a\",55%,IF(Sconti!$D$10=\"b\",55%,IF(Sconti!$D$10=\"c\",55%)))","v":0.55000000000000004},{"$f":"IF(Sconti!$D$10=\"a\",55%,IF(Sconti!$D$10=\"b\",55%,IF(Sconti!$D$10=\"c\",55%)))","v":0.55000000000000004},null,"Prezzo al Kg",null,6.3,9.8800000000000008,10.67,8.84,9.09,9.7899999999999991,14.01,14.01,16.71,15.38,20.5,30.96]
[null,"Tariffa Minima",{"$f":"IF(Sconti!$D$10=\"a\",55%,IF(Sconti!$D$10=\"b\",55%,IF(Sconti!$D$10=\"c\",55%)))","v":0.55000000000000004},{"$f":"IF(Sconti!$D$10=\"a\",55%,IF(Sconti!$D$10=\"b\",55%,IF(Sconti!$D$10=\"c\",55%)))","v":0.55000000000000004},{"$f":"IF(Sconti!$D$10=\"a\",55%,IF(Sconti!$D$10=\"b\",55%,IF(Sconti!$D$10=\"c\",55%)))","v":0.55000000000000004},{"$f":"IF(Sconti!$D$10=\"a\",55%,IF(Sconti!$D$10=\"b\",55%,IF(Sconti!$D$10=\"c\",55%)))","v":0.55000000000000004},{"$f":"IF(Sconti!$D$10=\"a\",55%,IF(Sconti!$D$10=\"b\",55%,IF(Sconti!$D$10=\"c\",55%)))","v":0.55000000000000004},{"$f":"IF(Sconti!$D$10=\"a\",55%,IF(Sconti!$D$10=\"b\",55%,IF(Sconti!$D$10=\"c\",55%)))","v":0.55000000000000004},{"$f":"IF(Sconti!$D$10=\"a\",55%,IF(Sconti!$D$10=\"b\",55%,IF(Sconti!$D$10=\"c\",55%)))","v":0.55000000000000004},{"$f":"IF(Sconti!$D$10=\"a\",55%,IF(Sconti!$D$10=\"b\",55%,IF(Sconti!$D$10=\"c\",55%)))","v":0.55000000000000004},{"$f":"IF(Sconti!$D$10=\"a\",55%,IF(Sconti!$D$10=\"b\",55%,IF(Sconti!$D$10=\"c\",55%)))","v":0.55000000000000004},{"$f":"IF(Sconti!$D$10=\"a\",55%,IF(Sconti!$D$10=\"b\",55%,IF(Sconti!$D$10=\"c\",55%)))","v":0.55000000000000004},{"$f":"IF(Sconti!$D$10=\"a\",55%,IF(Sconti!$D$10=\"b\",55%,IF(Sconti!$D$10=\"c\",55%)))","v":0.55000000000000004},{"$f":"IF(Sconti!$D$10=\"a\",55%,IF(Sconti!$D$10=\"b\",55%,IF(Sconti!$D$10=\"c\",55%)))","v":0.55000000000000004},null,"Tariffa Minima",null,441.65,691.6,747,619.20000000000005,637.95000000000005,685.35,981.35,981.3,1171.9000000000001,1076.5999999999999,1435.4,2167.3000000000002]
[]
[]
[null,"Servizio UPS Express Saver - Inserimento percentuali di sconto",null,null,null,null,null,null,null,null,null,null,null,null,null,"Servizio UPS Express Saver - Tariffe di listino"]
[]
[null,"% Sconto","Zona","Zona","Zona","Zona","Zona","Zona","Zona","Zona","Zona","Zona","Zona","Zona",null,"€","Zona","Zona","Zona","Zona","Zona","Zona","Zona","Zona","Zona","Zona","Zona","Zona","Zona"]
[null,null,2,3,4,41,42,5,6,7,8,81,9,10,null,null,"1     ","2     ","3     ","4     ","41    ","42    ","5     ","6     ","7     ","8     ","81    ","9     ",10]
[null,"UPS Express Envelopes ",null,null,null,null,null,null,null,null,null,null,null,null,null,"UPS Express Envelopes "]
[null,null,{"$f":"IF(Sconti!$D$10=\"a\",55%,IF(Sconti!$D$10=\"b\",55%,IF(Sconti!$D$10=\"c\",55%)))","v":0.55000000000000004},{"$f":"IF(Sconti!$D$10=\"a\",55%,IF(Sconti!$D$10=\"b\",55%,IF(Sconti!$D$10=\"c\",55%)))","v":0.55000000000000004},{"$f":"IF(Sconti!$D$10=\"a\",55%,IF(Sconti!$D$10=\"b\",55%,IF(Sconti!$D$10=\"c\",55%)))","v":0.55000000000000004},{"$f":"IF(Sconti!$D$10=\"a\",55%,IF(Sconti!$D$10=\"b\",55%,IF(Sconti!$D$10=\"c\",55%)))","v":0.55000000000000004},{"$f":"IF(Sconti!$D$10=\"a\",55%,IF(Sconti!$D$10=\"b\",55%,IF(Sconti!$D$10=\"c\",55%)))","v":0.55000000000000004},{"$f":"IF(Sconti!$D$10=\"a\",55%,IF(Sconti!$D$10=\"b\",55%,IF(Sconti!$D$10=\"c\",55%)))","v":0.55000000000000004},{"$f":"IF(Sconti!$D$10=\"a\",55%,IF(Sconti!$D$10=\"b\",55%,IF(Sconti!$D$10=\"c\",55%)))","v":0.55000000000000004},{"$f":"IF(Sconti!$D$10=\"a\",55%,IF(Sconti!$D$10=\"b\",55%,IF(Sconti!$D$10=\"c\",55%)))","v":0.55000000000000004},{"$f":"IF(Sconti!$D$10=\"a\",55%,IF(Sconti!$D$10=\"b\",55%,IF(Sconti!$D$10=\"c\",55%)))","v":0.55000000000000004},{"$f":"IF(Sconti!$D$10=\"a\",55%,IF(Sconti!$D$10=\"b\",55%,IF(Sconti!$D$10=\"c\",55%)))","v":0.55000000000000004},{"$f":"IF(Sconti!$D$10=\"a\",55%,IF(Sconti!$D$10=\"b\",55%,IF(Sconti!$D$10=\"c\",55%)))","v":0.55000000000000004},{"$f":"IF(Sconti!$D$10=\"a\",55%,IF(Sconti!$D$10=\"b\",55%,IF(Sconti!$D$10=\"c\",55%)))","v":0.55000000000000004},null,null,29.75,47.25,54.85,69.900000000000006,47.05,48.35,50.9,58.1,44.1,51.55,45.85,52.3,57.1]
[null,"Documenti",null,null,null,null,null,null,null,null,null,null,null,null,null,"Documenti"]
[null,"0,5 kg",{"$f":"IF(Sconti!$D$10=\"a\",55%,IF(Sconti!$D$10=\"b\",55%,IF(Sconti!$D$10=\"c\",55%)))","v":0.55000000000000004},{"$f":"IF(Sconti!$D$10=\"a\",55%,IF(Sconti!$D$10=\"b\",55%,IF(Sconti!$D$10=\"c\",55%)))","v":0.55000000000000004},{"$f":"IF(Sconti!$D$10=\"a\",55%,IF(Sconti!$D$10=\"b\",55%,IF(Sconti!$D$10=\"c\",55%)))","v":0.55000000000000004},{"$f":"IF(Sconti!$D$10=\"a\",55%,IF(Sconti!$D$10=\"b\",55%,IF(Sconti!$D$10=\"c\",55%)))","v":0.55000000000000004},{"$f":"IF(Sconti!$D$10=\"a\",55%,IF(Sconti!$D$10=\"b\",55%,IF(Sconti!$D$10=\"c\",55%)))","v":0.55000000000000004},{"$f":"IF(Sconti!$D$10=\"a\",55%,IF(Sconti!$D$10=\"b\",55%,IF(Sconti!$D$10=\"c\",55%)))","v":0.55000000000000004},{"$f":"IF(Sconti!$D$10=\"a\",55%,IF(Sconti!$D$10=\"b\",55%,IF(Sconti!$D$10=\"c\",55%)))","v":0.55000000000000004},{"$f":"IF(Sconti!$D$10=\"a\",55%,IF(Sconti!$D$10=\"b\",55%,IF(Sconti!$D$10=\"c\",55%)))","v":0.55000000000000004},{"$f":"IF(Sconti!$D$10=\"a\",55%,IF(Sconti!$D$10=\"b\",55%,IF(Sconti!$D$10=\"c\",55%)))","v":0.55000000000000004},{"$f":"IF(Sconti!$D$10=\"a\",55%,IF(Sconti!$D$10=\"b\",55%,IF(Sconti!$D$10=\"c\",55%)))","v":0.55000000000000004},{"$f":"IF(Sconti!$D$10=\"a\",55%,IF(Sconti!$D$10=\"b\",55%,IF(Sconti!$D$10=\"c\",55%)))","v":0.55000000000000004},{"$f":"IF(Sconti!$D$10=\"a\",55%,IF(Sconti!$D$10=\"b\",55%,IF(Sconti!$D$10=\"c\",55%)))","v":0.55000000000000004},null,"0,5 kg",31.8,69.2,69.349999999999994,96.75,91.75,94.4,94.45,94.5,60,67.8,60.35,88.35,92.75]
[null,"1,0 kg",{"$f":"IF(Sconti!$D$10=\"a\",55%,IF(Sconti!$D$10=\"b\",55%,IF(Sconti!$D$10=\"c\",55%)))","v":0.55000000000000004},{"$f":"IF(Sconti!$D$10=\"a\",55%,IF(Sconti!$D$10=\"b\",55%,IF(Sconti!$D$10=\"c\",55%)))","v":0.55000000000000004},{"$f":"IF(Sconti!$D$10=\"a\",55%,IF(Sconti!$D$10=\"b\",55%,IF(Sconti!$D$10=\"c\",55%)))","v":0.55000000000000004},{"$f":"IF(Sconti!$D$10=\"a\",55%,IF(Sconti!$D$10=\"b\",55%,IF(Sconti!$D$10=\"c\",55%)))","v":0.55000000000000004},{"$f":"IF(Sconti!$D$10=\"a\",55%,IF(Sconti!$D$10=\"b\",55%,IF(Sconti!$D$10=\"c\",55%)))","v":0.55000000000000004},{"$f":"IF(Sconti!$D$10=\"a\",55%,IF(Sconti!$D$10=\"b\",55%,IF(Sconti!$D$10=\"c\",55%)))","v":0.55000000000000004},{"$f":"IF(Sconti!$D$10=\"a\",55%,IF(Sconti!$D$10=\"b\",55%,IF(Sconti!$D$10=\"c\",55%)))","v":0.55000000000000004},{"$f":"IF(Sconti!$D$10=\"a\",55%,IF(Sconti!$D$10=\"b\",55%,IF(Sconti!$D$10=\"c\",55%)))","v":0.55000000000000004},{"$f":"IF(Sconti!$D$10=\"a\",55%,IF(Sconti!$D$10=\"b\",55%,IF(Sconti!$D$10=\"c\",55%)))","v":0.55000000000000004},{"$f":"IF(Sconti!$D$10=\"a\",55%,IF(Sconti!$D$10=\"b\",55%,IF(Sconti!$D$10=\"c\",55%)))","v":0.55000000000000004},{"$f":"IF(Sconti!$D$10=\"a\",55%,IF(Sconti!$D$10=\"b\",55%,IF(Sconti!$D$10=\"c\",55%)))","v":0.55000000000000004},{"$f":"IF(Sconti!$D$10=\"a\",55%,IF(Sconti!$D$10=\"b\",55%,IF(Sconti!$D$10=\"c\",55%)))","v":0.55000000000000004},null,"1,0 kg",31.8,78.05,80.75,112.45,102.3,105.25,105.3,105.35,71.349999999999994,80.5,71.7,102.35,107.15]
[null,"1,5 kg",{"$f":"IF(Sconti!$D$10=\"a\",55%,IF(Sconti!$D$10=\"b\",55%,IF(Sconti!$D$10=\"c\",55%)))","v":0.55000000000000004},{"$f":"IF(Sconti!$D$10=\"a\",55%,IF(Sconti!$D$10=\"b\",55%,IF(Sconti!$D$10=\"c\",55%)))","v":0.55000000000000004},{"$f":"IF(Sconti!$D$10=\"a\",55%,IF(Sconti!$D$10=\"b\",55%,IF(Sconti!$D$10=\"c\",55%)))","v":0.55000000000000004},{"$f":"IF(Sconti!$D$10=\"a\",55%,IF(Sconti!$D$10=\"b\",55%,IF(Sconti!$D$10=\"c\",55%)))","v":0.55000000000000004},{"$f":"IF(Sconti!$D$10=\"a\",55%,IF(Sconti!$D$10=\"b\",55%,IF(Sconti!$D$10=\"c\",55%)))","v":0.55000000000000004},{"$f":"IF(Sconti!$D$10=\"a\",55%,IF(Sconti!$D$10=\"b\",55%,IF(Sconti!$D$10=\"c\",55%)))","v":0.55000000000000004},{"$f":"IF(Sconti!$D$10=\"a\",55%,IF(Sconti!$D$10=\"b\",55%,IF(Sconti!$D$10=\"c\",55%)))","v":0.55000000000000004},{"$f":"IF(Sconti!$D$10=\"a\",55%,IF(Sconti!$D$10=\"b\",55%,IF(Sconti!$D$10=\"c\",55%)))","v":0.55000000000000004},{"$f":"IF(Sconti!$D$10=\"a\",55%,IF(Sconti!$D$10=\"b\",55%,IF(Sconti!$D$10=\"c\",55%)))","v":0.55000000000000004},{"$f":"IF(Sconti!$D$10=\"a\",55%,IF(Sconti!$D$10=\"b\",55%,IF(Sconti!$D$10=\"c\",55%)))","v":0.55000000000000004},{"$f":"IF(Sconti!$D$10=\"a\",55%,IF(Sconti!$D$10=\"b\",55%,IF(Sconti!$D$10=\"c\",55%)))","v":0.55000000000000004},{"$f":"IF(Sconti!$D$10=\"a\",55%,IF(Sconti!$D$10=\"b\",55%,IF(Sconti!$D$10=\"c\",55%)))","v":0.55000000000000004},null,"1,5 kg",33.299999999999997,86.75,91.95,128.15,112.75,115.95,116,116.05,82.6,93.3,83,116.5,121.65]
[null,"2,0 kg",{"$f":"IF(Sconti!$D$10=\"a\",55%,IF(Sconti!$D$10=\"b\",55%,IF(Sconti!$D$10=\"c\",55%)))","v":0.55000000000000004},{"$f":"IF(Sconti!$D$10=\"a\",55%,IF(Sconti!$D$10=\"b\",55%,IF(Sconti!$D$10=\"c\",55%)))","v":0.55000000000000004},{"$f":"IF(Sconti!$D$10=\"a\",55%,IF(Sconti!$D$10=\"b\",55%,IF(Sconti!$D$10=\"c\",55%)))","v":0.55000000000000004},{"$f":"IF(Sconti!$D$10=\"a\",55%,IF(Sconti!$D$10=\"b\",55%,IF(Sconti!$D$10=\"c\",55%)))","v":0.55000000000000004},{"$f":"IF(Sconti!$D$10=\"a\",55%,IF(Sconti!$D$10=\"b\",55%,IF(Sconti!$D$10=\"c\",55%)))","v":0.55000000000000004},{"$f":"IF(Sconti!$D$10=\"a\",55%,IF(Sconti!$D$10=\"b\",55%,IF(Sconti!$D$10=\"c\",55%)))","v":0.55000000000000004},{"$f":"IF(Sconti!$D$10=\"a\",55%,IF(Sconti!$D$10=\"b\",55%,IF(Sconti!$D$10=\"c\",55%)))","v":0.55000000000000004},{"$f":"IF(Sconti!$D$10=\"a\",55%,IF(Sconti!$D$10=\"b\",55%,IF(Sconti!$D$10=\"c\",55%)))","v":0.55000000000000004},{"$f":"IF(Sconti!$D$10=\"a\",55%,IF(Sconti!$D$10=\"b\",55%,IF(Sconti!$D$10=\"c\",55%)))","v":0.55000000000000004},{"$f":"IF(Sconti!$D$10=\"a\",55%,IF(Sconti!$D$10=\"b\",55%,IF(Sconti!$D$10=\"c\",55%)))","v":0.55000000000000004},{"$f":"IF(Sconti!$D$10=\"a\",55%,IF(Sconti!$D$10=\"b\",55%,IF(Sconti!$D$10=\"c\",55%)))","v":0.55000000000000004},{"$f":"IF(Sconti!$D$10=\"a\",55%,IF(Sconti!$D$10=\"b\",55%,IF(Sconti!$D$10=\"c\",55%)))","v":0.55000000000000004},null,"2,0 kg",33.299999999999997,95.55,103.2,143.9,123.2,126.7,126.75,126.8,93.8,106,94.45,130.44999999999999,136]
[null,"2,5 kg",{"$f":"IF(Sconti!$D$10=\"a\",55%,IF(Sconti!$D$10=\"b\",55%,IF(Sconti!$D$10=\"c\",55%)))","v":0.55000000000000004},{"$f":"IF(Sconti!$D$10=\"a\",55%,IF(Sconti!$D$10=\"b\",55%,IF(Sconti!$D$10=\"c\",55%)))","v":0.55000000000000004},{"$f":"IF(Sconti!$D$10=\"a\",55%,IF(Sconti!$D$10=\"b\",55%,IF(Sconti!$D$10=\"c\",55%)))","v":0.55000000000000004},{"$f":"IF(Sconti!$D$10=\"a\",55%,IF(Sconti!$D$10=\"b\",55%,IF(Sconti!$D$10=\"c\",55%)))","v":0.55000000000000004},{"$f":"IF(Sconti!$D$10=\"a\",55%,IF(Sconti!$D$10=\"b\",55%,IF(Sconti!$D$10=\"c\",55%)))","v":0.55000000000000004},{"$f":"IF(Sconti!$D$10=\"a\",55%,IF(Sconti!$D$10=\"b\",55%,IF(Sconti!$D$10=\"c\",55%)))","v":0.55000000000000004},{"$f":"IF(Sconti!$D$10=\"a\",55%,IF(Sconti!$D$10=\"b\",55%,IF(Sconti!$D$10=\"c\",55%)))","v":0.55000000000000004},{"$f":"IF(Sconti!$D$10=\"a\",55%,IF(Sconti!$D$10=\"b\",55%,IF(Sconti!$D$10=\"c\",55%)))","v":0.55000000000000004},{"$f":"IF(Sconti!$D$10=\"a\",55%,IF(Sconti!$D$10=\"b\",55%,IF(Sconti!$D$10=\"c\",55%)))","v":0.55000000000000004},{"$f":"IF(Sconti!$D$10=\"a\",55%,IF(Sconti!$D$10=\"b\",55%,IF(Sconti!$D$10=\"c\",55%)))","v":0.55000000000000004},{"$f":"IF(Sconti!$D$10=\"a\",55%,IF(Sconti!$D$10=\"b\",55%,IF(Sconti!$D$10=\"c\",55%)))","v":0.55000000000000004},{"$f":"IF(Sconti!$D$10=\"a\",55%,IF(Sconti!$D$10=\"b\",55%,IF(Sconti!$D$10=\"c\",55%)))","v":0.55000000000000004},null,"2,5 kg",34.700000000000003,104.4,114.4,159.55000000000001,133.75,137.6,137.65,137.69999999999999,105.1,118.75,105.65,144.5,150.55000000000001]
[null,"Documenti al di sopra dei 2,5 Kg e Pacchi",null,null,null,null,null,null,null,null,null,null,null,null,null,"Documenti al di sopra dei 2,5 Kg e Pacchi"]
[null,"% Sconto","Zona","Zona","Zona","Zona","Zona","Zona","Zona","Zona","Zona","Zona","Zona","Zona",null,"€","Zona","Zona","Zona","Zona","Zona","Zona","Zona","Zona","Zona","Zona","Zona","Zona","Zona"]
[null,null,2,3,4,41,42,5,6,7,8,81,9,10,null,null,"1     ","2     ","3     ","4     ","41    ","42    ","5     ","6     ","7     ","8     ","81    ","9     ",10]
[null,"Peso",null,null,null,null,null,null,null,null,null,null,null,null,null,"Peso"]
[null,"0,5 kg",{"$f":"IF(Sconti!$D$10=\"a\",55%,IF(Sconti!$D$10=\"b\",55%,IF(Sconti!$D$10=\"c\",55%)))","v":0.55000000000000004},{"$f":"IF(Sconti!$D$10=\"a\",55%,IF(Sconti!$D$10=\"b\",55%,IF(Sconti!$D$10=\"c\",55%)))","v":0.55000000000000004},{"$f":"IF(Sconti!$D$10=\"a\",55%,IF(Sconti!$D$10=\"b\",55%,IF(Sconti!$D$10=\"c\",55%)))","v":0.55000000000000004},{"$f":"IF(Sconti!$D$10=\"a\",55%,IF(Sconti!$D$10=\"b\",55%,IF(Sconti!$D$10=\"c\",55%)))","v":0.55000000000000004},{"$f":"IF(Sconti!$D$10=\"a\",55%,IF(Sconti!$D$10=\"b\",55%,IF(Sconti!$D$10=\"c\",55%)))","v":0.55000000000000004},{"$f":"IF(Sconti!$D$10=\"a\",55%,IF(Sconti!$D$10=\"b\",55%,IF(Sconti!$D$10=\"c\",55%)))","v":0.55000000000000004},{"$f":"IF(Sconti!$D$10=\"a\",55%,IF(Sconti!$D$10=\"b\",55%,IF(Sconti!$D$10=\"c\",55%)))","v":0.55000000000000004},{"$f":"IF(Sconti!$D$10=\"a\",55%,IF(Sconti!$D$10=\"b\",55%,IF(Sconti!$D$10=\"c\",55%)))","v":0.55000000000000004},{"$f":"IF(Sconti!$D$10=\"a\",55%,IF(Sconti!$D$10=\"b\",55%,IF(Sconti!$D$10=\"c\",55%)))","v":0.55000000000000004},{"$f":"IF(Sconti!$D$10=\"a\",55%,IF(Sconti!$D$10=\"b\",55%,IF(Sconti!$D$10=\"c\",55%)))","v":0.55000000000000004},{"$f":"IF(Sconti!$D$10=\"a\",55%,IF(Sconti!$D$10=\"b\",55%,IF(Sconti!$D$10=\"c\",55%)))","v":0.55000000000000004},{"$f":"IF(Sconti!$D$10=\"a\",55%,IF(Sconti!$D$10=\"b\",55%,IF(Sconti!$D$10=\"c\",55%)))","v":0.55000000000000004},null,"0,5 kg",31.8,69.2,69.349999999999994,96.75,91.75,94.4,128,128.05000000000001,64.900000000000006,75.650000000000006,67.349999999999994,106.9,110.85]
[null,"1,0 kg",{"$f":"IF(Sconti!$D$10=\"a\",55%,IF(Sconti!$D$10=\"b\",55%,IF(Sconti!$D$10=\"c\",55%)))","v":0.55000000000000004},{"$f":"IF(Sconti!$D$10=\"a\",55%,IF(Sconti!$D$10=\"b\",55%,IF(Sconti!$D$10=\"c\",55%)))","v":0.55000000000000004},{"$f":"IF(Sconti!$D$10=\"a\",55%,IF(Sconti!$D$10=\"b\",55%,IF(Sconti!$D$10=\"c\",55%)))","v":0.55000000000000004},{"$f":"IF(Sconti!$D$10=\"a\",55%,IF(Sconti!$D$10=\"b\",55%,IF(Sconti!$D$10=\"c\",55%)))","v":0.55000000000000004},{"$f":"IF(Sconti!$D$10=\"a\",55%,IF(Sconti!$D$10=\"b\",55%,IF(Sconti!$D$10=\"c\",55%)))","v":0.55000000000000004},{"$f":"IF(Sconti!$D$10=\"a\",55%,IF(Sconti!$D$10=\"b\",55%,IF(Sconti!$D$10=\"c\",55%)))","v":0.55000000000000004},{"$f":"IF(Sconti!$D$10=\"a\",55%,IF(Sconti!$D$10=\"b\",55%,IF(Sconti!$D$10=\"c\",55%)))","v":0.55000000000000004},{"$f":"IF(Sconti!$D$10=\"a\",55%,IF(Sconti!$D$10=\"b\",55%,IF(Sconti!$D$10=\"c\",55%)))","v":0.55000000000000004},{"$f":"IF(Sconti!$D$10=\"a\",55%,IF(Sconti!$D$10=\"b\",55%,IF(Sconti!$D$10=\"c\",55%)))","v":0.55000000000000004},{"$f":"IF(Sconti!$D$10=\"a\",55%,IF(Sconti!$D$10=\"b\",55%,IF(Sconti!$D$10=\"c\",55%)))","v":0.55000000000000004},{"$f":"IF(Sconti!$D$10=\"a\",55%,IF(Sconti!$D$10=\"b\",55%,IF(Sconti!$D$10=\"c\",55%)))","v":0.55000000000000004},{"$f":"IF(Sconti!$D$10=\"a\",55%,IF(Sconti!$D$10=\"b\",55%,IF(Sconti!$D$10=\"c\",55%)))","v":0.55000000000000004},null,"1,0 kg",31.8,78.05,80.75,112.45,102.3,105.25,137.15,137.19999999999999,76.3,88.4,78.849999999999994,120.35,125]
[null,"1,5 kg",{"$f":"IF(Sconti!$D$10=\"a\",55%,IF(Sconti!$D$10=\"b\",55%,IF(Sconti!$D$10=\"c\",55%)))","v":0.55000000000000004},{"$f":"IF(Sconti!$D$10=\"a\",55%,IF(Sconti!$D$10=\"b\",55%,IF(Sconti!$D$10=\"c\",55%)))","v":0.55000000000000004},{"$f":"IF(Sconti!$D$10=\"a\",55%,IF(Sconti!$D$10=\"b\",55%,IF(Sconti!$D$10=\"c\",55%)))","v":0.55000000000000004},{"$f":"IF(Sconti!$D$10=\"a\",55%,IF(Sconti!$D$10=\"b\",55%,IF(Sconti!$D$10=\"c\",55%)))","v":0.55000000000000004},{"$f":"IF(Sconti!$D$10=\"a\",55%,IF(Sconti!$D$10=\"b\",55%,IF(Sconti!$D$10=\"c\",55%)))","v":0.55000000000000004},{"$f":"IF(Sconti!$D$10=\"a\",55%,IF(Sconti!$D$10=\"b\",55%,IF(Sconti!$D$10=\"c\",55%)))","v":0.55000000000000004},{"$f":"IF(Sconti!$D$10=\"a\",55%,IF(Sconti!$D$10=\"b\",55%,IF(Sconti!$D$10=\"c\",55%)))","v":0.55000000000000004},{"$f":"IF(Sconti!$D$10=\"a\",55%,IF(Sconti!$D$10=\"b\",55%,IF(Sconti!$D$10=\"c\",55%)))","v":0.55000000000000004},{"$f":"IF(Sconti!$D$10=\"a\",55%,IF(Sconti!$D$10=\"b\",55%,IF(Sconti!$D$10=\"c\",55%)))","v":0.55000000000000004},{"$f":"IF(Sconti!$D$10=\"a\",55%,IF(Sconti!$D$10=\"b\",55%,IF(Sconti!$D$10=\"c\",55%)))","v":0.55000000000000004},{"$f":"IF(Sconti!$D$10=\"a\",55%,IF(Sconti!$D$10=\"b\",55%,IF(Sconti!$D$10=\"c\",55%)))","v":0.55000000000000004},{"$f":"IF(Sconti!$D$10=\"a\",55%,IF(Sconti!$D$10=\"b\",55%,IF(Sconti!$D$10=\"c\",55%)))","v":0.55000000000000004},null,"1,5 kg",33.299999999999997,86.75,91.95,128.15,112.75,115.95,146.30000000000001,146.35,87.45,101.2,90.35,133.9,139.30000000000001]
[null,"2,0 kg",{"$f":"IF(Sconti!$D$10=\"a\",55%,IF(Sconti!$D$10=\"b\",55%,IF(Sconti!$D$10=\"c\",55%)))","v":0.55000000000000004},{"$f":"IF(Sconti!$D$10=\"a\",55%,IF(Sconti!$D$10=\"b\",55%,IF(Sconti!$D$10=\"c\",55%)))","v":0.55000000000000004},{"$f":"IF(Sconti!$D$10=\"a\",55%,IF(Sconti!$D$10=\"b\",55%,IF(Sconti!$D$10=\"c\",55%)))","v":0.55000000000000004},{"$f":"IF(Sconti!$D$10=\"a\",55%,IF(Sconti!$D$10=\"b\",55%,IF(Sconti!$D$10=\"c\",55%)))","v":0.55000000000000004},{"$f":"IF(Sconti!$D$10=\"a\",55%,IF(Sconti!$D$10=\"b\",55%,IF(Sconti!$D$10=\"c\",55%)))","v":0.55000000000000004},{"$f":"IF(Sconti!$D$10=\"a\",55%,IF(Sconti!$D$10=\"b\",55%,IF(Sconti!$D$10=\"c\",55%)))","v":0.55000000000000004},{"$f":"IF(Sconti!$D$10=\"a\",55%,IF(Sconti!$D$10=\"b\",55%,IF(Sconti!$D$10=\"c\",55%)))","v":0.55000000000000004},{"$f":"IF(Sconti!$D$10=\"a\",55%,IF(Sconti!$D$10=\"b\",55%,IF(Sconti!$D$10=\"c\",55%)))","v":0.55000000000000004},{"$f":"IF(Sconti!$D$10=\"a\",55%,IF(Sconti!$D$10=\"b\",55%,IF(Sconti!$D$10=\"c\",55%)))","v":0.55000000000000004},{"$f":"IF(Sconti!$D$10=\"a\",55%,IF(Sconti!$D$10=\"b\",55%,IF(Sconti!$D$10=\"c\",55%)))","v":0.55000000000000004},{"$f":"IF(Sconti!$D$10=\"a\",55%,IF(Sconti!$D$10=\"b\",55%,IF(Sconti!$D$10=\"c\",55%)))","v":0.55000000000000004},{"$f":"IF(Sconti!$D$10=\"a\",55%,IF(Sconti!$D$10=\"b\",55%,IF(Sconti!$D$10=\"c\",55%)))","v":0.55000000000000004},null,"2,0 kg",33.299999999999997,95.55,103.2,143.9,123.2,126.7,152.30000000000001,153.85,98.75,113.9,101.8,147.25,153.44999999999999]
[null,"2,5 kg",{"$f":"IF(Sconti!$D$10=\"a\",55%,IF(Sconti!$D$10=\"b\",55%,IF(Sconti!$D$10=\"c\",55%)))","v":0.55000000000000004},{"$f":"IF(Sconti!$D$10=\"a\",55%,IF(Sconti!$D$10=\"b\",55%,IF(Sconti!$D$10=\"c\",55%)))","v":0.55000000000000004},{"$f":"IF(Sconti!$D$10=\"a\",55%,IF(Sconti!$D$10=\"b\",55%,IF(Sconti!$D$10=\"c\",55%)))","v":0.55000000000000004},{"$f":"IF(Sconti!$D$10=\"a\",55%,IF(Sconti!$D$10=\"b\",55%,IF(Sconti!$D$10=\"c\",55%)))","v":0.55000000000000004},{"$f":"IF(Sconti!$D$10=\"a\",55%,IF(Sconti!$D$10=\"b\",55%,IF(Sconti!$D$10=\"c\",55%)))","v":0.55000000000000004},{"$f":"IF(Sconti!$D$10=\"a\",55%,IF(Sconti!$D$10=\"b\",55%,IF(Sconti!$D$10=\"c\",55%)))","v":0.55000000000000004},{"$f":"IF(Sconti!$D$10=\"a\",55%,IF(Sconti!$D$10=\"b\",55%,IF(Sconti!$D$10=\"c\",55%)))","v":0.55000000000000004},{"$f":"IF(Sconti!$D$10=\"a\",55%,IF(Sconti!$D$10=\"b\",55%,IF(Sconti!$D$10=\"c\",55%)))","v":0.55000000000000004},{"$f":"IF(Sconti!$D$10=\"a\",55%,IF(Sconti!$D$10=\"b\",55%,IF(Sconti!$D$10=\"c\",55%)))","v":0.55000000000000004},{"$f":"IF(Sconti!$D$10=\"a\",55%,IF(Sconti!$D$10=\"b\",55%,IF(Sconti!$D$10=\"c\",55%)))","v":0.55000000000000004},{"$f":"IF(Sconti!$D$10=\"a\",55%,IF(Sconti!$D$10=\"b\",55%,IF(Sconti!$D$10=\"c\",55%)))","v":0.55000000000000004},{"$f":"IF(Sconti!$D$10=\"a\",55%,IF(Sconti!$D$10=\"b\",55%,IF(Sconti!$D$10=\"c\",55%)))","v":0.55000000000000004},null,"2,5 kg",34.700000000000003,104.4,114.4,159.55000000000001,133.75,137.6,152.35,163.85,110,126.65,113.2,160.75,167.7]
[null,"3,0 kg",{"$f":"IF(Sconti!$D$10=\"a\",55%,IF(Sconti!$D$10=\"b\",55%,IF(Sconti!$D$10=\"c\",55%)))","v":0.55000000000000004},{"$f":"IF(Sconti!$D$10=\"a\",55%,IF(Sconti!$D$10=\"b\",55%,IF(Sconti!$D$10=\"c\",55%)))","v":0.55000000000000004},{"$f":"IF(Sconti!$D$10=\"a\",55%,IF(Sconti!$D$10=\"b\",55%,IF(Sconti!$D$10=\"c\",55%)))","v":0.55000000000000004},{"$f":"IF(Sconti!$D$10=\"a\",55%,IF(Sconti!$D$10=\"b\",55%,IF(Sconti!$D$10=\"c\",55%)))","v":0.55000000000000004},{"$f":"IF(Sconti!$D$10=\"a\",55%,IF(Sconti!$D$10=\"b\",55%,IF(Sconti!$D$10=\"c\",55%)))","v":0.55000000000000004},{"$f":"IF(Sconti!$D$10=\"a\",55%,IF(Sconti!$D$10=\"b\",55%,IF(Sconti!$D$10=\"c\",55%)))","v":0.55000000000000004},{"$f":"IF(Sconti!$D$10=\"a\",55%,IF(Sconti!$D$10=\"b\",55%,IF(Sconti!$D$10=\"c\",55%)))","v":0.55000000000000004},{"$f":"IF(Sconti!$D$10=\"a\",55%,IF(Sconti!$D$10=\"b\",55%,IF(Sconti!$D$10=\"c\",55%)))","v":0.55000000000000004},{"$f":"IF(Sconti!$D$10=\"a\",55%,IF(Sconti!$D$10=\"b\",55%,IF(Sconti!$D$10=\"c\",55%)))","v":0.55000000000000004},{"$f":"IF(Sconti!$D$10=\"a\",55%,IF(Sconti!$D$10=\"b\",55%,IF(Sconti!$D$10=\"c\",55%)))","v":0.55000000000000004},{"$f":"IF(Sconti!$D$10=\"a\",55%,IF(Sconti!$D$10=\"b\",55%,IF(Sconti!$D$10=\"c\",55%)))","v":0.55000000000000004},{"$f":"IF(Sconti!$D$10=\"a\",55%,IF(Sconti!$D$10=\"b\",55%,IF(Sconti!$D$10=\"c\",55%)))","v":0.55000000000000004},null,"3,0 kg",34.9,109.2,121.9,169.6,141.05000000000001,145.1,152.4,165.3,117.2,136.5,122.15,174.15,181.75]
[null,"3,5 kg",{"$f":"IF(Sconti!$D$10=\"a\",55%,IF(Sconti!$D$10=\"b\",55%,IF(Sconti!$D$10=\"c\",55%)))","v":0.55000000000000004},{"$f":"IF(Sconti!$D$10=\"a\",55%,IF(Sconti!$D$10=\"b\",55%,IF(Sconti!$D$10=\"c\",55%)))","v":0.55000000000000004},{"$f":"IF(Sconti!$D$10=\"a\",55%,IF(Sconti!$D$10=\"b\",55%,IF(Sconti!$D$10=\"c\",55%)))","v":0.55000000000000004},{"$f":"IF(Sconti!$D$10=\"a\",55%,IF(Sconti!$D$10=\"b\",55%,IF(Sconti!$D$10=\"c\",55%)))","v":0.55000000000000004},{"$f":"IF(Sconti!$D$10=\"a\",55%,IF(Sconti!$D$10=\"b\",55%,IF(Sconti!$D$10=\"c\",55%)))","v":0.55000000000000004},{"$f":"IF(Sconti!$D$10=\"a\",55%,IF(Sconti!$D$10=\"b\",55%,IF(Sconti!$D$10=\"c\",55%)))","v":0.55000000000000004},{"$f":"IF(Sconti!$D$10=\"a\",55%,IF(Sconti!$D$10=\"b\",55%,IF(Sconti!$D$10=\"c\",55%)))","v":0.55000000000000004},{"$f":"IF(Sconti!$D$10=\"a\",55%,IF(Sconti!$D$10=\"b\",55%,IF(Sconti!$D$10=\"c\",55%)))","v":0.55000000000000004},{"$f":"IF(Sconti!$D$10=\"a\",55%,IF(Sconti!$D$10=\"b\",55%,IF(Sconti!$D$10=\"c\",55%)))","v":0.55000000000000004},{"$f":"IF(Sconti!$D$10=\"a\",55%,IF(Sconti!$D$10=\"b\",55%,IF(Sconti!$D$10=\"c\",55%)))","v":0.55000000000000004},{"$f":"IF(Sconti!$D$10=\"a\",55%,IF(Sconti!$D$10=\"b\",55%,IF(Sconti!$D$10=\"c\",55%)))","v":0.55000000000000004},{"$f":"IF(Sconti!$D$10=\"a\",55%,IF(Sconti!$D$10=\"b\",55%,IF(Sconti!$D$10=\"c\",55%)))","v":0.55000000000000004},null,"3,5 kg",36.35,114.05,129.30000000000001,179.5,148.25,152.4,160.1,175.7,124.4,146.55000000000001,131.05000000000001,187.6,195.9]
[null,"4,0 kg",{"$f":"IF(Sconti!$D$10=\"a\",55%,IF(Sconti!$D$10=\"b\",55%,IF(Sconti!$D$10=\"c\",55%)))","v":0.55000000000000004},{"$f":"IF(Sconti!$D$10=\"a\",55%,IF(Sconti!$D$10=\"b\",55%,IF(Sconti!$D$10=\"c\",55%)))","v":0.55000000000000004},{"$f":"IF(Sconti!$D$10=\"a\",55%,IF(Sconti!$D$10=\"b\",55%,IF(Sconti!$D$10=\"c\",55%)))","v":0.55000000000000004},{"$f":"IF(Sconti!$D$10=\"a\",55%,IF(Sconti!$D$10=\"b\",55%,IF(Sconti!$D$10=\"c\",55%)))","v":0.55000000000000004},{"$f":"IF(Sconti!$D$10=\"a\",55%,IF(Sconti!$D$10=\"b\",55%,IF(Sconti!$D$10=\"c\",55%)))","v":0.55000000000000004},{"$f":"IF(Sconti!$D$10=\"a\",55%,IF(Sconti!$D$10=\"b\",55%,IF(Sconti!$D$10=\"c\",55%)))","v":0.55000000000000004},{"$f":"IF(Sconti!$D$10=\"a\",55%,IF(Sconti!$D$10=\"b\",55%,IF(Sconti!$D$10=\"c\",55%)))","v":0.55000000000000004},{"$f":"IF(Sconti!$D$10=\"a\",55%,IF(Sconti!$D$10=\"b\",55%,IF(Sconti!$D$10=\"c\",55%)))","v":0.55000000000000004},{"$f":"IF(Sconti!$D$10=\"a\",55%,IF(Sconti!$D$10=\"b\",55%,IF(Sconti!$D$10=\"c\",55%)))","v":0.55000000000000004},{"$f":"IF(Sconti!$D$10=\"a\",55%,IF(Sconti!$D$10=\"b\",55%,IF(Sconti!$D$10=\"c\",55%)))","v":0.55000000000000004},{"$f":"IF(Sconti!$D$10=\"a\",55%,IF(Sconti!$D$10=\"b\",55%,IF(Sconti!$D$10=\"c\",55%)))","v":0.55000000000000004},{"$f":"IF(Sconti!$D$10=\"a\",55%,IF(Sconti!$D$10=\"b\",55%,IF(Sconti!$D$10=\"c\",55%)))","v":0.55000000000000004},null,"4,0 kg",36.35,119,136.75,189.45,155.5,159.9,167.7,186.5,131.6,156.5,140.19999999999999,201.1,210.15]
[null,"4,5 kg",{"$f":"IF(Sconti!$D$10=\"a\",55%,IF(Sconti!$D$10=\"b\",55%,IF(Sconti!$D$10=\"c\",55%)))","v":0.55000000000000004},{"$f":"IF(Sconti!$D$10=\"a\",55%,IF(Sconti!$D$10=\"b\",55%,IF(Sconti!$D$10=\"c\",55%)))","v":0.55000000000000004},{"$f":"IF(Sconti!$D$10=\"a\",55%,IF(Sconti!$D$10=\"b\",55%,IF(Sconti!$D$10=\"c\",55%)))","v":0.55000000000000004},{"$f":"IF(Sconti!$D$10=\"a\",55%,IF(Sconti!$D$10=\"b\",55%,IF(Sconti!$D$10=\"c\",55%)))","v":0.55000000000000004},{"$f":"IF(Sconti!$D$10=\"a\",55%,IF(Sconti!$D$10=\"b\",55%,IF(Sconti!$D$10=\"c\",55%)))","v":0.55000000000000004},{"$f":"IF(Sconti!$D$10=\"a\",55%,IF(Sconti!$D$10=\"b\",55%,IF(Sconti!$D$10=\"c\",55%)))","v":0.55000000000000004},{"$f":"IF(Sconti!$D$10=\"a\",55%,IF(Sconti!$D$10=\"b\",55%,IF(Sconti!$D$10=\"c\",55%)))","v":0.55000000000000004},{"$f":"IF(Sconti!$D$10=\"a\",55%,IF(Sconti!$D$10=\"b\",55%,IF(Sconti!$D$10=\"c\",55%)))","v":0.55000000000000004},{"$f":"IF(Sconti!$D$10=\"a\",55%,IF(Sconti!$D$10=\"b\",55%,IF(Sconti!$D$10=\"c\",55%)))","v":0.55000000000000004},{"$f":"IF(Sconti!$D$10=\"a\",55%,IF(Sconti!$D$10=\"b\",55%,IF(Sconti!$D$10=\"c\",55%)))","v":0.55000000000000004},{"$f":"IF(Sconti!$D$10=\"a\",55%,IF(Sconti!$D$10=\"b\",55%,IF(Sconti!$D$10=\"c\",55%)))","v":0.55000000000000004},{"$f":"IF(Sconti!$D$10=\"a\",55%,IF(Sconti!$D$10=\"b\",55%,IF(Sconti!$D$10=\"c\",55%)))","v":0.55000000000000004},null,"4,5 kg",37.9,123.75,144.19999999999999,199.35,162.9,167.2,175.45,197.05,138.85,166.45,149.30000000000001,214.55,224.4]
[null,"5,0 kg",{"$f":"IF(Sconti!$D$10=\"a\",55%,IF(Sconti!$D$10=\"b\",55%,IF(Sconti!$D$10=\"c\",55%)))","v":0.55000000000000004},{"$f":"IF(Sconti!$D$10=\"a\",55%,IF(Sconti!$D$10=\"b\",55%,IF(Sconti!$D$10=\"c\",55%)))","v":0.55000000000000004},{"$f":"IF(Sconti!$D$10=\"a\",55%,IF(Sconti!$D$10=\"b\",55%,IF(Sconti!$D$10=\"c\",55%)))","v":0.55000000000000004},{"$f":"IF(Sconti!$D$10=\"a\",55%,IF(Sconti!$D$10=\"b\",55%,IF(Sconti!$D$10=\"c\",55%)))","v":0.55000000000000004},{"$f":"IF(Sconti!$D$10=\"a\",55%,IF(Sconti!$D$10=\"b\",55%,IF(Sconti!$D$10=\"c\",55%)))","v":0.55000000000000004},{"$f":"IF(Sconti!$D$10=\"a\",55%,IF(Sconti!$D$10=\"b\",55%,IF(Sconti!$D$10=\"c\",55%)))","v":0.55000000000000004},{"$f":"IF(Sconti!$D$10=\"a\",55%,IF(Sconti!$D$10=\"b\",55%,IF(Sconti!$D$10=\"c\",55%)))","v":0.55000000000000004},{"$f":"IF(Sconti!$D$10=\"a\",55%,IF(Sconti!$D$10=\"b\",55%,IF(Sconti!$D$10=\"c\",55%)))","v":0.55000000000000004},{"$f":"IF(Sconti!$D$10=\"a\",55%,IF(Sconti!$D$10=\"b\",55%,IF(Sconti!$D$10=\"c\",55%)))","v":0.55000000000000004},{"$f":"IF(Sconti!$D$10=\"a\",55%,IF(Sconti!$D$10=\"b\",55%,IF(Sconti!$D$10=\"c\",55%)))","v":0.55000000000000004},{"$f":"IF(Sconti!$D$10=\"a\",55%,IF(Sconti!$D$10=\"b\",55%,IF(Sconti!$D$10=\"c\",55%)))","v":0.55000000000000004},{"$f":"IF(Sconti!$D$10=\"a\",55%,IF(Sconti!$D$10=\"b\",55%,IF(Sconti!$D$10=\"c\",55%)))","v":0.55000000000000004},null,"5,0 kg",37.9,128.35,151.55000000000001,209.45,170.15,174.7,183.05,207.65,146.1,176.45,158.25,228.05,238.55]
[null,"5,5 kg",{"$f":"IF(Sconti!$D$10=\"a\",55%,IF(Sconti!$D$10=\"b\",55%,IF(Sconti!$D$10=\"c\",55%)))","v":0.55000000000000004},{"$f":"IF(Sconti!$D$10=\"a\",55%,IF(Sconti!$D$10=\"b\",55%,IF(Sconti!$D$10=\"c\",55%)))","v":0.55000000000000004},{"$f":"IF(Sconti!$D$10=\"a\",55%,IF(Sconti!$D$10=\"b\",55%,IF(Sconti!$D$10=\"c\",55%)))","v":0.55000000000000004},{"$f":"IF(Sconti!$D$10=\"a\",55%,IF(Sconti!$D$10=\"b\",55%,IF(Sconti!$D$10=\"c\",55%)))","v":0.55000000000000004},{"$f":"IF(Sconti!$D$10=\"a\",55%,IF(Sconti!$D$10=\"b\",55%,IF(Sconti!$D$10=\"c\",55%)))","v":0.55000000000000004},{"$f":"IF(Sconti!$D$10=\"a\",55%,IF(Sconti!$D$10=\"b\",55%,IF(Sconti!$D$10=\"c\",55%)))","v":0.55000000000000004},{"$f":"IF(Sconti!$D$10=\"a\",55%,IF(Sconti!$D$10=\"b\",55%,IF(Sconti!$D$10=\"c\",55%)))","v":0.55000000000000004},{"$f":"IF(Sconti!$D$10=\"a\",55%,IF(Sconti!$D$10=\"b\",55%,IF(Sconti!$D$10=\"c\",55%)))","v":0.55000000000000004},{"$f":"IF(Sconti!$D$10=\"a\",55%,IF(Sconti!$D$10=\"b\",55%,IF(Sconti!$D$10=\"c\",55%)))","v":0.55000000000000004},{"$f":"IF(Sconti!$D$10=\"a\",55%,IF(Sconti!$D$10=\"b\",55%,IF(Sconti!$D$10=\"c\",55%)))","v":0.55000000000000004},{"$f":"IF(Sconti!$D$10=\"a\",55%,IF(Sconti!$D$10=\"b\",55%,IF(Sconti!$D$10=\"c\",55%)))","v":0.55000000000000004},{"$f":"IF(Sconti!$D$10=\"a\",55%,IF(Sconti!$D$10=\"b\",55%,IF(Sconti!$D$10=\"c\",55%)))","v":0.55000000000000004},null,"5,5 kg",39.4,132.55000000000001,156.55000000000001,217.4,174.8,179.3,187.85,216.1,152.4,184,165.1,241.5,252.8]
[null,"6,0 kg",{"$f":"IF(Sconti!$D$10=\"a\",55%,IF(Sconti!$D$10=\"b\",55%,IF(Sconti!$D$10=\"c\",55%)))","v":0.55000000000000004},{"$f":"IF(Sconti!$D$10=\"a\",55%,IF(Sconti!$D$10=\"b\",55%,IF(Sconti!$D$10=\"c\",55%)))","v":0.55000000000000004},{"$f":"IF(Sconti!$D$10=\"a\",55%,IF(Sconti!$D$10=\"b\",55%,IF(Sconti!$D$10=\"c\",55%)))","v":0.55000000000000004},{"$f":"IF(Sconti!$D$10=\"a\",55%,IF(Sconti!$D$10=\"b\",55%,IF(Sconti!$D$10=\"c\",55%)))","v":0.55000000000000004},{"$f":"IF(Sconti!$D$10=\"a\",55%,IF(Sconti!$D$10=\"b\",55%,IF(Sconti!$D$10=\"c\",55%)))","v":0.55000000000000004},{"$f":"IF(Sconti!$D$10=\"a\",55%,IF(Sconti!$D$10=\"b\",55%,IF(Sconti!$D$10=\"c\",55%)))","v":0.55000000000000004},{"$f":"IF(Sconti!$D$10=\"a\",55%,IF(Sconti!$D$10=\"b\",55%,IF(Sconti!$D$10=\"c\",55%)))","v":0.55000000000000004},{"$f":"IF(Sconti!$D$10=\"a\",55%,IF(Sconti!$D$10=\"b\",55%,IF(Sconti!$D$10=\"c\",55%)))","v":0.55000000000000004},{"$f":"IF(Sconti!$D$10=\"a\",55%,IF(Sconti!$D$10=\"b\",55%,IF(Sconti!$D$10=\"c\",55%)))","v":0.55000000000000004},{"$f":"IF(Sconti!$D$10=\"a\",55%,IF(Sconti!$D$10=\"b\",55%,IF(Sconti!$D$10=\"c\",55%)))","v":0.55000000000000004},{"$f":"IF(Sconti!$D$10=\"a\",55%,IF(Sconti!$D$10=\"b\",55%,IF(Sconti!$D$10=\"c\",55%)))","v":0.55000000000000004},{"$f":"IF(Sconti!$D$10=\"a\",55%,IF(Sconti!$D$10=\"b\",55%,IF(Sconti!$D$10=\"c\",55%)))","v":0.55000000000000004},null,"6,0 kg",39.4,136.5,161.44999999999999,225.5,179.35,184.05,192.7,224.55,158.65,191.75,172,254.95,266.95]
[null,"6,5 kg",{"$f":"IF(Sconti!$D$10=\"a\",55%,IF(Sconti!$D$10=\"b\",55%,IF(Sconti!$D$10=\"c\",55%)))","v":0.55000000000000004},{"$f":"IF(Sconti!$D$10=\"a\",55%,IF(Sconti!$D$10=\"b\",55%,IF(Sconti!$D$10=\"c\",55%)))","v":0.55000000000000004},{"$f":"IF(Sconti!$D$10=\"a\",55%,IF(Sconti!$D$10=\"b\",55%,IF(Sconti!$D$10=\"c\",55%)))","v":0.55000000000000004},{"$f":"IF(Sconti!$D$10=\"a\",55%,IF(Sconti!$D$10=\"b\",55%,IF(Sconti!$D$10=\"c\",55%)))","v":0.55000000000000004},{"$f":"IF(Sconti!$D$10=\"a\",55%,IF(Sconti!$D$10=\"b\",55%,IF(Sconti!$D$10=\"c\",55%)))","v":0.55000000000000004},{"$f":"IF(Sconti!$D$10=\"a\",55%,IF(Sconti!$D$10=\"b\",55%,IF(Sconti!$D$10=\"c\",55%)))","v":0.55000000000000004},{"$f":"IF(Sconti!$D$10=\"a\",55%,IF(Sconti!$D$10=\"b\",55%,IF(Sconti!$D$10=\"c\",55%)))","v":0.55000000000000004},{"$f":"IF(Sconti!$D$10=\"a\",55%,IF(Sconti!$D$10=\"b\",55%,IF(Sconti!$D$10=\"c\",55%)))","v":0.55000000000000004},{"$f":"IF(Sconti!$D$10=\"a\",55%,IF(Sconti!$D$10=\"b\",55%,IF(Sconti!$D$10=\"c\",55%)))","v":0.55000000000000004},{"$f":"IF(Sconti!$D$10=\"a\",55%,IF(Sconti!$D$10=\"b\",55%,IF(Sconti!$D$10=\"c\",55%)))","v":0.55000000000000004},{"$f":"IF(Sconti!$D$10=\"a\",55%,IF(Sconti!$D$10=\"b\",55%,IF(Sconti!$D$10=\"c\",55%)))","v":0.55000000000000004},{"$f":"IF(Sconti!$D$10=\"a\",55%,IF(Sconti!$D$10=\"b\",55%,IF(Sconti!$D$10=\"c\",55%)))","v":0.55000000000000004},null,"6,5 kg",40.950000000000003,140.55000000000001,166.35,233.6,183.9,188.9,197.55,232.95,164.9,199.5,178.95,268.45,281.14999999999998]
[null,"7,0 kg",{"$f":"IF(Sconti!$D$10=\"a\",55%,IF(Sconti!$D$10=\"b\",55%,IF(Sconti!$D$10=\"c\",55%)))","v":0.55000000000000004},{"$f":"IF(Sconti!$D$10=\"a\",55%,IF(Sconti!$D$10=\"b\",55%,IF(Sconti!$D$10=\"c\",55%)))","v":0.55000000000000004},{"$f":"IF(Sconti!$D$10=\"a\",55%,IF(Sconti!$D$10=\"b\",55%,IF(Sconti!$D$10=\"c\",55%)))","v":0.55000000000000004},{"$f":"IF(Sconti!$D$10=\"a\",55%,IF(Sconti!$D$10=\"b\",55%,IF(Sconti!$D$10=\"c\",55%)))","v":0.55000000000000004},{"$f":"IF(Sconti!$D$10=\"a\",55%,IF(Sconti!$D$10=\"b\",55%,IF(Sconti!$D$10=\"c\",55%)))","v":0.55000000000000004},{"$f":"IF(Sconti!$D$10=\"a\",55%,IF(Sconti!$D$10=\"b\",55%,IF(Sconti!$D$10=\"c\",55%)))","v":0.55000000000000004},{"$f":"IF(Sconti!$D$10=\"a\",55%,IF(Sconti!$D$10=\"b\",55%,IF(Sconti!$D$10=\"c\",55%)))","v":0.55000000000000004},{"$f":"IF(Sconti!$D$10=\"a\",55%,IF(Sconti!$D$10=\"b\",55%,IF(Sconti!$D$10=\"c\",55%)))","v":0.55000000000000004},{"$f":"IF(Sconti!$D$10=\"a\",55%,IF(Sconti!$D$10=\"b\",55%,IF(Sconti!$D$10=\"c\",55%)))","v":0.55000000000000004},{"$f":"IF(Sconti!$D$10=\"a\",55%,IF(Sconti!$D$10=\"b\",55%,IF(Sconti!$D$10=\"c\",55%)))","v":0.55000000000000004},{"$f":"IF(Sconti!$D$10=\"a\",55%,IF(Sconti!$D$10=\"b\",55%,IF(Sconti!$D$10=\"c\",55%)))","v":0.55000000000000004},{"$f":"IF(Sconti!$D$10=\"a\",55%,IF(Sconti!$D$10=\"b\",55%,IF(Sconti!$D$10=\"c\",55%)))","v":0.55000000000000004},null,"7,0 kg",40.950000000000003,144.5,171.1,241.75,188.5,193.55,202.45,241.35,171.2,207.35,185.65,282,295.45]
[null,"7,5 kg",{"$f":"IF(Sconti!$D$10=\"a\",55%,IF(Sconti!$D$10=\"b\",55%,IF(Sconti!$D$10=\"c\",55%)))","v":0.55000000000000004},{"$f":"IF(Sconti!$D$10=\"a\",55%,IF(Sconti!$D$10=\"b\",55%,IF(Sconti!$D$10=\"c\",55%)))","v":0.55000000000000004},{"$f":"IF(Sconti!$D$10=\"a\",55%,IF(Sconti!$D$10=\"b\",55%,IF(Sconti!$D$10=\"c\",55%)))","v":0.55000000000000004},{"$f":"IF(Sconti!$D$10=\"a\",55%,IF(Sconti!$D$10=\"b\",55%,IF(Sconti!$D$10=\"c\",55%)))","v":0.55000000000000004},{"$f":"IF(Sconti!$D$10=\"a\",55%,IF(Sconti!$D$10=\"b\",55%,IF(Sconti!$D$10=\"c\",55%)))","v":0.55000000000000004},{"$f":"IF(Sconti!$D$10=\"a\",55%,IF(Sconti!$D$10=\"b\",55%,IF(Sconti!$D$10=\"c\",55%)))","v":0.55000000000000004},{"$f":"IF(Sconti!$D$10=\"a\",55%,IF(Sconti!$D$10=\"b\",55%,IF(Sconti!$D$10=\"c\",55%)))","v":0.55000000000000004},{"$f":"IF(Sconti!$D$10=\"a\",55%,IF(Sconti!$D$10=\"b\",55%,IF(Sconti!$D$10=\"c\",55%)))","v":0.55000000000000004},{"$f":"IF(Sconti!$D$10=\"a\",55%,IF(Sconti!$D$10=\"b\",55%,IF(Sconti!$D$10=\"c\",55%)))","v":0.55000000000000004},{"$f":"IF(Sconti!$D$10=\"a\",55%,IF(Sconti!$D$10=\"b\",55%,IF(Sconti!$D$10=\"c\",55%)))","v":0.55000000000000004},{"$f":"IF(Sconti!$D$10=\"a\",55%,IF(Sconti!$D$10=\"b\",55%,IF(Sconti!$D$10=\"c\",55%)))","v":0.55000000000000004},{"$f":"IF(Sconti!$D$10=\"a\",55%,IF(Sconti!$D$10=\"b\",55%,IF(Sconti!$D$10=\"c\",55%)))","v":0.55000000000000004},null,"7,5 kg",42.65,148.6,175.9,249.75,193.1,198.3,207.35,249.75,177.35,215.05,192.6,295.3,309.5]
[null,"8,0 kg",{"$f":"IF(Sconti!$D$10=\"a\",55%,IF(Sconti!$D$10=\"b\",55%,IF(Sconti!$D$10=\"c\",55%)))","v":0.55000000000000004},{"$f":"IF(Sconti!$D$10=\"a\",55%,IF(Sconti!$D$10=\"b\",55%,IF(Sconti!$D$10=\"c\",55%)))","v":0.55000000000000004},{"$f":"IF(Sconti!$D$10=\"a\",55%,IF(Sconti!$D$10=\"b\",55%,IF(Sconti!$D$10=\"c\",55%)))","v":0.55000000000000004},{"$f":"IF(Sconti!$D$10=\"a\",55%,IF(Sconti!$D$10=\"b\",55%,IF(Sconti!$D$10=\"c\",55%)))","v":0.55000000000000004},{"$f":"IF(Sconti!$D$10=\"a\",55%,IF(Sconti!$D$10=\"b\",55%,IF(Sconti!$D$10=\"c\",55%)))","v":0.55000000000000004},{"$f":"IF(Sconti!$D$10=\"a\",55%,IF(Sconti!$D$10=\"b\",55%,IF(Sconti!$D$10=\"c\",55%)))","v":0.55000000000000004},{"$f":"IF(Sconti!$D$10=\"a\",55%,IF(Sconti!$D$10=\"b\",55%,IF(Sconti!$D$10=\"c\",55%)))","v":0.55000000000000004},{"$f":"IF(Sconti!$D$10=\"a\",55%,IF(Sconti!$D$10=\"b\",55%,IF(Sconti!$D$10=\"c\",55%)))","v":0.55000000000000004},{"$f":"IF(Sconti!$D$10=\"a\",55%,IF(Sconti!$D$10=\"b\",55%,IF(Sconti!$D$10=\"c\",55%)))","v":0.55000000000000004},{"$f":"IF(Sconti!$D$10=\"a\",55%,IF(Sconti!$D$10=\"b\",55%,IF(Sconti!$D$10=\"c\",55%)))","v":0.55000000000000004},{"$f":"IF(Sconti!$D$10=\"a\",55%,IF(Sconti!$D$10=\"b\",55%,IF(Sconti!$D$10=\"c\",55%)))","v":0.55000000000000004},{"$f":"IF(Sconti!$D$10=\"a\",55%,IF(Sconti!$D$10=\"b\",55%,IF(Sconti!$D$10=\"c\",55%)))","v":0.55000000000000004},null,"8,0 kg",42.65,152.69999999999999,180.9,257.8,197.6,203.15,212.15,257.14999999999998,183.65,222.95,199.5,308.55,323.75]
[null,"8,5 kg",{"$f":"IF(Sconti!$D$10=\"a\",55%,IF(Sconti!$D$10=\"b\",55%,IF(Sconti!$D$10=\"c\",55%)))","v":0.55000000000000004},{"$f":"IF(Sconti!$D$10=\"a\",55%,IF(Sconti!$D$10=\"b\",55%,IF(Sconti!$D$10=\"c\",55%)))","v":0.55000000000000004},{"$f":"IF(Sconti!$D$10=\"a\",55%,IF(Sconti!$D$10=\"b\",55%,IF(Sconti!$D$10=\"c\",55%)))","v":0.55000000000000004},{"$f":"IF(Sconti!$D$10=\"a\",55%,IF(Sconti!$D$10=\"b\",55%,IF(Sconti!$D$10=\"c\",55%)))","v":0.55000000000000004},{"$f":"IF(Sconti!$D$10=\"a\",55%,IF(Sconti!$D$10=\"b\",55%,IF(Sconti!$D$10=\"c\",55%)))","v":0.55000000000000004},{"$f":"IF(Sconti!$D$10=\"a\",55%,IF(Sconti!$D$10=\"b\",55%,IF(Sconti!$D$10=\"c\",55%)))","v":0.55000000000000004},{"$f":"IF(Sconti!$D$10=\"a\",55%,IF(Sconti!$D$10=\"b\",55%,IF(Sconti!$D$10=\"c\",55%)))","v":0.55000000000000004},{"$f":"IF(Sconti!$D$10=\"a\",55%,IF(Sconti!$D$10=\"b\",55%,IF(Sconti!$D$10=\"c\",55%)))","v":0.55000000000000004},{"$f":"IF(Sconti!$D$10=\"a\",55%,IF(Sconti!$D$10=\"b\",55%,IF(Sconti!$D$10=\"c\",55%)))","v":0.55000000000000004},{"$f":"IF(Sconti!$D$10=\"a\",55%,IF(Sconti!$D$10=\"b\",55%,IF(Sconti!$D$10=\"c\",55%)))","v":0.55000000000000004},{"$f":"IF(Sconti!$D$10=\"a\",55%,IF(Sconti!$D$10=\"b\",55%,IF(Sconti!$D$10=\"c\",55%)))","v":0.55000000000000004},{"$f":"IF(Sconti!$D$10=\"a\",55%,IF(Sconti!$D$10=\"b\",55%,IF(Sconti!$D$10=\"c\",55%)))","v":0.55000000000000004},null,"8,5 kg",44.2,156.75,185.8,265.89999999999998,202.25,207.95,216.95,264.39999999999998,189.95,230.7,206.35,321.75,337.9]
[null,"9,0 kg",{"$f":"IF(Sconti!$D$10=\"a\",55%,IF(Sconti!$D$10=\"b\",55%,IF(Sconti!$D$10=\"c\",55%)))","v":0.55000000000000004},{"$f":"IF(Sconti!$D$10=\"a\",55%,IF(Sconti!$D$10=\"b\",55%,IF(Sconti!$D$10=\"c\",55%)))","v":0.55000000000000004},{"$f":"IF(Sconti!$D$10=\"a\",55%,IF(Sconti!$D$10=\"b\",55%,IF(Sconti!$D$10=\"c\",55%)))","v":0.55000000000000004},{"$f":"IF(Sconti!$D$10=\"a\",55%,IF(Sconti!$D$10=\"b\",55%,IF(Sconti!$D$10=\"c\",55%)))","v":0.55000000000000004},{"$f":"IF(Sconti!$D$10=\"a\",55%,IF(Sconti!$D$10=\"b\",55%,IF(Sconti!$D$10=\"c\",55%)))","v":0.55000000000000004},{"$f":"IF(Sconti!$D$10=\"a\",55%,IF(Sconti!$D$10=\"b\",55%,IF(Sconti!$D$10=\"c\",55%)))","v":0.55000000000000004},{"$f":"IF(Sconti!$D$10=\"a\",55%,IF(Sconti!$D$10=\"b\",55%,IF(Sconti!$D$10=\"c\",55%)))","v":0.55000000000000004},{"$f":"IF(Sconti!$D$10=\"a\",55%,IF(Sconti!$D$10=\"b\",55%,IF(Sconti!$D$10=\"c\",55%)))","v":0.55000000000000004},{"$f":"IF(Sconti!$D$10=\"a\",55%,IF(Sconti!$D$10=\"b\",55%,IF(Sconti!$D$10=\"c\",55%)))","v":0.55000000000000004},{"$f":"IF(Sconti!$D$10=\"a\",55%,IF(Sconti!$D$10=\"b\",55%,IF(Sconti!$D$10=\"c\",55%)))","v":0.55000000000000004},{"$f":"IF(Sconti!$D$10=\"a\",55%,IF(Sconti!$D$10=\"b\",55%,IF(Sconti!$D$10=\"c\",55%)))","v":0.55000000000000004},{"$f":"IF(Sconti!$D$10=\"a\",55%,IF(Sconti!$D$10=\"b\",55%,IF(Sconti!$D$10=\"c\",55%)))","v":0.55000000000000004},null,"9,0 kg",44.2,160.85,190.65,274.05,206.75,212.7,221.9,271.85000000000002,196.15,238.55,213.15,335.15,352.15]
[null,"9,5 kg",{"$f":"IF(Sconti!$D$10=\"a\",55%,IF(Sconti!$D$10=\"b\",55%,IF(Sconti!$D$10=\"c\",55%)))","v":0.55000000000000004},{"$f":"IF(Sconti!$D$10=\"a\",55%,IF(Sconti!$D$10=\"b\",55%,IF(Sconti!$D$10=\"c\",55%)))","v":0.55000000000000004},{"$f":"IF(Sconti!$D$10=\"a\",55%,IF(Sconti!$D$10=\"b\",55%,IF(Sconti!$D$10=\"c\",55%)))","v":0.55000000000000004},{"$f":"IF(Sconti!$D$10=\"a\",55%,IF(Sconti!$D$10=\"b\",55%,IF(Sconti!$D$10=\"c\",55%)))","v":0.55000000000000004},{"$f":"IF(Sconti!$D$10=\"a\",55%,IF(Sconti!$D$10=\"b\",55%,IF(Sconti!$D$10=\"c\",55%)))","v":0.55000000000000004},{"$f":"IF(Sconti!$D$10=\"a\",55%,IF(Sconti!$D$10=\"b\",55%,IF(Sconti!$D$10=\"c\",55%)))","v":0.55000000000000004},{"$f":"IF(Sconti!$D$10=\"a\",55%,IF(Sconti!$D$10=\"b\",55%,IF(Sconti!$D$10=\"c\",55%)))","v":0.55000000000000004},{"$f":"IF(Sconti!$D$10=\"a\",55%,IF(Sconti!$D$10=\"b\",55%,IF(Sconti!$D$10=\"c\",55%)))","v":0.55000000000000004},{"$f":"IF(Sconti!$D$10=\"a\",55%,IF(Sconti!$D$10=\"b\",55%,IF(Sconti!$D$10=\"c\",55%)))","v":0.55000000000000004},{"$f":"IF(Sconti!$D$10=\"a\",55%,IF(Sconti!$D$10=\"b\",55%,IF(Sconti!$D$10=\"c\",55%)))","v":0.55000000000000004},{"$f":"IF(Sconti!$D$10=\"a\",55%,IF(Sconti!$D$10=\"b\",55%,IF(Sconti!$D$10=\"c\",55%)))","v":0.55000000000000004},{"$f":"IF(Sconti!$D$10=\"a\",55%,IF(Sconti!$D$10=\"b\",55%,IF(Sconti!$D$10=\"c\",55%)))","v":0.55000000000000004},null,"9,5 kg",45.8,165,195.55,282.10000000000002,211.4,217.5,226.75,279.2,202.45,246.35,220.05,348.4,366.4]
[null,"10 kg",{"$f":"IF(Sconti!$D$10=\"a\",55%,IF(Sconti!$D$10=\"b\",55%,IF(Sconti!$D$10=\"c\",55%)))","v":0.55000000000000004},{"$f":"IF(Sconti!$D$10=\"a\",55%,IF(Sconti!$D$10=\"b\",55%,IF(Sconti!$D$10=\"c\",55%)))","v":0.55000000000000004},{"$f":"IF(Sconti!$D$10=\"a\",55%,IF(Sconti!$D$10=\"b\",55%,IF(Sconti!$D$10=\"c\",55%)))","v":0.55000000000000004},{"$f":"IF(Sconti!$D$10=\"a\",55%,IF(Sconti!$D$10=\"b\",55%,IF(Sconti!$D$10=\"c\",55%)))","v":0.55000000000000004},{"$f":"IF(Sconti!$D$10=\"a\",55%,IF(Sconti!$D$10=\"b\",55%,IF(Sconti!$D$10=\"c\",55%)))","v":0.55000000000000004},{"$f":"IF(Sconti!$D$10=\"a\",55%,IF(Sconti!$D$10=\"b\",55%,IF(Sconti!$D$10=\"c\",55%)))","v":0.55000000000000004},{"$f":"IF(Sconti!$D$10=\"a\",55%,IF(Sconti!$D$10=\"b\",55%,IF(Sconti!$D$10=\"c\",55%)))","v":0.55000000000000004},{"$f":"IF(Sconti!$D$10=\"a\",55%,IF(Sconti!$D$10=\"b\",55%,IF(Sconti!$D$10=\"c\",55%)))","v":0.55000000000000004},{"$f":"IF(Sconti!$D$10=\"a\",55%,IF(Sconti!$D$10=\"b\",55%,IF(Sconti!$D$10=\"c\",55%)))","v":0.55000000000000004},{"$f":"IF(Sconti!$D$10=\"a\",55%,IF(Sconti!$D$10=\"b\",55%,IF(Sconti!$D$10=\"c\",55%)))","v":0.55000000000000004},{"$f":"IF(Sconti!$D$10=\"a\",55%,IF(Sconti!$D$10=\"b\",55%,IF(Sconti!$D$10=\"c\",55%)))","v":0.55000000000000004},{"$f":"IF(Sconti!$D$10=\"a\",55%,IF(Sconti!$D$10=\"b\",55%,IF(Sconti!$D$10=\"c\",55%)))","v":0.55000000000000004},null,"10 kg",45.8,169.1,200.45,290.14999999999998,216.05,222.2,231.65,286.55,208.7,254.15,226.95,361.6,380.5]
[null,"11 kg",{"$f":"IF(Sconti!$D$10=\"a\",55%,IF(Sconti!$D$10=\"b\",55%,IF(Sconti!$D$10=\"c\",55%)))","v":0.55000000000000004},{"$f":"IF(Sconti!$D$10=\"a\",55%,IF(Sconti!$D$10=\"b\",55%,IF(Sconti!$D$10=\"c\",55%)))","v":0.55000000000000004},{"$f":"IF(Sconti!$D$10=\"a\",55%,IF(Sconti!$D$10=\"b\",55%,IF(Sconti!$D$10=\"c\",55%)))","v":0.55000000000000004},{"$f":"IF(Sconti!$D$10=\"a\",55%,IF(Sconti!$D$10=\"b\",55%,IF(Sconti!$D$10=\"c\",55%)))","v":0.55000000000000004},{"$f":"IF(Sconti!$D$10=\"a\",55%,IF(Sconti!$D$10=\"b\",55%,IF(Sconti!$D$10=\"c\",55%)))","v":0.55000000000000004},{"$f":"IF(Sconti!$D$10=\"a\",55%,IF(Sconti!$D$10=\"b\",55%,IF(Sconti!$D$10=\"c\",55%)))","v":0.55000000000000004},{"$f":"IF(Sconti!$D$10=\"a\",55%,IF(Sconti!$D$10=\"b\",55%,IF(Sconti!$D$10=\"c\",55%)))","v":0.55000000000000004},{"$f":"IF(Sconti!$D$10=\"a\",55%,IF(Sconti!$D$10=\"b\",55%,IF(Sconti!$D$10=\"c\",55%)))","v":0.55000000000000004},{"$f":"IF(Sconti!$D$10=\"a\",55%,IF(Sconti!$D$10=\"b\",55%,IF(Sconti!$D$10=\"c\",55%)))","v":0.55000000000000004},{"$f":"IF(Sconti!$D$10=\"a\",55%,IF(Sconti!$D$10=\"b\",55%,IF(Sconti!$D$10=\"c\",55%)))","v":0.55000000000000004},{"$f":"IF(Sconti!$D$10=\"a\",55%,IF(Sconti!$D$10=\"b\",55%,IF(Sconti!$D$10=\"c\",55%)))","v":0.55000000000000004},{"$f":"IF(Sconti!$D$10=\"a\",55%,IF(Sconti!$D$10=\"b\",55%,IF(Sconti!$D$10=\"c\",55%)))","v":0.55000000000000004},null,"11 kg",61.65,173.8,208.25,298.8,223.6,230.4,239.45,296.25,219.7,268.39999999999998,239.65,381.05,406.6]
[null,"12 kg",{"$f":"IF(Sconti!$D$10=\"a\",55%,IF(Sconti!$D$10=\"b\",55%,IF(Sconti!$D$10=\"c\",55%)))","v":0.55000000000000004},{"$f":"IF(Sconti!$D$10=\"a\",55%,IF(Sconti!$D$10=\"b\",55%,IF(Sconti!$D$10=\"c\",55%)))","v":0.55000000000000004},{"$f":"IF(Sconti!$D$10=\"a\",55%,IF(Sconti!$D$10=\"b\",55%,IF(Sconti!$D$10=\"c\",55%)))","v":0.55000000000000004},{"$f":"IF(Sconti!$D$10=\"a\",55%,IF(Sconti!$D$10=\"b\",55%,IF(Sconti!$D$10=\"c\",55%)))","v":0.55000000000000004},{"$f":"IF(Sconti!$D$10=\"a\",55%,IF(Sconti!$D$10=\"b\",55%,IF(Sconti!$D$10=\"c\",55%)))","v":0.55000000000000004},{"$f":"IF(Sconti!$D$10=\"a\",55%,IF(Sconti!$D$10=\"b\",55%,IF(Sconti!$D$10=\"c\",55%)))","v":0.55000000000000004},{"$f":"IF(Sconti!$D$10=\"a\",55%,IF(Sconti!$D$10=\"b\",55%,IF(Sconti!$D$10=\"c\",55%)))","v":0.55000000000000004},{"$f":"IF(Sconti!$D$10=\"a\",55%,IF(Sconti!$D$10=\"b\",55%,IF(Sconti!$D$10=\"c\",55%)))","v":0.55000000000000004},{"$f":"IF(Sconti!$D$10=\"a\",55%,IF(Sconti!$D$10=\"b\",55%,IF(Sconti!$D$10=\"c\",55%)))","v":0.55000000000000004},{"$f":"IF(Sconti!$D$10=\"a\",55%,IF(Sconti!$D$10=\"b\",55%,IF(Sconti!$D$10=\"c\",55%)))","v":0.55000000000000004},{"$f":"IF(Sconti!$D$10=\"a\",55%,IF(Sconti!$D$10=\"b\",55%,IF(Sconti!$D$10=\"c\",55%)))","v":0.55000000000000004},{"$f":"IF(Sconti!$D$10=\"a\",55%,IF(Sconti!$D$10=\"b\",55%,IF(Sconti!$D$10=\"c\",55%)))","v":0.55000000000000004},null,"12 kg",61.65,178.5,216.3,307.5,231.2,238.55,247.35,306.05,230.7,282.8,252.45,400.35,432.55]
[null,"13 kg",{"$f":"IF(Sconti!$D$10=\"a\",55%,IF(Sconti!$D$10=\"b\",55%,IF(Sconti!$D$10=\"c\",55%)))","v":0.55000000000000004},{"$f":"IF(Sconti!$D$10=\"a\",55%,IF(Sconti!$D$10=\"b\",55%,IF(Sconti!$D$10=\"c\",55%)))","v":0.55000000000000004},{"$f":"IF(Sconti!$D$10=\"a\",55%,IF(Sconti!$D$10=\"b\",55%,IF(Sconti!$D$10=\"c\",55%)))","v":0.55000000000000004},{"$f":"IF(Sconti!$D$10=\"a\",55%,IF(Sconti!$D$10=\"b\",55%,IF(Sconti!$D$10=\"c\",55%)))","v":0.55000000000000004},{"$f":"IF(Sconti!$D$10=\"a\",55%,IF(Sconti!$D$10=\"b\",55%,IF(Sconti!$D$10=\"c\",55%)))","v":0.55000000000000004},{"$f":"IF(Sconti!$D$10=\"a\",55%,IF(Sconti!$D$10=\"b\",55%,IF(Sconti!$D$10=\"c\",55%)))","v":0.55000000000000004},{"$f":"IF(Sconti!$D$10=\"a\",55%,IF(Sconti!$D$10=\"b\",55%,IF(Sconti!$D$10=\"c\",55%)))","v":0.55000000000000004},{"$f":"IF(Sconti!$D$10=\"a\",55%,IF(Sconti!$D$10=\"b\",55%,IF(Sconti!$D$10=\"c\",55%)))","v":0.55000000000000004},{"$f":"IF(Sconti!$D$10=\"a\",55%,IF(Sconti!$D$10=\"b\",55%,IF(Sconti!$D$10=\"c\",55%)))","v":0.55000000000000004},{"$f":"IF(Sconti!$D$10=\"a\",55%,IF(Sconti!$D$10=\"b\",55%,IF(Sconti!$D$10=\"c\",55%)))","v":0.55000000000000004},{"$f":"IF(Sconti!$D$10=\"a\",55%,IF(Sconti!$D$10=\"b\",55%,IF(Sconti!$D$10=\"c\",55%)))","v":0.55000000000000004},{"$f":"IF(Sconti!$D$10=\"a\",55%,IF(Sconti!$D$10=\"b\",55%,IF(Sconti!$D$10=\"c\",55%)))","v":0.55000000000000004},null,"13 kg",61.65,183.2,224.15,316.14999999999998,238.75,246.75,255.2,315.7,241.8,297.10000000000002,265.3,419.65,458.55]
[null,"14 kg",{"$f":"IF(Sconti!$D$10=\"a\",55%,IF(Sconti!$D$10=\"b\",55%,IF(Sconti!$D$10=\"c\",55%)))","v":0.55000000000000004},{"$f":"IF(Sconti!$D$10=\"a\",55%,IF(Sconti!$D$10=\"b\",55%,IF(Sconti!$D$10=\"c\",55%)))","v":0.55000000000000004},{"$f":"IF(Sconti!$D$10=\"a\",55%,IF(Sconti!$D$10=\"b\",55%,IF(Sconti!$D$10=\"c\",55%)))","v":0.55000000000000004},{"$f":"IF(Sconti!$D$10=\"a\",55%,IF(Sconti!$D$10=\"b\",55%,IF(Sconti!$D$10=\"c\",55%)))","v":0.55000000000000004},{"$f":"IF(Sconti!$D$10=\"a\",55%,IF(Sconti!$D$10=\"b\",55%,IF(Sconti!$D$10=\"c\",55%)))","v":0.55000000000000004},{"$f":"IF(Sconti!$D$10=\"a\",55%,IF(Sconti!$D$10=\"b\",55%,IF(Sconti!$D$10=\"c\",55%)))","v":0.55000000000000004},{"$f":"IF(Sconti!$D$10=\"a\",55%,IF(Sconti!$D$10=\"b\",55%,IF(Sconti!$D$10=\"c\",55%)))","v":0.55000000000000004},{"$f":"IF(Sconti!$D$10=\"a\",55%,IF(Sconti!$D$10=\"b\",55%,IF(Sconti!$D$10=\"c\",55%)))","v":0.55000000000000004},{"$f":"IF(Sconti!$D$10=\"a\",55%,IF(Sconti!$D$10=\"b\",55%,IF(Sconti!$D$10=\"c\",55%)))","v":0.55000000000000004},{"$f":"IF(Sconti!$D$10=\"a\",55%,IF(Sconti!$D$10=\"b\",55%,IF(Sconti!$D$10=\"c\",55%)))","v":0.55000000000000004},{"$f":"IF(Sconti!$D$10=\"a\",55%,IF(Sconti!$D$10=\"b\",55%,IF(Sconti!$D$10=\"c\",55%)))","v":0.55000000000000004},{"$f":"IF(Sconti!$D$10=\"a\",55%,IF(Sconti!$D$10=\"b\",55%,IF(Sconti!$D$10=\"c\",55%)))","v":0.55000000000000004},null,"14 kg",61.65,187.85,232,324.8,246.45,254.9,263,325.45,252.85,311.5,278,439.1,484.6]
[null,"15 kg",{"$f":"IF(Sconti!$D$10=\"a\",55%,IF(Sconti!$D$10=\"b\",55%,IF(Sconti!$D$10=\"c\",55%)))","v":0.55000000000000004},{"$f":"IF(Sconti!$D$10=\"a\",55%,IF(Sconti!$D$10=\"b\",55%,IF(Sconti!$D$10=\"c\",55%)))","v":0.55000000000000004},{"$f":"IF(Sconti!$D$10=\"a\",55%,IF(Sconti!$D$10=\"b\",55%,IF(Sconti!$D$10=\"c\",55%)))","v":0.55000000000000004},{"$f":"IF(Sconti!$D$10=\"a\",55%,IF(Sconti!$D$10=\"b\",55%,IF(Sconti!$D$10=\"c\",55%)))","v":0.55000000000000004},{"$f":"IF(Sconti!$D$10=\"a\",55%,IF(Sconti!$D$10=\"b\",55%,IF(Sconti!$D$10=\"c\",55%)))","v":0.55000000000000004},{"$f":"IF(Sconti!$D$10=\"a\",55%,IF(Sconti!$D$10=\"b\",55%,IF(Sconti!$D$10=\"c\",55%)))","v":0.55000000000000004},{"$f":"IF(Sconti!$D$10=\"a\",55%,IF(Sconti!$D$10=\"b\",55%,IF(Sconti!$D$10=\"c\",55%)))","v":0.55000000000000004},{"$f":"IF(Sconti!$D$10=\"a\",55%,IF(Sconti!$D$10=\"b\",55%,IF(Sconti!$D$10=\"c\",55%)))","v":0.55000000000000004},{"$f":"IF(Sconti!$D$10=\"a\",55%,IF(Sconti!$D$10=\"b\",55%,IF(Sconti!$D$10=\"c\",55%)))","v":0.55000000000000004},{"$f":"IF(Sconti!$D$10=\"a\",55%,IF(Sconti!$D$10=\"b\",55%,IF(Sconti!$D$10=\"c\",55%)))","v":0.55000000000000004},{"$f":"IF(Sconti!$D$10=\"a\",55%,IF(Sconti!$D$10=\"b\",55%,IF(Sconti!$D$10=\"c\",55%)))","v":0.55000000000000004},{"$f":"IF(Sconti!$D$10=\"a\",55%,IF(Sconti!$D$10=\"b\",55%,IF(Sconti!$D$10=\"c\",55%)))","v":0.55000000000000004},null,"15 kg",61.65,192.45,239.85,333.55,253.9,263,271,335.25,263.75,325.75,290.75,458.4,510.6]
[null,"16 kg",{"$f":"IF(Sconti!$D$10=\"a\",55%,IF(Sconti!$D$10=\"b\",55%,IF(Sconti!$D$10=\"c\",55%)))","v":0.55000000000000004},{"$f":"IF(Sconti!$D$10=\"a\",55%,IF(Sconti!$D$10=\"b\",55%,IF(Sconti!$D$10=\"c\",55%)))","v":0.55000000000000004},{"$f":"IF(Sconti!$D$10=\"a\",55%,IF(Sconti!$D$10=\"b\",55%,IF(Sconti!$D$10=\"c\",55%)))","v":0.55000000000000004},{"$f":"IF(Sconti!$D$10=\"a\",55%,IF(Sconti!$D$10=\"b\",55%,IF(Sconti!$D$10=\"c\",55%)))","v":0.55000000000000004},{"$f":"IF(Sconti!$D$10=\"a\",55%,IF(Sconti!$D$10=\"b\",55%,IF(Sconti!$D$10=\"c\",55%)))","v":0.55000000000000004},{"$f":"IF(Sconti!$D$10=\"a\",55%,IF(Sconti!$D$10=\"b\",55%,IF(Sconti!$D$10=\"c\",55%)))","v":0.55000000000000004},{"$f":"IF(Sconti!$D$10=\"a\",55%,IF(Sconti!$D$10=\"b\",55%,IF(Sconti!$D$10=\"c\",55%)))","v":0.55000000000000004},{"$f":"IF(Sconti!$D$10=\"a\",55%,IF(Sconti!$D$10=\"b\",55%,IF(Sconti!$D$10=\"c\",55%)))","v":0.55000000000000004},{"$f":"IF(Sconti!$D$10=\"a\",55%,IF(Sconti!$D$10=\"b\",55%,IF(Sconti!$D$10=\"c\",55%)))","v":0.55000000000000004},{"$f":"IF(Sconti!$D$10=\"a\",55%,IF(Sconti!$D$10=\"b\",55%,IF(Sconti!$D$10=\"c\",55%)))","v":0.55000000000000004},{"$f":"IF(Sconti!$D$10=\"a\",55%,IF(Sconti!$D$10=\"b\",55%,IF(Sconti!$D$10=\"c\",55%)))","v":0.55000000000000004},{"$f":"IF(Sconti!$D$10=\"a\",55%,IF(Sconti!$D$10=\"b\",55%,IF(Sconti!$D$10=\"c\",55%)))","v":0.55000000000000004},null,"16 kg",61.65,197.2,247.7,342.1,260.64999999999998,269.75,278.75,344.95,274.8,340.15,303.64999999999998,475.45,536.65]
[null,"17 kg",{"$f":"IF(Sconti!$D$10=\"a\",55%,IF(Sconti!$D$10=\"b\",55%,IF(Sconti!$D$10=\"c\",55%)))","v":0.55000000000000004},{"$f":"IF(Sconti!$D$10=\"a\",55%,IF(Sconti!$D$10=\"b\",55%,IF(Sconti!$D$10=\"c\",55%)))","v":0.55000000000000004},{"$f":"IF(Sconti!$D$10=\"a\",55%,IF(Sconti!$D$10=\"b\",55%,IF(Sconti!$D$10=\"c\",55%)))","v":0.55000000000000004},{"$f":"IF(Sconti!$D$10=\"a\",55%,IF(Sconti!$D$10=\"b\",55%,IF(Sconti!$D$10=\"c\",55%)))","v":0.55000000000000004},{"$f":"IF(Sconti!$D$10=\"a\",55%,IF(Sconti!$D$10=\"b\",55%,IF(Sconti!$D$10=\"c\",55%)))","v":0.55000000000000004},{"$f":"IF(Sconti!$D$10=\"a\",55%,IF(Sconti!$D$10=\"b\",55%,IF(Sconti!$D$10=\"c\",55%)))","v":0.55000000000000004},{"$f":"IF(Sconti!$D$10=\"a\",55%,IF(Sconti!$D$10=\"b\",55%,IF(Sconti!$D$10=\"c\",55%)))","v":0.55000000000000004},{"$f":"IF(Sconti!$D$10=\"a\",55%,IF(Sconti!$D$10=\"b\",55%,IF(Sconti!$D$10=\"c\",55%)))","v":0.55000000000000004},{"$f":"IF(Sconti!$D$10=\"a\",55%,IF(Sconti!$D$10=\"b\",55%,IF(Sconti!$D$10=\"c\",55%)))","v":0.55000000000000004},{"$f":"IF(Sconti!$D$10=\"a\",55%,IF(Sconti!$D$10=\"b\",55%,IF(Sconti!$D$10=\"c\",55%)))","v":0.55000000000000004},{"$f":"IF(Sconti!$D$10=\"a\",55%,IF(Sconti!$D$10=\"b\",55%,IF(Sconti!$D$10=\"c\",55%)))","v":0.55000000000000004},{"$f":"IF(Sconti!$D$10=\"a\",55%,IF(Sconti!$D$10=\"b\",55%,IF(Sconti!$D$10=\"c\",55%)))","v":0.55000000000000004},null,"17 kg",61.65,201.85,255.65,350.75,267.3,276.45,286.64999999999998,354.6,285.89999999999998,354.45,316.45,492.4,562.70000000000005]
[null,"18 kg",{"$f":"IF(Sconti!$D$10=\"a\",55%,IF(Sconti!$D$10=\"b\",55%,IF(Sconti!$D$10=\"c\",55%)))","v":0.55000000000000004},{"$f":"IF(Sconti!$D$10=\"a\",55%,IF(Sconti!$D$10=\"b\",55%,IF(Sconti!$D$10=\"c\",55%)))","v":0.55000000000000004},{"$f":"IF(Sconti!$D$10=\"a\",55%,IF(Sconti!$D$10=\"b\",55%,IF(Sconti!$D$10=\"c\",55%)))","v":0.55000000000000004},{"$f":"IF(Sconti!$D$10=\"a\",55%,IF(Sconti!$D$10=\"b\",55%,IF(Sconti!$D$10=\"c\",55%)))","v":0.55000000000000004},{"$f":"IF(Sconti!$D$10=\"a\",55%,IF(Sconti!$D$10=\"b\",55%,IF(Sconti!$D$10=\"c\",55%)))","v":0.55000000000000004},{"$f":"IF(Sconti!$D$10=\"a\",55%,IF(Sconti!$D$10=\"b\",55%,IF(Sconti!$D$10=\"c\",55%)))","v":0.55000000000000004},{"$f":"IF(Sconti!$D$10=\"a\",55%,IF(Sconti!$D$10=\"b\",55%,IF(Sconti!$D$10=\"c\",55%)))","v":0.55000000000000004},{"$f":"IF(Sconti!$D$10=\"a\",55%,IF(Sconti!$D$10=\"b\",55%,IF(Sconti!$D$10=\"c\",55%)))","v":0.55000000000000004},{"$f":"IF(Sconti!$D$10=\"a\",55%,IF(Sconti!$D$10=\"b\",55%,IF(Sconti!$D$10=\"c\",55%)))","v":0.55000000000000004},{"$f":"IF(Sconti!$D$10=\"a\",55%,IF(Sconti!$D$10=\"b\",55%,IF(Sconti!$D$10=\"c\",55%)))","v":0.55000000000000004},{"$f":"IF(Sconti!$D$10=\"a\",55%,IF(Sconti!$D$10=\"b\",55%,IF(Sconti!$D$10=\"c\",55%)))","v":0.55000000000000004},{"$f":"IF(Sconti!$D$10=\"a\",55%,IF(Sconti!$D$10=\"b\",55%,IF(Sconti!$D$10=\"c\",55%)))","v":0.55000000000000004},null,"18 kg",61.65,206.6,263.60000000000002,359.45,273.89999999999998,283.25,294.39999999999998,364.35,296.85000000000002,368.85,329.3,509.5,588.70000000000005]
[null,"19 kg",{"$f":"IF(Sconti!$D$10=\"a\",55%,IF(Sconti!$D$10=\"b\",55%,IF(Sconti!$D$10=\"c\",55%)))","v":0.55000000000000004},{"$f":"IF(Sconti!$D$10=\"a\",55%,IF(Sconti!$D$10=\"b\",55%,IF(Sconti!$D$10=\"c\",55%)))","v":0.55000000000000004},{"$f":"IF(Sconti!$D$10=\"a\",55%,IF(Sconti!$D$10=\"b\",55%,IF(Sconti!$D$10=\"c\",55%)))","v":0.55000000000000004},{"$f":"IF(Sconti!$D$10=\"a\",55%,IF(Sconti!$D$10=\"b\",55%,IF(Sconti!$D$10=\"c\",55%)))","v":0.55000000000000004},{"$f":"IF(Sconti!$D$10=\"a\",55%,IF(Sconti!$D$10=\"b\",55%,IF(Sconti!$D$10=\"c\",55%)))","v":0.55000000000000004},{"$f":"IF(Sconti!$D$10=\"a\",55%,IF(Sconti!$D$10=\"b\",55%,IF(Sconti!$D$10=\"c\",55%)))","v":0.55000000000000004},{"$f":"IF(Sconti!$D$10=\"a\",55%,IF(Sconti!$D$10=\"b\",55%,IF(Sconti!$D$10=\"c\",55%)))","v":0.55000000000000004},{"$f":"IF(Sconti!$D$10=\"a\",55%,IF(Sconti!$D$10=\"b\",55%,IF(Sconti!$D$10=\"c\",55%)))","v":0.55000000000000004},{"$f":"IF(Sconti!$D$10=\"a\",55%,IF(Sconti!$D$10=\"b\",55%,IF(Sconti!$D$10=\"c\",55%)))","v":0.55000000000000004},{"$f":"IF(Sconti!$D$10=\"a\",55%,IF(Sconti!$D$10=\"b\",55%,IF(Sconti!$D$10=\"c\",55%)))","v":0.55000000000000004},{"$f":"IF(Sconti!$D$10=\"a\",55%,IF(Sconti!$D$10=\"b\",55%,IF(Sconti!$D$10=\"c\",55%)))","v":0.55000000000000004},{"$f":"IF(Sconti!$D$10=\"a\",55%,IF(Sconti!$D$10=\"b\",55%,IF(Sconti!$D$10=\"c\",55%)))","v":0.55000000000000004},null,"19 kg",61.65,211.15,271.45,368.1,280.64999999999998,290,302.39999999999998,374.2,307.89999999999998,383.2,342.05,526.5,614.70000000000005]
[null,"20 kg",{"$f":"IF(Sconti!$D$10=\"a\",55%,IF(Sconti!$D$10=\"b\",55%,IF(Sconti!$D$10=\"c\",55%)))","v":0.55000000000000004},{"$f":"IF(Sconti!$D$10=\"a\",55%,IF(Sconti!$D$10=\"b\",55%,IF(Sconti!$D$10=\"c\",55%)))","v":0.55000000000000004},{"$f":"IF(Sconti!$D$10=\"a\",55%,IF(Sconti!$D$10=\"b\",55%,IF(Sconti!$D$10=\"c\",55%)))","v":0.55000000000000004},{"$f":"IF(Sconti!$D$10=\"a\",55%,IF(Sconti!$D$10=\"b\",55%,IF(Sconti!$D$10=\"c\",55%)))","v":0.55000000000000004},{"$f":"IF(Sconti!$D$10=\"a\",55%,IF(Sconti!$D$10=\"b\",55%,IF(Sconti!$D$10=\"c\",55%)))","v":0.55000000000000004},{"$f":"IF(Sconti!$D$10=\"a\",55%,IF(Sconti!$D$10=\"b\",55%,IF(Sconti!$D$10=\"c\",55%)))","v":0.55000000000000004},{"$f":"IF(Sconti!$D$10=\"a\",55%,IF(Sconti!$D$10=\"b\",55%,IF(Sconti!$D$10=\"c\",55%)))","v":0.55000000000000004},{"$f":"IF(Sconti!$D$10=\"a\",55%,IF(Sconti!$D$10=\"b\",55%,IF(Sconti!$D$10=\"c\",55%)))","v":0.55000000000000004},{"$f":"IF(Sconti!$D$10=\"a\",55%,IF(Sconti!$D$10=\"b\",55%,IF(Sconti!$D$10=\"c\",55%)))","v":0.55000000000000004},{"$f":"IF(Sconti!$D$10=\"a\",55%,IF(Sconti!$D$10=\"b\",55%,IF(Sconti!$D$10=\"c\",55%)))","v":0.55000000000000004},{"$f":"IF(Sconti!$D$10=\"a\",55%,IF(Sconti!$D$10=\"b\",55%,IF(Sconti!$D$10=\"c\",55%)))","v":0.55000000000000004},{"$f":"IF(Sconti!$D$10=\"a\",55%,IF(Sconti!$D$10=\"b\",55%,IF(Sconti!$D$10=\"c\",55%)))","v":0.55000000000000004},null,"20 kg",61.65,215.95,279.35000000000002,376.75,287.3,296.7,310.2,383.9,318.85000000000002,397.55,354.8,543.54999999999995,640.79999999999995]
[null,"22 kg",{"$f":"IF(Sconti!$D$10=\"a\",55%,IF(Sconti!$D$10=\"b\",55%,IF(Sconti!$D$10=\"c\",55%)))","v":0.55000000000000004},{"$f":"IF(Sconti!$D$10=\"a\",55%,IF(Sconti!$D$10=\"b\",55%,IF(Sconti!$D$10=\"c\",55%)))","v":0.55000000000000004},{"$f":"IF(Sconti!$D$10=\"a\",55%,IF(Sconti!$D$10=\"b\",55%,IF(Sconti!$D$10=\"c\",55%)))","v":0.55000000000000004},{"$f":"IF(Sconti!$D$10=\"a\",55%,IF(Sconti!$D$10=\"b\",55%,IF(Sconti!$D$10=\"c\",55%)))","v":0.55000000000000004},{"$f":"IF(Sconti!$D$10=\"a\",55%,IF(Sconti!$D$10=\"b\",55%,IF(Sconti!$D$10=\"c\",55%)))","v":0.55000000000000004},{"$f":"IF(Sconti!$D$10=\"a\",55%,IF(Sconti!$D$10=\"b\",55%,IF(Sconti!$D$10=\"c\",55%)))","v":0.55000000000000004},{"$f":"IF(Sconti!$D$10=\"a\",55%,IF(Sconti!$D$10=\"b\",55%,IF(Sconti!$D$10=\"c\",55%)))","v":0.55000000000000004},{"$f":"IF(Sconti!$D$10=\"a\",55%,IF(Sconti!$D$10=\"b\",55%,IF(Sconti!$D$10=\"c\",55%)))","v":0.55000000000000004},{"$f":"IF(Sconti!$D$10=\"a\",55%,IF(Sconti!$D$10=\"b\",55%,IF(Sconti!$D$10=\"c\",55%)))","v":0.55000000000000004},{"$f":"IF(Sconti!$D$10=\"a\",55%,IF(Sconti!$D$10=\"b\",55%,IF(Sconti!$D$10=\"c\",55%)))","v":0.55000000000000004},{"$f":"IF(Sconti!$D$10=\"a\",55%,IF(Sconti!$D$10=\"b\",55%,IF(Sconti!$D$10=\"c\",55%)))","v":0.55000000000000004},{"$f":"IF(Sconti!$D$10=\"a\",55%,IF(Sconti!$D$10=\"b\",55%,IF(Sconti!$D$10=\"c\",55%)))","v":0.55000000000000004},null,"22 kg",78.05,226,296.5,391.9,301.64999999999998,311.3,325.55,405.35,345.65,428.25,382.15,578.45000000000005,699.1]
[null,"24 kg",{"$f":"IF(Sconti!$D$10=\"a\",55%,IF(Sconti!$D$10=\"b\",55%,IF(Sconti!$D$10=\"c\",55%)))","v":0.55000000000000004},{"$f":"IF(Sconti!$D$10=\"a\",55%,IF(Sconti!$D$10=\"b\",55%,IF(Sconti!$D$10=\"c\",55%)))","v":0.55000000000000004},{"$f":"IF(Sconti!$D$10=\"a\",55%,IF(Sconti!$D$10=\"b\",55%,IF(Sconti!$D$10=\"c\",55%)))","v":0.55000000000000004},{"$f":"IF(Sconti!$D$10=\"a\",55%,IF(Sconti!$D$10=\"b\",55%,IF(Sconti!$D$10=\"c\",55%)))","v":0.55000000000000004},{"$f":"IF(Sconti!$D$10=\"a\",55%,IF(Sconti!$D$10=\"b\",55%,IF(Sconti!$D$10=\"c\",55%)))","v":0.55000000000000004},{"$f":"IF(Sconti!$D$10=\"a\",55%,IF(Sconti!$D$10=\"b\",55%,IF(Sconti!$D$10=\"c\",55%)))","v":0.55000000000000004},{"$f":"IF(Sconti!$D$10=\"a\",55%,IF(Sconti!$D$10=\"b\",55%,IF(Sconti!$D$10=\"c\",55%)))","v":0.55000000000000004},{"$f":"IF(Sconti!$D$10=\"a\",55%,IF(Sconti!$D$10=\"b\",55%,IF(Sconti!$D$10=\"c\",55%)))","v":0.55000000000000004},{"$f":"IF(Sconti!$D$10=\"a\",55%,IF(Sconti!$D$10=\"b\",55%,IF(Sconti!$D$10=\"c\",55%)))","v":0.55000000000000004},{"$f":"IF(Sconti!$D$10=\"a\",55%,IF(Sconti!$D$10=\"b\",55%,IF(Sconti!$D$10=\"c\",55%)))","v":0.55000000000000004},{"$f":"IF(Sconti!$D$10=\"a\",55%,IF(Sconti!$D$10=\"b\",55%,IF(Sconti!$D$10=\"c\",55%)))","v":0.55000000000000004},{"$f":"IF(Sconti!$D$10=\"a\",55%,IF(Sconti!$D$10=\"b\",55%,IF(Sconti!$D$10=\"c\",55%)))","v":0.55000000000000004},null,"24 kg",78.05,235,312.2,405.25,314.64999999999998,324.60000000000002,339.3,424.8,370.9,456.85,407.75,610.85,754.35]
[null,"26 kg",{"$f":"IF(Sconti!$D$10=\"a\",55%,IF(Sconti!$D$10=\"b\",55%,IF(Sconti!$D$10=\"c\",55%)))","v":0.55000000000000004},{"$f":"IF(Sconti!$D$10=\"a\",55%,IF(Sconti!$D$10=\"b\",55%,IF(Sconti!$D$10=\"c\",55%)))","v":0.55000000000000004},{"$f":"IF(Sconti!$D$10=\"a\",55%,IF(Sconti!$D$10=\"b\",55%,IF(Sconti!$D$10=\"c\",55%)))","v":0.55000000000000004},{"$f":"IF(Sconti!$D$10=\"a\",55%,IF(Sconti!$D$10=\"b\",55%,IF(Sconti!$D$10=\"c\",55%)))","v":0.55000000000000004},{"$f":"IF(Sconti!$D$10=\"a\",55%,IF(Sconti!$D$10=\"b\",55%,IF(Sconti!$D$10=\"c\",55%)))","v":0.55000000000000004},{"$f":"IF(Sconti!$D$10=\"a\",55%,IF(Sconti!$D$10=\"b\",55%,IF(Sconti!$D$10=\"c\",55%)))","v":0.55000000000000004},{"$f":"IF(Sconti!$D$10=\"a\",55%,IF(Sconti!$D$10=\"b\",55%,IF(Sconti!$D$10=\"c\",55%)))","v":0.55000000000000004},{"$f":"IF(Sconti!$D$10=\"a\",55%,IF(Sconti!$D$10=\"b\",55%,IF(Sconti!$D$10=\"c\",55%)))","v":0.55000000000000004},{"$f":"IF(Sconti!$D$10=\"a\",55%,IF(Sconti!$D$10=\"b\",55%,IF(Sconti!$D$10=\"c\",55%)))","v":0.55000000000000004},{"$f":"IF(Sconti!$D$10=\"a\",55%,IF(Sconti!$D$10=\"b\",55%,IF(Sconti!$D$10=\"c\",55%)))","v":0.55000000000000004},{"$f":"IF(Sconti!$D$10=\"a\",55%,IF(Sconti!$D$10=\"b\",55%,IF(Sconti!$D$10=\"c\",55%)))","v":0.55000000000000004},{"$f":"IF(Sconti!$D$10=\"a\",55%,IF(Sconti!$D$10=\"b\",55%,IF(Sconti!$D$10=\"c\",55%)))","v":0.55000000000000004},null,"26 kg",78.05,244.05,328.15,418.4,327.64999999999998,337.85,353.15,444.45,396.05,485.6,433.35,643.04999999999995,809.6]
[null,"28 kg",{"$f":"IF(Sconti!$D$10=\"a\",55%,IF(Sconti!$D$10=\"b\",55%,IF(Sconti!$D$10=\"c\",55%)))","v":0.55000000000000004},{"$f":"IF(Sconti!$D$10=\"a\",55%,IF(Sconti!$D$10=\"b\",55%,IF(Sconti!$D$10=\"c\",55%)))","v":0.55000000000000004},{"$f":"IF(Sconti!$D$10=\"a\",55%,IF(Sconti!$D$10=\"b\",55%,IF(Sconti!$D$10=\"c\",55%)))","v":0.55000000000000004},{"$f":"IF(Sconti!$D$10=\"a\",55%,IF(Sconti!$D$10=\"b\",55%,IF(Sconti!$D$10=\"c\",55%)))","v":0.55000000000000004},{"$f":"IF(Sconti!$D$10=\"a\",55%,IF(Sconti!$D$10=\"b\",55%,IF(Sconti!$D$10=\"c\",55%)))","v":0.55000000000000004},{"$f":"IF(Sconti!$D$10=\"a\",55%,IF(Sconti!$D$10=\"b\",55%,IF(Sconti!$D$10=\"c\",55%)))","v":0.55000000000000004},{"$f":"IF(Sconti!$D$10=\"a\",55%,IF(Sconti!$D$10=\"b\",55%,IF(Sconti!$D$10=\"c\",55%)))","v":0.55000000000000004},{"$f":"IF(Sconti!$D$10=\"a\",55%,IF(Sconti!$D$10=\"b\",55%,IF(Sconti!$D$10=\"c\",55%)))","v":0.55000000000000004},{"$f":"IF(Sconti!$D$10=\"a\",55%,IF(Sconti!$D$10=\"b\",55%,IF(Sconti!$D$10=\"c\",55%)))","v":0.55000000000000004},{"$f":"IF(Sconti!$D$10=\"a\",55%,IF(Sconti!$D$10=\"b\",55%,IF(Sconti!$D$10=\"c\",55%)))","v":0.55000000000000004},{"$f":"IF(Sconti!$D$10=\"a\",55%,IF(Sconti!$D$10=\"b\",55%,IF(Sconti!$D$10=\"c\",55%)))","v":0.55000000000000004},{"$f":"IF(Sconti!$D$10=\"a\",55%,IF(Sconti!$D$10=\"b\",55%,IF(Sconti!$D$10=\"c\",55%)))","v":0.55000000000000004},null,"28 kg",78.05,253.15,343.85,431.75,340.6,351.1,367,464,421.35,514.20000000000005,459,675.4,864.8]
[null,"30 kg",{"$f":"IF(Sconti!$D$10=\"a\",55%,IF(Sconti!$D$10=\"b\",55%,IF(Sconti!$D$10=\"c\",55%)))","v":0.55000000000000004},{"$f":"IF(Sconti!$D$10=\"a\",55%,IF(Sconti!$D$10=\"b\",55%,IF(Sconti!$D$10=\"c\",55%)))","v":0.55000000000000004},{"$f":"IF(Sconti!$D$10=\"a\",55%,IF(Sconti!$D$10=\"b\",55%,IF(Sconti!$D$10=\"c\",55%)))","v":0.55000000000000004},{"$f":"IF(Sconti!$D$10=\"a\",55%,IF(Sconti!$D$10=\"b\",55%,IF(Sconti!$D$10=\"c\",55%)))","v":0.55000000000000004},{"$f":"IF(Sconti!$D$10=\"a\",55%,IF(Sconti!$D$10=\"b\",55%,IF(Sconti!$D$10=\"c\",55%)))","v":0.55000000000000004},{"$f":"IF(Sconti!$D$10=\"a\",55%,IF(Sconti!$D$10=\"b\",55%,IF(Sconti!$D$10=\"c\",55%)))","v":0.55000000000000004},{"$f":"IF(Sconti!$D$10=\"a\",55%,IF(Sconti!$D$10=\"b\",55%,IF(Sconti!$D$10=\"c\",55%)))","v":0.55000000000000004},{"$f":"IF(Sconti!$D$10=\"a\",55%,IF(Sconti!$D$10=\"b\",55%,IF(Sconti!$D$10=\"c\",55%)))","v":0.55000000000000004},{"$f":"IF(Sconti!$D$10=\"a\",55%,IF(Sconti!$D$10=\"b\",55%,IF(Sconti!$D$10=\"c\",55%)))","v":0.55000000000000004},{"$f":"IF(Sconti!$D$10=\"a\",55%,IF(Sconti!$D$10=\"b\",55%,IF(Sconti!$D$10=\"c\",55%)))","v":0.55000000000000004},{"$f":"IF(Sconti!$D$10=\"a\",55%,IF(Sconti!$D$10=\"b\",55%,IF(Sconti!$D$10=\"c\",55%)))","v":0.55000000000000004},{"$f":"IF(Sconti!$D$10=\"a\",55%,IF(Sconti!$D$10=\"b\",55%,IF(Sconti!$D$10=\"c\",55%)))","v":0.55000000000000004},null,"30 kg",78.05,262.2,359.75,445.05,353.75,364.35,380.85,483.6,446.65,543,484.65,707.75,920.05]
[null,"35 kg",{"$f":"IF(Sconti!$D$10=\"a\",55%,IF(Sconti!$D$10=\"b\",55%,IF(Sconti!$D$10=\"c\",55%)))","v":0.55000000000000004},{"$f":"IF(Sconti!$D$10=\"a\",55%,IF(Sconti!$D$10=\"b\",55%,IF(Sconti!$D$10=\"c\",55%)))","v":0.55000000000000004},{"$f":"IF(Sconti!$D$10=\"a\",55%,IF(Sconti!$D$10=\"b\",55%,IF(Sconti!$D$10=\"c\",55%)))","v":0.55000000000000004},{"$f":"IF(Sconti!$D$10=\"a\",55%,IF(Sconti!$D$10=\"b\",55%,IF(Sconti!$D$10=\"c\",55%)))","v":0.55000000000000004},{"$f":"IF(Sconti!$D$10=\"a\",55%,IF(Sconti!$D$10=\"b\",55%,IF(Sconti!$D$10=\"c\",55%)))","v":0.55000000000000004},{"$f":"IF(Sconti!$D$10=\"a\",55%,IF(Sconti!$D$10=\"b\",55%,IF(Sconti!$D$10=\"c\",55%)))","v":0.55000000000000004},{"$f":"IF(Sconti!$D$10=\"a\",55%,IF(Sconti!$D$10=\"b\",55%,IF(Sconti!$D$10=\"c\",55%)))","v":0.55000000000000004},{"$f":"IF(Sconti!$D$10=\"a\",55%,IF(Sconti!$D$10=\"b\",55%,IF(Sconti!$D$10=\"c\",55%)))","v":0.55000000000000004},{"$f":"IF(Sconti!$D$10=\"a\",55%,IF(Sconti!$D$10=\"b\",55%,IF(Sconti!$D$10=\"c\",55%)))","v":0.55000000000000004},{"$f":"IF(Sconti!$D$10=\"a\",55%,IF(Sconti!$D$10=\"b\",55%,IF(Sconti!$D$10=\"c\",55%)))","v":0.55000000000000004},{"$f":"IF(Sconti!$D$10=\"a\",55%,IF(Sconti!$D$10=\"b\",55%,IF(Sconti!$D$10=\"c\",55%)))","v":0.55000000000000004},{"$f":"IF(Sconti!$D$10=\"a\",55%,IF(Sconti!$D$10=\"b\",55%,IF(Sconti!$D$10=\"c\",55%)))","v":0.55000000000000004},null,"35 kg",94.05,280.39999999999998,394.7,475.9,383.05,394.55,412.45,536.6,509.75,614.85,548.6,789.2,1056.1500000000001]
[null,"40 kg",{"$f":"IF(Sconti!$D$10=\"a\",55%,IF(Sconti!$D$10=\"b\",55%,IF(Sconti!$D$10=\"c\",55%)))","v":0.55000000000000004},{"$f":"IF(Sconti!$D$10=\"a\",55%,IF(Sconti!$D$10=\"b\",55%,IF(Sconti!$D$10=\"c\",55%)))","v":0.55000000000000004},{"$f":"IF(Sconti!$D$10=\"a\",55%,IF(Sconti!$D$10=\"b\",55%,IF(Sconti!$D$10=\"c\",55%)))","v":0.55000000000000004},{"$f":"IF(Sconti!$D$10=\"a\",55%,IF(Sconti!$D$10=\"b\",55%,IF(Sconti!$D$10=\"c\",55%)))","v":0.55000000000000004},{"$f":"IF(Sconti!$D$10=\"a\",55%,IF(Sconti!$D$10=\"b\",55%,IF(Sconti!$D$10=\"c\",55%)))","v":0.55000000000000004},{"$f":"IF(Sconti!$D$10=\"a\",55%,IF(Sconti!$D$10=\"b\",55%,IF(Sconti!$D$10=\"c\",55%)))","v":0.55000000000000004},{"$f":"IF(Sconti!$D$10=\"a\",55%,IF(Sconti!$D$10=\"b\",55%,IF(Sconti!$D$10=\"c\",55%)))","v":0.55000000000000004},{"$f":"IF(Sconti!$D$10=\"a\",55%,IF(Sconti!$D$10=\"b\",55%,IF(Sconti!$D$10=\"c\",55%)))","v":0.55000000000000004},{"$f":"IF(Sconti!$D$10=\"a\",55%,IF(Sconti!$D$10=\"b\",55%,IF(Sconti!$D$10=\"c\",55%)))","v":0.55000000000000004},{"$f":"IF(Sconti!$D$10=\"a\",55%,IF(Sconti!$D$10=\"b\",55%,IF(Sconti!$D$10=\"c\",55%)))","v":0.55000000000000004},{"$f":"IF(Sconti!$D$10=\"a\",55%,IF(Sconti!$D$10=\"b\",55%,IF(Sconti!$D$10=\"c\",55%)))","v":0.55000000000000004},{"$f":"IF(Sconti!$D$10=\"a\",55%,IF(Sconti!$D$10=\"b\",55%,IF(Sconti!$D$10=\"c\",55%)))","v":0.55000000000000004},null,"40 kg",94.05,298.7,429.85,506.7,412.3,424.75,444.25,589.70000000000005,573.15,686.6,612.54999999999995,870.35,1192.3]
[null,"45 kg",{"$f":"IF(Sconti!$D$10=\"a\",55%,IF(Sconti!$D$10=\"b\",55%,IF(Sconti!$D$10=\"c\",55%)))","v":0.55000000000000004},{"$f":"IF(Sconti!$D$10=\"a\",55%,IF(Sconti!$D$10=\"b\",55%,IF(Sconti!$D$10=\"c\",55%)))","v":0.55000000000000004},{"$f":"IF(Sconti!$D$10=\"a\",55%,IF(Sconti!$D$10=\"b\",55%,IF(Sconti!$D$10=\"c\",55%)))","v":0.55000000000000004},{"$f":"IF(Sconti!$D$10=\"a\",55%,IF(Sconti!$D$10=\"b\",55%,IF(Sconti!$D$10=\"c\",55%)))","v":0.55000000000000004},{"$f":"IF(Sconti!$D$10=\"a\",55%,IF(Sconti!$D$10=\"b\",55%,IF(Sconti!$D$10=\"c\",55%)))","v":0.55000000000000004},{"$f":"IF(Sconti!$D$10=\"a\",55%,IF(Sconti!$D$10=\"b\",55%,IF(Sconti!$D$10=\"c\",55%)))","v":0.55000000000000004},{"$f":"IF(Sconti!$D$10=\"a\",55%,IF(Sconti!$D$10=\"b\",55%,IF(Sconti!$D$10=\"c\",55%)))","v":0.55000000000000004},{"$f":"IF(Sconti!$D$10=\"a\",55%,IF(Sconti!$D$10=\"b\",55%,IF(Sconti!$D$10=\"c\",55%)))","v":0.55000000000000004},{"$f":"IF(Sconti!$D$10=\"a\",55%,IF(Sconti!$D$10=\"b\",55%,IF(Sconti!$D$10=\"c\",55%)))","v":0.55000000000000004},{"$f":"IF(Sconti!$D$10=\"a\",55%,IF(Sconti!$D$10=\"b\",55%,IF(Sconti!$D$10=\"c\",55%)))","v":0.55000000000000004},{"$f":"IF(Sconti!$D$10=\"a\",55%,IF(Sconti!$D$10=\"b\",55%,IF(Sconti!$D$10=\"c\",55%)))","v":0.55000000000000004},{"$f":"IF(Sconti!$D$10=\"a\",55%,IF(Sconti!$D$10=\"b\",55%,IF(Sconti!$D$10=\"c\",55%)))","v":0.55000000000000004},null,"45 kg",110.05,317.10000000000002,464.9,537.54999999999995,441.6,455.05,475.95,642.79999999999995,636.4,758.4,677.15,951.6,1328.45]
[null,"50 kg",{"$f":"IF(Sconti!$D$10=\"a\",55%,IF(Sconti!$D$10=\"b\",55%,IF(Sconti!$D$10=\"c\",55%)))","v":0.55000000000000004},{"$f":"IF(Sconti!$D$10=\"a\",55%,IF(Sconti!$D$10=\"b\",55%,IF(Sconti!$D$10=\"c\",55%)))","v":0.55000000000000004},{"$f":"IF(Sconti!$D$10=\"a\",55%,IF(Sconti!$D$10=\"b\",55%,IF(Sconti!$D$10=\"c\",55%)))","v":0.55000000000000004},{"$f":"IF(Sconti!$D$10=\"a\",55%,IF(Sconti!$D$10=\"b\",55%,IF(Sconti!$D$10=\"c\",55%)))","v":0.55000000000000004},{"$f":"IF(Sconti!$D$10=\"a\",55%,IF(Sconti!$D$10=\"b\",55%,IF(Sconti!$D$10=\"c\",55%)))","v":0.55000000000000004},{"$f":"IF(Sconti!$D$10=\"a\",55%,IF(Sconti!$D$10=\"b\",55%,IF(Sconti!$D$10=\"c\",55%)))","v":0.55000000000000004},{"$f":"IF(Sconti!$D$10=\"a\",55%,IF(Sconti!$D$10=\"b\",55%,IF(Sconti!$D$10=\"c\",55%)))","v":0.55000000000000004},{"$f":"IF(Sconti!$D$10=\"a\",55%,IF(Sconti!$D$10=\"b\",55%,IF(Sconti!$D$10=\"c\",55%)))","v":0.55000000000000004},{"$f":"IF(Sconti!$D$10=\"a\",55%,IF(Sconti!$D$10=\"b\",55%,IF(Sconti!$D$10=\"c\",55%)))","v":0.55000000000000004},{"$f":"IF(Sconti!$D$10=\"a\",55%,IF(Sconti!$D$10=\"b\",55%,IF(Sconti!$D$10=\"c\",55%)))","v":0.55000000000000004},{"$f":"IF(Sconti!$D$10=\"a\",55%,IF(Sconti!$D$10=\"b\",55%,IF(Sconti!$D$10=\"c\",55%)))","v":0.55000000000000004},{"$f":"IF(Sconti!$D$10=\"a\",55%,IF(Sconti!$D$10=\"b\",55%,IF(Sconti!$D$10=\"c\",55%)))","v":0.55000000000000004},null,"50 kg",110.05,335.4,500,568.4,471.1,485.25,507.75,696.1,696.05,830.3,741.1,1032.9000000000001,1464.7]
[null,"55 kg",{"$f":"IF(Sconti!$D$10=\"a\",55%,IF(Sconti!$D$10=\"b\",55%,IF(Sconti!$D$10=\"c\",55%)))","v":0.55000000000000004},{"$f":"IF(Sconti!$D$10=\"a\",55%,IF(Sconti!$D$10=\"b\",55%,IF(Sconti!$D$10=\"c\",55%)))","v":0.55000000000000004},{"$f":"IF(Sconti!$D$10=\"a\",55%,IF(Sconti!$D$10=\"b\",55%,IF(Sconti!$D$10=\"c\",55%)))","v":0.55000000000000004},{"$f":"IF(Sconti!$D$10=\"a\",55%,IF(Sconti!$D$10=\"b\",55%,IF(Sconti!$D$10=\"c\",55%)))","v":0.55000000000000004},{"$f":"IF(Sconti!$D$10=\"a\",55%,IF(Sconti!$D$10=\"b\",55%,IF(Sconti!$D$10=\"c\",55%)))","v":0.55000000000000004},{"$f":"IF(Sconti!$D$10=\"a\",55%,IF(Sconti!$D$10=\"b\",55%,IF(Sconti!$D$10=\"c\",55%)))","v":0.55000000000000004},{"$f":"IF(Sconti!$D$10=\"a\",55%,IF(Sconti!$D$10=\"b\",55%,IF(Sconti!$D$10=\"c\",55%)))","v":0.55000000000000004},{"$f":"IF(Sconti!$D$10=\"a\",55%,IF(Sconti!$D$10=\"b\",55%,IF(Sconti!$D$10=\"c\",55%)))","v":0.55000000000000004},{"$f":"IF(Sconti!$D$10=\"a\",55%,IF(Sconti!$D$10=\"b\",55%,IF(Sconti!$D$10=\"c\",55%)))","v":0.55000000000000004},{"$f":"IF(Sconti!$D$10=\"a\",55%,IF(Sconti!$D$10=\"b\",55%,IF(Sconti!$D$10=\"c\",55%)))","v":0.55000000000000004},{"$f":"IF(Sconti!$D$10=\"a\",55%,IF(Sconti!$D$10=\"b\",55%,IF(Sconti!$D$10=\"c\",55%)))","v":0.55000000000000004},{"$f":"IF(Sconti!$D$10=\"a\",55%,IF(Sconti!$D$10=\"b\",55%,IF(Sconti!$D$10=\"c\",55%)))","v":0.55000000000000004},null,"55 kg",126.1,353.8,535.1,599.04999999999995,500.6,515.6,539.45000000000005,749.15,749.1,902,804.95,1114.3,1600.8]
[null,"60 kg",{"$f":"IF(Sconti!$D$10=\"a\",55%,IF(Sconti!$D$10=\"b\",55%,IF(Sconti!$D$10=\"c\",55%)))","v":0.55000000000000004},{"$f":"IF(Sconti!$D$10=\"a\",55%,IF(Sconti!$D$10=\"b\",55%,IF(Sconti!$D$10=\"c\",55%)))","v":0.55000000000000004},{"$f":"IF(Sconti!$D$10=\"a\",55%,IF(Sconti!$D$10=\"b\",55%,IF(Sconti!$D$10=\"c\",55%)))","v":0.55000000000000004},{"$f":"IF(Sconti!$D$10=\"a\",55%,IF(Sconti!$D$10=\"b\",55%,IF(Sconti!$D$10=\"c\",55%)))","v":0.55000000000000004},{"$f":"IF(Sconti!$D$10=\"a\",55%,IF(Sconti!$D$10=\"b\",55%,IF(Sconti!$D$10=\"c\",55%)))","v":0.55000000000000004},{"$f":"IF(Sconti!$D$10=\"a\",55%,IF(Sconti!$D$10=\"b\",55%,IF(Sconti!$D$10=\"c\",55%)))","v":0.55000000000000004},{"$f":"IF(Sconti!$D$10=\"a\",55%,IF(Sconti!$D$10=\"b\",55%,IF(Sconti!$D$10=\"c\",55%)))","v":0.55000000000000004},{"$f":"IF(Sconti!$D$10=\"a\",55%,IF(Sconti!$D$10=\"b\",55%,IF(Sconti!$D$10=\"c\",55%)))","v":0.55000000000000004},{"$f":"IF(Sconti!$D$10=\"a\",55%,IF(Sconti!$D$10=\"b\",55%,IF(Sconti!$D$10=\"c\",55%)))","v":0.55000000000000004},{"$f":"IF(Sconti!$D$10=\"a\",55%,IF(Sconti!$D$10=\"b\",55%,IF(Sconti!$D$10=\"c\",55%)))","v":0.55000000000000004},{"$f":"IF(Sconti!$D$10=\"a\",55%,IF(Sconti!$D$10=\"b\",55%,IF(Sconti!$D$10=\"c\",55%)))","v":0.55000000000000004},{"$f":"IF(Sconti!$D$10=\"a\",55%,IF(Sconti!$D$10=\"b\",55%,IF(Sconti!$D$10=\"c\",55%)))","v":0.55000000000000004},null,"60 kg",126.1,372.1,570.04999999999995,629.95000000000005,530.20000000000005,545.79999999999995,571.15,802.3,802.25,973.85,868.95,1195.5999999999999,1737.05]
[null,"65 kg",{"$f":"IF(Sconti!$D$10=\"a\",55%,IF(Sconti!$D$10=\"b\",55%,IF(Sconti!$D$10=\"c\",55%)))","v":0.55000000000000004},{"$f":"IF(Sconti!$D$10=\"a\",55%,IF(Sconti!$D$10=\"b\",55%,IF(Sconti!$D$10=\"c\",55%)))","v":0.55000000000000004},{"$f":"IF(Sconti!$D$10=\"a\",55%,IF(Sconti!$D$10=\"b\",55%,IF(Sconti!$D$10=\"c\",55%)))","v":0.55000000000000004},{"$f":"IF(Sconti!$D$10=\"a\",55%,IF(Sconti!$D$10=\"b\",55%,IF(Sconti!$D$10=\"c\",55%)))","v":0.55000000000000004},{"$f":"IF(Sconti!$D$10=\"a\",55%,IF(Sconti!$D$10=\"b\",55%,IF(Sconti!$D$10=\"c\",55%)))","v":0.55000000000000004},{"$f":"IF(Sconti!$D$10=\"a\",55%,IF(Sconti!$D$10=\"b\",55%,IF(Sconti!$D$10=\"c\",55%)))","v":0.55000000000000004},{"$f":"IF(Sconti!$D$10=\"a\",55%,IF(Sconti!$D$10=\"b\",55%,IF(Sconti!$D$10=\"c\",55%)))","v":0.55000000000000004},{"$f":"IF(Sconti!$D$10=\"a\",55%,IF(Sconti!$D$10=\"b\",55%,IF(Sconti!$D$10=\"c\",55%)))","v":0.55000000000000004},{"$f":"IF(Sconti!$D$10=\"a\",55%,IF(Sconti!$D$10=\"b\",55%,IF(Sconti!$D$10=\"c\",55%)))","v":0.55000000000000004},{"$f":"IF(Sconti!$D$10=\"a\",55%,IF(Sconti!$D$10=\"b\",55%,IF(Sconti!$D$10=\"c\",55%)))","v":0.55000000000000004},{"$f":"IF(Sconti!$D$10=\"a\",55%,IF(Sconti!$D$10=\"b\",55%,IF(Sconti!$D$10=\"c\",55%)))","v":0.55000000000000004},{"$f":"IF(Sconti!$D$10=\"a\",55%,IF(Sconti!$D$10=\"b\",55%,IF(Sconti!$D$10=\"c\",55%)))","v":0.55000000000000004},null,"65 kg",142.25,390.5,605.25,660.8,559.70000000000005,576.15,602.9,855.5,855.45,1045.75,932.8,1276.8,1873.3]
[null,"70 kg",{"$f":"IF(Sconti!$D$10=\"a\",55%,IF(Sconti!$D$10=\"b\",55%,IF(Sconti!$D$10=\"c\",55%)))","v":0.55000000000000004},{"$f":"IF(Sconti!$D$10=\"a\",55%,IF(Sconti!$D$10=\"b\",55%,IF(Sconti!$D$10=\"c\",55%)))","v":0.55000000000000004},{"$f":"IF(Sconti!$D$10=\"a\",55%,IF(Sconti!$D$10=\"b\",55%,IF(Sconti!$D$10=\"c\",55%)))","v":0.55000000000000004},{"$f":"IF(Sconti!$D$10=\"a\",55%,IF(Sconti!$D$10=\"b\",55%,IF(Sconti!$D$10=\"c\",55%)))","v":0.55000000000000004},{"$f":"IF(Sconti!$D$10=\"a\",55%,IF(Sconti!$D$10=\"b\",55%,IF(Sconti!$D$10=\"c\",55%)))","v":0.55000000000000004},{"$f":"IF(Sconti!$D$10=\"a\",55%,IF(Sconti!$D$10=\"b\",55%,IF(Sconti!$D$10=\"c\",55%)))","v":0.55000000000000004},{"$f":"IF(Sconti!$D$10=\"a\",55%,IF(Sconti!$D$10=\"b\",55%,IF(Sconti!$D$10=\"c\",55%)))","v":0.55000000000000004},{"$f":"IF(Sconti!$D$10=\"a\",55%,IF(Sconti!$D$10=\"b\",55%,IF(Sconti!$D$10=\"c\",55%)))","v":0.55000000000000004},{"$f":"IF(Sconti!$D$10=\"a\",55%,IF(Sconti!$D$10=\"b\",55%,IF(Sconti!$D$10=\"c\",55%)))","v":0.55000000000000004},{"$f":"IF(Sconti!$D$10=\"a\",55%,IF(Sconti!$D$10=\"b\",55%,IF(Sconti!$D$10=\"c\",55%)))","v":0.55000000000000004},{"$f":"IF(Sconti!$D$10=\"a\",55%,IF(Sconti!$D$10=\"b\",55%,IF(Sconti!$D$10=\"c\",55%)))","v":0.55000000000000004},{"$f":"IF(Sconti!$D$10=\"a\",55%,IF(Sconti!$D$10=\"b\",55%,IF(Sconti!$D$10=\"c\",55%)))","v":0.55000000000000004},null,"70 kg",142.25,408.9,640.4,691.6,589.29999999999995,606.45000000000005,634.54999999999995,908.65,908.6,1117.5,996.8,1358.15,2009.5]
[null,"Oltre 70 Kg",null,null,null,null,null,null,null,null,null,null,null,null,null,"Oltre 70 Kg"]
[null,"Prezzo al Kg",{"$f":"IF(Sconti!$D$10=\"a\",55%,IF(Sconti!$D$10=\"b\",55%,IF(Sconti!$D$10=\"c\",55%)))","v":0.55000000000000004},{"$f":"IF(Sconti!$D$10=\"a\",55%,IF(Sconti!$D$10=\"b\",55%,IF(Sconti!$D$10=\"c\",55%)))","v":0.55000000000000004},{"$f":"IF(Sconti!$D$10=\"a\",55%,IF(Sconti!$D$10=\"b\",55%,IF(Sconti!$D$10=\"c\",55%)))","v":0.55000000000000004},{"$f":"IF(Sconti!$D$10=\"a\",55%,IF(Sconti!$D$10=\"b\",55%,IF(Sconti!$D$10=\"c\",55%)))","v":0.55000000000000004},{"$f":"IF(Sconti!$D$10=\"a\",55%,IF(Sconti!$D$10=\"b\",55%,IF(Sconti!$D$10=\"c\",55%)))","v":0.55000000000000004},{"$f":"IF(Sconti!$D$10=\"a\",55%,IF(Sconti!$D$10=\"b\",55%,IF(Sconti!$D$10=\"c\",55%)))","v":0.55000000000000004},{"$f":"IF(Sconti!$D$10=\"a\",55%,IF(Sconti!$D$10=\"b\",55%,IF(Sconti!$D$10=\"c\",55%)))","v":0.55000000000000004},{"$f":"IF(Sconti!$D$10=\"a\",55%,IF(Sconti!$D$10=\"b\",55%,IF(Sconti!$D$10=\"c\",55%)))","v":0.55000000000000004},{"$f":"IF(Sconti!$D$10=\"a\",55%,IF(Sconti!$D$10=\"b\",55%,IF(Sconti!$D$10=\"c\",55%)))","v":0.55000000000000004},{"$f":"IF(Sconti!$D$10=\"a\",55%,IF(Sconti!$D$10=\"b\",55%,IF(Sconti!$D$10=\"c\",55%)))","v":0.55000000000000004},{"$f":"IF(Sconti!$D$10=\"a\",55%,IF(Sconti!$D$10=\"b\",55%,IF(Sconti!$D$10=\"c\",55%)))","v":0.55000000000000004},{"$f":"IF(Sconti!$D$10=\"a\",55%,IF(Sconti!$D$10=\"b\",55%,IF(Sconti!$D$10=\"c\",55%)))","v":0.55000000000000004},null,"Prezzo al Kg",2.0299999999999998,5.84,9.14,9.8800000000000008,8.41,8.66,9.06,12.98,12.98,15.96,14.24,19.399999999999999,28.7]
[null,"Tariffa Minima",{"$f":"IF(Sconti!$D$10=\"a\",55%,IF(Sconti!$D$10=\"b\",55%,IF(Sconti!$D$10=\"c\",55%)))","v":0.55000000000000004},{"$f":"IF(Sconti!$D$10=\"a\",55%,IF(Sconti!$D$10=\"b\",55%,IF(Sconti!$D$10=\"c\",55%)))","v":0.55000000000000004},{"$f":"IF(Sconti!$D$10=\"a\",55%,IF(Sconti!$D$10=\"b\",55%,IF(Sconti!$D$10=\"c\",55%)))","v":0.55000000000000004},{"$f":"IF(Sconti!$D$10=\"a\",55%,IF(Sconti!$D$10=\"b\",55%,IF(Sconti!$D$10=\"c\",55%)))","v":0.55000000000000004},{"$f":"IF(Sconti!$D$10=\"a\",55%,IF(Sconti!$D$10=\"b\",55%,IF(Sconti!$D$10=\"c\",55%)))","v":0.55000000000000004},{"$f":"IF(Sconti!$D$10=\"a\",55%,IF(Sconti!$D$10=\"b\",55%,IF(Sconti!$D$10=\"c\",55%)))","v":0.55000000000000004},{"$f":"IF(Sconti!$D$10=\"a\",55%,IF(Sconti!$D$10=\"b\",55%,IF(Sconti!$D$10=\"c\",55%)))","v":0.55000000000000004},{"$f":"IF(Sconti!$D$10=\"a\",55%,IF(Sconti!$D$10=\"b\",55%,IF(Sconti!$D$10=\"c\",55%)))","v":0.55000000000000004},{"$f":"IF(Sconti!$D$10=\"a\",55%,IF(Sconti!$D$10=\"b\",55%,IF(Sconti!$D$10=\"c\",55%)))","v":0.55000000000000004},{"$f":"IF(Sconti!$D$10=\"a\",55%,IF(Sconti!$D$10=\"b\",55%,IF(Sconti!$D$10=\"c\",55%)))","v":0.55000000000000004},{"$f":"IF(Sconti!$D$10=\"a\",55%,IF(Sconti!$D$10=\"b\",55%,IF(Sconti!$D$10=\"c\",55%)))","v":0.55000000000000004},{"$f":"IF(Sconti!$D$10=\"a\",55%,IF(Sconti!$D$10=\"b\",55%,IF(Sconti!$D$10=\"c\",55%)))","v":0.55000000000000004},null,"Tariffa Minima",142.25,408.9,640.4,691.6,589.29999999999995,606.45000000000005,634.54999999999995,908.65,908.6,1117.5,996.8,1358.15,2009.5]
[]
[]
[null,"Servizio UPS Standard - Inserimento percentuali di sconto",null,null,null,null,null,null,null,null,null,null,null,null,null,"Servizio UPS Standard - Tariffe di Listino"]
[]
[null,"Spedizioni Singole",null,null,null,null,null,null,null,null,null,null,null,null,null,"Spedizioni Singole"]
[null,"% Sconto","Zona","Zona","Zona","Zona","Zona","Zona","Zona",null,null,null,null,null,null,"€","Zona","Zona","Zona","Zona","Zona","Zona","Zona","Zona"]
[null,null,1,2,3,4,5,51,6,null,null,null,null,null,null,null,1,2,3,4,5,51,6,7]
[null,"Peso",null,null,null,null,null,null,null,null,null,null,null,null,null,"Peso"]
[null,"1,0 kg",null,null,{"$f":"IF(Sconti!$D$10=\"a\",65%,IF(Sconti!$D$10=\"b\",65%,IF(Sconti!$D$10=\"c\",65%)))","v":0.65},{"$f":"IF(Sconti!$D$10=\"a\",65%,IF(Sconti!$D$10=\"b\",65%,IF(Sconti!$D$10=\"c\",65%)))","v":0.65},{"$f":"IF(Sconti!$D$10=\"a\",65%,IF(Sconti!$D$10=\"b\",65%,IF(Sconti!$D$10=\"c\",65%)))","v":0.65},{"$f":"IF(Sconti!$D$10=\"a\",65%,IF(Sconti!$D$10=\"b\",65%,IF(Sconti!$D$10=\"c\",65%)))","v":0.65},{"$f":"IF(Sconti!$D$10=\"a\",55%,IF(Sconti!$D$10=\"b\",55%,IF(Sconti!$D$10=\"c\",55%)))","v":0.55000000000000004},null,null,null,null,null,null,"1,0 kg",24.8,31.85,45.15,71.3,75.95,77.849999999999994,93.45,78.05]
[null,"2,0 kg",null,null,{"$f":"IF(Sconti!$D$10=\"a\",65%,IF(Sconti!$D$10=\"b\",65%,IF(Sconti!$D$10=\"c\",65%)))","v":0.65},{"$f":"IF(Sconti!$D$10=\"a\",65%,IF(Sconti!$D$10=\"b\",65%,IF(Sconti!$D$10=\"c\",65%)))","v":0.65},{"$f":"IF(Sconti!$D$10=\"a\",65%,IF(Sconti!$D$10=\"b\",65%,IF(Sconti!$D$10=\"c\",65%)))","v":0.65},{"$f":"IF(Sconti!$D$10=\"a\",65%,IF(Sconti!$D$10=\"b\",65%,IF(Sconti!$D$10=\"c\",65%)))","v":0.65},{"$f":"IF(Sconti!$D$10=\"a\",55%,IF(Sconti!$D$10=\"b\",55%,IF(Sconti!$D$10=\"c\",55%)))","v":0.55000000000000004},null,null,null,null,null,null,"2,0 kg",24.8,33.25,47.25,75.900000000000006,88.9,95.5,100.7,100.8]
[null,"3,0 kg",null,null,{"$f":"IF(Sconti!$D$10=\"a\",65%,IF(Sconti!$D$10=\"b\",65%,IF(Sconti!$D$10=\"c\",65%)))","v":0.65},{"$f":"IF(Sconti!$D$10=\"a\",65%,IF(Sconti!$D$10=\"b\",65%,IF(Sconti!$D$10=\"c\",65%)))","v":0.65},{"$f":"IF(Sconti!$D$10=\"a\",65%,IF(Sconti!$D$10=\"b\",65%,IF(Sconti!$D$10=\"c\",65%)))","v":0.65},{"$f":"IF(Sconti!$D$10=\"a\",65%,IF(Sconti!$D$10=\"b\",65%,IF(Sconti!$D$10=\"c\",65%)))","v":0.65},{"$f":"IF(Sconti!$D$10=\"a\",55%,IF(Sconti!$D$10=\"b\",55%,IF(Sconti!$D$10=\"c\",55%)))","v":0.55000000000000004},null,null,null,null,null,null,"3,0 kg",26.6,34.950000000000003,49.15,80.8,101.55,108.8,108.1,108.75]
[null,"4,0 kg",null,null,{"$f":"IF(Sconti!$D$10=\"a\",65%,IF(Sconti!$D$10=\"b\",65%,IF(Sconti!$D$10=\"c\",65%)))","v":0.65},{"$f":"IF(Sconti!$D$10=\"a\",65%,IF(Sconti!$D$10=\"b\",65%,IF(Sconti!$D$10=\"c\",65%)))","v":0.65},{"$f":"IF(Sconti!$D$10=\"a\",65%,IF(Sconti!$D$10=\"b\",65%,IF(Sconti!$D$10=\"c\",65%)))","v":0.65},{"$f":"IF(Sconti!$D$10=\"a\",65%,IF(Sconti!$D$10=\"b\",65%,IF(Sconti!$D$10=\"c\",65%)))","v":0.65},{"$f":"IF(Sconti!$D$10=\"a\",55%,IF(Sconti!$D$10=\"b\",55%,IF(Sconti!$D$10=\"c\",55%)))","v":0.55000000000000004},null,null,null,null,null,null,"4,0 kg",26.6,34.950000000000003,51.1,85.5,114.35,117.05,113.8,114.95]
[null,"5,0 kg",null,null,{"$f":"IF(Sconti!$D$10=\"a\",65%,IF(Sconti!$D$10=\"b\",65%,IF(Sconti!$D$10=\"c\",65%)))","v":0.65},{"$f":"IF(Sconti!$D$10=\"a\",65%,IF(Sconti!$D$10=\"b\",65%,IF(Sconti!$D$10=\"c\",65%)))","v":0.65},{"$f":"IF(Sconti!$D$10=\"a\",65%,IF(Sconti!$D$10=\"b\",65%,IF(Sconti!$D$10=\"c\",65%)))","v":0.65},{"$f":"IF(Sconti!$D$10=\"a\",65%,IF(Sconti!$D$10=\"b\",65%,IF(Sconti!$D$10=\"c\",65%)))","v":0.65},{"$f":"IF(Sconti!$D$10=\"a\",55%,IF(Sconti!$D$10=\"b\",55%,IF(Sconti!$D$10=\"c\",55%)))","v":0.55000000000000004},null,null,null,null,null,null,"5,0 kg",26.6,34.950000000000003,53.05,90.1,127.2,128.30000000000001,119.45,120.25]
[null,"6,0 kg",null,null,{"$f":"IF(Sconti!$D$10=\"a\",65%,IF(Sconti!$D$10=\"b\",65%,IF(Sconti!$D$10=\"c\",65%)))","v":0.65},{"$f":"IF(Sconti!$D$10=\"a\",65%,IF(Sconti!$D$10=\"b\",65%,IF(Sconti!$D$10=\"c\",65%)))","v":0.65},{"$f":"IF(Sconti!$D$10=\"a\",65%,IF(Sconti!$D$10=\"b\",65%,IF(Sconti!$D$10=\"c\",65%)))","v":0.65},{"$f":"IF(Sconti!$D$10=\"a\",65%,IF(Sconti!$D$10=\"b\",65%,IF(Sconti!$D$10=\"c\",65%)))","v":0.65},{"$f":"IF(Sconti!$D$10=\"a\",55%,IF(Sconti!$D$10=\"b\",55%,IF(Sconti!$D$10=\"c\",55%)))","v":0.55000000000000004},null,null,null,null,null,null,"6,0 kg",28.15,38.4,55,94.85,132,134.44999999999999,125.15,127.15]
[null,"7,0 kg",null,null,{"$f":"IF(Sconti!$D$10=\"a\",65%,IF(Sconti!$D$10=\"b\",65%,IF(Sconti!$D$10=\"c\",65%)))","v":0.65},{"$f":"IF(Sconti!$D$10=\"a\",65%,IF(Sconti!$D$10=\"b\",65%,IF(Sconti!$D$10=\"c\",65%)))","v":0.65},{"$f":"IF(Sconti!$D$10=\"a\",65%,IF(Sconti!$D$10=\"b\",65%,IF(Sconti!$D$10=\"c\",65%)))","v":0.65},{"$f":"IF(Sconti!$D$10=\"a\",65%,IF(Sconti!$D$10=\"b\",65%,IF(Sconti!$D$10=\"c\",65%)))","v":0.65},{"$f":"IF(Sconti!$D$10=\"a\",55%,IF(Sconti!$D$10=\"b\",55%,IF(Sconti!$D$10=\"c\",55%)))","v":0.55000000000000004},null,null,null,null,null,null,"7,0 kg",28.15,38.4,56.85,99.65,136.80000000000001,144.44999999999999,130.85,133.5]
[null,"8,0 kg",null,null,{"$f":"IF(Sconti!$D$10=\"a\",65%,IF(Sconti!$D$10=\"b\",65%,IF(Sconti!$D$10=\"c\",65%)))","v":0.65},{"$f":"IF(Sconti!$D$10=\"a\",65%,IF(Sconti!$D$10=\"b\",65%,IF(Sconti!$D$10=\"c\",65%)))","v":0.65},{"$f":"IF(Sconti!$D$10=\"a\",65%,IF(Sconti!$D$10=\"b\",65%,IF(Sconti!$D$10=\"c\",65%)))","v":0.65},{"$f":"IF(Sconti!$D$10=\"a\",65%,IF(Sconti!$D$10=\"b\",65%,IF(Sconti!$D$10=\"c\",65%)))","v":0.65},{"$f":"IF(Sconti!$D$10=\"a\",55%,IF(Sconti!$D$10=\"b\",55%,IF(Sconti!$D$10=\"c\",55%)))","v":0.55000000000000004},null,null,null,null,null,null,"8,0 kg",28.15,38.4,58.95,104.4,141.65,150,136.5,139.4]
[null,"9,0 kg",null,null,{"$f":"IF(Sconti!$D$10=\"a\",65%,IF(Sconti!$D$10=\"b\",65%,IF(Sconti!$D$10=\"c\",65%)))","v":0.65},{"$f":"IF(Sconti!$D$10=\"a\",65%,IF(Sconti!$D$10=\"b\",65%,IF(Sconti!$D$10=\"c\",65%)))","v":0.65},{"$f":"IF(Sconti!$D$10=\"a\",65%,IF(Sconti!$D$10=\"b\",65%,IF(Sconti!$D$10=\"c\",65%)))","v":0.65},{"$f":"IF(Sconti!$D$10=\"a\",65%,IF(Sconti!$D$10=\"b\",65%,IF(Sconti!$D$10=\"c\",65%)))","v":0.65},{"$f":"IF(Sconti!$D$10=\"a\",55%,IF(Sconti!$D$10=\"b\",55%,IF(Sconti!$D$10=\"c\",55%)))","v":0.55000000000000004},null,null,null,null,null,null,"9,0 kg",28.15,38.4,60.95,109.05,146.35,155,142.30000000000001,144.6]
[null,"10 kg",null,null,{"$f":"IF(Sconti!$D$10=\"a\",65%,IF(Sconti!$D$10=\"b\",65%,IF(Sconti!$D$10=\"c\",65%)))","v":0.65},{"$f":"IF(Sconti!$D$10=\"a\",65%,IF(Sconti!$D$10=\"b\",65%,IF(Sconti!$D$10=\"c\",65%)))","v":0.65},{"$f":"IF(Sconti!$D$10=\"a\",65%,IF(Sconti!$D$10=\"b\",65%,IF(Sconti!$D$10=\"c\",65%)))","v":0.65},{"$f":"IF(Sconti!$D$10=\"a\",65%,IF(Sconti!$D$10=\"b\",65%,IF(Sconti!$D$10=\"c\",65%)))","v":0.65},{"$f":"IF(Sconti!$D$10=\"a\",55%,IF(Sconti!$D$10=\"b\",55%,IF(Sconti!$D$10=\"c\",55%)))","v":0.55000000000000004},null,null,null,null,null,null,"10 kg",28.15,38.4,62.8,113.9,151.25,160,147.9,149.35]
[null,"12 kg",null,null,{"$f":"IF(Sconti!$D$10=\"a\",65%,IF(Sconti!$D$10=\"b\",65%,IF(Sconti!$D$10=\"c\",65%)))","v":0.65},{"$f":"IF(Sconti!$D$10=\"a\",65%,IF(Sconti!$D$10=\"b\",65%,IF(Sconti!$D$10=\"c\",65%)))","v":0.65},{"$f":"IF(Sconti!$D$10=\"a\",65%,IF(Sconti!$D$10=\"b\",65%,IF(Sconti!$D$10=\"c\",65%)))","v":0.65},{"$f":"IF(Sconti!$D$10=\"a\",65%,IF(Sconti!$D$10=\"b\",65%,IF(Sconti!$D$10=\"c\",65%)))","v":0.65},{"$f":"IF(Sconti!$D$10=\"a\",55%,IF(Sconti!$D$10=\"b\",55%,IF(Sconti!$D$10=\"c\",55%)))","v":0.55000000000000004},null,null,null,null,null,null,"12 kg",31.6,45.8,74.599999999999994,130.30000000000001,163.65,172.6,155.4,155.94999999999999]
[null,"14 kg",null,null,{"$f":"IF(Sconti!$D$10=\"a\",65%,IF(Sconti!$D$10=\"b\",65%,IF(Sconti!$D$10=\"c\",65%)))","v":0.65},{"$f":"IF(Sconti!$D$10=\"a\",65%,IF(Sconti!$D$10=\"b\",65%,IF(Sconti!$D$10=\"c\",65%)))","v":0.65},{"$f":"IF(Sconti!$D$10=\"a\",65%,IF(Sconti!$D$10=\"b\",65%,IF(Sconti!$D$10=\"c\",65%)))","v":0.65},{"$f":"IF(Sconti!$D$10=\"a\",65%,IF(Sconti!$D$10=\"b\",65%,IF(Sconti!$D$10=\"c\",65%)))","v":0.65},{"$f":"IF(Sconti!$D$10=\"a\",55%,IF(Sconti!$D$10=\"b\",55%,IF(Sconti!$D$10=\"c\",55%)))","v":0.55000000000000004},null,null,null,null,null,null,"14 kg",31.6,45.8,74.599999999999994,130.30000000000001,163.65,172.6,155.4,155.94999999999999]
[null,"16 kg",null,null,{"$f":"IF(Sconti!$D$10=\"a\",65%,IF(Sconti!$D$10=\"b\",65%,IF(Sconti!$D$10=\"c\",65%)))","v":0.65},{"$f":"IF(Sconti!$D$10=\"a\",65%,IF(Sconti!$D$10=\"b\",65%,IF(Sconti!$D$10=\"c\",65%)))","v":0.65},{"$f":"IF(Sconti!$D$10=\"a\",65%,IF(Sconti!$D$10=\"b\",65%,IF(Sconti!$D$10=\"c\",65%)))","v":0.65},{"$f":"IF(Sconti!$D$10=\"a\",65%,IF(Sconti!$D$10=\"b\",65%,IF(Sconti!$D$10=\"c\",65%)))","v":0.65},{"$f":"IF(Sconti!$D$10=\"a\",55%,IF(Sconti!$D$10=\"b\",55%,IF(Sconti!$D$10=\"c\",55%)))","v":0.55000000000000004},null,null,null,null,null,null,"16 kg",31.6,45.8,80.349999999999994,143.1,176.15,185.2,162.85,187.55]
[null,"18 kg",null,null,{"$f":"IF(Sconti!$D$10=\"a\",65%,IF(Sconti!$D$10=\"b\",65%,IF(Sconti!$D$10=\"c\",65%)))","v":0.65},{"$f":"IF(Sconti!$D$10=\"a\",65%,IF(Sconti!$D$10=\"b\",65%,IF(Sconti!$D$10=\"c\",65%)))","v":0.65},{"$f":"IF(Sconti!$D$10=\"a\",65%,IF(Sconti!$D$10=\"b\",65%,IF(Sconti!$D$10=\"c\",65%)))","v":0.65},{"$f":"IF(Sconti!$D$10=\"a\",65%,IF(Sconti!$D$10=\"b\",65%,IF(Sconti!$D$10=\"c\",65%)))","v":0.65},{"$f":"IF(Sconti!$D$10=\"a\",55%,IF(Sconti!$D$10=\"b\",55%,IF(Sconti!$D$10=\"c\",55%)))","v":0.55000000000000004},null,null,null,null,null,null,"18 kg",31.6,45.8,80.349999999999994,143.1,176.15,185.2,162.85,187.55]
[null,"20 kg",null,null,{"$f":"IF(Sconti!$D$10=\"a\",65%,IF(Sconti!$D$10=\"b\",65%,IF(Sconti!$D$10=\"c\",65%)))","v":0.65},{"$f":"IF(Sconti!$D$10=\"a\",65%,IF(Sconti!$D$10=\"b\",65%,IF(Sconti!$D$10=\"c\",65%)))","v":0.65},{"$f":"IF(Sconti!$D$10=\"a\",65%,IF(Sconti!$D$10=\"b\",65%,IF(Sconti!$D$10=\"c\",65%)))","v":0.65},{"$f":"IF(Sconti!$D$10=\"a\",65%,IF(Sconti!$D$10=\"b\",65%,IF(Sconti!$D$10=\"c\",65%)))","v":0.65},{"$f":"IF(Sconti!$D$10=\"a\",55%,IF(Sconti!$D$10=\"b\",55%,IF(Sconti!$D$10=\"c\",55%)))","v":0.55000000000000004},null,null,null,null,null,null,"20 kg",31.6,45.8,80.349999999999994,143.1,176.15,185.2,162.85,187.55]
[null,"22 kg",null,null,{"$f":"IF(Sconti!$D$10=\"a\",65%,IF(Sconti!$D$10=\"b\",65%,IF(Sconti!$D$10=\"c\",65%)))","v":0.65},{"$f":"IF(Sconti!$D$10=\"a\",65%,IF(Sconti!$D$10=\"b\",65%,IF(Sconti!$D$10=\"c\",65%)))","v":0.65},{"$f":"IF(Sconti!$D$10=\"a\",65%,IF(Sconti!$D$10=\"b\",65%,IF(Sconti!$D$10=\"c\",65%)))","v":0.65},{"$f":"IF(Sconti!$D$10=\"a\",65%,IF(Sconti!$D$10=\"b\",65%,IF(Sconti!$D$10=\"c\",65%)))","v":0.65},{"$f":"IF(Sconti!$D$10=\"a\",55%,IF(Sconti!$D$10=\"b\",55%,IF(Sconti!$D$10=\"c\",55%)))","v":0.55000000000000004},null,null,null,null,null,null,"22 kg",40.65,62.45,105.25,169.3,203.5,213.1,193.6,236.05]
[null,"24 kg",null,null,{"$f":"IF(Sconti!$D$10=\"a\",65%,IF(Sconti!$D$10=\"b\",65%,IF(Sconti!$D$10=\"c\",65%)))","v":0.65},{"$f":"IF(Sconti!$D$10=\"a\",65%,IF(Sconti!$D$10=\"b\",65%,IF(Sconti!$D$10=\"c\",65%)))","v":0.65},{"$f":"IF(Sconti!$D$10=\"a\",65%,IF(Sconti!$D$10=\"b\",65%,IF(Sconti!$D$10=\"c\",65%)))","v":0.65},{"$f":"IF(Sconti!$D$10=\"a\",65%,IF(Sconti!$D$10=\"b\",65%,IF(Sconti!$D$10=\"c\",65%)))","v":0.65},{"$f":"IF(Sconti!$D$10=\"a\",55%,IF(Sconti!$D$10=\"b\",55%,IF(Sconti!$D$10=\"c\",55%)))","v":0.55000000000000004},null,null,null,null,null,null,"24 kg",40.65,62.45,105.25,169.3,203.5,213.1,193.6,236.05]
[null,"26 kg",null,null,{"$f":"IF(Sconti!$D$10=\"a\",65%,IF(Sconti!$D$10=\"b\",65%,IF(Sconti!$D$10=\"c\",65%)))","v":0.65},{"$f":"IF(Sconti!$D$10=\"a\",65%,IF(Sconti!$D$10=\"b\",65%,IF(Sconti!$D$10=\"c\",65%)))","v":0.65},{"$f":"IF(Sconti!$D$10=\"a\",65%,IF(Sconti!$D$10=\"b\",65%,IF(Sconti!$D$10=\"c\",65%)))","v":0.65},{"$f":"IF(Sconti!$D$10=\"a\",65%,IF(Sconti!$D$10=\"b\",65%,IF(Sconti!$D$10=\"c\",65%)))","v":0.65},{"$f":"IF(Sconti!$D$10=\"a\",55%,IF(Sconti!$D$10=\"b\",55%,IF(Sconti!$D$10=\"c\",55%)))","v":0.55000000000000004},null,null,null,null,null,null,"26 kg",40.65,62.45,105.25,169.3,203.5,213.1,193.6,236.05]
[null,"28 kg",null,null,{"$f":"IF(Sconti!$D$10=\"a\",65%,IF(Sconti!$D$10=\"b\",65%,IF(Sconti!$D$10=\"c\",65%)))","v":0.65},{"$f":"IF(Sconti!$D$10=\"a\",65%,IF(Sconti!$D$10=\"b\",65%,IF(Sconti!$D$10=\"c\",65%)))","v":0.65},{"$f":"IF(Sconti!$D$10=\"a\",65%,IF(Sconti!$D$10=\"b\",65%,IF(Sconti!$D$10=\"c\",65%)))","v":0.65},{"$f":"IF(Sconti!$D$10=\"a\",65%,IF(Sconti!$D$10=\"b\",65%,IF(Sconti!$D$10=\"c\",65%)))","v":0.65},{"$f":"IF(Sconti!$D$10=\"a\",55%,IF(Sconti!$D$10=\"b\",55%,IF(Sconti!$D$10=\"c\",55%)))","v":0.55000000000000004},null,null,null,null,null,null,"28 kg",40.65,62.45,105.25,169.3,203.5,213.1,193.6,236.05]
[null,"30 kg",null,null,{"$f":"IF(Sconti!$D$10=\"a\",65%,IF(Sconti!$D$10=\"b\",65%,IF(Sconti!$D$10=\"c\",65%)))","v":0.65},{"$f":"IF(Sconti!$D$10=\"a\",65%,IF(Sconti!$D$10=\"b\",65%,IF(Sconti!$D$10=\"c\",65%)))","v":0.65},{"$f":"IF(Sconti!$D$10=\"a\",65%,IF(Sconti!$D$10=\"b\",65%,IF(Sconti!$D$10=\"c\",65%)))","v":0.65},{"$f":"IF(Sconti!$D$10=\"a\",65%,IF(Sconti!$D$10=\"b\",65%,IF(Sconti!$D$10=\"c\",65%)))","v":0.65},{"$f":"IF(Sconti!$D$10=\"a\",55%,IF(Sconti!$D$10=\"b\",55%,IF(Sconti!$D$10=\"c\",55%)))","v":0.55000000000000004},null,null,null,null,null,null,"30 kg",40.65,62.45,105.25,169.3,203.5,213.1,193.6,236.05]
[null,"32 kg",null,null,{"$f":"IF(Sconti!$D$10=\"a\",65%,IF(Sconti!$D$10=\"b\",65%,IF(Sconti!$D$10=\"c\",65%)))","v":0.65},{"$f":"IF(Sconti!$D$10=\"a\",65%,IF(Sconti!$D$10=\"b\",65%,IF(Sconti!$D$10=\"c\",65%)))","v":0.65},{"$f":"IF(Sconti!$D$10=\"a\",65%,IF(Sconti!$D$10=\"b\",65%,IF(Sconti!$D$10=\"c\",65%)))","v":0.65},{"$f":"IF(Sconti!$D$10=\"a\",65%,IF(Sconti!$D$10=\"b\",65%,IF(Sconti!$D$10=\"c\",65%)))","v":0.65},{"$f":"IF(Sconti!$D$10=\"a\",55%,IF(Sconti!$D$10=\"b\",55%,IF(Sconti!$D$10=\"c\",55%)))","v":0.55000000000000004},null,null,null,null,null,null,"32 kg",49.45,79.05,124.1,191.2,230.3,240.05,223.8,338.85]
[null,"34 kg",null,null,{"$f":"IF(Sconti!$D$10=\"a\",65%,IF(Sconti!$D$10=\"b\",65%,IF(Sconti!$D$10=\"c\",65%)))","v":0.65},{"$f":"IF(Sconti!$D$10=\"a\",65%,IF(Sconti!$D$10=\"b\",65%,IF(Sconti!$D$10=\"c\",65%)))","v":0.65},{"$f":"IF(Sconti!$D$10=\"a\",65%,IF(Sconti!$D$10=\"b\",65%,IF(Sconti!$D$10=\"c\",65%)))","v":0.65},{"$f":"IF(Sconti!$D$10=\"a\",65%,IF(Sconti!$D$10=\"b\",65%,IF(Sconti!$D$10=\"c\",65%)))","v":0.65},{"$f":"IF(Sconti!$D$10=\"a\",55%,IF(Sconti!$D$10=\"b\",55%,IF(Sconti!$D$10=\"c\",55%)))","v":0.55000000000000004},null,null,null,null,null,null,"34 kg",49.45,79.05,124.1,191.2,230.3,240.05,223.8,338.85]
[null,"36 kg",null,null,{"$f":"IF(Sconti!$D$10=\"a\",65%,IF(Sconti!$D$10=\"b\",65%,IF(Sconti!$D$10=\"c\",65%)))","v":0.65},{"$f":"IF(Sconti!$D$10=\"a\",65%,IF(Sconti!$D$10=\"b\",65%,IF(Sconti!$D$10=\"c\",65%)))","v":0.65},{"$f":"IF(Sconti!$D$10=\"a\",65%,IF(Sconti!$D$10=\"b\",65%,IF(Sconti!$D$10=\"c\",65%)))","v":0.65},{"$f":"IF(Sconti!$D$10=\"a\",65%,IF(Sconti!$D$10=\"b\",65%,IF(Sconti!$D$10=\"c\",65%)))","v":0.65},{"$f":"IF(Sconti!$D$10=\"a\",55%,IF(Sconti!$D$10=\"b\",55%,IF(Sconti!$D$10=\"c\",55%)))","v":0.55000000000000004},null,null,null,null,null,null,"36 kg",49.45,79.05,124.1,191.2,230.3,240.05,223.8,338.85]
[null,"38 kg",null,null,{"$f":"IF(Sconti!$D$10=\"a\",65%,IF(Sconti!$D$10=\"b\",65%,IF(Sconti!$D$10=\"c\",65%)))","v":0.65},{"$f":"IF(Sconti!$D$10=\"a\",65%,IF(Sconti!$D$10=\"b\",65%,IF(Sconti!$D$10=\"c\",65%)))","v":0.65},{"$f":"IF(Sconti!$D$10=\"a\",65%,IF(Sconti!$D$10=\"b\",65%,IF(Sconti!$D$10=\"c\",65%)))","v":0.65},{"$f":"IF(Sconti!$D$10=\"a\",65%,IF(Sconti!$D$10=\"b\",65%,IF(Sconti!$D$10=\"c\",65%)))","v":0.65},{"$f":"IF(Sconti!$D$10=\"a\",55%,IF(Sconti!$D$10=\"b\",55%,IF(Sconti!$D$10=\"c\",55%)))","v":0.55000000000000004},null,null,null,null,null,null,"38 kg",49.45,79.05,124.1,191.2,230.3,240.05,223.8,338.85]
[null,"40 kg",null,null,{"$f":"IF(Sconti!$D$10=\"a\",65%,IF(Sconti!$D$10=\"b\",65%,IF(Sconti!$D$10=\"c\",65%)))","v":0.65},{"$f":"IF(Sconti!$D$10=\"a\",65%,IF(Sconti!$D$10=\"b\",65%,IF(Sconti!$D$10=\"c\",65%)))","v":0.65},{"$f":"IF(Sconti!$D$10=\"a\",65%,IF(Sconti!$D$10=\"b\",65%,IF(Sconti!$D$10=\"c\",65%)))","v":0.65},{"$f":"IF(Sconti!$D$10=\"a\",65%,IF(Sconti!$D$10=\"b\",65%,IF(Sconti!$D$10=\"c\",65%)))","v":0.65},{"$f":"IF(Sconti!$D$10=\"a\",55%,IF(Sconti!$D$10=\"b\",55%,IF(Sconti!$D$10=\"c\",55%)))","v":0.55000000000000004},null,null,null,null,null,null,"40 kg",49.45,79.05,124.1,191.2,230.3,240.05,223.8,338.85]
[null,"42 kg",null,null,{"$f":"IF(Sconti!$D$10=\"a\",65%,IF(Sconti!$D$10=\"b\",65%,IF(Sconti!$D$10=\"c\",65%)))","v":0.65},{"$f":"IF(Sconti!$D$10=\"a\",65%,IF(Sconti!$D$10=\"b\",65%,IF(Sconti!$D$10=\"c\",65%)))","v":0.65},{"$f":"IF(Sconti!$D$10=\"a\",65%,IF(Sconti!$D$10=\"b\",65%,IF(Sconti!$D$10=\"c\",65%)))","v":0.65},{"$f":"IF(Sconti!$D$10=\"a\",65%,IF(Sconti!$D$10=\"b\",65%,IF(Sconti!$D$10=\"c\",65%)))","v":0.65},{"$f":"IF(Sconti!$D$10=\"a\",55%,IF(Sconti!$D$10=\"b\",55%,IF(Sconti!$D$10=\"c\",55%)))","v":0.55000000000000004},null,null,null,null,null,null,"42 kg",58.2,95.5,142.65,213.2,257.2,267.2,253.85,418.25]
[null,"44 kg",null,null,{"$f":"IF(Sconti!$D$10=\"a\",65%,IF(Sconti!$D$10=\"b\",65%,IF(Sconti!$D$10=\"c\",65%)))","v":0.65},{"$f":"IF(Sconti!$D$10=\"a\",65%,IF(Sconti!$D$10=\"b\",65%,IF(Sconti!$D$10=\"c\",65%)))","v":0.65},{"$f":"IF(Sconti!$D$10=\"a\",65%,IF(Sconti!$D$10=\"b\",65%,IF(Sconti!$D$10=\"c\",65%)))","v":0.65},{"$f":"IF(Sconti!$D$10=\"a\",65%,IF(Sconti!$D$10=\"b\",65%,IF(Sconti!$D$10=\"c\",65%)))","v":0.65},{"$f":"IF(Sconti!$D$10=\"a\",55%,IF(Sconti!$D$10=\"b\",55%,IF(Sconti!$D$10=\"c\",55%)))","v":0.55000000000000004},null,null,null,null,null,null,"44 kg",58.2,95.5,142.65,213.2,257.2,267.2,253.85,418.25]
[null,"46 kg",null,null,{"$f":"IF(Sconti!$D$10=\"a\",65%,IF(Sconti!$D$10=\"b\",65%,IF(Sconti!$D$10=\"c\",65%)))","v":0.65},{"$f":"IF(Sconti!$D$10=\"a\",65%,IF(Sconti!$D$10=\"b\",65%,IF(Sconti!$D$10=\"c\",65%)))","v":0.65},{"$f":"IF(Sconti!$D$10=\"a\",65%,IF(Sconti!$D$10=\"b\",65%,IF(Sconti!$D$10=\"c\",65%)))","v":0.65},{"$f":"IF(Sconti!$D$10=\"a\",65%,IF(Sconti!$D$10=\"b\",65%,IF(Sconti!$D$10=\"c\",65%)))","v":0.65},{"$f":"IF(Sconti!$D$10=\"a\",55%,IF(Sconti!$D$10=\"b\",55%,IF(Sconti!$D$10=\"c\",55%)))","v":0.55000000000000004},null,null,null,null,null,null,"46 kg",58.2,95.5,142.65,213.2,257.2,267.2,253.85,418.25]
[null,"48 kg",null,null,{"$f":"IF(Sconti!$D$10=\"a\",65%,IF(Sconti!$D$10=\"b\",65%,IF(Sconti!$D$10=\"c\",65%)))","v":0.65},{"$f":"IF(Sconti!$D$10=\"a\",65%,IF(Sconti!$D$10=\"b\",65%,IF(Sconti!$D$10=\"c\",65%)))","v":0.65},{"$f":"IF(Sconti!$D$10=\"a\",65%,IF(Sconti!$D$10=\"b\",65%,IF(Sconti!$D$10=\"c\",65%)))","v":0.65},{"$f":"IF(Sconti!$D$10=\"a\",65%,IF(Sconti!$D$10=\"b\",65%,IF(Sconti!$D$10=\"c\",65%)))","v":0.65},{"$f":"IF(Sconti!$D$10=\"a\",55%,IF(Sconti!$D$10=\"b\",55%,IF(Sconti!$D$10=\"c\",55%)))","v":0.55000000000000004},null,null,null,null,null,null,"48 kg",58.2,95.5,142.65,213.2,257.2,267.2,253.85,418.25]
[null,"50 kg",null,null,{"$f":"IF(Sconti!$D$10=\"a\",65%,IF(Sconti!$D$10=\"b\",65%,IF(Sconti!$D$10=\"c\",65%)))","v":0.65},{"$f":"IF(Sconti!$D$10=\"a\",65%,IF(Sconti!$D$10=\"b\",65%,IF(Sconti!$D$10=\"c\",65%)))","v":0.65},{"$f":"IF(Sconti!$D$10=\"a\",65%,IF(Sconti!$D$10=\"b\",65%,IF(Sconti!$D$10=\"c\",65%)))","v":0.65},{"$f":"IF(Sconti!$D$10=\"a\",65%,IF(Sconti!$D$10=\"b\",65%,IF(Sconti!$D$10=\"c\",65%)))","v":0.65},{"$f":"IF(Sconti!$D$10=\"a\",55%,IF(Sconti!$D$10=\"b\",55%,IF(Sconti!$D$10=\"c\",55%)))","v":0.55000000000000004},null,null,null,null,null,null,"50 kg",58.2,95.5,142.65,213.2,257.2,267.2,253.85,418.25]
[null,"55 kg",null,null,{"$f":"IF(Sconti!$D$10=\"a\",65%,IF(Sconti!$D$10=\"b\",65%,IF(Sconti!$D$10=\"c\",65%)))","v":0.65},{"$f":"IF(Sconti!$D$10=\"a\",65%,IF(Sconti!$D$10=\"b\",65%,IF(Sconti!$D$10=\"c\",65%)))","v":0.65},{"$f":"IF(Sconti!$D$10=\"a\",65%,IF(Sconti!$D$10=\"b\",65%,IF(Sconti!$D$10=\"c\",65%)))","v":0.65},{"$f":"IF(Sconti!$D$10=\"a\",65%,IF(Sconti!$D$10=\"b\",65%,IF(Sconti!$D$10=\"c\",65%)))","v":0.65},{"$f":"IF(Sconti!$D$10=\"a\",55%,IF(Sconti!$D$10=\"b\",55%,IF(Sconti!$D$10=\"c\",55%)))","v":0.55000000000000004},null,null,null,null,null,null,"55 kg",79,125.95,161.44999999999999,239.1,295.7,306.64999999999998,342.55,497.2]
[null,"60 kg",null,null,{"$f":"IF(Sconti!$D$10=\"a\",65%,IF(Sconti!$D$10=\"b\",65%,IF(Sconti!$D$10=\"c\",65%)))","v":0.65},{"$f":"IF(Sconti!$D$10=\"a\",65%,IF(Sconti!$D$10=\"b\",65%,IF(Sconti!$D$10=\"c\",65%)))","v":0.65},{"$f":"IF(Sconti!$D$10=\"a\",65%,IF(Sconti!$D$10=\"b\",65%,IF(Sconti!$D$10=\"c\",65%)))","v":0.65},{"$f":"IF(Sconti!$D$10=\"a\",65%,IF(Sconti!$D$10=\"b\",65%,IF(Sconti!$D$10=\"c\",65%)))","v":0.65},{"$f":"IF(Sconti!$D$10=\"a\",55%,IF(Sconti!$D$10=\"b\",55%,IF(Sconti!$D$10=\"c\",55%)))","v":0.55000000000000004},null,null,null,null,null,null,"60 kg",79,125.95,161.44999999999999,239.1,295.7,306.64999999999998,342.55,497.2]
[null,"65 kg",null,null,{"$f":"IF(Sconti!$D$10=\"a\",65%,IF(Sconti!$D$10=\"b\",65%,IF(Sconti!$D$10=\"c\",65%)))","v":0.65},{"$f":"IF(Sconti!$D$10=\"a\",65%,IF(Sconti!$D$10=\"b\",65%,IF(Sconti!$D$10=\"c\",65%)))","v":0.65},{"$f":"IF(Sconti!$D$10=\"a\",65%,IF(Sconti!$D$10=\"b\",65%,IF(Sconti!$D$10=\"c\",65%)))","v":0.65},{"$f":"IF(Sconti!$D$10=\"a\",65%,IF(Sconti!$D$10=\"b\",65%,IF(Sconti!$D$10=\"c\",65%)))","v":0.65},{"$f":"IF(Sconti!$D$10=\"a\",55%,IF(Sconti!$D$10=\"b\",55%,IF(Sconti!$D$10=\"c\",55%)))","v":0.55000000000000004},null,null,null,null,null,null,"65 kg",79,125.95,161.44999999999999,239.1,295.7,306.64999999999998,342.55,497.2]
[null,"70 kg",null,null,{"$f":"IF(Sconti!$D$10=\"a\",65%,IF(Sconti!$D$10=\"b\",65%,IF(Sconti!$D$10=\"c\",65%)))","v":0.65},{"$f":"IF(Sconti!$D$10=\"a\",65%,IF(Sconti!$D$10=\"b\",65%,IF(Sconti!$D$10=\"c\",65%)))","v":0.65},{"$f":"IF(Sconti!$D$10=\"a\",65%,IF(Sconti!$D$10=\"b\",65%,IF(Sconti!$D$10=\"c\",65%)))","v":0.65},{"$f":"IF(Sconti!$D$10=\"a\",65%,IF(Sconti!$D$10=\"b\",65%,IF(Sconti!$D$10=\"c\",65%)))","v":0.65},{"$f":"IF(Sconti!$D$10=\"a\",55%,IF(Sconti!$D$10=\"b\",55%,IF(Sconti!$D$10=\"c\",55%)))","v":0.55000000000000004},null,null,null,null,null,null,"70 kg",79,125.95,161.44999999999999,239.1,295.7,306.64999999999998,342.55,497.2]
[null,"Spedizioni Multiple",null,null,null,null,null,null,null,null,null,null,null,null,null,"Spedizioni Multiple"]
[null,"% Sconto","Zona","Zona","Zona","Zona","Zona","Zona","Zona",null,null,null,null,null,null,"€","Zona","Zona","Zona","Zona","Zona","Zona","Zona","Zona"]
[null,null,1,2,3,4,5,51,6,null,null,null,null,null,null,null,1,2,3,4,5,51,6,7]
[null,"Peso",null,null,null,null,null,null,null,null,null,null,null,null,null,"Peso"]
[null,"5,0 kg",null,null,{"$f":"IF(Sconti!$D$10=\"a\",65%,IF(Sconti!$D$10=\"b\",65%,IF(Sconti!$D$10=\"c\",65%)))","v":0.65},{"$f":"IF(Sconti!$D$10=\"a\",65%,IF(Sconti!$D$10=\"b\",65%,IF(Sconti!$D$10=\"c\",65%)))","v":0.65},{"$f":"IF(Sconti!$D$10=\"a\",65%,IF(Sconti!$D$10=\"b\",65%,IF(Sconti!$D$10=\"c\",65%)))","v":0.65},{"$f":"IF(Sconti!$D$10=\"a\",65%,IF(Sconti!$D$10=\"b\",65%,IF(Sconti!$D$10=\"c\",65%)))","v":0.65},{"$f":"IF(Sconti!$D$10=\"a\",55%,IF(Sconti!$D$10=\"b\",55%,IF(Sconti!$D$10=\"c\",55%)))","v":0.55000000000000004},null,null,null,null,null,null,"5,0 kg",27.7,36.299999999999997,53.05,90.5,127.35,128.44999999999999,119.6,120.9]
[null,"10 kg",null,null,{"$f":"IF(Sconti!$D$10=\"a\",65%,IF(Sconti!$D$10=\"b\",65%,IF(Sconti!$D$10=\"c\",65%)))","v":0.65},{"$f":"IF(Sconti!$D$10=\"a\",65%,IF(Sconti!$D$10=\"b\",65%,IF(Sconti!$D$10=\"c\",65%)))","v":0.65},{"$f":"IF(Sconti!$D$10=\"a\",65%,IF(Sconti!$D$10=\"b\",65%,IF(Sconti!$D$10=\"c\",65%)))","v":0.65},{"$f":"IF(Sconti!$D$10=\"a\",65%,IF(Sconti!$D$10=\"b\",65%,IF(Sconti!$D$10=\"c\",65%)))","v":0.65},{"$f":"IF(Sconti!$D$10=\"a\",55%,IF(Sconti!$D$10=\"b\",55%,IF(Sconti!$D$10=\"c\",55%)))","v":0.55000000000000004},null,null,null,null,null,null,"10 kg",31.3,42.35,62.95,114.5,151.6,160.15,148.1,150.35]
[null,"15 kg",null,null,{"$f":"IF(Sconti!$D$10=\"a\",65%,IF(Sconti!$D$10=\"b\",65%,IF(Sconti!$D$10=\"c\",65%)))","v":0.65},{"$f":"IF(Sconti!$D$10=\"a\",65%,IF(Sconti!$D$10=\"b\",65%,IF(Sconti!$D$10=\"c\",65%)))","v":0.65},{"$f":"IF(Sconti!$D$10=\"a\",65%,IF(Sconti!$D$10=\"b\",65%,IF(Sconti!$D$10=\"c\",65%)))","v":0.65},{"$f":"IF(Sconti!$D$10=\"a\",65%,IF(Sconti!$D$10=\"b\",65%,IF(Sconti!$D$10=\"c\",65%)))","v":0.65},{"$f":"IF(Sconti!$D$10=\"a\",55%,IF(Sconti!$D$10=\"b\",55%,IF(Sconti!$D$10=\"c\",55%)))","v":0.55000000000000004},null,null,null,null,null,null,"15 kg",33.799999999999997,50.7,80.5,143.1,176.3,185.35,163,192.6]
[null,"20 kg",null,null,{"$f":"IF(Sconti!$D$10=\"a\",65%,IF(Sconti!$D$10=\"b\",65%,IF(Sconti!$D$10=\"c\",65%)))","v":0.65},{"$f":"IF(Sconti!$D$10=\"a\",65%,IF(Sconti!$D$10=\"b\",65%,IF(Sconti!$D$10=\"c\",65%)))","v":0.65},{"$f":"IF(Sconti!$D$10=\"a\",65%,IF(Sconti!$D$10=\"b\",65%,IF(Sconti!$D$10=\"c\",65%)))","v":0.65},{"$f":"IF(Sconti!$D$10=\"a\",65%,IF(Sconti!$D$10=\"b\",65%,IF(Sconti!$D$10=\"c\",65%)))","v":0.65},{"$f":"IF(Sconti!$D$10=\"a\",55%,IF(Sconti!$D$10=\"b\",55%,IF(Sconti!$D$10=\"c\",55%)))","v":0.55000000000000004},null,null,null,null,null,null,"20 kg",33.799999999999997,50.7,80.5,143.1,176.35,185.35,163,192.6]
[null,"25 kg",null,null,{"$f":"IF(Sconti!$D$10=\"a\",65%,IF(Sconti!$D$10=\"b\",65%,IF(Sconti!$D$10=\"c\",65%)))","v":0.65},{"$f":"IF(Sconti!$D$10=\"a\",65%,IF(Sconti!$D$10=\"b\",65%,IF(Sconti!$D$10=\"c\",65%)))","v":0.65},{"$f":"IF(Sconti!$D$10=\"a\",65%,IF(Sconti!$D$10=\"b\",65%,IF(Sconti!$D$10=\"c\",65%)))","v":0.65},{"$f":"IF(Sconti!$D$10=\"a\",65%,IF(Sconti!$D$10=\"b\",65%,IF(Sconti!$D$10=\"c\",65%)))","v":0.65},{"$f":"IF(Sconti!$D$10=\"a\",55%,IF(Sconti!$D$10=\"b\",55%,IF(Sconti!$D$10=\"c\",55%)))","v":0.55000000000000004},null,null,null,null,null,null,"25 kg",44.6,67.5,105.5,169.75,203.9,213.3,193.75,260.64999999999998]
[null,"30 kg",null,null,{"$f":"IF(Sconti!$D$10=\"a\",65%,IF(Sconti!$D$10=\"b\",65%,IF(Sconti!$D$10=\"c\",65%)))","v":0.65},{"$f":"IF(Sconti!$D$10=\"a\",65%,IF(Sconti!$D$10=\"b\",65%,IF(Sconti!$D$10=\"c\",65%)))","v":0.65},{"$f":"IF(Sconti!$D$10=\"a\",65%,IF(Sconti!$D$10=\"b\",65%,IF(Sconti!$D$10=\"c\",65%)))","v":0.65},{"$f":"IF(Sconti!$D$10=\"a\",65%,IF(Sconti!$D$10=\"b\",65%,IF(Sconti!$D$10=\"c\",65%)))","v":0.65},{"$f":"IF(Sconti!$D$10=\"a\",55%,IF(Sconti!$D$10=\"b\",55%,IF(Sconti!$D$10=\"c\",55%)))","v":0.55000000000000004},null,null,null,null,null,null,"30 kg",44.6,67.5,105.5,169.75,203.9,213.3,193.75,260.64999999999998]
[null,"40 kg",null,null,{"$f":"IF(Sconti!$D$10=\"a\",65%,IF(Sconti!$D$10=\"b\",65%,IF(Sconti!$D$10=\"c\",65%)))","v":0.65},{"$f":"IF(Sconti!$D$10=\"a\",65%,IF(Sconti!$D$10=\"b\",65%,IF(Sconti!$D$10=\"c\",65%)))","v":0.65},{"$f":"IF(Sconti!$D$10=\"a\",65%,IF(Sconti!$D$10=\"b\",65%,IF(Sconti!$D$10=\"c\",65%)))","v":0.65},{"$f":"IF(Sconti!$D$10=\"a\",65%,IF(Sconti!$D$10=\"b\",65%,IF(Sconti!$D$10=\"c\",65%)))","v":0.65},{"$f":"IF(Sconti!$D$10=\"a\",55%,IF(Sconti!$D$10=\"b\",55%,IF(Sconti!$D$10=\"c\",55%)))","v":0.55000000000000004},null,null,null,null,null,null,"40 kg",55.35,84.25,124.3,192.35,230.65,240.2,223.8,368.45]
[null,"50 kg",null,null,{"$f":"IF(Sconti!$D$10=\"a\",65%,IF(Sconti!$D$10=\"b\",65%,IF(Sconti!$D$10=\"c\",65%)))","v":0.65},{"$f":"IF(Sconti!$D$10=\"a\",65%,IF(Sconti!$D$10=\"b\",65%,IF(Sconti!$D$10=\"c\",65%)))","v":0.65},{"$f":"IF(Sconti!$D$10=\"a\",65%,IF(Sconti!$D$10=\"b\",65%,IF(Sconti!$D$10=\"c\",65%)))","v":0.65},{"$f":"IF(Sconti!$D$10=\"a\",65%,IF(Sconti!$D$10=\"b\",65%,IF(Sconti!$D$10=\"c\",65%)))","v":0.65},{"$f":"IF(Sconti!$D$10=\"a\",55%,IF(Sconti!$D$10=\"b\",55%,IF(Sconti!$D$10=\"c\",55%)))","v":0.55000000000000004},null,null,null,null,null,null,"50 kg",65.849999999999994,100.8,142.9,214.8,257.5,267.2,253.8,445.7]
[null,"60 kg",null,null,{"$f":"IF(Sconti!$D$10=\"a\",65%,IF(Sconti!$D$10=\"b\",65%,IF(Sconti!$D$10=\"c\",65%)))","v":0.65},{"$f":"IF(Sconti!$D$10=\"a\",65%,IF(Sconti!$D$10=\"b\",65%,IF(Sconti!$D$10=\"c\",65%)))","v":0.65},{"$f":"IF(Sconti!$D$10=\"a\",65%,IF(Sconti!$D$10=\"b\",65%,IF(Sconti!$D$10=\"c\",65%)))","v":0.65},{"$f":"IF(Sconti!$D$10=\"a\",65%,IF(Sconti!$D$10=\"b\",65%,IF(Sconti!$D$10=\"c\",65%)))","v":0.65},{"$f":"IF(Sconti!$D$10=\"a\",55%,IF(Sconti!$D$10=\"b\",55%,IF(Sconti!$D$10=\"c\",55%)))","v":0.55000000000000004},null,null,null,null,null,null,"60 kg",87.25,125.65,161.69999999999999,239.05,296.2,306.64999999999998,342.45,522.5]
[null,"70 kg",null,null,{"$f":"IF(Sconti!$D$10=\"a\",65%,IF(Sconti!$D$10=\"b\",65%,IF(Sconti!$D$10=\"c\",65%)))","v":0.65},{"$f":"IF(Sconti!$D$10=\"a\",65%,IF(Sconti!$D$10=\"b\",65%,IF(Sconti!$D$10=\"c\",65%)))","v":0.65},{"$f":"IF(Sconti!$D$10=\"a\",65%,IF(Sconti!$D$10=\"b\",65%,IF(Sconti!$D$10=\"c\",65%)))","v":0.65},{"$f":"IF(Sconti!$D$10=\"a\",65%,IF(Sconti!$D$10=\"b\",65%,IF(Sconti!$D$10=\"c\",65%)))","v":0.65},{"$f":"IF(Sconti!$D$10=\"a\",55%,IF(Sconti!$D$10=\"b\",55%,IF(Sconti!$D$10=\"c\",55%)))","v":0.55000000000000004},null,null,null,null,null,null,"70 kg",87.25,125.65,161.69999999999999,239.05,296.2,306.64999999999998,342.45,522.5]
[null,"80 kg",null,null,{"$f":"IF(Sconti!$D$10=\"a\",65%,IF(Sconti!$D$10=\"b\",65%,IF(Sconti!$D$10=\"c\",65%)))","v":0.65},{"$f":"IF(Sconti!$D$10=\"a\",65%,IF(Sconti!$D$10=\"b\",65%,IF(Sconti!$D$10=\"c\",65%)))","v":0.65},{"$f":"IF(Sconti!$D$10=\"a\",65%,IF(Sconti!$D$10=\"b\",65%,IF(Sconti!$D$10=\"c\",65%)))","v":0.65},{"$f":"IF(Sconti!$D$10=\"a\",65%,IF(Sconti!$D$10=\"b\",65%,IF(Sconti!$D$10=\"c\",65%)))","v":0.65},{"$f":"IF(Sconti!$D$10=\"a\",55%,IF(Sconti!$D$10=\"b\",55%,IF(Sconti!$D$10=\"c\",55%)))","v":0.55000000000000004},null,null,null,null,null,null,"80 kg",116.6,161.6,191.8,265.05,335.1,348.55,431.15,685.05]
[null,"90 kg",null,null,{"$f":"IF(Sconti!$D$10=\"a\",65%,IF(Sconti!$D$10=\"b\",65%,IF(Sconti!$D$10=\"c\",65%)))","v":0.65},{"$f":"IF(Sconti!$D$10=\"a\",65%,IF(Sconti!$D$10=\"b\",65%,IF(Sconti!$D$10=\"c\",65%)))","v":0.65},{"$f":"IF(Sconti!$D$10=\"a\",65%,IF(Sconti!$D$10=\"b\",65%,IF(Sconti!$D$10=\"c\",65%)))","v":0.65},{"$f":"IF(Sconti!$D$10=\"a\",65%,IF(Sconti!$D$10=\"b\",65%,IF(Sconti!$D$10=\"c\",65%)))","v":0.65},{"$f":"IF(Sconti!$D$10=\"a\",55%,IF(Sconti!$D$10=\"b\",55%,IF(Sconti!$D$10=\"c\",55%)))","v":0.55000000000000004},null,null,null,null,null,null,"90 kg",116.6,161.6,191.8,265.05,335.1,348.55,431.15,685.05]
[null,"100 kg",null,null,{"$f":"IF(Sconti!$D$10=\"a\",65%,IF(Sconti!$D$10=\"b\",65%,IF(Sconti!$D$10=\"c\",65%)))","v":0.65},{"$f":"IF(Sconti!$D$10=\"a\",65%,IF(Sconti!$D$10=\"b\",65%,IF(Sconti!$D$10=\"c\",65%)))","v":0.65},{"$f":"IF(Sconti!$D$10=\"a\",65%,IF(Sconti!$D$10=\"b\",65%,IF(Sconti!$D$10=\"c\",65%)))","v":0.65},{"$f":"IF(Sconti!$D$10=\"a\",65%,IF(Sconti!$D$10=\"b\",65%,IF(Sconti!$D$10=\"c\",65%)))","v":0.65},{"$f":"IF(Sconti!$D$10=\"a\",55%,IF(Sconti!$D$10=\"b\",55%,IF(Sconti!$D$10=\"c\",55%)))","v":0.55000000000000004},null,null,null,null,null,null,"100 kg",116.6,161.6,191.8,265.05,335.1,348.5,431.15,685.05]
[null,"120 kg",null,null,{"$f":"IF(Sconti!$D$10=\"a\",65%,IF(Sconti!$D$10=\"b\",65%,IF(Sconti!$D$10=\"c\",65%)))","v":0.65},{"$f":"IF(Sconti!$D$10=\"a\",65%,IF(Sconti!$D$10=\"b\",65%,IF(Sconti!$D$10=\"c\",65%)))","v":0.65},{"$f":"IF(Sconti!$D$10=\"a\",65%,IF(Sconti!$D$10=\"b\",65%,IF(Sconti!$D$10=\"c\",65%)))","v":0.65},{"$f":"IF(Sconti!$D$10=\"a\",65%,IF(Sconti!$D$10=\"b\",65%,IF(Sconti!$D$10=\"c\",65%)))","v":0.65},{"$f":"IF(Sconti!$D$10=\"a\",55%,IF(Sconti!$D$10=\"b\",55%,IF(Sconti!$D$10=\"c\",55%)))","v":0.55000000000000004},null,null,null,null,null,null,"120 kg",139.6,237.1,239.05,319.8,401.25,417,517.20000000000005,1031]
[null,"140 kg",null,null,{"$f":"IF(Sconti!$D$10=\"a\",65%,IF(Sconti!$D$10=\"b\",65%,IF(Sconti!$D$10=\"c\",65%)))","v":0.65},{"$f":"IF(Sconti!$D$10=\"a\",65%,IF(Sconti!$D$10=\"b\",65%,IF(Sconti!$D$10=\"c\",65%)))","v":0.65},{"$f":"IF(Sconti!$D$10=\"a\",65%,IF(Sconti!$D$10=\"b\",65%,IF(Sconti!$D$10=\"c\",65%)))","v":0.65},{"$f":"IF(Sconti!$D$10=\"a\",65%,IF(Sconti!$D$10=\"b\",65%,IF(Sconti!$D$10=\"c\",65%)))","v":0.65},{"$f":"IF(Sconti!$D$10=\"a\",55%,IF(Sconti!$D$10=\"b\",55%,IF(Sconti!$D$10=\"c\",55%)))","v":0.55000000000000004},null,null,null,null,null,null,"140 kg",162.85,276.55,276.60000000000002,372,467.85,485.5,603.15,1200.8]
[null,"160 kg",null,null,{"$f":"IF(Sconti!$D$10=\"a\",65%,IF(Sconti!$D$10=\"b\",65%,IF(Sconti!$D$10=\"c\",65%)))","v":0.65},{"$f":"IF(Sconti!$D$10=\"a\",65%,IF(Sconti!$D$10=\"b\",65%,IF(Sconti!$D$10=\"c\",65%)))","v":0.65},{"$f":"IF(Sconti!$D$10=\"a\",65%,IF(Sconti!$D$10=\"b\",65%,IF(Sconti!$D$10=\"c\",65%)))","v":0.65},{"$f":"IF(Sconti!$D$10=\"a\",65%,IF(Sconti!$D$10=\"b\",65%,IF(Sconti!$D$10=\"c\",65%)))","v":0.65},{"$f":"IF(Sconti!$D$10=\"a\",55%,IF(Sconti!$D$10=\"b\",55%,IF(Sconti!$D$10=\"c\",55%)))","v":0.55000000000000004},null,null,null,null,null,null,"160 kg",186.1,316,315.05,423.5,534.4,552.79999999999995,689.1,1370.7]
[null,"180 kg",null,null,{"$f":"IF(Sconti!$D$10=\"a\",65%,IF(Sconti!$D$10=\"b\",65%,IF(Sconti!$D$10=\"c\",65%)))","v":0.65},{"$f":"IF(Sconti!$D$10=\"a\",65%,IF(Sconti!$D$10=\"b\",65%,IF(Sconti!$D$10=\"c\",65%)))","v":0.65},{"$f":"IF(Sconti!$D$10=\"a\",65%,IF(Sconti!$D$10=\"b\",65%,IF(Sconti!$D$10=\"c\",65%)))","v":0.65},{"$f":"IF(Sconti!$D$10=\"a\",65%,IF(Sconti!$D$10=\"b\",65%,IF(Sconti!$D$10=\"c\",65%)))","v":0.65},{"$f":"IF(Sconti!$D$10=\"a\",55%,IF(Sconti!$D$10=\"b\",55%,IF(Sconti!$D$10=\"c\",55%)))","v":0.55000000000000004},null,null,null,null,null,null,"180 kg",209.3,355.45,353.65,475.65,601.04999999999995,620.1,775.15,1541.35]
[null,"200 kg",null,null,{"$f":"IF(Sconti!$D$10=\"a\",65%,IF(Sconti!$D$10=\"b\",65%,IF(Sconti!$D$10=\"c\",65%)))","v":0.65},{"$f":"IF(Sconti!$D$10=\"a\",65%,IF(Sconti!$D$10=\"b\",65%,IF(Sconti!$D$10=\"c\",65%)))","v":0.65},{"$f":"IF(Sconti!$D$10=\"a\",65%,IF(Sconti!$D$10=\"b\",65%,IF(Sconti!$D$10=\"c\",65%)))","v":0.65},{"$f":"IF(Sconti!$D$10=\"a\",65%,IF(Sconti!$D$10=\"b\",65%,IF(Sconti!$D$10=\"c\",65%)))","v":0.65},{"$f":"IF(Sconti!$D$10=\"a\",55%,IF(Sconti!$D$10=\"b\",55%,IF(Sconti!$D$10=\"c\",55%)))","v":0.55000000000000004},null,null,null,null,null,null,"200 kg",232.45,394.9,392,526.75,667.65,688.6,860.95,1710.5]
[null,"Oltre 200 Kg",null,null,null,null,null,null,null,null,null,null,null,null,null,"Oltre 200 Kg"]
[null,"Prezzo al Kg",null,null,{"$f":"IF(Sconti!$D$10=\"a\",65%,IF(Sconti!$D$10=\"b\",65%,IF(Sconti!$D$10=\"c\",65%)))","v":0.65},{"$f":"IF(Sconti!$D$10=\"a\",65%,IF(Sconti!$D$10=\"b\",65%,IF(Sconti!$D$10=\"c\",65%)))","v":0.65},{"$f":"IF(Sconti!$D$10=\"a\",65%,IF(Sconti!$D$10=\"b\",65%,IF(Sconti!$D$10=\"c\",65%)))","v":0.65},{"$f":"IF(Sconti!$D$10=\"a\",65%,IF(Sconti!$D$10=\"b\",65%,IF(Sconti!$D$10=\"c\",65%)))","v":0.65},{"$f":"IF(Sconti!$D$10=\"a\",55%,IF(Sconti!$D$10=\"b\",55%,IF(Sconti!$D$10=\"c\",55%)))","v":0.55000000000000004},null,null,null,null,null,null,"Prezzo al Kg",1.1599999999999999,1.97,1.98,2.64,3.33,3.44,4.3,8.56]
[null,"Tariffa Minima",null,null,{"$f":"IF(Sconti!$D$10=\"a\",65%,IF(Sconti!$D$10=\"b\",65%,IF(Sconti!$D$10=\"c\",65%)))","v":0.65},{"$f":"IF(Sconti!$D$10=\"a\",65%,IF(Sconti!$D$10=\"b\",65%,IF(Sconti!$D$10=\"c\",65%)))","v":0.65},{"$f":"IF(Sconti!$D$10=\"a\",65%,IF(Sconti!$D$10=\"b\",65%,IF(Sconti!$D$10=\"c\",65%)))","v":0.65},{"$f":"IF(Sconti!$D$10=\"a\",65%,IF(Sconti!$D$10=\"b\",65%,IF(Sconti!$D$10=\"c\",65%)))","v":0.65},{"$f":"IF(Sconti!$D$10=\"a\",55%,IF(Sconti!$D$10=\"b\",55%,IF(Sconti!$D$10=\"c\",55%)))","v":0.55000000000000004},null,null,null,null,null,null,"Tariffa Minima",232.45,394.9,392,526.75,667.65,688.6,860.95,1710.5]
[]
[]
[null,"Servizio UPS Expedited - Inserimento percentuali di sconto",null,null,null,null,null,null,null,null,null,null,null,null,null,"Servizio UPS Expedited - Tariffe di listino"]
[]
[null,"Pacchi",null,null,null,null,null,null,null,null,null,null,null,null,null,null,"Pacchi"]
[null,"€","Zona","Zona","Zona","Zona","Zona","Zona",null,null,null,null,null,null,null,null,"€","Zona","Zona","Zona","Zona","Zona","Zona","Zona"]
[null,null,"2     ","3     ","4     ","41    ","5     ","6     ",null,null,null,null,null,null,null,null,null,1,2,3,4,41,5,6]
[null,"Peso",null,null,null,null,null,null,null,null,null,null,null,null,null,null,"Peso"]
[null,"1,0 kg",{"$f":"IF(Sconti!$D$10=\"a\",55%,IF(Sconti!$D$10=\"b\",55%,IF(Sconti!$D$10=\"c\",55%)))","v":0.55000000000000004},{"$f":"IF(Sconti!$D$10=\"a\",55%,IF(Sconti!$D$10=\"b\",55%,IF(Sconti!$D$10=\"c\",55%)))","v":0.55000000000000004},{"$f":"IF(Sconti!$D$10=\"a\",55%,IF(Sconti!$D$10=\"b\",55%,IF(Sconti!$D$10=\"c\",55%)))","v":0.55000000000000004},{"$f":"IF(Sconti!$D$10=\"a\",55%,IF(Sconti!$D$10=\"b\",55%,IF(Sconti!$D$10=\"c\",55%)))","v":0.55000000000000004},{"$f":"IF(Sconti!$D$10=\"a\",55%,IF(Sconti!$D$10=\"b\",55%,IF(Sconti!$D$10=\"c\",55%)))","v":0.55000000000000004},{"$f":"IF(Sconti!$D$10=\"a\",55%,IF(Sconti!$D$10=\"b\",55%,IF(Sconti!$D$10=\"c\",55%)))","v":0.55000000000000004},null,null,null,null,null,null,null,null,"1,0 kg",108.9,109.65,74.599999999999994,78.599999999999994,78.650000000000006,119.8,122.5]
[null,"2,0 kg",{"$f":"IF(Sconti!$D$10=\"a\",55%,IF(Sconti!$D$10=\"b\",55%,IF(Sconti!$D$10=\"c\",55%)))","v":0.55000000000000004},{"$f":"IF(Sconti!$D$10=\"a\",55%,IF(Sconti!$D$10=\"b\",55%,IF(Sconti!$D$10=\"c\",55%)))","v":0.55000000000000004},{"$f":"IF(Sconti!$D$10=\"a\",55%,IF(Sconti!$D$10=\"b\",55%,IF(Sconti!$D$10=\"c\",55%)))","v":0.55000000000000004},{"$f":"IF(Sconti!$D$10=\"a\",55%,IF(Sconti!$D$10=\"b\",55%,IF(Sconti!$D$10=\"c\",55%)))","v":0.55000000000000004},{"$f":"IF(Sconti!$D$10=\"a\",55%,IF(Sconti!$D$10=\"b\",55%,IF(Sconti!$D$10=\"c\",55%)))","v":0.55000000000000004},{"$f":"IF(Sconti!$D$10=\"a\",55%,IF(Sconti!$D$10=\"b\",55%,IF(Sconti!$D$10=\"c\",55%)))","v":0.55000000000000004},null,null,null,null,null,null,null,null,"2,0 kg",131,137.85,94.6,100.85,100.9,147.05000000000001,150.65]
[null,"3,0 kg",{"$f":"IF(Sconti!$D$10=\"a\",55%,IF(Sconti!$D$10=\"b\",55%,IF(Sconti!$D$10=\"c\",55%)))","v":0.55000000000000004},{"$f":"IF(Sconti!$D$10=\"a\",55%,IF(Sconti!$D$10=\"b\",55%,IF(Sconti!$D$10=\"c\",55%)))","v":0.55000000000000004},{"$f":"IF(Sconti!$D$10=\"a\",55%,IF(Sconti!$D$10=\"b\",55%,IF(Sconti!$D$10=\"c\",55%)))","v":0.55000000000000004},{"$f":"IF(Sconti!$D$10=\"a\",55%,IF(Sconti!$D$10=\"b\",55%,IF(Sconti!$D$10=\"c\",55%)))","v":0.55000000000000004},{"$f":"IF(Sconti!$D$10=\"a\",55%,IF(Sconti!$D$10=\"b\",55%,IF(Sconti!$D$10=\"c\",55%)))","v":0.55000000000000004},{"$f":"IF(Sconti!$D$10=\"a\",55%,IF(Sconti!$D$10=\"b\",55%,IF(Sconti!$D$10=\"c\",55%)))","v":0.55000000000000004},null,null,null,null,null,null,null,null,"3,0 kg",149.69999999999999,162.30000000000001,114.5,122,122.05,173.25,179]
[null,"4,0 kg",{"$f":"IF(Sconti!$D$10=\"a\",55%,IF(Sconti!$D$10=\"b\",55%,IF(Sconti!$D$10=\"c\",55%)))","v":0.55000000000000004},{"$f":"IF(Sconti!$D$10=\"a\",55%,IF(Sconti!$D$10=\"b\",55%,IF(Sconti!$D$10=\"c\",55%)))","v":0.55000000000000004},{"$f":"IF(Sconti!$D$10=\"a\",55%,IF(Sconti!$D$10=\"b\",55%,IF(Sconti!$D$10=\"c\",55%)))","v":0.55000000000000004},{"$f":"IF(Sconti!$D$10=\"a\",55%,IF(Sconti!$D$10=\"b\",55%,IF(Sconti!$D$10=\"c\",55%)))","v":0.55000000000000004},{"$f":"IF(Sconti!$D$10=\"a\",55%,IF(Sconti!$D$10=\"b\",55%,IF(Sconti!$D$10=\"c\",55%)))","v":0.55000000000000004},{"$f":"IF(Sconti!$D$10=\"a\",55%,IF(Sconti!$D$10=\"b\",55%,IF(Sconti!$D$10=\"c\",55%)))","v":0.55000000000000004},null,null,null,null,null,null,null,null,"4,0 kg",164.75,183.25,128.55000000000001,139.75,139.80000000000001,200.45,207.2]
[null,"5,0 kg",{"$f":"IF(Sconti!$D$10=\"a\",55%,IF(Sconti!$D$10=\"b\",55%,IF(Sconti!$D$10=\"c\",55%)))","v":0.55000000000000004},{"$f":"IF(Sconti!$D$10=\"a\",55%,IF(Sconti!$D$10=\"b\",55%,IF(Sconti!$D$10=\"c\",55%)))","v":0.55000000000000004},{"$f":"IF(Sconti!$D$10=\"a\",55%,IF(Sconti!$D$10=\"b\",55%,IF(Sconti!$D$10=\"c\",55%)))","v":0.55000000000000004},{"$f":"IF(Sconti!$D$10=\"a\",55%,IF(Sconti!$D$10=\"b\",55%,IF(Sconti!$D$10=\"c\",55%)))","v":0.55000000000000004},{"$f":"IF(Sconti!$D$10=\"a\",55%,IF(Sconti!$D$10=\"b\",55%,IF(Sconti!$D$10=\"c\",55%)))","v":0.55000000000000004},{"$f":"IF(Sconti!$D$10=\"a\",55%,IF(Sconti!$D$10=\"b\",55%,IF(Sconti!$D$10=\"c\",55%)))","v":0.55000000000000004},null,null,null,null,null,null,null,null,"5,0 kg",179.85,203.9,142.55000000000001,158.05000000000001,158.1,227.65,235.25]
[null,"6,0 kg",{"$f":"IF(Sconti!$D$10=\"a\",55%,IF(Sconti!$D$10=\"b\",55%,IF(Sconti!$D$10=\"c\",55%)))","v":0.55000000000000004},{"$f":"IF(Sconti!$D$10=\"a\",55%,IF(Sconti!$D$10=\"b\",55%,IF(Sconti!$D$10=\"c\",55%)))","v":0.55000000000000004},{"$f":"IF(Sconti!$D$10=\"a\",55%,IF(Sconti!$D$10=\"b\",55%,IF(Sconti!$D$10=\"c\",55%)))","v":0.55000000000000004},{"$f":"IF(Sconti!$D$10=\"a\",55%,IF(Sconti!$D$10=\"b\",55%,IF(Sconti!$D$10=\"c\",55%)))","v":0.55000000000000004},{"$f":"IF(Sconti!$D$10=\"a\",55%,IF(Sconti!$D$10=\"b\",55%,IF(Sconti!$D$10=\"c\",55%)))","v":0.55000000000000004},{"$f":"IF(Sconti!$D$10=\"a\",55%,IF(Sconti!$D$10=\"b\",55%,IF(Sconti!$D$10=\"c\",55%)))","v":0.55000000000000004},null,null,null,null,null,null,null,null,"6,0 kg",189.3,220.55,154.65,171.6,171.65,254.85,261.3]
[null,"7,0 kg",{"$f":"IF(Sconti!$D$10=\"a\",55%,IF(Sconti!$D$10=\"b\",55%,IF(Sconti!$D$10=\"c\",55%)))","v":0.55000000000000004},{"$f":"IF(Sconti!$D$10=\"a\",55%,IF(Sconti!$D$10=\"b\",55%,IF(Sconti!$D$10=\"c\",55%)))","v":0.55000000000000004},{"$f":"IF(Sconti!$D$10=\"a\",55%,IF(Sconti!$D$10=\"b\",55%,IF(Sconti!$D$10=\"c\",55%)))","v":0.55000000000000004},{"$f":"IF(Sconti!$D$10=\"a\",55%,IF(Sconti!$D$10=\"b\",55%,IF(Sconti!$D$10=\"c\",55%)))","v":0.55000000000000004},{"$f":"IF(Sconti!$D$10=\"a\",55%,IF(Sconti!$D$10=\"b\",55%,IF(Sconti!$D$10=\"c\",55%)))","v":0.55000000000000004},{"$f":"IF(Sconti!$D$10=\"a\",55%,IF(Sconti!$D$10=\"b\",55%,IF(Sconti!$D$10=\"c\",55%)))","v":0.55000000000000004},null,null,null,null,null,null,null,null,"7,0 kg",198.85,237.05,166.7,184.65,184.7,280.60000000000002,287.3]
[null,"8,0 kg",{"$f":"IF(Sconti!$D$10=\"a\",55%,IF(Sconti!$D$10=\"b\",55%,IF(Sconti!$D$10=\"c\",55%)))","v":0.55000000000000004},{"$f":"IF(Sconti!$D$10=\"a\",55%,IF(Sconti!$D$10=\"b\",55%,IF(Sconti!$D$10=\"c\",55%)))","v":0.55000000000000004},{"$f":"IF(Sconti!$D$10=\"a\",55%,IF(Sconti!$D$10=\"b\",55%,IF(Sconti!$D$10=\"c\",55%)))","v":0.55000000000000004},{"$f":"IF(Sconti!$D$10=\"a\",55%,IF(Sconti!$D$10=\"b\",55%,IF(Sconti!$D$10=\"c\",55%)))","v":0.55000000000000004},{"$f":"IF(Sconti!$D$10=\"a\",55%,IF(Sconti!$D$10=\"b\",55%,IF(Sconti!$D$10=\"c\",55%)))","v":0.55000000000000004},{"$f":"IF(Sconti!$D$10=\"a\",55%,IF(Sconti!$D$10=\"b\",55%,IF(Sconti!$D$10=\"c\",55%)))","v":0.55000000000000004},null,null,null,null,null,null,null,null,"8,0 kg",208.4,252.55,178.85,198.7,198.75,308.25,313.3]
[null,"9,0 kg",{"$f":"IF(Sconti!$D$10=\"a\",55%,IF(Sconti!$D$10=\"b\",55%,IF(Sconti!$D$10=\"c\",55%)))","v":0.55000000000000004},{"$f":"IF(Sconti!$D$10=\"a\",55%,IF(Sconti!$D$10=\"b\",55%,IF(Sconti!$D$10=\"c\",55%)))","v":0.55000000000000004},{"$f":"IF(Sconti!$D$10=\"a\",55%,IF(Sconti!$D$10=\"b\",55%,IF(Sconti!$D$10=\"c\",55%)))","v":0.55000000000000004},{"$f":"IF(Sconti!$D$10=\"a\",55%,IF(Sconti!$D$10=\"b\",55%,IF(Sconti!$D$10=\"c\",55%)))","v":0.55000000000000004},{"$f":"IF(Sconti!$D$10=\"a\",55%,IF(Sconti!$D$10=\"b\",55%,IF(Sconti!$D$10=\"c\",55%)))","v":0.55000000000000004},{"$f":"IF(Sconti!$D$10=\"a\",55%,IF(Sconti!$D$10=\"b\",55%,IF(Sconti!$D$10=\"c\",55%)))","v":0.55000000000000004},null,null,null,null,null,null,null,null,"9,0 kg",217.95,267.05,190.95,212.7,212.75,334.15,339.35]
[null,"10 kg",{"$f":"IF(Sconti!$D$10=\"a\",55%,IF(Sconti!$D$10=\"b\",55%,IF(Sconti!$D$10=\"c\",55%)))","v":0.55000000000000004},{"$f":"IF(Sconti!$D$10=\"a\",55%,IF(Sconti!$D$10=\"b\",55%,IF(Sconti!$D$10=\"c\",55%)))","v":0.55000000000000004},{"$f":"IF(Sconti!$D$10=\"a\",55%,IF(Sconti!$D$10=\"b\",55%,IF(Sconti!$D$10=\"c\",55%)))","v":0.55000000000000004},{"$f":"IF(Sconti!$D$10=\"a\",55%,IF(Sconti!$D$10=\"b\",55%,IF(Sconti!$D$10=\"c\",55%)))","v":0.55000000000000004},{"$f":"IF(Sconti!$D$10=\"a\",55%,IF(Sconti!$D$10=\"b\",55%,IF(Sconti!$D$10=\"c\",55%)))","v":0.55000000000000004},{"$f":"IF(Sconti!$D$10=\"a\",55%,IF(Sconti!$D$10=\"b\",55%,IF(Sconti!$D$10=\"c\",55%)))","v":0.55000000000000004},null,null,null,null,null,null,null,null,"10 kg",227.55,281.55,203,226.7,226.75,359.9,365.35]
[null,"11 kg",{"$f":"IF(Sconti!$D$10=\"a\",55%,IF(Sconti!$D$10=\"b\",55%,IF(Sconti!$D$10=\"c\",55%)))","v":0.55000000000000004},{"$f":"IF(Sconti!$D$10=\"a\",55%,IF(Sconti!$D$10=\"b\",55%,IF(Sconti!$D$10=\"c\",55%)))","v":0.55000000000000004},{"$f":"IF(Sconti!$D$10=\"a\",55%,IF(Sconti!$D$10=\"b\",55%,IF(Sconti!$D$10=\"c\",55%)))","v":0.55000000000000004},{"$f":"IF(Sconti!$D$10=\"a\",55%,IF(Sconti!$D$10=\"b\",55%,IF(Sconti!$D$10=\"c\",55%)))","v":0.55000000000000004},{"$f":"IF(Sconti!$D$10=\"a\",55%,IF(Sconti!$D$10=\"b\",55%,IF(Sconti!$D$10=\"c\",55%)))","v":0.55000000000000004},{"$f":"IF(Sconti!$D$10=\"a\",55%,IF(Sconti!$D$10=\"b\",55%,IF(Sconti!$D$10=\"c\",55%)))","v":0.55000000000000004},null,null,null,null,null,null,null,null,"11 kg",232.85,288.05,213.45,239.35,239.4,376.1,391.4]
[null,"12 kg",{"$f":"IF(Sconti!$D$10=\"a\",55%,IF(Sconti!$D$10=\"b\",55%,IF(Sconti!$D$10=\"c\",55%)))","v":0.55000000000000004},{"$f":"IF(Sconti!$D$10=\"a\",55%,IF(Sconti!$D$10=\"b\",55%,IF(Sconti!$D$10=\"c\",55%)))","v":0.55000000000000004},{"$f":"IF(Sconti!$D$10=\"a\",55%,IF(Sconti!$D$10=\"b\",55%,IF(Sconti!$D$10=\"c\",55%)))","v":0.55000000000000004},{"$f":"IF(Sconti!$D$10=\"a\",55%,IF(Sconti!$D$10=\"b\",55%,IF(Sconti!$D$10=\"c\",55%)))","v":0.55000000000000004},{"$f":"IF(Sconti!$D$10=\"a\",55%,IF(Sconti!$D$10=\"b\",55%,IF(Sconti!$D$10=\"c\",55%)))","v":0.55000000000000004},{"$f":"IF(Sconti!$D$10=\"a\",55%,IF(Sconti!$D$10=\"b\",55%,IF(Sconti!$D$10=\"c\",55%)))","v":0.55000000000000004},null,null,null,null,null,null,null,null,"12 kg",240.45,297.55,223.85,250.75,250.8,392.35,417.2]
[null,"13 kg",{"$f":"IF(Sconti!$D$10=\"a\",55%,IF(Sconti!$D$10=\"b\",55%,IF(Sconti!$D$10=\"c\",55%)))","v":0.55000000000000004},{"$f":"IF(Sconti!$D$10=\"a\",55%,IF(Sconti!$D$10=\"b\",55%,IF(Sconti!$D$10=\"c\",55%)))","v":0.55000000000000004},{"$f":"IF(Sconti!$D$10=\"a\",55%,IF(Sconti!$D$10=\"b\",55%,IF(Sconti!$D$10=\"c\",55%)))","v":0.55000000000000004},{"$f":"IF(Sconti!$D$10=\"a\",55%,IF(Sconti!$D$10=\"b\",55%,IF(Sconti!$D$10=\"c\",55%)))","v":0.55000000000000004},{"$f":"IF(Sconti!$D$10=\"a\",55%,IF(Sconti!$D$10=\"b\",55%,IF(Sconti!$D$10=\"c\",55%)))","v":0.55000000000000004},{"$f":"IF(Sconti!$D$10=\"a\",55%,IF(Sconti!$D$10=\"b\",55%,IF(Sconti!$D$10=\"c\",55%)))","v":0.55000000000000004},null,null,null,null,null,null,null,null,"13 kg",248.15,306.89999999999998,234.35,264.10000000000002,264.14999999999998,408.65,443.2]
[null,"14 kg",{"$f":"IF(Sconti!$D$10=\"a\",55%,IF(Sconti!$D$10=\"b\",55%,IF(Sconti!$D$10=\"c\",55%)))","v":0.55000000000000004},{"$f":"IF(Sconti!$D$10=\"a\",55%,IF(Sconti!$D$10=\"b\",55%,IF(Sconti!$D$10=\"c\",55%)))","v":0.55000000000000004},{"$f":"IF(Sconti!$D$10=\"a\",55%,IF(Sconti!$D$10=\"b\",55%,IF(Sconti!$D$10=\"c\",55%)))","v":0.55000000000000004},{"$f":"IF(Sconti!$D$10=\"a\",55%,IF(Sconti!$D$10=\"b\",55%,IF(Sconti!$D$10=\"c\",55%)))","v":0.55000000000000004},{"$f":"IF(Sconti!$D$10=\"a\",55%,IF(Sconti!$D$10=\"b\",55%,IF(Sconti!$D$10=\"c\",55%)))","v":0.55000000000000004},{"$f":"IF(Sconti!$D$10=\"a\",55%,IF(Sconti!$D$10=\"b\",55%,IF(Sconti!$D$10=\"c\",55%)))","v":0.55000000000000004},null,null,null,null,null,null,null,null,"14 kg",255.65,316.39999999999998,244.75,275.60000000000002,275.64999999999998,424.9,469.2]
[null,"15 kg",{"$f":"IF(Sconti!$D$10=\"a\",55%,IF(Sconti!$D$10=\"b\",55%,IF(Sconti!$D$10=\"c\",55%)))","v":0.55000000000000004},{"$f":"IF(Sconti!$D$10=\"a\",55%,IF(Sconti!$D$10=\"b\",55%,IF(Sconti!$D$10=\"c\",55%)))","v":0.55000000000000004},{"$f":"IF(Sconti!$D$10=\"a\",55%,IF(Sconti!$D$10=\"b\",55%,IF(Sconti!$D$10=\"c\",55%)))","v":0.55000000000000004},{"$f":"IF(Sconti!$D$10=\"a\",55%,IF(Sconti!$D$10=\"b\",55%,IF(Sconti!$D$10=\"c\",55%)))","v":0.55000000000000004},{"$f":"IF(Sconti!$D$10=\"a\",55%,IF(Sconti!$D$10=\"b\",55%,IF(Sconti!$D$10=\"c\",55%)))","v":0.55000000000000004},{"$f":"IF(Sconti!$D$10=\"a\",55%,IF(Sconti!$D$10=\"b\",55%,IF(Sconti!$D$10=\"c\",55%)))","v":0.55000000000000004},null,null,null,null,null,null,null,null,"15 kg",263.45,325.89999999999998,255.2,287,287.05,441.3,495.2]
[null,"16 kg",{"$f":"IF(Sconti!$D$10=\"a\",55%,IF(Sconti!$D$10=\"b\",55%,IF(Sconti!$D$10=\"c\",55%)))","v":0.55000000000000004},{"$f":"IF(Sconti!$D$10=\"a\",55%,IF(Sconti!$D$10=\"b\",55%,IF(Sconti!$D$10=\"c\",55%)))","v":0.55000000000000004},{"$f":"IF(Sconti!$D$10=\"a\",55%,IF(Sconti!$D$10=\"b\",55%,IF(Sconti!$D$10=\"c\",55%)))","v":0.55000000000000004},{"$f":"IF(Sconti!$D$10=\"a\",55%,IF(Sconti!$D$10=\"b\",55%,IF(Sconti!$D$10=\"c\",55%)))","v":0.55000000000000004},{"$f":"IF(Sconti!$D$10=\"a\",55%,IF(Sconti!$D$10=\"b\",55%,IF(Sconti!$D$10=\"c\",55%)))","v":0.55000000000000004},{"$f":"IF(Sconti!$D$10=\"a\",55%,IF(Sconti!$D$10=\"b\",55%,IF(Sconti!$D$10=\"c\",55%)))","v":0.55000000000000004},null,null,null,null,null,null,null,null,"16 kg",271,335.35,263.95,297.89999999999998,297.95,457.5,521.20000000000005]
[null,"17 kg",{"$f":"IF(Sconti!$D$10=\"a\",55%,IF(Sconti!$D$10=\"b\",55%,IF(Sconti!$D$10=\"c\",55%)))","v":0.55000000000000004},{"$f":"IF(Sconti!$D$10=\"a\",55%,IF(Sconti!$D$10=\"b\",55%,IF(Sconti!$D$10=\"c\",55%)))","v":0.55000000000000004},{"$f":"IF(Sconti!$D$10=\"a\",55%,IF(Sconti!$D$10=\"b\",55%,IF(Sconti!$D$10=\"c\",55%)))","v":0.55000000000000004},{"$f":"IF(Sconti!$D$10=\"a\",55%,IF(Sconti!$D$10=\"b\",55%,IF(Sconti!$D$10=\"c\",55%)))","v":0.55000000000000004},{"$f":"IF(Sconti!$D$10=\"a\",55%,IF(Sconti!$D$10=\"b\",55%,IF(Sconti!$D$10=\"c\",55%)))","v":0.55000000000000004},{"$f":"IF(Sconti!$D$10=\"a\",55%,IF(Sconti!$D$10=\"b\",55%,IF(Sconti!$D$10=\"c\",55%)))","v":0.55000000000000004},null,null,null,null,null,null,null,null,"17 kg",278.7,344.8,272.7,308.8,308.85000000000002,473.65,547.20000000000005]
[null,"18 kg",{"$f":"IF(Sconti!$D$10=\"a\",55%,IF(Sconti!$D$10=\"b\",55%,IF(Sconti!$D$10=\"c\",55%)))","v":0.55000000000000004},{"$f":"IF(Sconti!$D$10=\"a\",55%,IF(Sconti!$D$10=\"b\",55%,IF(Sconti!$D$10=\"c\",55%)))","v":0.55000000000000004},{"$f":"IF(Sconti!$D$10=\"a\",55%,IF(Sconti!$D$10=\"b\",55%,IF(Sconti!$D$10=\"c\",55%)))","v":0.55000000000000004},{"$f":"IF(Sconti!$D$10=\"a\",55%,IF(Sconti!$D$10=\"b\",55%,IF(Sconti!$D$10=\"c\",55%)))","v":0.55000000000000004},{"$f":"IF(Sconti!$D$10=\"a\",55%,IF(Sconti!$D$10=\"b\",55%,IF(Sconti!$D$10=\"c\",55%)))","v":0.55000000000000004},{"$f":"IF(Sconti!$D$10=\"a\",55%,IF(Sconti!$D$10=\"b\",55%,IF(Sconti!$D$10=\"c\",55%)))","v":0.55000000000000004},null,null,null,null,null,null,null,null,"18 kg",283.25,350.55,281.45,319.8,319.85000000000002,490,573.29999999999995]
[null,"19 kg",{"$f":"IF(Sconti!$D$10=\"a\",55%,IF(Sconti!$D$10=\"b\",55%,IF(Sconti!$D$10=\"c\",55%)))","v":0.55000000000000004},{"$f":"IF(Sconti!$D$10=\"a\",55%,IF(Sconti!$D$10=\"b\",55%,IF(Sconti!$D$10=\"c\",55%)))","v":0.55000000000000004},{"$f":"IF(Sconti!$D$10=\"a\",55%,IF(Sconti!$D$10=\"b\",55%,IF(Sconti!$D$10=\"c\",55%)))","v":0.55000000000000004},{"$f":"IF(Sconti!$D$10=\"a\",55%,IF(Sconti!$D$10=\"b\",55%,IF(Sconti!$D$10=\"c\",55%)))","v":0.55000000000000004},{"$f":"IF(Sconti!$D$10=\"a\",55%,IF(Sconti!$D$10=\"b\",55%,IF(Sconti!$D$10=\"c\",55%)))","v":0.55000000000000004},{"$f":"IF(Sconti!$D$10=\"a\",55%,IF(Sconti!$D$10=\"b\",55%,IF(Sconti!$D$10=\"c\",55%)))","v":0.55000000000000004},null,null,null,null,null,null,null,null,"19 kg",290.89999999999998,360,290.3,330.8,330.85,506.25,599.29999999999995]
[null,"20 kg",{"$f":"IF(Sconti!$D$10=\"a\",55%,IF(Sconti!$D$10=\"b\",55%,IF(Sconti!$D$10=\"c\",55%)))","v":0.55000000000000004},{"$f":"IF(Sconti!$D$10=\"a\",55%,IF(Sconti!$D$10=\"b\",55%,IF(Sconti!$D$10=\"c\",55%)))","v":0.55000000000000004},{"$f":"IF(Sconti!$D$10=\"a\",55%,IF(Sconti!$D$10=\"b\",55%,IF(Sconti!$D$10=\"c\",55%)))","v":0.55000000000000004},{"$f":"IF(Sconti!$D$10=\"a\",55%,IF(Sconti!$D$10=\"b\",55%,IF(Sconti!$D$10=\"c\",55%)))","v":0.55000000000000004},{"$f":"IF(Sconti!$D$10=\"a\",55%,IF(Sconti!$D$10=\"b\",55%,IF(Sconti!$D$10=\"c\",55%)))","v":0.55000000000000004},{"$f":"IF(Sconti!$D$10=\"a\",55%,IF(Sconti!$D$10=\"b\",55%,IF(Sconti!$D$10=\"c\",55%)))","v":0.55000000000000004},null,null,null,null,null,null,null,null,"20 kg",298.39999999999998,369.35,299,341.7,341.75,522.4,625.29999999999995]
[null,"21 kg",{"$f":"IF(Sconti!$D$10=\"a\",55%,IF(Sconti!$D$10=\"b\",55%,IF(Sconti!$D$10=\"c\",55%)))","v":0.55000000000000004},{"$f":"IF(Sconti!$D$10=\"a\",55%,IF(Sconti!$D$10=\"b\",55%,IF(Sconti!$D$10=\"c\",55%)))","v":0.55000000000000004},{"$f":"IF(Sconti!$D$10=\"a\",55%,IF(Sconti!$D$10=\"b\",55%,IF(Sconti!$D$10=\"c\",55%)))","v":0.55000000000000004},{"$f":"IF(Sconti!$D$10=\"a\",55%,IF(Sconti!$D$10=\"b\",55%,IF(Sconti!$D$10=\"c\",55%)))","v":0.55000000000000004},{"$f":"IF(Sconti!$D$10=\"a\",55%,IF(Sconti!$D$10=\"b\",55%,IF(Sconti!$D$10=\"c\",55%)))","v":0.55000000000000004},{"$f":"IF(Sconti!$D$10=\"a\",55%,IF(Sconti!$D$10=\"b\",55%,IF(Sconti!$D$10=\"c\",55%)))","v":0.55000000000000004},null,null,null,null,null,null,null,null,"21 kg",306.5,380.5,306.5,353.15,355.25,535.29999999999995,634.54999999999995]
[null,"22 kg",{"$f":"IF(Sconti!$D$10=\"a\",55%,IF(Sconti!$D$10=\"b\",55%,IF(Sconti!$D$10=\"c\",55%)))","v":0.55000000000000004},{"$f":"IF(Sconti!$D$10=\"a\",55%,IF(Sconti!$D$10=\"b\",55%,IF(Sconti!$D$10=\"c\",55%)))","v":0.55000000000000004},{"$f":"IF(Sconti!$D$10=\"a\",55%,IF(Sconti!$D$10=\"b\",55%,IF(Sconti!$D$10=\"c\",55%)))","v":0.55000000000000004},{"$f":"IF(Sconti!$D$10=\"a\",55%,IF(Sconti!$D$10=\"b\",55%,IF(Sconti!$D$10=\"c\",55%)))","v":0.55000000000000004},{"$f":"IF(Sconti!$D$10=\"a\",55%,IF(Sconti!$D$10=\"b\",55%,IF(Sconti!$D$10=\"c\",55%)))","v":0.55000000000000004},{"$f":"IF(Sconti!$D$10=\"a\",55%,IF(Sconti!$D$10=\"b\",55%,IF(Sconti!$D$10=\"c\",55%)))","v":0.55000000000000004},null,null,null,null,null,null,null,null,"22 kg",313.14999999999998,389.95,312.5,362.95,367.6,545.35,640.9]
[null,"23 kg",{"$f":"IF(Sconti!$D$10=\"a\",55%,IF(Sconti!$D$10=\"b\",55%,IF(Sconti!$D$10=\"c\",55%)))","v":0.55000000000000004},{"$f":"IF(Sconti!$D$10=\"a\",55%,IF(Sconti!$D$10=\"b\",55%,IF(Sconti!$D$10=\"c\",55%)))","v":0.55000000000000004},{"$f":"IF(Sconti!$D$10=\"a\",55%,IF(Sconti!$D$10=\"b\",55%,IF(Sconti!$D$10=\"c\",55%)))","v":0.55000000000000004},{"$f":"IF(Sconti!$D$10=\"a\",55%,IF(Sconti!$D$10=\"b\",55%,IF(Sconti!$D$10=\"c\",55%)))","v":0.55000000000000004},{"$f":"IF(Sconti!$D$10=\"a\",55%,IF(Sconti!$D$10=\"b\",55%,IF(Sconti!$D$10=\"c\",55%)))","v":0.55000000000000004},{"$f":"IF(Sconti!$D$10=\"a\",55%,IF(Sconti!$D$10=\"b\",55%,IF(Sconti!$D$10=\"c\",55%)))","v":0.55000000000000004},null,null,null,null,null,null,null,null,"23 kg",319.8,399.35,318.45,372.75,379.95,555.6,647.15]
[null,"24 kg",{"$f":"IF(Sconti!$D$10=\"a\",55%,IF(Sconti!$D$10=\"b\",55%,IF(Sconti!$D$10=\"c\",55%)))","v":0.55000000000000004},{"$f":"IF(Sconti!$D$10=\"a\",55%,IF(Sconti!$D$10=\"b\",55%,IF(Sconti!$D$10=\"c\",55%)))","v":0.55000000000000004},{"$f":"IF(Sconti!$D$10=\"a\",55%,IF(Sconti!$D$10=\"b\",55%,IF(Sconti!$D$10=\"c\",55%)))","v":0.55000000000000004},{"$f":"IF(Sconti!$D$10=\"a\",55%,IF(Sconti!$D$10=\"b\",55%,IF(Sconti!$D$10=\"c\",55%)))","v":0.55000000000000004},{"$f":"IF(Sconti!$D$10=\"a\",55%,IF(Sconti!$D$10=\"b\",55%,IF(Sconti!$D$10=\"c\",55%)))","v":0.55000000000000004},{"$f":"IF(Sconti!$D$10=\"a\",55%,IF(Sconti!$D$10=\"b\",55%,IF(Sconti!$D$10=\"c\",55%)))","v":0.55000000000000004},null,null,null,null,null,null,null,null,"24 kg",326.45,408.7,324.45,382.4,392.25,565.85,653.4]
[null,"25 kg",{"$f":"IF(Sconti!$D$10=\"a\",55%,IF(Sconti!$D$10=\"b\",55%,IF(Sconti!$D$10=\"c\",55%)))","v":0.55000000000000004},{"$f":"IF(Sconti!$D$10=\"a\",55%,IF(Sconti!$D$10=\"b\",55%,IF(Sconti!$D$10=\"c\",55%)))","v":0.55000000000000004},{"$f":"IF(Sconti!$D$10=\"a\",55%,IF(Sconti!$D$10=\"b\",55%,IF(Sconti!$D$10=\"c\",55%)))","v":0.55000000000000004},{"$f":"IF(Sconti!$D$10=\"a\",55%,IF(Sconti!$D$10=\"b\",55%,IF(Sconti!$D$10=\"c\",55%)))","v":0.55000000000000004},{"$f":"IF(Sconti!$D$10=\"a\",55%,IF(Sconti!$D$10=\"b\",55%,IF(Sconti!$D$10=\"c\",55%)))","v":0.55000000000000004},{"$f":"IF(Sconti!$D$10=\"a\",55%,IF(Sconti!$D$10=\"b\",55%,IF(Sconti!$D$10=\"c\",55%)))","v":0.55000000000000004},null,null,null,null,null,null,null,null,"25 kg",331.35,415.9,330.45,392.2,402.35,576.25,659.85]
[null,"26 kg",{"$f":"IF(Sconti!$D$10=\"a\",55%,IF(Sconti!$D$10=\"b\",55%,IF(Sconti!$D$10=\"c\",55%)))","v":0.55000000000000004},{"$f":"IF(Sconti!$D$10=\"a\",55%,IF(Sconti!$D$10=\"b\",55%,IF(Sconti!$D$10=\"c\",55%)))","v":0.55000000000000004},{"$f":"IF(Sconti!$D$10=\"a\",55%,IF(Sconti!$D$10=\"b\",55%,IF(Sconti!$D$10=\"c\",55%)))","v":0.55000000000000004},{"$f":"IF(Sconti!$D$10=\"a\",55%,IF(Sconti!$D$10=\"b\",55%,IF(Sconti!$D$10=\"c\",55%)))","v":0.55000000000000004},{"$f":"IF(Sconti!$D$10=\"a\",55%,IF(Sconti!$D$10=\"b\",55%,IF(Sconti!$D$10=\"c\",55%)))","v":0.55000000000000004},{"$f":"IF(Sconti!$D$10=\"a\",55%,IF(Sconti!$D$10=\"b\",55%,IF(Sconti!$D$10=\"c\",55%)))","v":0.55000000000000004},null,null,null,null,null,null,null,null,"26 kg",336.15,423.1,336.35,401.5,412.5,586.29999999999995,666.1]
[null,"27 kg",{"$f":"IF(Sconti!$D$10=\"a\",55%,IF(Sconti!$D$10=\"b\",55%,IF(Sconti!$D$10=\"c\",55%)))","v":0.55000000000000004},{"$f":"IF(Sconti!$D$10=\"a\",55%,IF(Sconti!$D$10=\"b\",55%,IF(Sconti!$D$10=\"c\",55%)))","v":0.55000000000000004},{"$f":"IF(Sconti!$D$10=\"a\",55%,IF(Sconti!$D$10=\"b\",55%,IF(Sconti!$D$10=\"c\",55%)))","v":0.55000000000000004},{"$f":"IF(Sconti!$D$10=\"a\",55%,IF(Sconti!$D$10=\"b\",55%,IF(Sconti!$D$10=\"c\",55%)))","v":0.55000000000000004},{"$f":"IF(Sconti!$D$10=\"a\",55%,IF(Sconti!$D$10=\"b\",55%,IF(Sconti!$D$10=\"c\",55%)))","v":0.55000000000000004},{"$f":"IF(Sconti!$D$10=\"a\",55%,IF(Sconti!$D$10=\"b\",55%,IF(Sconti!$D$10=\"c\",55%)))","v":0.55000000000000004},null,null,null,null,null,null,null,null,"27 kg",342.75,432.4,342.4,410.75,424.75,596.6,672.35]
[null,"28 kg",{"$f":"IF(Sconti!$D$10=\"a\",55%,IF(Sconti!$D$10=\"b\",55%,IF(Sconti!$D$10=\"c\",55%)))","v":0.55000000000000004},{"$f":"IF(Sconti!$D$10=\"a\",55%,IF(Sconti!$D$10=\"b\",55%,IF(Sconti!$D$10=\"c\",55%)))","v":0.55000000000000004},{"$f":"IF(Sconti!$D$10=\"a\",55%,IF(Sconti!$D$10=\"b\",55%,IF(Sconti!$D$10=\"c\",55%)))","v":0.55000000000000004},{"$f":"IF(Sconti!$D$10=\"a\",55%,IF(Sconti!$D$10=\"b\",55%,IF(Sconti!$D$10=\"c\",55%)))","v":0.55000000000000004},{"$f":"IF(Sconti!$D$10=\"a\",55%,IF(Sconti!$D$10=\"b\",55%,IF(Sconti!$D$10=\"c\",55%)))","v":0.55000000000000004},{"$f":"IF(Sconti!$D$10=\"a\",55%,IF(Sconti!$D$10=\"b\",55%,IF(Sconti!$D$10=\"c\",55%)))","v":0.55000000000000004},null,null,null,null,null,null,null,null,"28 kg",349.35,441.6,348.4,420.1,436.95,606.75,678.75]
[null,"29 kg",{"$f":"IF(Sconti!$D$10=\"a\",55%,IF(Sconti!$D$10=\"b\",55%,IF(Sconti!$D$10=\"c\",55%)))","v":0.55000000000000004},{"$f":"IF(Sconti!$D$10=\"a\",55%,IF(Sconti!$D$10=\"b\",55%,IF(Sconti!$D$10=\"c\",55%)))","v":0.55000000000000004},{"$f":"IF(Sconti!$D$10=\"a\",55%,IF(Sconti!$D$10=\"b\",55%,IF(Sconti!$D$10=\"c\",55%)))","v":0.55000000000000004},{"$f":"IF(Sconti!$D$10=\"a\",55%,IF(Sconti!$D$10=\"b\",55%,IF(Sconti!$D$10=\"c\",55%)))","v":0.55000000000000004},{"$f":"IF(Sconti!$D$10=\"a\",55%,IF(Sconti!$D$10=\"b\",55%,IF(Sconti!$D$10=\"c\",55%)))","v":0.55000000000000004},{"$f":"IF(Sconti!$D$10=\"a\",55%,IF(Sconti!$D$10=\"b\",55%,IF(Sconti!$D$10=\"c\",55%)))","v":0.55000000000000004},null,null,null,null,null,null,null,null,"29 kg",355.95,450.95,354.4,429.25,449.2,617.04999999999995,684.9]
[null,"30 kg",{"$f":"IF(Sconti!$D$10=\"a\",55%,IF(Sconti!$D$10=\"b\",55%,IF(Sconti!$D$10=\"c\",55%)))","v":0.55000000000000004},{"$f":"IF(Sconti!$D$10=\"a\",55%,IF(Sconti!$D$10=\"b\",55%,IF(Sconti!$D$10=\"c\",55%)))","v":0.55000000000000004},{"$f":"IF(Sconti!$D$10=\"a\",55%,IF(Sconti!$D$10=\"b\",55%,IF(Sconti!$D$10=\"c\",55%)))","v":0.55000000000000004},{"$f":"IF(Sconti!$D$10=\"a\",55%,IF(Sconti!$D$10=\"b\",55%,IF(Sconti!$D$10=\"c\",55%)))","v":0.55000000000000004},{"$f":"IF(Sconti!$D$10=\"a\",55%,IF(Sconti!$D$10=\"b\",55%,IF(Sconti!$D$10=\"c\",55%)))","v":0.55000000000000004},{"$f":"IF(Sconti!$D$10=\"a\",55%,IF(Sconti!$D$10=\"b\",55%,IF(Sconti!$D$10=\"c\",55%)))","v":0.55000000000000004},null,null,null,null,null,null,null,null,"30 kg",362.5,460.3,360.45,438.55,461.35,627.20000000000005,691.2]
[null,"31 kg",{"$f":"IF(Sconti!$D$10=\"a\",55%,IF(Sconti!$D$10=\"b\",55%,IF(Sconti!$D$10=\"c\",55%)))","v":0.55000000000000004},{"$f":"IF(Sconti!$D$10=\"a\",55%,IF(Sconti!$D$10=\"b\",55%,IF(Sconti!$D$10=\"c\",55%)))","v":0.55000000000000004},{"$f":"IF(Sconti!$D$10=\"a\",55%,IF(Sconti!$D$10=\"b\",55%,IF(Sconti!$D$10=\"c\",55%)))","v":0.55000000000000004},{"$f":"IF(Sconti!$D$10=\"a\",55%,IF(Sconti!$D$10=\"b\",55%,IF(Sconti!$D$10=\"c\",55%)))","v":0.55000000000000004},{"$f":"IF(Sconti!$D$10=\"a\",55%,IF(Sconti!$D$10=\"b\",55%,IF(Sconti!$D$10=\"c\",55%)))","v":0.55000000000000004},{"$f":"IF(Sconti!$D$10=\"a\",55%,IF(Sconti!$D$10=\"b\",55%,IF(Sconti!$D$10=\"c\",55%)))","v":0.55000000000000004},null,null,null,null,null,null,null,null,"31 kg",368.55,470.35,366.25,446.75,473.45,637.5,708.25]
[null,"32 kg",{"$f":"IF(Sconti!$D$10=\"a\",55%,IF(Sconti!$D$10=\"b\",55%,IF(Sconti!$D$10=\"c\",55%)))","v":0.55000000000000004},{"$f":"IF(Sconti!$D$10=\"a\",55%,IF(Sconti!$D$10=\"b\",55%,IF(Sconti!$D$10=\"c\",55%)))","v":0.55000000000000004},{"$f":"IF(Sconti!$D$10=\"a\",55%,IF(Sconti!$D$10=\"b\",55%,IF(Sconti!$D$10=\"c\",55%)))","v":0.55000000000000004},{"$f":"IF(Sconti!$D$10=\"a\",55%,IF(Sconti!$D$10=\"b\",55%,IF(Sconti!$D$10=\"c\",55%)))","v":0.55000000000000004},{"$f":"IF(Sconti!$D$10=\"a\",55%,IF(Sconti!$D$10=\"b\",55%,IF(Sconti!$D$10=\"c\",55%)))","v":0.55000000000000004},{"$f":"IF(Sconti!$D$10=\"a\",55%,IF(Sconti!$D$10=\"b\",55%,IF(Sconti!$D$10=\"c\",55%)))","v":0.55000000000000004},null,null,null,null,null,null,null,null,"32 kg",374.55,480.45,372.2,454.95,485.65,647.75,725.45]
[null,"33 kg",{"$f":"IF(Sconti!$D$10=\"a\",55%,IF(Sconti!$D$10=\"b\",55%,IF(Sconti!$D$10=\"c\",55%)))","v":0.55000000000000004},{"$f":"IF(Sconti!$D$10=\"a\",55%,IF(Sconti!$D$10=\"b\",55%,IF(Sconti!$D$10=\"c\",55%)))","v":0.55000000000000004},{"$f":"IF(Sconti!$D$10=\"a\",55%,IF(Sconti!$D$10=\"b\",55%,IF(Sconti!$D$10=\"c\",55%)))","v":0.55000000000000004},{"$f":"IF(Sconti!$D$10=\"a\",55%,IF(Sconti!$D$10=\"b\",55%,IF(Sconti!$D$10=\"c\",55%)))","v":0.55000000000000004},{"$f":"IF(Sconti!$D$10=\"a\",55%,IF(Sconti!$D$10=\"b\",55%,IF(Sconti!$D$10=\"c\",55%)))","v":0.55000000000000004},{"$f":"IF(Sconti!$D$10=\"a\",55%,IF(Sconti!$D$10=\"b\",55%,IF(Sconti!$D$10=\"c\",55%)))","v":0.55000000000000004},null,null,null,null,null,null,null,null,"33 kg",380.55,490.55,378.3,463.05,497.8,658,742.4]
[null,"34 kg",{"$f":"IF(Sconti!$D$10=\"a\",55%,IF(Sconti!$D$10=\"b\",55%,IF(Sconti!$D$10=\"c\",55%)))","v":0.55000000000000004},{"$f":"IF(Sconti!$D$10=\"a\",55%,IF(Sconti!$D$10=\"b\",55%,IF(Sconti!$D$10=\"c\",55%)))","v":0.55000000000000004},{"$f":"IF(Sconti!$D$10=\"a\",55%,IF(Sconti!$D$10=\"b\",55%,IF(Sconti!$D$10=\"c\",55%)))","v":0.55000000000000004},{"$f":"IF(Sconti!$D$10=\"a\",55%,IF(Sconti!$D$10=\"b\",55%,IF(Sconti!$D$10=\"c\",55%)))","v":0.55000000000000004},{"$f":"IF(Sconti!$D$10=\"a\",55%,IF(Sconti!$D$10=\"b\",55%,IF(Sconti!$D$10=\"c\",55%)))","v":0.55000000000000004},{"$f":"IF(Sconti!$D$10=\"a\",55%,IF(Sconti!$D$10=\"b\",55%,IF(Sconti!$D$10=\"c\",55%)))","v":0.55000000000000004},null,null,null,null,null,null,null,null,"34 kg",386.6,500.6,384.3,471.2,510,668.15,759.55]
[null,"35 kg",{"$f":"IF(Sconti!$D$10=\"a\",55%,IF(Sconti!$D$10=\"b\",55%,IF(Sconti!$D$10=\"c\",55%)))","v":0.55000000000000004},{"$f":"IF(Sconti!$D$10=\"a\",55%,IF(Sconti!$D$10=\"b\",55%,IF(Sconti!$D$10=\"c\",55%)))","v":0.55000000000000004},{"$f":"IF(Sconti!$D$10=\"a\",55%,IF(Sconti!$D$10=\"b\",55%,IF(Sconti!$D$10=\"c\",55%)))","v":0.55000000000000004},{"$f":"IF(Sconti!$D$10=\"a\",55%,IF(Sconti!$D$10=\"b\",55%,IF(Sconti!$D$10=\"c\",55%)))","v":0.55000000000000004},{"$f":"IF(Sconti!$D$10=\"a\",55%,IF(Sconti!$D$10=\"b\",55%,IF(Sconti!$D$10=\"c\",55%)))","v":0.55000000000000004},{"$f":"IF(Sconti!$D$10=\"a\",55%,IF(Sconti!$D$10=\"b\",55%,IF(Sconti!$D$10=\"c\",55%)))","v":0.55000000000000004},null,null,null,null,null,null,null,null,"35 kg",392.55,510.75,390.25,479.5,522.20000000000005,678.35,776.5]
[null,"40 kg",{"$f":"IF(Sconti!$D$10=\"a\",55%,IF(Sconti!$D$10=\"b\",55%,IF(Sconti!$D$10=\"c\",55%)))","v":0.55000000000000004},{"$f":"IF(Sconti!$D$10=\"a\",55%,IF(Sconti!$D$10=\"b\",55%,IF(Sconti!$D$10=\"c\",55%)))","v":0.55000000000000004},{"$f":"IF(Sconti!$D$10=\"a\",55%,IF(Sconti!$D$10=\"b\",55%,IF(Sconti!$D$10=\"c\",55%)))","v":0.55000000000000004},{"$f":"IF(Sconti!$D$10=\"a\",55%,IF(Sconti!$D$10=\"b\",55%,IF(Sconti!$D$10=\"c\",55%)))","v":0.55000000000000004},{"$f":"IF(Sconti!$D$10=\"a\",55%,IF(Sconti!$D$10=\"b\",55%,IF(Sconti!$D$10=\"c\",55%)))","v":0.55000000000000004},{"$f":"IF(Sconti!$D$10=\"a\",55%,IF(Sconti!$D$10=\"b\",55%,IF(Sconti!$D$10=\"c\",55%)))","v":0.55000000000000004},null,null,null,null,null,null,null,null,"40 kg",418.4,555.35,420.95,522.70000000000005,576.9,729.9,847.85]
[null,"45 kg",{"$f":"IF(Sconti!$D$10=\"a\",55%,IF(Sconti!$D$10=\"b\",55%,IF(Sconti!$D$10=\"c\",55%)))","v":0.55000000000000004},{"$f":"IF(Sconti!$D$10=\"a\",55%,IF(Sconti!$D$10=\"b\",55%,IF(Sconti!$D$10=\"c\",55%)))","v":0.55000000000000004},{"$f":"IF(Sconti!$D$10=\"a\",55%,IF(Sconti!$D$10=\"b\",55%,IF(Sconti!$D$10=\"c\",55%)))","v":0.55000000000000004},{"$f":"IF(Sconti!$D$10=\"a\",55%,IF(Sconti!$D$10=\"b\",55%,IF(Sconti!$D$10=\"c\",55%)))","v":0.55000000000000004},{"$f":"IF(Sconti!$D$10=\"a\",55%,IF(Sconti!$D$10=\"b\",55%,IF(Sconti!$D$10=\"c\",55%)))","v":0.55000000000000004},{"$f":"IF(Sconti!$D$10=\"a\",55%,IF(Sconti!$D$10=\"b\",55%,IF(Sconti!$D$10=\"c\",55%)))","v":0.55000000000000004},null,null,null,null,null,null,null,null,"45 kg",448.25,605.4,451.75,565.85,637.65,781.3,919.05]
[null,"50 kg",{"$f":"IF(Sconti!$D$10=\"a\",55%,IF(Sconti!$D$10=\"b\",55%,IF(Sconti!$D$10=\"c\",55%)))","v":0.55000000000000004},{"$f":"IF(Sconti!$D$10=\"a\",55%,IF(Sconti!$D$10=\"b\",55%,IF(Sconti!$D$10=\"c\",55%)))","v":0.55000000000000004},{"$f":"IF(Sconti!$D$10=\"a\",55%,IF(Sconti!$D$10=\"b\",55%,IF(Sconti!$D$10=\"c\",55%)))","v":0.55000000000000004},{"$f":"IF(Sconti!$D$10=\"a\",55%,IF(Sconti!$D$10=\"b\",55%,IF(Sconti!$D$10=\"c\",55%)))","v":0.55000000000000004},{"$f":"IF(Sconti!$D$10=\"a\",55%,IF(Sconti!$D$10=\"b\",55%,IF(Sconti!$D$10=\"c\",55%)))","v":0.55000000000000004},{"$f":"IF(Sconti!$D$10=\"a\",55%,IF(Sconti!$D$10=\"b\",55%,IF(Sconti!$D$10=\"c\",55%)))","v":0.55000000000000004},null,null,null,null,null,null,null,null,"50 kg",478.2,655.55,482.55,609.1,697.95,832.6,990.4]
[null,"55 kg",{"$f":"IF(Sconti!$D$10=\"a\",55%,IF(Sconti!$D$10=\"b\",55%,IF(Sconti!$D$10=\"c\",55%)))","v":0.55000000000000004},{"$f":"IF(Sconti!$D$10=\"a\",55%,IF(Sconti!$D$10=\"b\",55%,IF(Sconti!$D$10=\"c\",55%)))","v":0.55000000000000004},{"$f":"IF(Sconti!$D$10=\"a\",55%,IF(Sconti!$D$10=\"b\",55%,IF(Sconti!$D$10=\"c\",55%)))","v":0.55000000000000004},{"$f":"IF(Sconti!$D$10=\"a\",55%,IF(Sconti!$D$10=\"b\",55%,IF(Sconti!$D$10=\"c\",55%)))","v":0.55000000000000004},{"$f":"IF(Sconti!$D$10=\"a\",55%,IF(Sconti!$D$10=\"b\",55%,IF(Sconti!$D$10=\"c\",55%)))","v":0.55000000000000004},{"$f":"IF(Sconti!$D$10=\"a\",55%,IF(Sconti!$D$10=\"b\",55%,IF(Sconti!$D$10=\"c\",55%)))","v":0.55000000000000004},null,null,null,null,null,null,null,null,"55 kg",507.95,705.5,513.29999999999995,652.29999999999995,758.15,884.05,1061.7]
[null,"60 kg",{"$f":"IF(Sconti!$D$10=\"a\",55%,IF(Sconti!$D$10=\"b\",55%,IF(Sconti!$D$10=\"c\",55%)))","v":0.55000000000000004},{"$f":"IF(Sconti!$D$10=\"a\",55%,IF(Sconti!$D$10=\"b\",55%,IF(Sconti!$D$10=\"c\",55%)))","v":0.55000000000000004},{"$f":"IF(Sconti!$D$10=\"a\",55%,IF(Sconti!$D$10=\"b\",55%,IF(Sconti!$D$10=\"c\",55%)))","v":0.55000000000000004},{"$f":"IF(Sconti!$D$10=\"a\",55%,IF(Sconti!$D$10=\"b\",55%,IF(Sconti!$D$10=\"c\",55%)))","v":0.55000000000000004},{"$f":"IF(Sconti!$D$10=\"a\",55%,IF(Sconti!$D$10=\"b\",55%,IF(Sconti!$D$10=\"c\",55%)))","v":0.55000000000000004},{"$f":"IF(Sconti!$D$10=\"a\",55%,IF(Sconti!$D$10=\"b\",55%,IF(Sconti!$D$10=\"c\",55%)))","v":0.55000000000000004},null,null,null,null,null,null,null,null,"60 kg",537.9,755.55,543.95000000000005,695.55,818.25,935.4,1132.95]
[null,"65 kg",{"$f":"IF(Sconti!$D$10=\"a\",55%,IF(Sconti!$D$10=\"b\",55%,IF(Sconti!$D$10=\"c\",55%)))","v":0.55000000000000004},{"$f":"IF(Sconti!$D$10=\"a\",55%,IF(Sconti!$D$10=\"b\",55%,IF(Sconti!$D$10=\"c\",55%)))","v":0.55000000000000004},{"$f":"IF(Sconti!$D$10=\"a\",55%,IF(Sconti!$D$10=\"b\",55%,IF(Sconti!$D$10=\"c\",55%)))","v":0.55000000000000004},{"$f":"IF(Sconti!$D$10=\"a\",55%,IF(Sconti!$D$10=\"b\",55%,IF(Sconti!$D$10=\"c\",55%)))","v":0.55000000000000004},{"$f":"IF(Sconti!$D$10=\"a\",55%,IF(Sconti!$D$10=\"b\",55%,IF(Sconti!$D$10=\"c\",55%)))","v":0.55000000000000004},{"$f":"IF(Sconti!$D$10=\"a\",55%,IF(Sconti!$D$10=\"b\",55%,IF(Sconti!$D$10=\"c\",55%)))","v":0.55000000000000004},null,null,null,null,null,null,null,null,"65 kg",567.79999999999995,805.65,574.79999999999995,738.85,878.5,986.8,1204.2]
[null,"70 kg",{"$f":"IF(Sconti!$D$10=\"a\",55%,IF(Sconti!$D$10=\"b\",55%,IF(Sconti!$D$10=\"c\",55%)))","v":0.55000000000000004},{"$f":"IF(Sconti!$D$10=\"a\",55%,IF(Sconti!$D$10=\"b\",55%,IF(Sconti!$D$10=\"c\",55%)))","v":0.55000000000000004},{"$f":"IF(Sconti!$D$10=\"a\",55%,IF(Sconti!$D$10=\"b\",55%,IF(Sconti!$D$10=\"c\",55%)))","v":0.55000000000000004},{"$f":"IF(Sconti!$D$10=\"a\",55%,IF(Sconti!$D$10=\"b\",55%,IF(Sconti!$D$10=\"c\",55%)))","v":0.55000000000000004},{"$f":"IF(Sconti!$D$10=\"a\",55%,IF(Sconti!$D$10=\"b\",55%,IF(Sconti!$D$10=\"c\",55%)))","v":0.55000000000000004},{"$f":"IF(Sconti!$D$10=\"a\",55%,IF(Sconti!$D$10=\"b\",55%,IF(Sconti!$D$10=\"c\",55%)))","v":0.55000000000000004},null,null,null,null,null,null,null,null,"70 kg",597.54999999999995,855.65,605.5,782,938.7,1038.25,1275.5]
[null,"Oltre 70 Kg",null,null,null,null,null,null,null,null,null,null,null,null,null,null,"Oltre 70 Kg"]
[null,"Prezzo al Kg",{"$f":"IF(Sconti!$D$10=\"a\",55%,IF(Sconti!$D$10=\"b\",55%,IF(Sconti!$D$10=\"c\",55%)))","v":0.55000000000000004},{"$f":"IF(Sconti!$D$10=\"a\",55%,IF(Sconti!$D$10=\"b\",55%,IF(Sconti!$D$10=\"c\",55%)))","v":0.55000000000000004},{"$f":"IF(Sconti!$D$10=\"a\",55%,IF(Sconti!$D$10=\"b\",55%,IF(Sconti!$D$10=\"c\",55%)))","v":0.55000000000000004},{"$f":"IF(Sconti!$D$10=\"a\",55%,IF(Sconti!$D$10=\"b\",55%,IF(Sconti!$D$10=\"c\",55%)))","v":0.55000000000000004},{"$f":"IF(Sconti!$D$10=\"a\",55%,IF(Sconti!$D$10=\"b\",55%,IF(Sconti!$D$10=\"c\",55%)))","v":0.55000000000000004},{"$f":"IF(Sconti!$D$10=\"a\",55%,IF(Sconti!$D$10=\"b\",55%,IF(Sconti!$D$10=\"c\",55%)))","v":0.55000000000000004},null,null,null,null,null,null,null,null,"Prezzo al Kg",8.5299999999999994,12.22,8.65,11.17,13.41,14.83,18.22]
[null,"Tariffa Minima",{"$f":"IF(Sconti!$D$10=\"a\",55%,IF(Sconti!$D$10=\"b\",55%,IF(Sconti!$D$10=\"c\",55%)))","v":0.55000000000000004},{"$f":"IF(Sconti!$D$10=\"a\",55%,IF(Sconti!$D$10=\"b\",55%,IF(Sconti!$D$10=\"c\",55%)))","v":0.55000000000000004},{"$f":"IF(Sconti!$D$10=\"a\",55%,IF(Sconti!$D$10=\"b\",55%,IF(Sconti!$D$10=\"c\",55%)))","v":0.55000000000000004},{"$f":"IF(Sconti!$D$10=\"a\",55%,IF(Sconti!$D$10=\"b\",55%,IF(Sconti!$D$10=\"c\",55%)))","v":0.55000000000000004},{"$f":"IF(Sconti!$D$10=\"a\",55%,IF(Sconti!$D$10=\"b\",55%,IF(Sconti!$D$10=\"c\",55%)))","v":0.55000000000000004},{"$f":"IF(Sconti!$D$10=\"a\",55%,IF(Sconti!$D$10=\"b\",55%,IF(Sconti!$D$10=\"c\",55%)))","v":0.55000000000000004},null,null,null,null,null,null,null,null,"Tariffa Minima",597.54999999999995,855.65,605.5,782,938.7,1038.25,1275.5]
[]
[]
[]
[null,"Servizio UPS Express Plus - Inserimento percentuali di sconto",null,null,null,null,null,null,null,null,null,null,null,null,null,null,"Servizio UPS Express Plus - Tariffe di Listino"]
[]
[null,"Spedizioni Singole",null,null,null,null,null,null,null,null,null,null,null,null,null,null,"Spedizioni Singole"]
[null,"% Sconto","Zona","Zona","Zona","Zona","Zona","Zona","Zona","Zona","Zona","Zona","Zona","Zona","Zona",null,"€","Zona","Zona","Zona","Zona","Zona","Zona","Zona","Zona","Zona","Zona","Zona","Zona","Zona"]
[null,null,"1     ","2     ","3     ","4     ","41    ","42    ","5     ","6     ","7     ","8     ","81    ","9     ","10    ",null,null,"1     ","2     ","3     ","4     ","41    ","42    ","5     ","6     ","7     ","8     ","81    ","9     ","10    "]
[null,"Peso",null,null,null,null,null,null,null,null,null,null,null,null,null,null,"Peso"]
[null,"0,5 kg",0,0,0,0,0,0,0,0,0,0,0,0,0,null,"0,5 kg",null,127.25,127.8,157.80000000000001,147.9,147.94999999999999,179.2,179.25,120.45,131.85,131.55000000000001,166.7,172.6]
[null,"1,0 kg",0,0,0,0,0,0,0,0,0,0,0,0,0,null,"1,0 kg",null,136.5,139.55000000000001,174,158.80000000000001,158.85,190.2,190.25,132.25,145,144.75,181.05,188]
[null,"1,5 kg",0,0,0,0,0,0,0,0,0,0,0,0,0,null,"1,5 kg",null,145.80000000000001,151.19999999999999,190.2,169.7,169.75,200.8,200.85,144,158.30000000000001,157.85,195.65,203.4]
[null,"2,0 kg",0,0,0,0,0,0,0,0,0,0,0,0,0,null,"2,0 kg",null,155.05000000000001,162.9,206.45,180.6,180.65,212.9,215.25,155.75,171.55,170.5,210.15,218.55]
[null,"2,5 kg",0,0,0,0,0,0,0,0,0,0,0,0,0,null,"2,5 kg",null,164.4,174.65,222.5,191.55,191.6,224,232,167.6,184.9,183.7,224.6,233.8]
[null,"3,0 kg",0,0,0,0,0,0,0,0,0,0,0,0,0,null,"3,0 kg",null,169.2,183.15,234.15,199.1,199.15,224.85,243.9,175.15,195,193.75,238.95,249.5]
[null,"3,5 kg",0,0,0,0,0,0,0,0,0,0,0,0,0,null,"3,5 kg",null,174.1,191.65,245.65,206.75,206.8,233.35,256.10000000000002,182.6,205.45,204.05,253.35,264.75]
[null,"4,0 kg",0,0,0,0,0,0,0,0,0,0,0,0,0,null,"4,0 kg",null,179.05,200.15,257.2,214.45,214.5,242.05,268.3,190.15,215.65,214.3,267.89999999999998,280.05]
[null,"4,5 kg",0,0,0,0,0,0,0,0,0,0,0,0,0,null,"4,5 kg",null,183.85,208.6,268.7,221.9,221.95,250.6,280.55,197.7,226.1,224.65,282.39999999999998,295.2]
[null,"5,0 kg",0,0,0,0,0,0,0,0,0,0,0,0,0,null,"5,0 kg",null,188.85,217.2,280.25,229.6,229.7,259.10000000000002,292.7,205.35,236.4,234.85,296.85000000000002,310.45]
[null,"5,5 kg",0,0,0,0,0,0,0,0,0,0,0,0,0,null,"5,5 kg",null,193.15,222.1,288.64999999999998,234.3,234.35,264.35000000000002,302.3,211.85,244.55,242.65,310.5,325.64999999999998]
[null,"6,0 kg",0,0,0,0,0,0,0,0,0,0,0,0,0,null,"6,0 kg",null,197.5,227.1,297.10000000000002,238.95,239,269.64999999999998,311.85000000000002,218.15,252.6,250.45,324.3,340.8]
[null,"6,5 kg",0,0,0,0,0,0,0,0,0,0,0,0,0,null,"6,5 kg",null,201.8,232.1,305.60000000000002,243.7,243.75,274.95,321.39999999999998,224.7,260.8,258.25,337.8,355.9]
[null,"7,0 kg",0,0,0,0,0,0,0,0,0,0,0,0,0,null,"7,0 kg",null,206.25,236.95,313.95,248.4,248.45,280.35000000000002,331.05,231.2,269,265.95,351.45,371.2]
[null,"7,5 kg",0,0,0,0,0,0,0,0,0,0,0,0,0,null,"7,5 kg",null,210.55,242.15,322.39999999999998,253.05,253.1,285.60000000000002,340.55,237.7,276.95,273.8,365.2,386.35]
[null,"8,0 kg",0,0,0,0,0,0,0,0,0,0,0,0,0,null,"8,0 kg",null,214.9,246.95,330.95,257.8,257.85000000000002,290.8,349,244.15,285.05,281.55,378.8,401.55]
[null,"8,5 kg",0,0,0,0,0,0,0,0,0,0,0,0,0,null,"8,5 kg",null,219.25,252.05,339.45,262.55,262.60000000000002,296.14999999999998,357.45,250.7,293,289.35000000000002,392.45,416.85]
[null,"9,0 kg",0,0,0,0,0,0,0,0,0,0,0,0,0,null,"9,0 kg",null,223.6,257.10000000000002,347.85,267.25,267.3,301.45,366,257.2,301.14999999999998,297.10000000000002,406.1,431.9]
[null,"9,5 kg",0,0,0,0,0,0,0,0,0,0,0,0,0,null,"9,5 kg",null,227.9,262.10000000000002,356.25,271.95,272,306.7,374.4,263.64999999999998,309.2,305,419.65,447.1]
[null,"10 kg",0,0,0,0,0,0,0,0,0,0,0,0,0,null,"10 kg",null,232.4,267.14999999999998,364.75,276.64999999999998,276.7,312.10000000000002,382.9,270.05,317.35000000000002,312.75,433.35,462.25]
[null,"11 kg",0,0,0,0,0,0,0,0,0,0,0,0,0,null,"11 kg",null,237.3,275.55,374.35,284.64999999999998,284.7,320.95,394.35,281.85000000000002,332.2,327.39999999999998,453.9,490.35]
[null,"12 kg",0,0,0,0,0,0,0,0,0,0,0,0,0,null,"12 kg",null,242.3,283.89999999999998,384.1,292.60000000000002,292.64999999999998,329.6,405.9,293.64999999999998,347.05,342.05,474.5,518.15]
[null,"13 kg",0,0,0,0,0,0,0,0,0,0,0,0,0,null,"13 kg",null,247.05,292.45,393.75,300.60000000000002,300.64999999999998,338.4,417.35,305.3,361.8,356.7,494.95,546]
[null,"14 kg",0,0,0,0,0,0,0,0,0,0,0,0,0,null,"14 kg",null,252.1,300.89999999999998,403.45,308.45,308.5,347.25,429,317.05,376.55,371.4,515.6,573.95000000000005]
[null,"15 kg",0,0,0,0,0,0,0,0,0,0,0,0,0,null,"15 kg",null,257.10000000000002,309.75,413.05,316.45,316.5,356.2,440.35,328.7,391.35,386.05,536.04999999999995,601.9]
[null,"16 kg",0,0,0,0,0,0,0,0,0,0,0,0,0,null,"16 kg",null,262,318.64999999999998,422.6,323.14999999999998,323.2,365.2,451.9,340.5,406.4,400.75,553.95000000000005,629.9]
[null,"17 kg",0,0,0,0,0,0,0,0,0,0,0,0,0,null,"17 kg",null,266.95,327.5,432.3,329.7,329.75,373.95,463.3,352.1,421.25,415.45,571.79999999999995,657.75]
[null,"18 kg",0,0,0,0,0,0,0,0,0,0,0,0,0,null,"18 kg",null,271.95,336.3,441.95,336.15,336.2,382.95,474.75,363.9,436.2,430.05,589.75,685.75]
[null,"19 kg",0,0,0,0,0,0,0,0,0,0,0,0,0,null,"19 kg",null,276.85000000000002,345.15,451.65,342.8,342.85,392,486.25,375.6,451,444.65,607.79999999999995,713.7]
[null,"20 kg",0,0,0,0,0,0,0,0,0,0,0,0,0,null,"20 kg",null,281.75,354.15,461.35,349.35,349.4,400.8,497.7,387.25,465.95,459.4,625.70000000000005,741.6]
[null,"22 kg",0,0,0,0,0,0,0,0,0,0,0,0,0,null,"22 kg",null,292.60000000000002,372.4,477.95,364.6,364.65,417.75,522.95000000000005,415.55,498.2,491.1,662.8,804.55]
[null,"24 kg",0,0,0,0,0,0,0,0,0,0,0,0,0,null,"24 kg",null,302.10000000000002,388.95,492.35,378.1,378.15,432.8,545.70000000000005,442.05,528.1,520.5,696.65,863.8]
[null,"26 kg",0,0,0,0,0,0,0,0,0,0,0,0,0,null,"26 kg",null,311.60000000000002,405.55,506.8,391.5,391.55,447.85,568.45000000000005,468.4,558.1,549.9,730.85,923.15]
[null,"28 kg",0,0,0,0,0,0,0,0,0,0,0,0,0,null,"28 kg",null,320.95,422,521.29999999999995,404.9,404.95,462.85,591.15,494.85,587.95000000000005,579.29999999999995,764.9,982.45]
[null,"30 kg",0,0,0,0,0,0,0,0,0,0,0,0,0,null,"30 kg",null,330.55,438.6,535.70000000000005,418.4,418.45,477.8,613.95000000000005,521.25,617.79999999999995,608.79999999999995,798.9,1041.6500000000001]
[null,"35 kg",0,0,0,0,0,0,0,0,0,0,0,0,0,null,"35 kg",null,351.05,476.7,569.1,448.9,448.95,513.65,675.25,587.25,692.65,682.25,884.2,1187.45]
[null,"40 kg",0,0,0,0,0,0,0,0,0,0,0,0,0,null,"40 kg",null,371.5,514.75,602.4,479.45,479.5,549.54999999999995,736.3,653.20000000000005,767.5,755.65,969.5,1333.45]
[null,"45 kg",0,0,0,0,0,0,0,0,0,0,0,0,0,null,"45 kg",null,392.05,552.70000000000005,635.79999999999995,509.95,510,585.29999999999995,797.65,719.05,842.15,829.05,1054.8,1479.35]
[null,"50 kg",0,0,0,0,0,0,0,0,0,0,0,0,0,null,"50 kg",null,412.6,590.79999999999995,669.15,540.4,540.45000000000005,621.1,858.9,785,917,902.6,1140.25,1625.4]
[null,"55 kg",0,0,0,0,0,0,0,0,0,0,0,0,0,null,"55 kg",null,433.1,628.79999999999995,702.6,571,571.04999999999995,656.85,920,850.85,991.75,976.05,1225.55,1771.4]
[null,"60 kg",0,0,0,0,0,0,0,0,0,0,0,0,0,null,"60 kg",null,453.7,666.75,735.95,601.45000000000005,601.5,692.75,981.25,916.8,1066.5,1049.45,1310.95,1917.4]
[null,"65 kg",0,0,0,0,0,0,0,0,0,0,0,0,0,null,"65 kg",null,474.2,704.8,769.25,632.04999999999995,632.1,728.55,1042.45,982.75,1141.3,1122.95,1396.35,2063.4]
[null,"70 kg",0,0,0,0,0,0,0,0,0,0,0,0,0,null,"70 kg",null,494.95,742.85,802.55,662.45,662.5,764.5,1103.55,1048.75,1216.2,1196.3499999999999,1481.75,2209.5]
[null,"Oltre 70 Kg",null,null,null,null,null,null,null,null,null,null,null,null,null,null,"Oltre 70 Kg"]
[null,"Prezzo al Kg",0,0,0,0,0,0,0,0,0,0,0,0,0,null,"Prezzo al Kg",null,7.07,10.61,11.46,9.4600000000000009,9.4700000000000006,10.92,15.76,14.98,17.37,17.09,21.16,31.56]
[null,"Tariffa Minima",0,0,0,0,0,0,0,0,0,0,0,0,0,null,"Tariffa Minima",null,494.95,742.85,802.55,662.45,662.5,764.5,1103.55,1048.75,1216.2,1196.3499999999999,1481.75,2209.5]
[]
[null,"UPS Express Envelopes "]
[null,"% Sconto","Zona","Zona","Zona","Zona","Zona","Zona","Zona","Zona","Zona","Zona","Zona","Zona","Zona",null,"€","Zona","Zona","Zona","Zona","Zona","Zona","Zona","Zona","Zona","Zona","Zona","Zona","Zona"]
[null,null,"1     ","2     ","3     ","4     ","41    ","42    ","5     ","6     ","7     ","8     ","81    ","9     ","10    ",null,null,"1     ","2     ","3     ","4     ","41    ","42    ","5     ","6     ","7     ","8     ","81    ","9     ","10    "]
[null,"UPS Express Envelopes ",null,null,null,null,null,null,null,null,null,null,null,null,null,null,"UPS Express Envelopes "]
[null,null,0,0,0,0,0,0,0,0,0,0,0,0,0,null,null,null,102.9,111.65,127.75,101,101.05,111.25,121.05,98.9,107.15,107.1,109.45,115.6]
[null,"Documenti",null,null,null,null,null,null,null,null,null,null,null,null,null,null,"Documenti"]
[null,"0,5 kg",0,0,0,0,0,0,0,0,0,0,0,0,0,null,"0,5 kg",null,127.25,127.8,157.80000000000001,147.9,147.94999999999999,148,148.05000000000001,115.6,123.7,123.65,147.25,153.6]
[null,"1,0 kg",0,0,0,0,0,0,0,0,0,0,0,0,0,null,"1,0 kg",null,136.5,139.55000000000001,174,158.80000000000001,158.85,158.9,158.94999999999999,127.45,136.69999999999999,136.65,162.05000000000001,169.05]
[null,"1,5 kg",0,0,0,0,0,0,0,0,0,0,0,0,0,null,"1,5 kg",null,145.80000000000001,151.19999999999999,190.2,169.7,169.75,169.8,170.5,139.15,149.80000000000001,149.75,176.95,184.65]
[null,"2,0 kg",0,0,0,0,0,0,0,0,0,0,0,0,0,null,"2,0 kg",null,155.05000000000001,162.9,206.45,180.6,180.65,180.7,187,150.94999999999999,163,162.35,191.6,200]
[null,"2,5 kg",0,0,0,0,0,0,0,0,0,0,0,0,0,null,"2,5 kg",null,164.4,174.65,222.5,191.55,191.6,191.65,203.65,162.75,176.25,175.4,206.4,215.55]
[]
[]
[]
[null,"Servizio UPS Express Freight - Inserimento percentuali di sconto",null,null,null,null,null,null,null,null,null,null,null,null,null,null,"Servizio UPS Express Freight - Tariffe di Listino"]
[]
[null,"Spedizioni Singole",null,null,null,null,null,null,null,null,null,null,null,null,null,null,"Spedizioni Singole"]
[null,"% Sconto","Zona","Zona","Zona","Zona","Zona","Zona","Zona","Zona","Zona","Zona",null,null,null,null,"€","Zona","Zona","Zona","Zona","Zona","Zona","Zona","Zona","Zona","Zona"]
[null,null,"2     ","3     ","4     ","41    ","5     ","6     ","7     ","8     ","9     ","10    ",null,null,null,null,null,"2     ","3     ","4     ","41    ","5     ","7     ","8     ","9     ","10    ",81]
[null,"Peso",null,null,null,null,null,null,null,null,null,null,null,null,null,null,"Peso"]
[null,"Fino a 70 kg",null,null,null,null,null,null,null,null,null,null,null,null,null,null,"Fino a 70 kg",414.65,648.95000000000005,700.8,597.15,643.29999999999995,920.9,1132.45,1011.05,1376.7,2037.7]
[null,"Prezzo al Kg\nfino a 99.0",{"$f":"IF(Sconti!$D$10=\"a\",0%,IF(Sconti!$D$10=\"b\",0%,IF(Sconti!$D$10=\"c\",0%)))","v":0},{"$f":"IF(Sconti!$D$10=\"a\",0%,IF(Sconti!$D$10=\"b\",0%,IF(Sconti!$D$10=\"c\",0%)))","v":0},{"$f":"IF(Sconti!$D$10=\"a\",0%,IF(Sconti!$D$10=\"b\",0%,IF(Sconti!$D$10=\"c\",0%)))","v":0},{"$f":"IF(Sconti!$D$10=\"a\",0%,IF(Sconti!$D$10=\"b\",0%,IF(Sconti!$D$10=\"c\",0%)))","v":0},{"$f":"IF(Sconti!$D$10=\"a\",0%,IF(Sconti!$D$10=\"b\",0%,IF(Sconti!$D$10=\"c\",0%)))","v":0},null,{"$f":"IF(Sconti!$D$10=\"a\",0%,IF(Sconti!$D$10=\"b\",0%,IF(Sconti!$D$10=\"c\",0%)))","v":0},{"$f":"IF(Sconti!$D$10=\"a\",0%,IF(Sconti!$D$10=\"b\",0%,IF(Sconti!$D$10=\"c\",0%)))","v":0},{"$f":"IF(Sconti!$D$10=\"a\",0%,IF(Sconti!$D$10=\"b\",0%,IF(Sconti!$D$10=\"c\",0%)))","v":0},{"$f":"IF(Sconti!$D$10=\"a\",0%,IF(Sconti!$D$10=\"b\",0%,IF(Sconti!$D$10=\"c\",0%)))","v":0},null,null,null,null,"Prezzo al Kg\nfino a 99.0",5.84,9.14,9.8800000000000008,8.41,9.06,12.98,15.96,14.24,19.399999999999999,28.7]
[null,"Prezzo al Kg\nfino a 299.0",{"$f":"IF(Sconti!$D$10=\"a\",0%,IF(Sconti!$D$10=\"b\",0%,IF(Sconti!$D$10=\"c\",0%)))","v":0},{"$f":"IF(Sconti!$D$10=\"a\",0%,IF(Sconti!$D$10=\"b\",0%,IF(Sconti!$D$10=\"c\",0%)))","v":0},{"$f":"IF(Sconti!$D$10=\"a\",0%,IF(Sconti!$D$10=\"b\",0%,IF(Sconti!$D$10=\"c\",0%)))","v":0},{"$f":"IF(Sconti!$D$10=\"a\",0%,IF(Sconti!$D$10=\"b\",0%,IF(Sconti!$D$10=\"c\",0%)))","v":0},{"$f":"IF(Sconti!$D$10=\"a\",0%,IF(Sconti!$D$10=\"b\",0%,IF(Sconti!$D$10=\"c\",0%)))","v":0},null,{"$f":"IF(Sconti!$D$10=\"a\",0%,IF(Sconti!$D$10=\"b\",0%,IF(Sconti!$D$10=\"c\",0%)))","v":0},{"$f":"IF(Sconti!$D$10=\"a\",0%,IF(Sconti!$D$10=\"b\",0%,IF(Sconti!$D$10=\"c\",0%)))","v":0},{"$f":"IF(Sconti!$D$10=\"a\",0%,IF(Sconti!$D$10=\"b\",0%,IF(Sconti!$D$10=\"c\",0%)))","v":0},{"$f":"IF(Sconti!$D$10=\"a\",0%,IF(Sconti!$D$10=\"b\",0%,IF(Sconti!$D$10=\"c\",0%)))","v":0},null,null,null,null,"Prezzo al Kg\nfino a 299.0",5.44,8.34,8.66,8.32,8.9600000000000009,12.73,15.78,13.95,18.670000000000002,27.62]
[null,"Prezzo al Kg\nfino a 499.0",{"$f":"IF(Sconti!$D$10=\"a\",0%,IF(Sconti!$D$10=\"b\",0%,IF(Sconti!$D$10=\"c\",0%)))","v":0},{"$f":"IF(Sconti!$D$10=\"a\",0%,IF(Sconti!$D$10=\"b\",0%,IF(Sconti!$D$10=\"c\",0%)))","v":0},{"$f":"IF(Sconti!$D$10=\"a\",0%,IF(Sconti!$D$10=\"b\",0%,IF(Sconti!$D$10=\"c\",0%)))","v":0},{"$f":"IF(Sconti!$D$10=\"a\",0%,IF(Sconti!$D$10=\"b\",0%,IF(Sconti!$D$10=\"c\",0%)))","v":0},{"$f":"IF(Sconti!$D$10=\"a\",0%,IF(Sconti!$D$10=\"b\",0%,IF(Sconti!$D$10=\"c\",0%)))","v":0},null,{"$f":"IF(Sconti!$D$10=\"a\",0%,IF(Sconti!$D$10=\"b\",0%,IF(Sconti!$D$10=\"c\",0%)))","v":0},{"$f":"IF(Sconti!$D$10=\"a\",0%,IF(Sconti!$D$10=\"b\",0%,IF(Sconti!$D$10=\"c\",0%)))","v":0},{"$f":"IF(Sconti!$D$10=\"a\",0%,IF(Sconti!$D$10=\"b\",0%,IF(Sconti!$D$10=\"c\",0%)))","v":0},{"$f":"IF(Sconti!$D$10=\"a\",0%,IF(Sconti!$D$10=\"b\",0%,IF(Sconti!$D$10=\"c\",0%)))","v":0},null,null,null,null,"Prezzo al Kg\nfino a 499.0",5.38,8.26,8.6300000000000008,8.24,8.8699999999999992,12.62,15.62,13.67,18.47,27.34]
[null,"Prezzo al Kg\nfino a 999.0",{"$f":"IF(Sconti!$D$10=\"a\",0%,IF(Sconti!$D$10=\"b\",0%,IF(Sconti!$D$10=\"c\",0%)))","v":0},{"$f":"IF(Sconti!$D$10=\"a\",0%,IF(Sconti!$D$10=\"b\",0%,IF(Sconti!$D$10=\"c\",0%)))","v":0},{"$f":"IF(Sconti!$D$10=\"a\",0%,IF(Sconti!$D$10=\"b\",0%,IF(Sconti!$D$10=\"c\",0%)))","v":0},{"$f":"IF(Sconti!$D$10=\"a\",0%,IF(Sconti!$D$10=\"b\",0%,IF(Sconti!$D$10=\"c\",0%)))","v":0},{"$f":"IF(Sconti!$D$10=\"a\",0%,IF(Sconti!$D$10=\"b\",0%,IF(Sconti!$D$10=\"c\",0%)))","v":0},null,{"$f":"IF(Sconti!$D$10=\"a\",0%,IF(Sconti!$D$10=\"b\",0%,IF(Sconti!$D$10=\"c\",0%)))","v":0},{"$f":"IF(Sconti!$D$10=\"a\",0%,IF(Sconti!$D$10=\"b\",0%,IF(Sconti!$D$10=\"c\",0%)))","v":0},{"$f":"IF(Sconti!$D$10=\"a\",0%,IF(Sconti!$D$10=\"b\",0%,IF(Sconti!$D$10=\"c\",0%)))","v":0},{"$f":"IF(Sconti!$D$10=\"a\",0%,IF(Sconti!$D$10=\"b\",0%,IF(Sconti!$D$10=\"c\",0%)))","v":0},null,null,null,null,"Prezzo al Kg\nfino a 999.0",5.33,8.16,8.61,8.14,8.7799999999999994,12.51,15.47,13.39,18.29,27.06]
[null,"Prezzo al Kg\noltre i 999.0",{"$f":"IF(Sconti!$D$10=\"a\",0%,IF(Sconti!$D$10=\"b\",0%,IF(Sconti!$D$10=\"c\",0%)))","v":0},{"$f":"IF(Sconti!$D$10=\"a\",0%,IF(Sconti!$D$10=\"b\",0%,IF(Sconti!$D$10=\"c\",0%)))","v":0},{"$f":"IF(Sconti!$D$10=\"a\",0%,IF(Sconti!$D$10=\"b\",0%,IF(Sconti!$D$10=\"c\",0%)))","v":0},{"$f":"IF(Sconti!$D$10=\"a\",0%,IF(Sconti!$D$10=\"b\",0%,IF(Sconti!$D$10=\"c\",0%)))","v":0},{"$f":"IF(Sconti!$D$10=\"a\",0%,IF(Sconti!$D$10=\"b\",0%,IF(Sconti!$D$10=\"c\",0%)))","v":0},null,{"$f":"IF(Sconti!$D$10=\"a\",0%,IF(Sconti!$D$10=\"b\",0%,IF(Sconti!$D$10=\"c\",0%)))","v":0},{"$f":"IF(Sconti!$D$10=\"a\",0%,IF(Sconti!$D$10=\"b\",0%,IF(Sconti!$D$10=\"c\",0%)))","v":0},{"$f":"IF(Sconti!$D$10=\"a\",0%,IF(Sconti!$D$10=\"b\",0%,IF(Sconti!$D$10=\"c\",0%)))","v":0},{"$f":"IF(Sconti!$D$10=\"a\",0%,IF(Sconti!$D$10=\"b\",0%,IF(Sconti!$D$10=\"c\",0%)))","v":0},null,null,null,null,"Prezzo al Kg\noltre i 999.0",5.28,8.08,8.5500000000000007,8.07,8.69,12.41,15.31,13.12,18.11,26.8]

{"sheet":"Zone Export","index":5,"n_rows":357,"n_cols":22,"rows_kept":357,"cut":false,"hidden":false,"merged":[[5,1,6,2],[1,1,1,12],[1,19,1,22],[3,4,3,14]]}
[]
[null,null,null,null,null,null,null,null,null,null,null,null,null,null,null,null,null,null,"Spett.le",{"$f":"Cover!$C$2","v":"GLOCAL WEB"}]
[]
[null,"Località di Destino",null,null,"Servizi UPS "]
[]
[null,"Come consultare la Guida: \n\n1. Scorrere verso il basso fino a trovare il paese/località di destino (in ordine alfabetico)\n\n2. Per visualizzare il Costo, basta cliccare sulla Zona corrispondente al servizio desiderato.\n\n3. La freccia       indica che la Zona tariffaria e' valida per tutti i CAP e/o le citta' elencate di seguito",null,null,"Express plus*",null,"Express*",null,"Express saver",null,"Standard",null,"Expedited",null,"Express freight"]
[]
[null,null,null,null,"Zona",null,"Zona",null,"Zona",null,"Zona",null,"Zona",null,"Zona"]
[null,"A"]
[null,"Afghanistan"]
[null,"Albania"]
[null,"Algeria "]
[null,"Andorra",null,null,null,null,null,null,null,null,6]
[null,"Angola",null,null,null,null,null,null,null,null,null,null,null,null,null,null,null,null,null,null,null,{"$f":"1+Sconti!O54","v":1}]
[null,"Anguilla"]
[null,"Antigua e Barbuda ",null,null,null,null,null,null,null,null,null,null,null,null,null,null,null,null,null,null,null,{"$f":"1+Sconti!O56","v":1}]
[null,"Antille Olandesi"]
[null,"Arabia Saudita"]
[null,"Argentina",null,null,null,null,null,null,null,null,null,null,5,null,5]
[null,"Armenia"]
[null,"Aruba"]
[null,"Australia",null,null,null,null,9,null,null,null,null,null,5,null,5]
[null,"Austria UE",null,null,3,null,3,null,3,null,5]
[null,"Azerbaijan"]
[null,"Azzorre UE",null,null,null,null,null,null,4]
[null,"B"]
[null,"Bahamas"]
[null,"Bahrain"]
[null,"Bangladesh"]
[null,"Barbados"]
[null,"Barbuda (Antigua) "]
[null,"Belgio UE",null,null,2,null,2,null,2,null,4]
[null,"Belize"]
[null,"Benin"]
[null,"Bermuda"]
[null,"Bhutan"]
[null,"Bielorussia"]
[null,"Birmania"]
[null,"Bolivia"]
[null,"Bonaire (Antille Olandesi) "]
[null,"Bosnia-Herzegovina"]
[null,"Botswana"]
[null,"Brasile",null,null,null,null,null,null,null,null,null,null,5,null,5]
[null,"Brunei"]
[null,"Bulgaria "]
[null,"Burkina Faso"]
[null,"Burundi"]
[null,"C"]
[null,"Cambogia"]
[null,"Camerun"]
[null,"Canada:",null,null,null,null,8]
[null,"Codici postali aventi come sigla iniziale"]
[null,"H0A - H9Z",null,null,null,null,null,null,null,null,null,null,2,null,2]
[null,"J4B - J4Z, J8P - J9A"]
[null,"K1A - K2R"]
[null,"L1G - L1Z, L2E - L2W"]
[null,"L3P - L3T, L3X - L4L"]
[null,"L4T - L9T"]
[null,"M0A - M9Z"]
[null,"N2A - N2V, N5Z - N6N"]
[null,"N8N - N9K"]
[null,"R2C - R4A"]
[null,"T1Y - T3L, T5A - T6V"]
[null,"V1M, V2W - V3E"]
[null,"V3H - V7Y"]
[null,"Altre localita`",null,null,null,null,null,null,null,null,null,null,3]
[null,"Ceca, Repubblica",null,null,41,null,41,null,41,null,51]
[null,"Centrafricana, Repubblica"]
[null,"Ceuta"]
[null,"Ciad"]
[null,"Cile",null,null,null,null,null,null,null,null,null,null,5]
[null,"Cina, Repubblica Popolare"]
[null,"Cipro UE",null,null,null,null,null,null,42]
[null,"Cisgiordania (Gaza)"]
[null,"Colombia",null,null,null,null,null,null,null,null,null,null,5]
[null,"Comoros Islands"]
[null,"Congo (Brazzaville)"]
[null,"Congo, Repubblica Democratica"]
[null,"Corea del Sud",null,null,null,null,null,null,null,null,null,null,4]
[null,"Costa d'Avorio"]
[null,"Costa Rica",null,null,null,null,null,null,null,null,null,null,5]
[null,"Croazia"]
[null,"Curacao (Antille Olandesi) "]
[null,"D"]
[null,"Danimarca UE",null,null,4,null,4,null,4,null,4]
[null,"Dominica"]
[null,"Dominicana, Repubblica",null,null,null,null,null,null,null,null,null,null,5]
[null,"E"]
[null,"Ecuador",null,null,null,null,null,null,null,null,null,null,5]
[null,"Egitto"]
[null,"El Salvador",null,null,null,null,null,null,null,null,null,null,5]
[null,"Emirati Arabi Uniti"]
[null,"Eritrea"]
[null,"Estonia",null,null,null,null,42,null,42,null,52]
[null,"Etiopia"]
[null,"F"]
[null,"Figi"]
[null,"Filippine",null,null,null,null,null,null,null,null,null,null,5]
[null,"Finlandia UE",null,null,null,null,4,null,4,null,5]
[null,"Francia UE:"]
[null,"   Le seguenti citta` e i Codici postali aventi ",null,null,2,null,2,null,2,null,3]
[null,"come sigla iniziale"]
[null,"01000 - 01999"]
[null,"04000 - 07999"]
[null,"13000 - 13999"]
[null,"20000 - 21999"]
[null,"25000 - 26999"]
[null,"30000 - 30999"]
[null,"70000 - 71999"]
[null,"73000 - 74999, 83000 - 84999"]
[null,"Avignone"]
[null,"Digione"]
[null,"Grenoble"]
[null,"Lione"]
[null,"Marsiglia"]
[null,"Nizza"]
[null,"Altre localita`",null,null,null,null,null,null,null,null,4]
[null,"G"]
[null,"Gabon"]
[null,"Galles UE",null,null,null,null,2,null,2,null,4]
[null,"Gambia"]
[null,"Gaza (Cisgiordania)"]
[null,"Georgia"]
[null,"Germania UE:"]
[null,"Codici postali aventi come sigla iniziale",null,null,2,null,2,null,2,null,3]
[null,"66000 - 79999"]
[null,"80000 - 87999"]
[null,"88000 - 89999"]
[null,"90000 - 97999"]
[null,"Heidelberg"]
[null,"Hof"]
[null,"Karlsruhe"]
[null,"Mannheim"]
[null,"Munich"]
[null,"Nuremberg"]
[null,"Passau"]
[null,"Stuttgart"]
[null,"Trier"]
[null,"Wurzburg"]
[null,"Altre localita`",null,null,null,null,null,null,null,null,4]
[null,"Ghana"]
[null,"Giamaica"]
[null,"Giappone",null,null,null,null,null,null,null,null,null,null,5]
[null,"Gibilterra"]
[null,"Gibuti"]
[null,"Giordania"]
[null,"Grecia UE",null,null,null,null,4,null,4,null,51]
[null,"Grenada"]
[null,"Groenlandia"]
[null,"Guadalupa"]
[null,"Guam"]
[null,"Guatemala",null,null,null,null,null,null,null,null,null,null,5]
[null,"Guernsey  (Isole del Canale)",null,null,null,null,null,null,null,null,6]
[null,"Guinea"]
[null,"Guinea Bissau"]
[null,"Guinea Equatoriale"]
[null,"Guyana"]
[null,"Guyana Francese"]
[null,"H"]
[null,"Haiti"]
[null,"Honduras",null,null,null,null,null,null,null,null,null,null,5]
[null,"Hong Kong",null,null,null,null,null,null,null,null,null,null,4,null,4]
[null,"I"]
[null,"India"]
[null,"Indonesia",null,null,null,null,null,null,null,null,null,null,5]
[null,"Inghilterra UE ",null,null,2,null,2,null,2,null,4]
[null,"Iraq"]
[null,"Irlanda del Nord UE",null,null,null,null,null,null,4,null,5]
[null,"Irlanda, Repubblica di UE",null,null,4,null,4,null,4,null,4]
[null,"Islanda"]
[null,"Isola Unione (St. Vincent e le Grenadine)",null,null,null,null,null,null,null,null,null,null,4]
[null,"Isole Canarie"]
[null,"Isole Capo Verde"]
[null,"Isole Cayman"]
[null,"Isole Cook"]
[null,"Isole del Canale",null,null,null,null,null,null,null,null,6]
[null,"Isole Faroe"]
[null,"Isole Marianne del Nord"]
[null,"Isole Marshall"]
[null,"Isole Salomone"]
[null,"Isole Turks e Caicos"]
[null,"Isole Vergini Britanniche"]
[null,"Isole Vergini Statunitensi"]
[null,"Isole Wallis e Futuna"]
[null,"Israele"]
[null,"Italia UE:"]
[null,"Codici di avviamento postale"]
[null,"00000 - 06999",null,null,1,null,1,null,1,null,1]
[null,"10000 - 86999"]
[null,"Codici di avviamento postale"]
[null,"07000 - 09999, 87000 - 98999",null,null,null,null,null,null,null,null,2]
[null,"J"]
[null,"Jersey",null,null,null,null,null,null,null,null,6]
[null,"K"]
[null,"Kazakistan"]
[null,"Kenya"]
[null,"Kiribati"]
[null,"Kosovo"]
[null,"Kosrae (Micronesia)"]
[null,"Kuwait"]
[null,"Kyrgyzstan"]
[null,"L"]
[null,"Laos"]
[null,"Lesotho"]
[null,"Lettonia UE",null,null,null,null,null,null,42,null,52]
[null,"Libano"]
[null,"Liberia"]
[null,"Libya"]
[null,"Liechtenstein",null,null,null,null,5,null,null,null,6]
[null,"Lituania",null,null,null,null,42,null,42,null,52]
[null,"Lussemburgo UE",null,null,3,null,3,null,3,null,4]
[null,"M"]
[null,"Macau",null,null,null,null,null,null,null,null,null,null,4]
[null,"Macedonia"]
[null,"Madagascar"]
[null,"Madera UE, Isola di",null,null,null,null,null,null,4]
[null,"Malawi"]
[null,"Maldive"]
[null,"Malesia",null,null,null,null,null,null,null,null,null,null,5]
[null,"Mali"]
[null,"Malta UE",null,null,null,null,null,null,42]
[null,"Marocco"]
[null,"Martinica"]
[null,"Mauritania"]
[null,"Mauritius"]
[null,"Mayotte"]
[null,"Melilla"]
[null,"Messico",null,null,null,null,null,null,null,null,null,null,5]
[null,"Micronesia (Stati Federali)"]
[null,"Moldavia"]
[null,"Monaco, Principato di",null,null,null,null,2,null,2,null,4]
[null,"Mongolia"]
[null,"Montenegro",null,null,null,null,null,null,6]
[null,"Montserrat"]
[null,"Mozambico"]
[null,"N"]
[null,"Namibia"]
[null,"Nepal"]
[null,"Nevis (St Kitts)"]
[null,"Nicaragua",null,null,null,null,null,null,null,null,null,null,5]
[null,"Niger"]
[null,"Nigeria"]
[null,"Norvegia",null,null,null,null,5,null,null,null,6]
[null,"Nuova Caledonia"]
[null,"Nuova Zelanda",null,null,null,null,null,null,null,null,null,null,5]
[null,"O"]
[null,"Olanda (Paesi Bassi) UE",null,null,3,null,3,null,3,null,4]
[null,"Oman"]
[null,"P"]
[null,"Pakistan"]
[null,"Palau"]
[null,"Panama",null,null,null,null,null,null,null,null,null,null,5]
[null,"Papua Nuova Guinea"]
[null,"Paraguay"]
[null,"Peru`",null,null,null,null,null,null,null,null,null,null,5]
[null,"Polinesia Francese"]
[null,"Polonia",null,null,41,null,41,null,41,null,51]
[null,"Ponape  (Stati Federali della Micronesia)"]
[null,"Portogallo UE",null,null,4,null,4,null,4,null,4]
[null,"Puerto Rico",null,null,null,null,8,null,null,null,null,null,3]
[null,"Q"]
[null,"Qatar"]
[null,"R"]
[null,"Regno Unito UE: "]
[null,"Galles UE",null,null,null,null,2,null,2,null,4]
[null,"Inghilterra UE ",null,null,2,null,2,null,2,null,4]
[null,"Irlanda del Nord UE",null,null,null,null,null,null,4,null,5]
[null,"Scozia UE ",null,null,null,null,2,null,2,null,4]
[null,"Reunion"]
[null,"Romania"]
[null,"Rota (Isole Marianne del Nord)"]
[null,"Ruanda"]
[null,"Russia"]
[null,"Le seguenti citta`:"]
[null,"Mosca"]
[null,"San Pietroburgo"]
[null,"Altre localita`"]
[null,"S"]
[null,"Saba (Antille Olandesi)"]
[null,"Saipan (Isole Marianne del Nord)"]
[null,"Samoa Americane"]
[null,"Samoa Occidentali"]
[null,"Scozia UE ",null,null,null,null,2,null,2,null,4]
[null,"Senegal"]
[null,"Serbia e Montenegro"]
[null,"Seychelles"]
[null,"Sierra Leone"]
[null,"Singapore",null,null,null,null,null,null,null,null,null,null,4]
[null,"Siria"]
[null,"Slovacca, Repubblica UE",null,null,null,null,41,null,41,null,51]
[null,"Slovenia UE",null,null,null,null,41,null,41,null,5]
[null,"Spagna UE \n(tranne Isole Canarie, Ceuta e Melilla)"]
[null,"Sri Lanka"]
[null,"St. Barthelemy"]
[null,"St. Christopher (St Kitts)"]
[null,"St. Croix (Isole Vergini Statunitensi)"]
[null,"St. Eustatius (Antille Olandesi)"]
[null,"St. John (Isole Vergini Statunitensi)"]
[null,"St. Kitts (St Chistopher)"]
[null,"St. Lucia"]
[null,"St. Maarten (Antille Olandesi)"]
[null,"St. Martin (Guadalupa)"]
[null,"St. Thomas (Isole Vergini Statunitensi)"]
[null,"St. Vincent e le Grenadine"]
[null,"Stati Uniti"]
[null,"Stati Orientali",null,null,null,null,8,null,null,null,null,null,2]
[null,"(Alabama, Conneticut, Delaware,"]
[null,"District of Columbia, Florida, "]
[null,"Georgia, Illinois, Indiana, Iowa, "]
[null,"Kentucky, Maine, Maryland, "]
[null,"Massachusetts, Michigan, Missouri, "]
[null,"New Hampshire, New Jersey, "]
[null,"North Carolina, New York, Ohio, "]
[null,"Pennsylvania, Rhode Island, "]
[null,"South Carolina, Tennessee, "]
[null,"Vermont, Virginia, West Virginia, "]
[null,"Wisconsin)"]
[null,"Altre localita`",null,null,null,null,8]
[null,"Sud Africa"]
[null,"Suriname"]
[null,"Svezia UE",null,null,4,null,4,null,4,null,5]
[null,"Svizzera\n(solo UPS Envelopes e Documenti per il servizio Express Plus)"]
[null,"Swaziland"]
[null,"T"]
[null,"Tahiti"]
[null,"Tailandia",null,null,null,null,null,null,null,null,null,null,5]
[null,"Taiwan",null,null,null,null,null,null,null,null,null,null,4]
[null,"Tajikistan"]
[null,"Tanzania"]
[null,"Timor Est"]
[null,"Tinian (Isole Marianne del Nord)"]
[null,"Togo"]
[null,"Tonga"]
[null,"Tortola (Isole Vergini Britanniche)"]
[null,"Trinidad e Tobago"]
[null,"Truk (Stati Federali della Micronesia)"]
[null,"Tunisia"]
[null,"Turchia",null,null,null,null,null,null,null,null,null,null,1]
[null,"Turkmenistan"]
[null,"Tuvalu"]
[null,"U"]
[null,"Ucraina"]
[null,"Uganda"]
[null,"Ungheria UE",null,null,41,null,41,null,41,null,51]
[null,"Uruguay"]
[null,"Uzbekistan"]
[null,"V"]
[null,"Vanuatu"]
[null,"Venezuela",null,null,null,null,null,null,null,null,null,null,5]
[null,"Vietnam"]
[null,"Virgin Gorda (Isole Vergini Britanniche)"]
[null,"Y"]
[null,"Yap (Stati Federali della Micronesia)"]
[null,"Yemen, Repubblica dello"]
[null,"Z"]
[null,"Zambia"]
[null,"Zimbabwe"]

{"sheet":"Zone Import","index":6,"n_rows":323,"n_cols":20,"rows_kept":323,"cut":false,"hidden":false,"merged":[[5,1,6,2],[1,1,1,12],[3,4,3,14]]}
[]
[null,null,null,null,null,null,null,null,null,null,null,null,null,null,null,null,null,null,null,{"$f":"Cover!$C$2","v":"GLOCAL WEB"}]
[]
[null,"Località di Partenza",null,null,"Servizi UPS "]
[]
[null,"Come consultare la Guida: \n\n1. Scorrere verso il basso fino a trovare il paese/località di destino (in ordine alfabetico)\n\n2. Per visualizzare il Costo, basta cliccare sulla Zona corrispondente al servizio desiderato.\n\n3. La freccia       indica che la Zona tariffaria e' valida per tutti i CAP e/o le citta' elencate di seguito.",null,null,"Express plus*",null,"Express*",null,"Express saver",null,"Standard",null,"Expedited",null,"Express freight"]
[]
[null,null,null,null,"Zona",null,"Zona",null,"Zona",null,"Zona",null,"Zona",null,"Zona"]
[null,"A"]
[null,"Afghanistan"]
[null,"Albania"]
[null,"Algeria "]
[null,"Angola"]
[null,"Anguilla"]
[null,"Antigua e Barbuda "]
[null,"Antille Olandesi"]
[null,"Arabia Saudita"]
[null,"Argentina"]
[null,"Armenia"]
[null,"Aruba"]
[null,"Australia"]
[null,"Austria UE"]
[null,"Azerbaijan"]
[null,"Azzorre UE"]
[null,"B"]
[null,"Bahamas"]
[null,"Bahrain"]
[null,"Bangladesh"]
[null,"Barbados"]
[null,"Barbuda (Antigua) "]
[null,"Belgio UE"]
[null,"Benin"]
[null,"Bermuda"]
[null,"Bhutan"]
[null,"Bielorussia"]
[null,"Birmania"]
[null,"Bolivia"]
[null,"Bonaire (Antille Olandesi) "]
[null,"Bosnia-Herzegovina"]
[null,"Botswana"]
[null,"Brasile"]
[null,"Brunei"]
[null,"Bulgaria "]
[null,"Burkina Faso"]
[null,"Burundi"]
[null,"C"]
[null,"Cambogia"]
[null,"Camerun"]
[null,"Canada:"]
[null,"Codici postali aventi come sigla iniziale"]
[null,"H0A - H9Z"]
[null,"J4B - J4Z, J8P - J9A"]
[null,"K1A - K2R"]
[null,"L1G - L1Z, L2E - L2W"]
[null,"L3P - L3T, L3X - L4L"]
[null,"L4T - L9T"]
[null,"M0A - M9Z"]
[null,"N2A - N2V, N5Z - N6N"]
[null,"N8N - N9K"]
[null,"R2C - R4A"]
[null,"T1Y - T3L, T5A - T6V"]
[null,"V1M, V2W - V3E"]
[null,"V3H - V7Y"]
[null,"Altre localita`"]
[null,"Ceca, Repubblica"]
[null,"Ciad"]
[null,"Cile"]
[null,"Cina, Repubblica Popolare",null,null,10]
[null,"Cipro UE",null,null,42]
[null,"Cisgiordania (Gaza)",null,null,null,null,null,null,null,null,null,null,4]
[null,"Colombia"]
[null,"Comore, isole"]
[null,"Congo (Brazzaville)"]
[null,"Congo, Repubblica Democratica"]
[null,"Corea del Sud"]
[null,"Costa d'Avorio"]
[null,"Costa Rica"]
[null,"Croazia"]
[null,"Curacao (Antille Olandesi) "]
[null,"D"]
[null,"Danimarca UE",null,null,4]
[null,"Dominica"]
[null,"Dominicana, Repubblica"]
[null,"E"]
[null,"Ecuador"]
[null,"Egitto"]
[null,"El Salvador"]
[null,"Emirati Arabi Uniti"]
[null,"Eritrea"]
[null,"Estonia"]
[null,"Etiopia"]
[null,"F"]
[null,"Figi"]
[null,"Filippine"]
[null,"Finlandia UE"]
[null,"Francia UE:"]
[null,"   Le seguenti citta` e i Codici postali aventi "]
[null,"come sigla iniziale"]
[null,"01000 - 01999"]
[null,"04000 - 07999"]
[null,"13000 - 13999"]
[null,"20000 - 21999"]
[null,"25000 - 26999"]
[null,"30000 - 30999"]
[null,"70000 - 71999"]
[null,"73000 - 74999, 83000 - 84999"]
[null,"Avignone"]
[null,"Digione"]
[null,"Grenoble"]
[null,"Lione"]
[null,"Marsiglia"]
[null,"Nizza"]
[null,"Altre localita`"]
[null,"G"]
[null,"Gabon"]
[null,"Galles UE"]
[null,"Gambia"]
[null,"Gaza (Cisgiordania)"]
[null,"Georgia"]
[null,"Germania UE:"]
[null,"Codici postali aventi come sigla iniziale"]
[null,"66000 - 79999"]
[null,"80000 - 87999"]
[null,"88000 - 89999"]
[null,"90000 - 97999"]
[null,"Heidelberg"]
[null,"Hof"]
[null,"Karlsruhe"]
[null,"Mannheim"]
[null,"Munich"]
[null,"Nuremberg"]
[null,"Passau"]
[null,"Stuttgart"]
[null,"Trier"]
[null,"Wurzburg"]
[null,"Altre localita`"]
[null,"Ghana"]
[null,"Giamaica"]
[null,"Giappone"]
[null,"Gibilterra"]
[null,"Gibuti"]
[null,"Giordania"]
[null,"Grecia UE"]
[null,"Grenada"]
[null,"Guadalupa"]
[null,"Guam"]
[null,"Guatemala"]
[null,"Guernsey  (Isole del Canale)"]
[null,"Guinea"]
[null,"Guinea Bissau"]
[null,"Guyana"]
[null,"H"]
[null,"Haiti"]
[null,"Honduras"]
[null,"Hong Kong"]
[null,"I"]
[null,"India"]
[null,"Indonesia"]
[null,"Inghilterra UE "]
[null,"Iraq"]
[null,"Irlanda del Nord UE"]
[null,"Irlanda, Repubblica di UE"]
[null,"Islanda"]
[null,"Isola Unione (St. Vincent e le Grenadine)"]
[null,"Isole Canarie"]
[null,"Isole Capo Verde"]
[null,"Isole Cayman"]
[null,"Isole del Canale"]
[null,"Isole Marianne del Nord"]
[null,"Isole Vergini Britanniche"]
[null,"Isole Vergini Statunitensi"]
[null,"Isole Wallis e Futuna"]
[null,"Israele"]
[null,"J"]
[null,"Jersey"]
[null,"K"]
[null,"Kazakistan"]
[null,"Kenya"]
[null,"Kyrgyzstan"]
[null,"Kosovo"]
[null,"Kuwait"]
[null,"L"]
[null,"Laos"]
[null,"Lesotho"]
[null,"Lettonia UE"]
[null,"Libano"]
[null,"Liberia"]
[null,"Libya"]
[null,"Liechtenstein"]
[null,"Lituania"]
[null,"Lussemburgo UE"]
[null,"M"]
[null,"Macau"]
[null,"Macedonia"]
[null,"Madagascar"]
[null,"Madera UE, Isola di"]
[null,"Malawi"]
[null,"Malesia"]
[null,"Mali"]
[null,"Malta UE"]
[null,"Marocco"]
[null,"Martinica"]
[null,"Mauritania"]
[null,"Mauritius"]
[null,"Mayotte"]
[null,"Messico"]
[null,"Moldavia"]
[null,"Monaco, Principato di"]
[null,"Mongolia"]
[null,"Montenegro"]
[null,"Montserrat"]
[null,"Mozambico"]
[null,"N"]
[null,"Namibia"]
[null,"Nepal"]
[null,"Nevis (St Kitts)"]
[null,"Nicaragua"]
[null,"Niger"]
[null,"Nigeria"]
[null,"Norvegia"]
[null,"Nuova Caledonia"]
[null,"Nuova Zelanda"]
[null,"O"]
[null,"Olanda (Paesi Bassi) UE"]
[null,"Oman"]
[null,"P"]
[null,"Pakistan"]
[null,"Panama"]
[null,"Paraguay"]
[null,"Peru`"]
[null,"Polinesia Francese"]
[null,"Polonia"]
[null,"Portogallo UE"]
[null,"Puerto Rico"]
[null,"Q"]
[null,"Qatar"]
[null,"R"]
[null,"Regno Unito UE: "]
[null,"Galles UE"]
[null,"Inghilterra UE "]
[null,"Irlanda del Nord UE"]
[null,"Scozia UE "]
[null,"Reunion"]
[null,"Romania"]
[null,"Rota (Isole Marianne del Nord)"]
[null,"Ruanda"]
[null,"Russia"]
[null,"Le seguenti citta`:"]
[null,"Mosca"]
[null,"San Pietroburgo"]
[null,"Altre localita`"]
[null,"S"]
[null,"Saba (Antille Olandesi)"]
[null,"Saipan (Isole Marianne del Nord)"]
[null,"Samoa Americane"]
[null,"Samoa Occidentali"]
[null,"Scozia UE "]
[null,"Senegal"]
[null,"Serbia e Montenegro"]
[null,"Seychelles"]
[null,"Sierra Leone"]
[null,"Singapore"]
[null,"Siria"]
[null,"Slovacca, Repubblica UE"]
[null,"Slovenia UE"]
[null,"Spagna UE \n(tranne Isole Canarie, Ceuta e Melilla)"]
[null,"Sri Lanka"]
[null,"St. Barthelemy"]
[null,"St. Christopher (St Kitts)"]
[null,"St. Croix (Isole Vergini Statunitensi)"]
[null,"St. Eustatius (Antille Olandesi)"]
[null,"St. John (Isole Vergini Statunitensi)"]
[null,"St. Kitts (St Chistopher)"]
[null,"St. Lucia"]
[null,"St. Maarten (Antille Olandesi)"]
[null,"St. Martin (Guadalupa)"]
[null,"St. Thomas (Isole Vergini Statunitensi)"]
[null,"St. Vincent e le Grenadine"]
[null,"Stati Uniti"]
[null,"Stati Orientali"]
[null,"(Alabama, Conneticut, Delaware,"]
[null,"District of Columbia, Florida, "]
[null,"Georgia, Illinois, Indiana, Iowa, "]
[null,"Kentucky, Maine, Maryland, "]
[null,"Massachusetts, Michigan, Missouri, "]
[null,"New Hampshire, New Jersey, "]
[null,"North Carolina, New York, Ohio, "]
[null,"Pennsylvania, Rhode Island, "]
[null,"South Carolina, Tennessee, "]
[null,"Vermont, Virginia, West Virginia, "]
[null,"Wisconsin)"]
[null,"Altre localita`"]
[null,"Sud Africa"]
[null,"Suriname"]
[null,"Svezia UE"]
[null,"Svizzera\n(solo UPS Envelopes e Documenti per il servizio Express Plus)"]
[null,"Swaziland"]
[null,"T"]
[null,"Tahiti"]
[null,"Tailandia"]
[null,"Taiwan"]
[null,"Tanzania"]
[null,"Tinian (Isole Marianne del Nord)"]
[null,"Togo"]
[null,"Tortola (Isole Vergini Britanniche)"]
[null,"Trinidad e Tobago"]
[null,"Tunisia"]
[null,"Turchia"]
[null,"U"]
[null,"Ucraina"]
[null,"Uganda"]
[null,"Ungheria UE"]
[null,"Uruguay"]
[null,"Uzbekistan"]
[null,"V"]
[null,"Venezuela"]
[null,"Vietnam"]
[null,"Virgin Gorda (Isole Vergini Britanniche)"]
[null,"Y"]
[null,"Yemen, Repubblica dello"]
[null,"Z"]
[null,"Zambia"]
[null,"Zimbabwe"]

{"sheet":"Express Plus","index":7,"n_rows":79,"n_cols":13,"rows_kept":79,"cut":false,"hidden":false,"merged":[[31,1,31,2],[14,1,14,2],[10,1,10,15],[14,4,14,7],[17,1,22,1],[15,1,15,2],[14,12,14,15],[30,4,30,7],[30,1,30,2],[70,20,78,36],[15,20,20,36],[63,20,67,36],[27,20,32,36],[54,20,60,36],[46,20,46,23],[45,25,46,35],[35,20,41,36]]}
[]
[]
[]
[]
[]
[]
[]
[]
[]
[]
[null,"Per ulteriori dettagli su Garanzie di Rimborso, Copertura Servizi e Condizioni contattare il Numero 02 30 30 30 39 o visitare il sito www.ups.com"]
[]
[null,null,null,null,null,null,null,null,null,null,null,null,"Spettabile"]
[]
[null,"€",null,"Italia","Unione Europea",null,null,null,"Svizzera","USA e Canada","Resto del Mondo",null,{"$f":"+Cover!$C$2","v":"GLOCAL WEB"}]
[null,"Zona",null,1,2,3,4,41,5,8,9]
[null,"Envelope",null,{"$f":"('Sconti Export'!R311-('Sconti Export'!R311*'Sconti Export'!C311))*'Zone Export'!$V$14","v":75.349999999999994},{"$f":"('Sconti Export'!S311-('Sconti Export'!S311*'Sconti Export'!D311))*'Zone Export'!$V$14","v":96.9},{"$f":"('Sconti Export'!T311-('Sconti Export'!T311*'Sconti Export'!E311))*'Zone Export'!$V$14","v":97},{"$f":"('Sconti Export'!U311-('Sconti Export'!U311*'Sconti Export'!F311))*'Zone Export'!$V$14","v":100.55},{"$f":"('Sconti Export'!V311-('Sconti Export'!V311*'Sconti Export'!G311))*'Zone Export'!$V$14","v":135.94999999999999},{"$f":"('Sconti Export'!W311-('Sconti Export'!W311*'Sconti Export'!H311))*'Zone Export'!$V$14","v":102.9},{"$f":"('Sconti Export'!X311-('Sconti Export'!X311*'Sconti Export'!I311))*'Zone Export'!$V$14","v":102.95},{"$f":"('Sconti Export'!Y311-('Sconti Export'!Y311*'Sconti Export'!J311))*'Zone Export'!$V$14","v":108.9}]
[null,"Documenti","Peso"]
[null,null,"0,5 kg",{"$f":"('Sconti Export'!R313-('Sconti Export'!R313*'Sconti Export'!C313))*'Zone Export'!$V$14","v":78.400000000000006},{"$f":"('Sconti Export'!S313-('Sconti Export'!S313*'Sconti Export'!D313))*'Zone Export'!$V$14","v":100.9},{"$f":"('Sconti Export'!T313-('Sconti Export'!T313*'Sconti Export'!E313))*'Zone Export'!$V$14","v":102.75},{"$f":"('Sconti Export'!U313-('Sconti Export'!U313*'Sconti Export'!F313))*'Zone Export'!$V$14","v":106.3},{"$f":"('Sconti Export'!V313-('Sconti Export'!V313*'Sconti Export'!G313))*'Zone Export'!$V$14","v":143.25},{"$f":"('Sconti Export'!W313-('Sconti Export'!W313*'Sconti Export'!H313))*'Zone Export'!$V$14","v":102.9},{"$f":"('Sconti Export'!X313-('Sconti Export'!X313*'Sconti Export'!I313))*'Zone Export'!$V$14","v":102.95},{"$f":"('Sconti Export'!Y313-('Sconti Export'!Y313*'Sconti Export'!J313))*'Zone Export'!$V$14","v":108.9}]
[null,null,"1,0 kg",{"$f":"('Sconti Export'!R314-('Sconti Export'!R314*'Sconti Export'!C314))*'Zone Export'!$V$14","v":78.400000000000006},{"$f":"('Sconti Export'!S314-('Sconti Export'!S314*'Sconti Export'!D314))*'Zone Export'!$V$14","v":111.65},{"$f":"('Sconti Export'!T314-('Sconti Export'!T314*'Sconti Export'!E314))*'Zone Export'!$V$14","v":113.65},{"$f":"('Sconti Export'!U314-('Sconti Export'!U314*'Sconti Export'!F314))*'Zone Export'!$V$14","v":117.1},{"$f":"('Sconti Export'!V314-('Sconti Export'!V314*'Sconti Export'!G314))*'Zone Export'!$V$14","v":155.4},{"$f":"('Sconti Export'!W314-('Sconti Export'!W314*'Sconti Export'!H314))*'Zone Export'!$V$14","v":114.1},{"$f":"('Sconti Export'!X314-('Sconti Export'!X314*'Sconti Export'!I314))*'Zone Export'!$V$14","v":114.15},{"$f":"('Sconti Export'!Y314-('Sconti Export'!Y314*'Sconti Export'!J314))*'Zone Export'!$V$14","v":128.19999999999999}]
[null,null,"1,5 kg",{"$f":"('Sconti Export'!R315-('Sconti Export'!R315*'Sconti Export'!C315))*'Zone Export'!$V$14","v":81.45},{"$f":"('Sconti Export'!S315-('Sconti Export'!S315*'Sconti Export'!D315))*'Zone Export'!$V$14","v":122.35},{"$f":"('Sconti Export'!T315-('Sconti Export'!T315*'Sconti Export'!E315))*'Zone Export'!$V$14","v":124.55},{"$f":"('Sconti Export'!U315-('Sconti Export'!U315*'Sconti Export'!F315))*'Zone Export'!$V$14","v":127.95},{"$f":"('Sconti Export'!V315-('Sconti Export'!V315*'Sconti Export'!G315))*'Zone Export'!$V$14","v":179.3},{"$f":"('Sconti Export'!W315-('Sconti Export'!W315*'Sconti Export'!H315))*'Zone Export'!$V$14","v":125.35},{"$f":"('Sconti Export'!X315-('Sconti Export'!X315*'Sconti Export'!I315))*'Zone Export'!$V$14","v":127},{"$f":"('Sconti Export'!Y315-('Sconti Export'!Y315*'Sconti Export'!J315))*'Zone Export'!$V$14","v":147.55000000000001}]
[null,null,"2,0 kg",{"$f":"('Sconti Export'!R316-('Sconti Export'!R316*'Sconti Export'!C316))*'Zone Export'!$V$14","v":81.45},{"$f":"('Sconti Export'!S316-('Sconti Export'!S316*'Sconti Export'!D316))*'Zone Export'!$V$14","v":133},{"$f":"('Sconti Export'!T316-('Sconti Export'!T316*'Sconti Export'!E316))*'Zone Export'!$V$14","v":135.5},{"$f":"('Sconti Export'!U316-('Sconti Export'!U316*'Sconti Export'!F316))*'Zone Export'!$V$14","v":138.75},{"$f":"('Sconti Export'!V316-('Sconti Export'!V316*'Sconti Export'!G316))*'Zone Export'!$V$14","v":203.2},{"$f":"('Sconti Export'!W316-('Sconti Export'!W316*'Sconti Export'!H316))*'Zone Export'!$V$14","v":136.5},{"$f":"('Sconti Export'!X316-('Sconti Export'!X316*'Sconti Export'!I316))*'Zone Export'!$V$14","v":141.44999999999999},{"$f":"('Sconti Export'!Y316-('Sconti Export'!Y316*'Sconti Export'!J316))*'Zone Export'!$V$14","v":166.9}]
[null,null,"2,5 kg",{"$f":"('Sconti Export'!R317-('Sconti Export'!R317*'Sconti Export'!C317))*'Zone Export'!$V$14","v":81.45},{"$f":"('Sconti Export'!S317-('Sconti Export'!S317*'Sconti Export'!D317))*'Zone Export'!$V$14","v":143.80000000000001},{"$f":"('Sconti Export'!T317-('Sconti Export'!T317*'Sconti Export'!E317))*'Zone Export'!$V$14","v":146.44999999999999},{"$f":"('Sconti Export'!U317-('Sconti Export'!U317*'Sconti Export'!F317))*'Zone Export'!$V$14","v":149.44999999999999},{"$f":"('Sconti Export'!V317-('Sconti Export'!V317*'Sconti Export'!G317))*'Zone Export'!$V$14","v":227.1},{"$f":"('Sconti Export'!W317-('Sconti Export'!W317*'Sconti Export'!H317))*'Zone Export'!$V$14","v":147.80000000000001},{"$f":"('Sconti Export'!X317-('Sconti Export'!X317*'Sconti Export'!I317))*'Zone Export'!$V$14","v":155.9},{"$f":"('Sconti Export'!Y317-('Sconti Export'!Y317*'Sconti Export'!J317))*'Zone Export'!$V$14","v":186.65}]
[]
[]
[]
[]
[]
[]
[]
[null,"€",null,"Italia","Unione Europea",null,null,null,"Svizzera","USA e Canada","Resto del Mondo"]
[null,"Zona",null,1,2,3,4,41,5,8,9]
[null,"Peso"]
[null,"0,5 kg",null,{"$f":"IF('Sconti Export'!R$255>'Sconti Export'!R256-('Sconti Export'!R256*'Sconti Export'!C256),'Sconti Export'!R255*'Zone Export'!$V$14,('Sconti Export'!R256-('Sconti Export'!R256*'Sconti Export'!C256))*'Zone Export'!$V$14)","v":78.400000000000006},{"$f":"IF('Sconti Export'!S$255>'Sconti Export'!S256-('Sconti Export'!S256*'Sconti Export'!D256),'Sconti Export'!S255*'Zone Export'!$V$14,('Sconti Export'!S256-('Sconti Export'!S256*'Sconti Export'!D256))*'Zone Export'!$V$14)","v":100.9},{"$f":"IF('Sconti Export'!T$255>'Sconti Export'!T256-('Sconti Export'!T256*'Sconti Export'!E256),'Sconti Export'!T255*'Zone Export'!$V$14,('Sconti Export'!T256-('Sconti Export'!T256*'Sconti Export'!E256))*'Zone Export'!$V$14)","v":102.75},{"$f":"IF('Sconti Export'!U$255>'Sconti Export'!U256-('Sconti Export'!U256*'Sconti Export'!F256),'Sconti Export'!U255*'Zone Export'!$V$14,('Sconti Export'!U256-('Sconti Export'!U256*'Sconti Export'!F256))*'Zone Export'!$V$14)","v":106.3},{"$f":"IF('Sconti Export'!V$255>'Sconti Export'!V256-('Sconti Export'!V256*'Sconti Export'!G256),'Sconti Export'!V255*'Zone Export'!$V$14,('Sconti Export'!V256-('Sconti Export'!V256*'Sconti Export'!G256))*'Zone Export'!$V$14)","v":143.25},{"$f":"IF('Sconti Export'!W$255>'Sconti Export'!W256-('Sconti Export'!W256*'Sconti Export'!H256),'Sconti Export'!W255*'Zone Export'!$V$14,('Sconti Export'!W256-('Sconti Export'!W256*'Sconti Export'!H256))*'Zone Export'!$V$14)","v":119.85},{"$f":"IF('Sconti Export'!X$255>'Sconti Export'!X256-('Sconti Export'!X256*'Sconti Export'!I256),'Sconti Export'!X255*'Zone Export'!$V$14,('Sconti Export'!X256-('Sconti Export'!X256*'Sconti Export'!I256))*'Zone Export'!$V$14)","v":132.55000000000001},{"$f":"IF('Sconti Export'!Y$255>'Sconti Export'!Y256-('Sconti Export'!Y256*'Sconti Export'!J256),'Sconti Export'!Y255*'Zone Export'!$V$14,('Sconti Export'!Y256-('Sconti Export'!Y256*'Sconti Export'!J256))*'Zone Export'!$V$14)","v":176.85}]
[null,"1,0 kg",null,{"$f":"IF('Sconti Export'!R$255>'Sconti Export'!R257-('Sconti Export'!R257*'Sconti Export'!C257),'Sconti Export'!R256*'Zone Export'!$V$14,('Sconti Export'!R257-('Sconti Export'!R257*'Sconti Export'!C257))*'Zone Export'!$V$14)","v":78.400000000000006},{"$f":"IF('Sconti Export'!S$255>'Sconti Export'!S257-('Sconti Export'!S257*'Sconti Export'!D257),'Sconti Export'!S256*'Zone Export'!$V$14,('Sconti Export'!S257-('Sconti Export'!S257*'Sconti Export'!D257))*'Zone Export'!$V$14)","v":111.65},{"$f":"IF('Sconti Export'!T$255>'Sconti Export'!T257-('Sconti Export'!T257*'Sconti Export'!E257),'Sconti Export'!T256*'Zone Export'!$V$14,('Sconti Export'!T257-('Sconti Export'!T257*'Sconti Export'!E257))*'Zone Export'!$V$14)","v":113.65},{"$f":"IF('Sconti Export'!U$255>'Sconti Export'!U257-('Sconti Export'!U257*'Sconti Export'!F257),'Sconti Export'!U256*'Zone Export'!$V$14,('Sconti Export'!U257-('Sconti Export'!U257*'Sconti Export'!F257))*'Zone Export'!$V$14)","v":117.1},{"$f":"IF('Sconti Export'!V$255>'Sconti Export'!V257-('Sconti Export'!V257*'Sconti Export'!G257),'Sconti Export'!V256*'Zone Export'!$V$14,('Sconti Export'!V257-('Sconti Export'!V257*'Sconti Export'!G257))*'Zone Export'!$V$14)","v":155.4},{"$f":"IF('Sconti Export'!W$255>'Sconti Export'!W257-('Sconti Export'!W257*'Sconti Export'!H257),'Sconti Export'!W256*'Zone Export'!$V$14,('Sconti Export'!W257-('Sconti Export'!W257*'Sconti Export'!H257))*'Zone Export'!$V$14)","v":129.5},{"$f":"IF('Sconti Export'!X$255>'Sconti Export'!X257-('Sconti Export'!X257*'Sconti Export'!I257),'Sconti Export'!X256*'Zone Export'!$V$14,('Sconti Export'!X257-('Sconti Export'!X257*'Sconti Export'!I257))*'Zone Export'!$V$14)","v":138.65},{"$f":"IF('Sconti Export'!Y$255>'Sconti Export'!Y257-('Sconti Export'!Y257*'Sconti Export'!J257),'Sconti Export'!Y256*'Zone Export'!$V$14,('Sconti Export'!Y257-('Sconti Export'!Y257*'Sconti Export'!J257))*'Zone Export'!$V$14)","v":195.3}]
[null,"1,5 kg",null,{"$f":"IF('Sconti Export'!R$255>'Sconti Export'!R258-('Sconti Export'!R258*'Sconti Export'!C258),'Sconti Export'!R257*'Zone Export'!$V$14,('Sconti Export'!R258-('Sconti Export'!R258*'Sconti Export'!C258))*'Zone Export'!$V$14)","v":81.45},{"$f":"IF('Sconti Export'!S$255>'Sconti Export'!S258-('Sconti Export'!S258*'Sconti Export'!D258),'Sconti Export'!S257*'Zone Export'!$V$14,('Sconti Export'!S258-('Sconti Export'!S258*'Sconti Export'!D258))*'Zone Export'!$V$14)","v":122.35},{"$f":"IF('Sconti Export'!T$255>'Sconti Export'!T258-('Sconti Export'!T258*'Sconti Export'!E258),'Sconti Export'!T257*'Zone Export'!$V$14,('Sconti Export'!T258-('Sconti Export'!T258*'Sconti Export'!E258))*'Zone Export'!$V$14)","v":124.55},{"$f":"IF('Sconti Export'!U$255>'Sconti Export'!U258-('Sconti Export'!U258*'Sconti Export'!F258),'Sconti Export'!U257*'Zone Export'!$V$14,('Sconti Export'!U258-('Sconti Export'!U258*'Sconti Export'!F258))*'Zone Export'!$V$14)","v":127.95},{"$f":"IF('Sconti Export'!V$255>'Sconti Export'!V258-('Sconti Export'!V258*'Sconti Export'!G258),'Sconti Export'!V257*'Zone Export'!$V$14,('Sconti Export'!V258-('Sconti Export'!V258*'Sconti Export'!G258))*'Zone Export'!$V$14)","v":179.3},{"$f":"IF('Sconti Export'!W$255>'Sconti Export'!W258-('Sconti Export'!W258*'Sconti Export'!H258),'Sconti Export'!W257*'Zone Export'!$V$14,('Sconti Export'!W258-('Sconti Export'!W258*'Sconti Export'!H258))*'Zone Export'!$V$14)","v":139.19999999999999},{"$f":"IF('Sconti Export'!X$255>'Sconti Export'!X258-('Sconti Export'!X258*'Sconti Export'!I258),'Sconti Export'!X257*'Zone Export'!$V$14,('Sconti Export'!X258-('Sconti Export'!X258*'Sconti Export'!I258))*'Zone Export'!$V$14)","v":147.25},{"$f":"IF('Sconti Export'!Y$255>'Sconti Export'!Y258-('Sconti Export'!Y258*'Sconti Export'!J258),'Sconti Export'!Y257*'Zone Export'!$V$14,('Sconti Export'!Y258-('Sconti Export'!Y258*'Sconti Export'!J258))*'Zone Export'!$V$14)","v":213.95}]
[null,"2,0 kg",null,{"$f":"IF('Sconti Export'!R$255>'Sconti Export'!R259-('Sconti Export'!R259*'Sconti Export'!C259),'Sconti Export'!R258*'Zone Export'!$V$14,('Sconti Export'!R259-('Sconti Export'!R259*'Sconti Export'!C259))*'Zone Export'!$V$14)","v":81.45},{"$f":"IF('Sconti Export'!S$255>'Sconti Export'!S259-('Sconti Export'!S259*'Sconti Export'!D259),'Sconti Export'!S258*'Zone Export'!$V$14,('Sconti Export'!S259-('Sconti Export'!S259*'Sconti Export'!D259))*'Zone Export'!$V$14)","v":133},{"$f":"IF('Sconti Export'!T$255>'Sconti Export'!T259-('Sconti Export'!T259*'Sconti Export'!E259),'Sconti Export'!T258*'Zone Export'!$V$14,('Sconti Export'!T259-('Sconti Export'!T259*'Sconti Export'!E259))*'Zone Export'!$V$14)","v":135.5},{"$f":"IF('Sconti Export'!U$255>'Sconti Export'!U259-('Sconti Export'!U259*'Sconti Export'!F259),'Sconti Export'!U258*'Zone Export'!$V$14,('Sconti Export'!U259-('Sconti Export'!U259*'Sconti Export'!F259))*'Zone Export'!$V$14)","v":138.75},{"$f":"IF('Sconti Export'!V$255>'Sconti Export'!V259-('Sconti Export'!V259*'Sconti Export'!G259),'Sconti Export'!V258*'Zone Export'!$V$14,('Sconti Export'!V259-('Sconti Export'!V259*'Sconti Export'!G259))*'Zone Export'!$V$14)","v":203.2},{"$f":"IF('Sconti Export'!W$255>'Sconti Export'!W259-('Sconti Export'!W259*'Sconti Export'!H259),'Sconti Export'!W258*'Zone Export'!$V$14,('Sconti Export'!W259-('Sconti Export'!W259*'Sconti Export'!H259))*'Zone Export'!$V$14)","v":148.9},{"$f":"IF('Sconti Export'!X$255>'Sconti Export'!X259-('Sconti Export'!X259*'Sconti Export'!I259),'Sconti Export'!X258*'Zone Export'!$V$14,('Sconti Export'!X259-('Sconti Export'!X259*'Sconti Export'!I259))*'Zone Export'!$V$14)","v":157.6},{"$f":"IF('Sconti Export'!Y$255>'Sconti Export'!Y259-('Sconti Export'!Y259*'Sconti Export'!J259),'Sconti Export'!Y258*'Zone Export'!$V$14,('Sconti Export'!Y259-('Sconti Export'!Y259*'Sconti Export'!J259))*'Zone Export'!$V$14)","v":232.35}]
[null,"2,5 kg",null,{"$f":"IF('Sconti Export'!R$255>'Sconti Export'!R260-('Sconti Export'!R260*'Sconti Export'!C260),'Sconti Export'!R259*'Zone Export'!$V$14,('Sconti Export'!R260-('Sconti Export'!R260*'Sconti Export'!C260))*'Zone Export'!$V$14)","v":81.45},{"$f":"IF('Sconti Export'!S$255>'Sconti Export'!S260-('Sconti Export'!S260*'Sconti Export'!D260),'Sconti Export'!S259*'Zone Export'!$V$14,('Sconti Export'!S260-('Sconti Export'!S260*'Sconti Export'!D260))*'Zone Export'!$V$14)","v":143.80000000000001},{"$f":"IF('Sconti Export'!T$255>'Sconti Export'!T260-('Sconti Export'!T260*'Sconti Export'!E260),'Sconti Export'!T259*'Zone Export'!$V$14,('Sconti Export'!T260-('Sconti Export'!T260*'Sconti Export'!E260))*'Zone Export'!$V$14)","v":146.44999999999999},{"$f":"IF('Sconti Export'!U$255>'Sconti Export'!U260-('Sconti Export'!U260*'Sconti Export'!F260),'Sconti Export'!U259*'Zone Export'!$V$14,('Sconti Export'!U260-('Sconti Export'!U260*'Sconti Export'!F260))*'Zone Export'!$V$14)","v":149.44999999999999},{"$f":"IF('Sconti Export'!V$255>'Sconti Export'!V260-('Sconti Export'!V260*'Sconti Export'!G260),'Sconti Export'!V259*'Zone Export'!$V$14,('Sconti Export'!V260-('Sconti Export'!V260*'Sconti Export'!G260))*'Zone Export'!$V$14)","v":227.1},{"$f":"IF('Sconti Export'!W$255>'Sconti Export'!W260-('Sconti Export'!W260*'Sconti Export'!H260),'Sconti Export'!W259*'Zone Export'!$V$14,('Sconti Export'!W260-('Sconti Export'!W260*'Sconti Export'!H260))*'Zone Export'!$V$14)","v":158.75},{"$f":"IF('Sconti Export'!X$255>'Sconti Export'!X260-('Sconti Export'!X260*'Sconti Export'!I260),'Sconti Export'!X259*'Zone Export'!$V$14,('Sconti Export'!X260-('Sconti Export'!X260*'Sconti Export'!I260))*'Zone Export'!$V$14)","v":167.95},{"$f":"IF('Sconti Export'!Y$255>'Sconti Export'!Y260-('Sconti Export'!Y260*'Sconti Export'!J260),'Sconti Export'!Y259*'Zone Export'!$V$14,('Sconti Export'!Y260-('Sconti Export'!Y260*'Sconti Export'!J260))*'Zone Export'!$V$14)","v":250.85}]
[null,"3,0 kg",null,{"$f":"IF('Sconti Export'!R$255>'Sconti Export'!R261-('Sconti Export'!R261*'Sconti Export'!C261),'Sconti Export'!R260*'Zone Export'!$V$14,('Sconti Export'!R261-('Sconti Export'!R261*'Sconti Export'!C261))*'Zone Export'!$V$14)","v":81.45},{"$f":"IF('Sconti Export'!S$255>'Sconti Export'!S261-('Sconti Export'!S261*'Sconti Export'!D261),'Sconti Export'!S260*'Zone Export'!$V$14,('Sconti Export'!S261-('Sconti Export'!S261*'Sconti Export'!D261))*'Zone Export'!$V$14)","v":152.65},{"$f":"IF('Sconti Export'!T$255>'Sconti Export'!T261-('Sconti Export'!T261*'Sconti Export'!E261),'Sconti Export'!T260*'Zone Export'!$V$14,('Sconti Export'!T261-('Sconti Export'!T261*'Sconti Export'!E261))*'Zone Export'!$V$14)","v":155.4},{"$f":"IF('Sconti Export'!U$255>'Sconti Export'!U261-('Sconti Export'!U261*'Sconti Export'!F261),'Sconti Export'!U260*'Zone Export'!$V$14,('Sconti Export'!U261-('Sconti Export'!U261*'Sconti Export'!F261))*'Zone Export'!$V$14)","v":159.69999999999999},{"$f":"IF('Sconti Export'!V$255>'Sconti Export'!V261-('Sconti Export'!V261*'Sconti Export'!G261),'Sconti Export'!V260*'Zone Export'!$V$14,('Sconti Export'!V261-('Sconti Export'!V261*'Sconti Export'!G261))*'Zone Export'!$V$14)","v":252.6},{"$f":"IF('Sconti Export'!W$255>'Sconti Export'!W261-('Sconti Export'!W261*'Sconti Export'!H261),'Sconti Export'!W260*'Zone Export'!$V$14,('Sconti Export'!W261-('Sconti Export'!W261*'Sconti Export'!H261))*'Zone Export'!$V$14)","v":167.4},{"$f":"IF('Sconti Export'!X$255>'Sconti Export'!X261-('Sconti Export'!X261*'Sconti Export'!I261),'Sconti Export'!X260*'Zone Export'!$V$14,('Sconti Export'!X261-('Sconti Export'!X261*'Sconti Export'!I261))*'Zone Export'!$V$14)","v":178.2},{"$f":"IF('Sconti Export'!Y$255>'Sconti Export'!Y261-('Sconti Export'!Y261*'Sconti Export'!J261),'Sconti Export'!Y260*'Zone Export'!$V$14,('Sconti Export'!Y261-('Sconti Export'!Y261*'Sconti Export'!J261))*'Zone Export'!$V$14)","v":269.25}]
[null,"3,5 kg",null,{"$f":"IF('Sconti Export'!R$255>'Sconti Export'!R262-('Sconti Export'!R262*'Sconti Export'!C262),'Sconti Export'!R261*'Zone Export'!$V$14,('Sconti Export'!R262-('Sconti Export'!R262*'Sconti Export'!C262))*'Zone Export'!$V$14)","v":82.6},{"$f":"IF('Sconti Export'!S$255>'Sconti Export'!S262-('Sconti Export'!S262*'Sconti Export'!D262),'Sconti Export'!S261*'Zone Export'!$V$14,('Sconti Export'!S262-('Sconti Export'!S262*'Sconti Export'!D262))*'Zone Export'!$V$14)","v":161.5},{"$f":"IF('Sconti Export'!T$255>'Sconti Export'!T262-('Sconti Export'!T262*'Sconti Export'!E262),'Sconti Export'!T261*'Zone Export'!$V$14,('Sconti Export'!T262-('Sconti Export'!T262*'Sconti Export'!E262))*'Zone Export'!$V$14)","v":164.4},{"$f":"IF('Sconti Export'!U$255>'Sconti Export'!U262-('Sconti Export'!U262*'Sconti Export'!F262),'Sconti Export'!U261*'Zone Export'!$V$14,('Sconti Export'!U262-('Sconti Export'!U262*'Sconti Export'!F262))*'Zone Export'!$V$14)","v":170},{"$f":"IF('Sconti Export'!V$255>'Sconti Export'!V262-('Sconti Export'!V262*'Sconti Export'!G262),'Sconti Export'!V261*'Zone Export'!$V$14,('Sconti Export'!V262-('Sconti Export'!V262*'Sconti Export'!G262))*'Zone Export'!$V$14)","v":278.10000000000002},{"$f":"IF('Sconti Export'!W$255>'Sconti Export'!W262-('Sconti Export'!W262*'Sconti Export'!H262),'Sconti Export'!W261*'Zone Export'!$V$14,('Sconti Export'!W262-('Sconti Export'!W262*'Sconti Export'!H262))*'Zone Export'!$V$14)","v":176.2},{"$f":"IF('Sconti Export'!X$255>'Sconti Export'!X262-('Sconti Export'!X262*'Sconti Export'!I262),'Sconti Export'!X261*'Zone Export'!$V$14,('Sconti Export'!X262-('Sconti Export'!X262*'Sconti Export'!I262))*'Zone Export'!$V$14)","v":188.7},{"$f":"IF('Sconti Export'!Y$255>'Sconti Export'!Y262-('Sconti Export'!Y262*'Sconti Export'!J262),'Sconti Export'!Y261*'Zone Export'!$V$14,('Sconti Export'!Y262-('Sconti Export'!Y262*'Sconti Export'!J262))*'Zone Export'!$V$14)","v":287.8}]
[null,"4,0 kg",null,{"$f":"IF('Sconti Export'!R$255>'Sconti Export'!R263-('Sconti Export'!R263*'Sconti Export'!C263),'Sconti Export'!R262*'Zone Export'!$V$14,('Sconti Export'!R263-('Sconti Export'!R263*'Sconti Export'!C263))*'Zone Export'!$V$14)","v":82.6},{"$f":"IF('Sconti Export'!S$255>'Sconti Export'!S263-('Sconti Export'!S263*'Sconti Export'!D263),'Sconti Export'!S262*'Zone Export'!$V$14,('Sconti Export'!S263-('Sconti Export'!S263*'Sconti Export'!D263))*'Zone Export'!$V$14)","v":170.35},{"$f":"IF('Sconti Export'!T$255>'Sconti Export'!T263-('Sconti Export'!T263*'Sconti Export'!E263),'Sconti Export'!T262*'Zone Export'!$V$14,('Sconti Export'!T263-('Sconti Export'!T263*'Sconti Export'!E263))*'Zone Export'!$V$14)","v":173.35},{"$f":"IF('Sconti Export'!U$255>'Sconti Export'!U263-('Sconti Export'!U263*'Sconti Export'!F263),'Sconti Export'!U262*'Zone Export'!$V$14,('Sconti Export'!U263-('Sconti Export'!U263*'Sconti Export'!F263))*'Zone Export'!$V$14)","v":180.2},{"$f":"IF('Sconti Export'!V$255>'Sconti Export'!V263-('Sconti Export'!V263*'Sconti Export'!G263),'Sconti Export'!V262*'Zone Export'!$V$14,('Sconti Export'!V263-('Sconti Export'!V263*'Sconti Export'!G263))*'Zone Export'!$V$14)","v":303.60000000000002},{"$f":"IF('Sconti Export'!W$255>'Sconti Export'!W263-('Sconti Export'!W263*'Sconti Export'!H263),'Sconti Export'!W262*'Zone Export'!$V$14,('Sconti Export'!W263-('Sconti Export'!W263*'Sconti Export'!H263))*'Zone Export'!$V$14)","v":185.2},{"$f":"IF('Sconti Export'!X$255>'Sconti Export'!X263-('Sconti Export'!X263*'Sconti Export'!I263),'Sconti Export'!X262*'Zone Export'!$V$14,('Sconti Export'!X263-('Sconti Export'!X263*'Sconti Export'!I263))*'Zone Export'!$V$14)","v":198.95},{"$f":"IF('Sconti Export'!Y$255>'Sconti Export'!Y263-('Sconti Export'!Y263*'Sconti Export'!J263),'Sconti Export'!Y262*'Zone Export'!$V$14,('Sconti Export'!Y263-('Sconti Export'!Y263*'Sconti Export'!J263))*'Zone Export'!$V$14)","v":306.39999999999998}]
[null,"4,5 kg",null,{"$f":"IF('Sconti Export'!R$255>'Sconti Export'!R264-('Sconti Export'!R264*'Sconti Export'!C264),'Sconti Export'!R263*'Zone Export'!$V$14,('Sconti Export'!R264-('Sconti Export'!R264*'Sconti Export'!C264))*'Zone Export'!$V$14)","v":83.8},{"$f":"IF('Sconti Export'!S$255>'Sconti Export'!S264-('Sconti Export'!S264*'Sconti Export'!D264),'Sconti Export'!S263*'Zone Export'!$V$14,('Sconti Export'!S264-('Sconti Export'!S264*'Sconti Export'!D264))*'Zone Export'!$V$14)","v":179.2},{"$f":"IF('Sconti Export'!T$255>'Sconti Export'!T264-('Sconti Export'!T264*'Sconti Export'!E264),'Sconti Export'!T263*'Zone Export'!$V$14,('Sconti Export'!T264-('Sconti Export'!T264*'Sconti Export'!E264))*'Zone Export'!$V$14)","v":182.3},{"$f":"IF('Sconti Export'!U$255>'Sconti Export'!U264-('Sconti Export'!U264*'Sconti Export'!F264),'Sconti Export'!U263*'Zone Export'!$V$14,('Sconti Export'!U264-('Sconti Export'!U264*'Sconti Export'!F264))*'Zone Export'!$V$14)","v":190.4},{"$f":"IF('Sconti Export'!V$255>'Sconti Export'!V264-('Sconti Export'!V264*'Sconti Export'!G264),'Sconti Export'!V263*'Zone Export'!$V$14,('Sconti Export'!V264-('Sconti Export'!V264*'Sconti Export'!G264))*'Zone Export'!$V$14)","v":329.15},{"$f":"IF('Sconti Export'!W$255>'Sconti Export'!W264-('Sconti Export'!W264*'Sconti Export'!H264),'Sconti Export'!W263*'Zone Export'!$V$14,('Sconti Export'!W264-('Sconti Export'!W264*'Sconti Export'!H264))*'Zone Export'!$V$14)","v":193.95},{"$f":"IF('Sconti Export'!X$255>'Sconti Export'!X264-('Sconti Export'!X264*'Sconti Export'!I264),'Sconti Export'!X263*'Zone Export'!$V$14,('Sconti Export'!X264-('Sconti Export'!X264*'Sconti Export'!I264))*'Zone Export'!$V$14)","v":209.35},{"$f":"IF('Sconti Export'!Y$255>'Sconti Export'!Y264-('Sconti Export'!Y264*'Sconti Export'!J264),'Sconti Export'!Y263*'Zone Export'!$V$14,('Sconti Export'!Y264-('Sconti Export'!Y264*'Sconti Export'!J264))*'Zone Export'!$V$14)","v":324.85000000000002}]
[null,"5,0 kg",null,{"$f":"IF('Sconti Export'!R$255>'Sconti Export'!R265-('Sconti Export'!R265*'Sconti Export'!C265),'Sconti Export'!R264*'Zone Export'!$V$14,('Sconti Export'!R265-('Sconti Export'!R265*'Sconti Export'!C265))*'Zone Export'!$V$14)","v":83.8},{"$f":"IF('Sconti Export'!S$255>'Sconti Export'!S265-('Sconti Export'!S265*'Sconti Export'!D265),'Sconti Export'!S264*'Zone Export'!$V$14,('Sconti Export'!S265-('Sconti Export'!S265*'Sconti Export'!D265))*'Zone Export'!$V$14)","v":185.85},{"$f":"IF('Sconti Export'!T$255>'Sconti Export'!T265-('Sconti Export'!T265*'Sconti Export'!E265),'Sconti Export'!T264*'Zone Export'!$V$14,('Sconti Export'!T265-('Sconti Export'!T265*'Sconti Export'!E265))*'Zone Export'!$V$14)","v":191.3},{"$f":"IF('Sconti Export'!U$255>'Sconti Export'!U265-('Sconti Export'!U265*'Sconti Export'!F265),'Sconti Export'!U264*'Zone Export'!$V$14,('Sconti Export'!U265-('Sconti Export'!U265*'Sconti Export'!F265))*'Zone Export'!$V$14)","v":200.55},{"$f":"IF('Sconti Export'!V$255>'Sconti Export'!V265-('Sconti Export'!V265*'Sconti Export'!G265),'Sconti Export'!V264*'Zone Export'!$V$14,('Sconti Export'!V265-('Sconti Export'!V265*'Sconti Export'!G265))*'Zone Export'!$V$14)","v":354.55},{"$f":"IF('Sconti Export'!W$255>'Sconti Export'!W265-('Sconti Export'!W265*'Sconti Export'!H265),'Sconti Export'!W264*'Zone Export'!$V$14,('Sconti Export'!W265-('Sconti Export'!W265*'Sconti Export'!H265))*'Zone Export'!$V$14)","v":202.8},{"$f":"IF('Sconti Export'!X$255>'Sconti Export'!X265-('Sconti Export'!X265*'Sconti Export'!I265),'Sconti Export'!X264*'Zone Export'!$V$14,('Sconti Export'!X265-('Sconti Export'!X265*'Sconti Export'!I265))*'Zone Export'!$V$14)","v":219.65},{"$f":"IF('Sconti Export'!Y$255>'Sconti Export'!Y265-('Sconti Export'!Y265*'Sconti Export'!J265),'Sconti Export'!Y264*'Zone Export'!$V$14,('Sconti Export'!Y265-('Sconti Export'!Y265*'Sconti Export'!J265))*'Zone Export'!$V$14)","v":343.35}]
[null,"5,5 kg",null,{"$f":"IF('Sconti Export'!R$255>'Sconti Export'!R266-('Sconti Export'!R266*'Sconti Export'!C266),'Sconti Export'!R265*'Zone Export'!$V$14,('Sconti Export'!R266-('Sconti Export'!R266*'Sconti Export'!C266))*'Zone Export'!$V$14)","v":86.25},{"$f":"IF('Sconti Export'!S$255>'Sconti Export'!S266-('Sconti Export'!S266*'Sconti Export'!D266),'Sconti Export'!S265*'Zone Export'!$V$14,('Sconti Export'!S266-('Sconti Export'!S266*'Sconti Export'!D266))*'Zone Export'!$V$14)","v":192.55},{"$f":"IF('Sconti Export'!T$255>'Sconti Export'!T266-('Sconti Export'!T266*'Sconti Export'!E266),'Sconti Export'!T265*'Zone Export'!$V$14,('Sconti Export'!T266-('Sconti Export'!T266*'Sconti Export'!E266))*'Zone Export'!$V$14)","v":195.7},{"$f":"IF('Sconti Export'!U$255>'Sconti Export'!U266-('Sconti Export'!U266*'Sconti Export'!F266),'Sconti Export'!U265*'Zone Export'!$V$14,('Sconti Export'!U266-('Sconti Export'!U266*'Sconti Export'!F266))*'Zone Export'!$V$14)","v":207.3},{"$f":"IF('Sconti Export'!V$255>'Sconti Export'!V266-('Sconti Export'!V266*'Sconti Export'!G266),'Sconti Export'!V265*'Zone Export'!$V$14,('Sconti Export'!V266-('Sconti Export'!V266*'Sconti Export'!G266))*'Zone Export'!$V$14)","v":369.85},{"$f":"IF('Sconti Export'!W$255>'Sconti Export'!W266-('Sconti Export'!W266*'Sconti Export'!H266),'Sconti Export'!W265*'Zone Export'!$V$14,('Sconti Export'!W266-('Sconti Export'!W266*'Sconti Export'!H266))*'Zone Export'!$V$14)","v":209.5},{"$f":"IF('Sconti Export'!X$255>'Sconti Export'!X266-('Sconti Export'!X266*'Sconti Export'!I266),'Sconti Export'!X265*'Zone Export'!$V$14,('Sconti Export'!X266-('Sconti Export'!X266*'Sconti Export'!I266))*'Zone Export'!$V$14)","v":229.05},{"$f":"IF('Sconti Export'!Y$255>'Sconti Export'!Y266-('Sconti Export'!Y266*'Sconti Export'!J266),'Sconti Export'!Y265*'Zone Export'!$V$14,('Sconti Export'!Y266-('Sconti Export'!Y266*'Sconti Export'!J266))*'Zone Export'!$V$14)","v":349.6}]
[null,"6,0 kg",null,{"$f":"IF('Sconti Export'!R$255>'Sconti Export'!R267-('Sconti Export'!R267*'Sconti Export'!C267),'Sconti Export'!R266*'Zone Export'!$V$14,('Sconti Export'!R267-('Sconti Export'!R267*'Sconti Export'!C267))*'Zone Export'!$V$14)","v":86.25},{"$f":"IF('Sconti Export'!S$255>'Sconti Export'!S267-('Sconti Export'!S267*'Sconti Export'!D267),'Sconti Export'!S266*'Zone Export'!$V$14,('Sconti Export'!S267-('Sconti Export'!S267*'Sconti Export'!D267))*'Zone Export'!$V$14)","v":199.3},{"$f":"IF('Sconti Export'!T$255>'Sconti Export'!T267-('Sconti Export'!T267*'Sconti Export'!E267),'Sconti Export'!T266*'Zone Export'!$V$14,('Sconti Export'!T267-('Sconti Export'!T267*'Sconti Export'!E267))*'Zone Export'!$V$14)","v":202.5},{"$f":"IF('Sconti Export'!U$255>'Sconti Export'!U267-('Sconti Export'!U267*'Sconti Export'!F267),'Sconti Export'!U266*'Zone Export'!$V$14,('Sconti Export'!U267-('Sconti Export'!U267*'Sconti Export'!F267))*'Zone Export'!$V$14)","v":214},{"$f":"IF('Sconti Export'!V$255>'Sconti Export'!V267-('Sconti Export'!V267*'Sconti Export'!G267),'Sconti Export'!V266*'Zone Export'!$V$14,('Sconti Export'!V267-('Sconti Export'!V267*'Sconti Export'!G267))*'Zone Export'!$V$14)","v":384.95},{"$f":"IF('Sconti Export'!W$255>'Sconti Export'!W267-('Sconti Export'!W267*'Sconti Export'!H267),'Sconti Export'!W266*'Zone Export'!$V$14,('Sconti Export'!W267-('Sconti Export'!W267*'Sconti Export'!H267))*'Zone Export'!$V$14)","v":216.1},{"$f":"IF('Sconti Export'!X$255>'Sconti Export'!X267-('Sconti Export'!X267*'Sconti Export'!I267),'Sconti Export'!X266*'Zone Export'!$V$14,('Sconti Export'!X267-('Sconti Export'!X267*'Sconti Export'!I267))*'Zone Export'!$V$14)","v":238.45},{"$f":"IF('Sconti Export'!Y$255>'Sconti Export'!Y267-('Sconti Export'!Y267*'Sconti Export'!J267),'Sconti Export'!Y266*'Zone Export'!$V$14,('Sconti Export'!Y267-('Sconti Export'!Y267*'Sconti Export'!J267))*'Zone Export'!$V$14)","v":366.7}]
[null,"6,5 kg",null,{"$f":"IF('Sconti Export'!R$255>'Sconti Export'!R268-('Sconti Export'!R268*'Sconti Export'!C268),'Sconti Export'!R267*'Zone Export'!$V$14,('Sconti Export'!R268-('Sconti Export'!R268*'Sconti Export'!C268))*'Zone Export'!$V$14)","v":88.65},{"$f":"IF('Sconti Export'!S$255>'Sconti Export'!S268-('Sconti Export'!S268*'Sconti Export'!D268),'Sconti Export'!S267*'Zone Export'!$V$14,('Sconti Export'!S268-('Sconti Export'!S268*'Sconti Export'!D268))*'Zone Export'!$V$14)","v":205.9},{"$f":"IF('Sconti Export'!T$255>'Sconti Export'!T268-('Sconti Export'!T268*'Sconti Export'!E268),'Sconti Export'!T267*'Zone Export'!$V$14,('Sconti Export'!T268-('Sconti Export'!T268*'Sconti Export'!E268))*'Zone Export'!$V$14)","v":209.25},{"$f":"IF('Sconti Export'!U$255>'Sconti Export'!U268-('Sconti Export'!U268*'Sconti Export'!F268),'Sconti Export'!U267*'Zone Export'!$V$14,('Sconti Export'!U268-('Sconti Export'!U268*'Sconti Export'!F268))*'Zone Export'!$V$14)","v":220.75},{"$f":"IF('Sconti Export'!V$255>'Sconti Export'!V268-('Sconti Export'!V268*'Sconti Export'!G268),'Sconti Export'!V267*'Zone Export'!$V$14,('Sconti Export'!V268-('Sconti Export'!V268*'Sconti Export'!G268))*'Zone Export'!$V$14)","v":400.25},{"$f":"IF('Sconti Export'!W$255>'Sconti Export'!W268-('Sconti Export'!W268*'Sconti Export'!H268),'Sconti Export'!W267*'Zone Export'!$V$14,('Sconti Export'!W268-('Sconti Export'!W268*'Sconti Export'!H268))*'Zone Export'!$V$14)","v":222.6},{"$f":"IF('Sconti Export'!X$255>'Sconti Export'!X268-('Sconti Export'!X268*'Sconti Export'!I268),'Sconti Export'!X267*'Zone Export'!$V$14,('Sconti Export'!X268-('Sconti Export'!X268*'Sconti Export'!I268))*'Zone Export'!$V$14)","v":247.85},{"$f":"IF('Sconti Export'!Y$255>'Sconti Export'!Y268-('Sconti Export'!Y268*'Sconti Export'!J268),'Sconti Export'!Y267*'Zone Export'!$V$14,('Sconti Export'!Y268-('Sconti Export'!Y268*'Sconti Export'!J268))*'Zone Export'!$V$14)","v":384.1}]
[null,"7,0 kg",null,{"$f":"IF('Sconti Export'!R$255>'Sconti Export'!R269-('Sconti Export'!R269*'Sconti Export'!C269),'Sconti Export'!R268*'Zone Export'!$V$14,('Sconti Export'!R269-('Sconti Export'!R269*'Sconti Export'!C269))*'Zone Export'!$V$14)","v":88.65},{"$f":"IF('Sconti Export'!S$255>'Sconti Export'!S269-('Sconti Export'!S269*'Sconti Export'!D269),'Sconti Export'!S268*'Zone Export'!$V$14,('Sconti Export'!S269-('Sconti Export'!S269*'Sconti Export'!D269))*'Zone Export'!$V$14)","v":212.6},{"$f":"IF('Sconti Export'!T$255>'Sconti Export'!T269-('Sconti Export'!T269*'Sconti Export'!E269),'Sconti Export'!T268*'Zone Export'!$V$14,('Sconti Export'!T269-('Sconti Export'!T269*'Sconti Export'!E269))*'Zone Export'!$V$14)","v":216.05},{"$f":"IF('Sconti Export'!U$255>'Sconti Export'!U269-('Sconti Export'!U269*'Sconti Export'!F269),'Sconti Export'!U268*'Zone Export'!$V$14,('Sconti Export'!U269-('Sconti Export'!U269*'Sconti Export'!F269))*'Zone Export'!$V$14)","v":227.35},{"$f":"IF('Sconti Export'!V$255>'Sconti Export'!V269-('Sconti Export'!V269*'Sconti Export'!G269),'Sconti Export'!V268*'Zone Export'!$V$14,('Sconti Export'!V269-('Sconti Export'!V269*'Sconti Export'!G269))*'Zone Export'!$V$14)","v":415.5},{"$f":"IF('Sconti Export'!W$255>'Sconti Export'!W269-('Sconti Export'!W269*'Sconti Export'!H269),'Sconti Export'!W268*'Zone Export'!$V$14,('Sconti Export'!W269-('Sconti Export'!W269*'Sconti Export'!H269))*'Zone Export'!$V$14)","v":229.25},{"$f":"IF('Sconti Export'!X$255>'Sconti Export'!X269-('Sconti Export'!X269*'Sconti Export'!I269),'Sconti Export'!X268*'Zone Export'!$V$14,('Sconti Export'!X269-('Sconti Export'!X269*'Sconti Export'!I269))*'Zone Export'!$V$14)","v":257.35000000000002},{"$f":"IF('Sconti Export'!Y$255>'Sconti Export'!Y269-('Sconti Export'!Y269*'Sconti Export'!J269),'Sconti Export'!Y268*'Zone Export'!$V$14,('Sconti Export'!Y269-('Sconti Export'!Y269*'Sconti Export'!J269))*'Zone Export'!$V$14)","v":401.15}]
[null,"7,5 kg",null,{"$f":"IF('Sconti Export'!R$255>'Sconti Export'!R270-('Sconti Export'!R270*'Sconti Export'!C270),'Sconti Export'!R269*'Zone Export'!$V$14,('Sconti Export'!R270-('Sconti Export'!R270*'Sconti Export'!C270))*'Zone Export'!$V$14)","v":91.1},{"$f":"IF('Sconti Export'!S$255>'Sconti Export'!S270-('Sconti Export'!S270*'Sconti Export'!D270),'Sconti Export'!S269*'Zone Export'!$V$14,('Sconti Export'!S270-('Sconti Export'!S270*'Sconti Export'!D270))*'Zone Export'!$V$14)","v":219.25},{"$f":"IF('Sconti Export'!T$255>'Sconti Export'!T270-('Sconti Export'!T270*'Sconti Export'!E270),'Sconti Export'!T269*'Zone Export'!$V$14,('Sconti Export'!T270-('Sconti Export'!T270*'Sconti Export'!E270))*'Zone Export'!$V$14)","v":222.85},{"$f":"IF('Sconti Export'!U$255>'Sconti Export'!U270-('Sconti Export'!U270*'Sconti Export'!F270),'Sconti Export'!U269*'Zone Export'!$V$14,('Sconti Export'!U270-('Sconti Export'!U270*'Sconti Export'!F270))*'Zone Export'!$V$14)","v":234},{"$f":"IF('Sconti Export'!V$255>'Sconti Export'!V270-('Sconti Export'!V270*'Sconti Export'!G270),'Sconti Export'!V269*'Zone Export'!$V$14,('Sconti Export'!V270-('Sconti Export'!V270*'Sconti Export'!G270))*'Zone Export'!$V$14)","v":430.75},{"$f":"IF('Sconti Export'!W$255>'Sconti Export'!W270-('Sconti Export'!W270*'Sconti Export'!H270),'Sconti Export'!W269*'Zone Export'!$V$14,('Sconti Export'!W270-('Sconti Export'!W270*'Sconti Export'!H270))*'Zone Export'!$V$14)","v":235.9},{"$f":"IF('Sconti Export'!X$255>'Sconti Export'!X270-('Sconti Export'!X270*'Sconti Export'!I270),'Sconti Export'!X269*'Zone Export'!$V$14,('Sconti Export'!X270-('Sconti Export'!X270*'Sconti Export'!I270))*'Zone Export'!$V$14)","v":266.8},{"$f":"IF('Sconti Export'!Y$255>'Sconti Export'!Y270-('Sconti Export'!Y270*'Sconti Export'!J270),'Sconti Export'!Y269*'Zone Export'!$V$14,('Sconti Export'!Y270-('Sconti Export'!Y270*'Sconti Export'!J270))*'Zone Export'!$V$14)","v":418.4}]
[null,"8,0 kg",null,{"$f":"IF('Sconti Export'!R$255>'Sconti Export'!R271-('Sconti Export'!R271*'Sconti Export'!C271),'Sconti Export'!R270*'Zone Export'!$V$14,('Sconti Export'!R271-('Sconti Export'!R271*'Sconti Export'!C271))*'Zone Export'!$V$14)","v":91.1},{"$f":"IF('Sconti Export'!S$255>'Sconti Export'!S271-('Sconti Export'!S271*'Sconti Export'!D271),'Sconti Export'!S270*'Zone Export'!$V$14,('Sconti Export'!S271-('Sconti Export'!S271*'Sconti Export'!D271))*'Zone Export'!$V$14)","v":225.95},{"$f":"IF('Sconti Export'!T$255>'Sconti Export'!T271-('Sconti Export'!T271*'Sconti Export'!E271),'Sconti Export'!T270*'Zone Export'!$V$14,('Sconti Export'!T271-('Sconti Export'!T271*'Sconti Export'!E271))*'Zone Export'!$V$14)","v":229.75},{"$f":"IF('Sconti Export'!U$255>'Sconti Export'!U271-('Sconti Export'!U271*'Sconti Export'!F271),'Sconti Export'!U270*'Zone Export'!$V$14,('Sconti Export'!U271-('Sconti Export'!U271*'Sconti Export'!F271))*'Zone Export'!$V$14)","v":240.7},{"$f":"IF('Sconti Export'!V$255>'Sconti Export'!V271-('Sconti Export'!V271*'Sconti Export'!G271),'Sconti Export'!V270*'Zone Export'!$V$14,('Sconti Export'!V271-('Sconti Export'!V271*'Sconti Export'!G271))*'Zone Export'!$V$14)","v":445.85},{"$f":"IF('Sconti Export'!W$255>'Sconti Export'!W271-('Sconti Export'!W271*'Sconti Export'!H271),'Sconti Export'!W270*'Zone Export'!$V$14,('Sconti Export'!W271-('Sconti Export'!W271*'Sconti Export'!H271))*'Zone Export'!$V$14)","v":242.4},{"$f":"IF('Sconti Export'!X$255>'Sconti Export'!X271-('Sconti Export'!X271*'Sconti Export'!I271),'Sconti Export'!X270*'Zone Export'!$V$14,('Sconti Export'!X271-('Sconti Export'!X271*'Sconti Export'!I271))*'Zone Export'!$V$14)","v":276.2},{"$f":"IF('Sconti Export'!Y$255>'Sconti Export'!Y271-('Sconti Export'!Y271*'Sconti Export'!J271),'Sconti Export'!Y270*'Zone Export'!$V$14,('Sconti Export'!Y271-('Sconti Export'!Y271*'Sconti Export'!J271))*'Zone Export'!$V$14)","v":435.6}]
[null,"8,5 kg",null,{"$f":"IF('Sconti Export'!R$255>'Sconti Export'!R272-('Sconti Export'!R272*'Sconti Export'!C272),'Sconti Export'!R271*'Zone Export'!$V$14,('Sconti Export'!R272-('Sconti Export'!R272*'Sconti Export'!C272))*'Zone Export'!$V$14)","v":93.65},{"$f":"IF('Sconti Export'!S$255>'Sconti Export'!S272-('Sconti Export'!S272*'Sconti Export'!D272),'Sconti Export'!S271*'Zone Export'!$V$14,('Sconti Export'!S272-('Sconti Export'!S272*'Sconti Export'!D272))*'Zone Export'!$V$14)","v":232.7},{"$f":"IF('Sconti Export'!T$255>'Sconti Export'!T272-('Sconti Export'!T272*'Sconti Export'!E272),'Sconti Export'!T271*'Zone Export'!$V$14,('Sconti Export'!T272-('Sconti Export'!T272*'Sconti Export'!E272))*'Zone Export'!$V$14)","v":236.55},{"$f":"IF('Sconti Export'!U$255>'Sconti Export'!U272-('Sconti Export'!U272*'Sconti Export'!F272),'Sconti Export'!U271*'Zone Export'!$V$14,('Sconti Export'!U272-('Sconti Export'!U272*'Sconti Export'!F272))*'Zone Export'!$V$14)","v":247.35},{"$f":"IF('Sconti Export'!V$255>'Sconti Export'!V272-('Sconti Export'!V272*'Sconti Export'!G272),'Sconti Export'!V271*'Zone Export'!$V$14,('Sconti Export'!V272-('Sconti Export'!V272*'Sconti Export'!G272))*'Zone Export'!$V$14)","v":461.15},{"$f":"IF('Sconti Export'!W$255>'Sconti Export'!W272-('Sconti Export'!W272*'Sconti Export'!H272),'Sconti Export'!W271*'Zone Export'!$V$14,('Sconti Export'!W272-('Sconti Export'!W272*'Sconti Export'!H272))*'Zone Export'!$V$14)","v":249.05},{"$f":"IF('Sconti Export'!X$255>'Sconti Export'!X272-('Sconti Export'!X272*'Sconti Export'!I272),'Sconti Export'!X271*'Zone Export'!$V$14,('Sconti Export'!X272-('Sconti Export'!X272*'Sconti Export'!I272))*'Zone Export'!$V$14)","v":285.64999999999998},{"$f":"IF('Sconti Export'!Y$255>'Sconti Export'!Y272-('Sconti Export'!Y272*'Sconti Export'!J272),'Sconti Export'!Y271*'Zone Export'!$V$14,('Sconti Export'!Y272-('Sconti Export'!Y272*'Sconti Export'!J272))*'Zone Export'!$V$14)","v":452.75}]
[null,"9,0 kg",null,{"$f":"IF('Sconti Export'!R$255>'Sconti Export'!R273-('Sconti Export'!R273*'Sconti Export'!C273),'Sconti Export'!R272*'Zone Export'!$V$14,('Sconti Export'!R273-('Sconti Export'!R273*'Sconti Export'!C273))*'Zone Export'!$V$14)","v":93.65},{"$f":"IF('Sconti Export'!S$255>'Sconti Export'!S273-('Sconti Export'!S273*'Sconti Export'!D273),'Sconti Export'!S272*'Zone Export'!$V$14,('Sconti Export'!S273-('Sconti Export'!S273*'Sconti Export'!D273))*'Zone Export'!$V$14)","v":239.5},{"$f":"IF('Sconti Export'!T$255>'Sconti Export'!T273-('Sconti Export'!T273*'Sconti Export'!E273),'Sconti Export'!T272*'Zone Export'!$V$14,('Sconti Export'!T273-('Sconti Export'!T273*'Sconti Export'!E273))*'Zone Export'!$V$14)","v":243.3},{"$f":"IF('Sconti Export'!U$255>'Sconti Export'!U273-('Sconti Export'!U273*'Sconti Export'!F273),'Sconti Export'!U272*'Zone Export'!$V$14,('Sconti Export'!U273-('Sconti Export'!U273*'Sconti Export'!F273))*'Zone Export'!$V$14)","v":254.1},{"$f":"IF('Sconti Export'!V$255>'Sconti Export'!V273-('Sconti Export'!V273*'Sconti Export'!G273),'Sconti Export'!V272*'Zone Export'!$V$14,('Sconti Export'!V273-('Sconti Export'!V273*'Sconti Export'!G273))*'Zone Export'!$V$14)","v":476.4},{"$f":"IF('Sconti Export'!W$255>'Sconti Export'!W273-('Sconti Export'!W273*'Sconti Export'!H273),'Sconti Export'!W272*'Zone Export'!$V$14,('Sconti Export'!W273-('Sconti Export'!W273*'Sconti Export'!H273))*'Zone Export'!$V$14)","v":255.65},{"$f":"IF('Sconti Export'!X$255>'Sconti Export'!X273-('Sconti Export'!X273*'Sconti Export'!I273),'Sconti Export'!X272*'Zone Export'!$V$14,('Sconti Export'!X273-('Sconti Export'!X273*'Sconti Export'!I273))*'Zone Export'!$V$14)","v":294.95},{"$f":"IF('Sconti Export'!Y$255>'Sconti Export'!Y273-('Sconti Export'!Y273*'Sconti Export'!J273),'Sconti Export'!Y272*'Zone Export'!$V$14,('Sconti Export'!Y273-('Sconti Export'!Y273*'Sconti Export'!J273))*'Zone Export'!$V$14)","v":470.05}]
[null,"9,5 kg",null,{"$f":"IF('Sconti Export'!R$255>'Sconti Export'!R274-('Sconti Export'!R274*'Sconti Export'!C274),'Sconti Export'!R273*'Zone Export'!$V$14,('Sconti Export'!R274-('Sconti Export'!R274*'Sconti Export'!C274))*'Zone Export'!$V$14)","v":96.1},{"$f":"IF('Sconti Export'!S$255>'Sconti Export'!S274-('Sconti Export'!S274*'Sconti Export'!D274),'Sconti Export'!S273*'Zone Export'!$V$14,('Sconti Export'!S274-('Sconti Export'!S274*'Sconti Export'!D274))*'Zone Export'!$V$14)","v":246.1},{"$f":"IF('Sconti Export'!T$255>'Sconti Export'!T274-('Sconti Export'!T274*'Sconti Export'!E274),'Sconti Export'!T273*'Zone Export'!$V$14,('Sconti Export'!T274-('Sconti Export'!T274*'Sconti Export'!E274))*'Zone Export'!$V$14)","v":250.1},{"$f":"IF('Sconti Export'!U$255>'Sconti Export'!U274-('Sconti Export'!U274*'Sconti Export'!F274),'Sconti Export'!U273*'Zone Export'!$V$14,('Sconti Export'!U274-('Sconti Export'!U274*'Sconti Export'!F274))*'Zone Export'!$V$14)","v":260.85000000000002},{"$f":"IF('Sconti Export'!V$255>'Sconti Export'!V274-('Sconti Export'!V274*'Sconti Export'!G274),'Sconti Export'!V273*'Zone Export'!$V$14,('Sconti Export'!V274-('Sconti Export'!V274*'Sconti Export'!G274))*'Zone Export'!$V$14)","v":491.65},{"$f":"IF('Sconti Export'!W$255>'Sconti Export'!W274-('Sconti Export'!W274*'Sconti Export'!H274),'Sconti Export'!W273*'Zone Export'!$V$14,('Sconti Export'!W274-('Sconti Export'!W274*'Sconti Export'!H274))*'Zone Export'!$V$14)","v":262.25},{"$f":"IF('Sconti Export'!X$255>'Sconti Export'!X274-('Sconti Export'!X274*'Sconti Export'!I274),'Sconti Export'!X273*'Zone Export'!$V$14,('Sconti Export'!X274-('Sconti Export'!X274*'Sconti Export'!I274))*'Zone Export'!$V$14)","v":304.39999999999998},{"$f":"IF('Sconti Export'!Y$255>'Sconti Export'!Y274-('Sconti Export'!Y274*'Sconti Export'!J274),'Sconti Export'!Y273*'Zone Export'!$V$14,('Sconti Export'!Y274-('Sconti Export'!Y274*'Sconti Export'!J274))*'Zone Export'!$V$14)","v":487.2}]
[null,"10 kg",null,{"$f":"IF('Sconti Export'!R$255>'Sconti Export'!R275-('Sconti Export'!R275*'Sconti Export'!C275),'Sconti Export'!R274*'Zone Export'!$V$14,('Sconti Export'!R275-('Sconti Export'!R275*'Sconti Export'!C275))*'Zone Export'!$V$14)","v":96.1},{"$f":"IF('Sconti Export'!S$255>'Sconti Export'!S275-('Sconti Export'!S275*'Sconti Export'!D275),'Sconti Export'!S274*'Zone Export'!$V$14,('Sconti Export'!S275-('Sconti Export'!S275*'Sconti Export'!D275))*'Zone Export'!$V$14)","v":252.8},{"$f":"IF('Sconti Export'!T$255>'Sconti Export'!T275-('Sconti Export'!T275*'Sconti Export'!E275),'Sconti Export'!T274*'Zone Export'!$V$14,('Sconti Export'!T275-('Sconti Export'!T275*'Sconti Export'!E275))*'Zone Export'!$V$14)","v":257},{"$f":"IF('Sconti Export'!U$255>'Sconti Export'!U275-('Sconti Export'!U275*'Sconti Export'!F275),'Sconti Export'!U274*'Zone Export'!$V$14,('Sconti Export'!U275-('Sconti Export'!U275*'Sconti Export'!F275))*'Zone Export'!$V$14)","v":267.55},{"$f":"IF('Sconti Export'!V$255>'Sconti Export'!V275-('Sconti Export'!V275*'Sconti Export'!G275),'Sconti Export'!V274*'Zone Export'!$V$14,('Sconti Export'!V275-('Sconti Export'!V275*'Sconti Export'!G275))*'Zone Export'!$V$14)","v":506.9},{"$f":"IF('Sconti Export'!W$255>'Sconti Export'!W275-('Sconti Export'!W275*'Sconti Export'!H275),'Sconti Export'!W274*'Zone Export'!$V$14,('Sconti Export'!W275-('Sconti Export'!W275*'Sconti Export'!H275))*'Zone Export'!$V$14)","v":268.89999999999998},{"$f":"IF('Sconti Export'!X$255>'Sconti Export'!X275-('Sconti Export'!X275*'Sconti Export'!I275),'Sconti Export'!X274*'Zone Export'!$V$14,('Sconti Export'!X275-('Sconti Export'!X275*'Sconti Export'!I275))*'Zone Export'!$V$14)","v":313.85000000000002},{"$f":"IF('Sconti Export'!Y$255>'Sconti Export'!Y275-('Sconti Export'!Y275*'Sconti Export'!J275),'Sconti Export'!Y274*'Zone Export'!$V$14,('Sconti Export'!Y275-('Sconti Export'!Y275*'Sconti Export'!J275))*'Zone Export'!$V$14)","v":504.45}]
[null,"11 kg",null,{"$f":"IF('Sconti Export'!R$255>'Sconti Export'!R276-('Sconti Export'!R276*'Sconti Export'!C276),'Sconti Export'!R275*'Zone Export'!$V$14,('Sconti Export'!R276-('Sconti Export'!R276*'Sconti Export'!C276))*'Zone Export'!$V$14)","v":114.35},{"$f":"IF('Sconti Export'!S$255>'Sconti Export'!S276-('Sconti Export'!S276*'Sconti Export'!D276),'Sconti Export'!S275*'Zone Export'!$V$14,('Sconti Export'!S276-('Sconti Export'!S276*'Sconti Export'!D276))*'Zone Export'!$V$14)","v":262.95},{"$f":"IF('Sconti Export'!T$255>'Sconti Export'!T276-('Sconti Export'!T276*'Sconti Export'!E276),'Sconti Export'!T275*'Zone Export'!$V$14,('Sconti Export'!T276-('Sconti Export'!T276*'Sconti Export'!E276))*'Zone Export'!$V$14)","v":268.5},{"$f":"IF('Sconti Export'!U$255>'Sconti Export'!U276-('Sconti Export'!U276*'Sconti Export'!F276),'Sconti Export'!U275*'Zone Export'!$V$14,('Sconti Export'!U276-('Sconti Export'!U276*'Sconti Export'!F276))*'Zone Export'!$V$14)","v":280.10000000000002},{"$f":"IF('Sconti Export'!V$255>'Sconti Export'!V276-('Sconti Export'!V276*'Sconti Export'!G276),'Sconti Export'!V275*'Zone Export'!$V$14,('Sconti Export'!V276-('Sconti Export'!V276*'Sconti Export'!G276))*'Zone Export'!$V$14)","v":536.45000000000005},{"$f":"IF('Sconti Export'!W$255>'Sconti Export'!W276-('Sconti Export'!W276*'Sconti Export'!H276),'Sconti Export'!W275*'Zone Export'!$V$14,('Sconti Export'!W276-('Sconti Export'!W276*'Sconti Export'!H276))*'Zone Export'!$V$14)","v":281.64999999999998},{"$f":"IF('Sconti Export'!X$255>'Sconti Export'!X276-('Sconti Export'!X276*'Sconti Export'!I276),'Sconti Export'!X275*'Zone Export'!$V$14,('Sconti Export'!X276-('Sconti Export'!X276*'Sconti Export'!I276))*'Zone Export'!$V$14)","v":333.2},{"$f":"IF('Sconti Export'!Y$255>'Sconti Export'!Y276-('Sconti Export'!Y276*'Sconti Export'!J276),'Sconti Export'!Y275*'Zone Export'!$V$14,('Sconti Export'!Y276-('Sconti Export'!Y276*'Sconti Export'!J276))*'Zone Export'!$V$14)","v":529.65}]
[null,"12 kg",null,{"$f":"IF('Sconti Export'!R$255>'Sconti Export'!R277-('Sconti Export'!R277*'Sconti Export'!C277),'Sconti Export'!R276*'Zone Export'!$V$14,('Sconti Export'!R277-('Sconti Export'!R277*'Sconti Export'!C277))*'Zone Export'!$V$14)","v":114.35},{"$f":"IF('Sconti Export'!S$255>'Sconti Export'!S277-('Sconti Export'!S277*'Sconti Export'!D277),'Sconti Export'!S276*'Zone Export'!$V$14,('Sconti Export'!S277-('Sconti Export'!S277*'Sconti Export'!D277))*'Zone Export'!$V$14)","v":273.05},{"$f":"IF('Sconti Export'!T$255>'Sconti Export'!T277-('Sconti Export'!T277*'Sconti Export'!E277),'Sconti Export'!T276*'Zone Export'!$V$14,('Sconti Export'!T277-('Sconti Export'!T277*'Sconti Export'!E277))*'Zone Export'!$V$14)","v":280.25},{"$f":"IF('Sconti Export'!U$255>'Sconti Export'!U277-('Sconti Export'!U277*'Sconti Export'!F277),'Sconti Export'!U276*'Zone Export'!$V$14,('Sconti Export'!U277-('Sconti Export'!U277*'Sconti Export'!F277))*'Zone Export'!$V$14)","v":292.60000000000002},{"$f":"IF('Sconti Export'!V$255>'Sconti Export'!V277-('Sconti Export'!V277*'Sconti Export'!G277),'Sconti Export'!V276*'Zone Export'!$V$14,('Sconti Export'!V277-('Sconti Export'!V277*'Sconti Export'!G277))*'Zone Export'!$V$14)","v":566.1},{"$f":"IF('Sconti Export'!W$255>'Sconti Export'!W277-('Sconti Export'!W277*'Sconti Export'!H277),'Sconti Export'!W276*'Zone Export'!$V$14,('Sconti Export'!W277-('Sconti Export'!W277*'Sconti Export'!H277))*'Zone Export'!$V$14)","v":294.39999999999998},{"$f":"IF('Sconti Export'!X$255>'Sconti Export'!X277-('Sconti Export'!X277*'Sconti Export'!I277),'Sconti Export'!X276*'Zone Export'!$V$14,('Sconti Export'!X277-('Sconti Export'!X277*'Sconti Export'!I277))*'Zone Export'!$V$14)","v":352.4},{"$f":"IF('Sconti Export'!Y$255>'Sconti Export'!Y277-('Sconti Export'!Y277*'Sconti Export'!J277),'Sconti Export'!Y276*'Zone Export'!$V$14,('Sconti Export'!Y277-('Sconti Export'!Y277*'Sconti Export'!J277))*'Zone Export'!$V$14)","v":554.85}]
[null,"13 kg",null,{"$f":"IF('Sconti Export'!R$255>'Sconti Export'!R278-('Sconti Export'!R278*'Sconti Export'!C278),'Sconti Export'!R277*'Zone Export'!$V$14,('Sconti Export'!R278-('Sconti Export'!R278*'Sconti Export'!C278))*'Zone Export'!$V$14)","v":114.35},{"$f":"IF('Sconti Export'!S$255>'Sconti Export'!S278-('Sconti Export'!S278*'Sconti Export'!D278),'Sconti Export'!S277*'Zone Export'!$V$14,('Sconti Export'!S278-('Sconti Export'!S278*'Sconti Export'!D278))*'Zone Export'!$V$14)","v":283.2},{"$f":"IF('Sconti Export'!T$255>'Sconti Export'!T278-('Sconti Export'!T278*'Sconti Export'!E278),'Sconti Export'!T277*'Zone Export'!$V$14,('Sconti Export'!T278-('Sconti Export'!T278*'Sconti Export'!E278))*'Zone Export'!$V$14)","v":291.85000000000002},{"$f":"IF('Sconti Export'!U$255>'Sconti Export'!U278-('Sconti Export'!U278*'Sconti Export'!F278),'Sconti Export'!U277*'Zone Export'!$V$14,('Sconti Export'!U278-('Sconti Export'!U278*'Sconti Export'!F278))*'Zone Export'!$V$14)","v":305.14999999999998},{"$f":"IF('Sconti Export'!V$255>'Sconti Export'!V278-('Sconti Export'!V278*'Sconti Export'!G278),'Sconti Export'!V277*'Zone Export'!$V$14,('Sconti Export'!V278-('Sconti Export'!V278*'Sconti Export'!G278))*'Zone Export'!$V$14)","v":595.70000000000005},{"$f":"IF('Sconti Export'!W$255>'Sconti Export'!W278-('Sconti Export'!W278*'Sconti Export'!H278),'Sconti Export'!W277*'Zone Export'!$V$14,('Sconti Export'!W278-('Sconti Export'!W278*'Sconti Export'!H278))*'Zone Export'!$V$14)","v":307.2},{"$f":"IF('Sconti Export'!X$255>'Sconti Export'!X278-('Sconti Export'!X278*'Sconti Export'!I278),'Sconti Export'!X277*'Zone Export'!$V$14,('Sconti Export'!X278-('Sconti Export'!X278*'Sconti Export'!I278))*'Zone Export'!$V$14)","v":371.7},{"$f":"IF('Sconti Export'!Y$255>'Sconti Export'!Y278-('Sconti Export'!Y278*'Sconti Export'!J278),'Sconti Export'!Y277*'Zone Export'!$V$14,('Sconti Export'!Y278-('Sconti Export'!Y278*'Sconti Export'!J278))*'Zone Export'!$V$14)","v":580.1}]
[null,"14 kg",null,{"$f":"IF('Sconti Export'!R$255>'Sconti Export'!R279-('Sconti Export'!R279*'Sconti Export'!C279),'Sconti Export'!R278*'Zone Export'!$V$14,('Sconti Export'!R279-('Sconti Export'!R279*'Sconti Export'!C279))*'Zone Export'!$V$14)","v":114.35},{"$f":"IF('Sconti Export'!S$255>'Sconti Export'!S279-('Sconti Export'!S279*'Sconti Export'!D279),'Sconti Export'!S278*'Zone Export'!$V$14,('Sconti Export'!S279-('Sconti Export'!S279*'Sconti Export'!D279))*'Zone Export'!$V$14)","v":293.39999999999998},{"$f":"IF('Sconti Export'!T$255>'Sconti Export'!T279-('Sconti Export'!T279*'Sconti Export'!E279),'Sconti Export'!T278*'Zone Export'!$V$14,('Sconti Export'!T279-('Sconti Export'!T279*'Sconti Export'!E279))*'Zone Export'!$V$14)","v":303.55},{"$f":"IF('Sconti Export'!U$255>'Sconti Export'!U279-('Sconti Export'!U279*'Sconti Export'!F279),'Sconti Export'!U278*'Zone Export'!$V$14,('Sconti Export'!U279-('Sconti Export'!U279*'Sconti Export'!F279))*'Zone Export'!$V$14)","v":317.7},{"$f":"IF('Sconti Export'!V$255>'Sconti Export'!V279-('Sconti Export'!V279*'Sconti Export'!G279),'Sconti Export'!V278*'Zone Export'!$V$14,('Sconti Export'!V279-('Sconti Export'!V279*'Sconti Export'!G279))*'Zone Export'!$V$14)","v":625.45000000000005},{"$f":"IF('Sconti Export'!W$255>'Sconti Export'!W279-('Sconti Export'!W279*'Sconti Export'!H279),'Sconti Export'!W278*'Zone Export'!$V$14,('Sconti Export'!W279-('Sconti Export'!W279*'Sconti Export'!H279))*'Zone Export'!$V$14)","v":319.95},{"$f":"IF('Sconti Export'!X$255>'Sconti Export'!X279-('Sconti Export'!X279*'Sconti Export'!I279),'Sconti Export'!X278*'Zone Export'!$V$14,('Sconti Export'!X279-('Sconti Export'!X279*'Sconti Export'!I279))*'Zone Export'!$V$14)","v":390.95},{"$f":"IF('Sconti Export'!Y$255>'Sconti Export'!Y279-('Sconti Export'!Y279*'Sconti Export'!J279),'Sconti Export'!Y278*'Zone Export'!$V$14,('Sconti Export'!Y279-('Sconti Export'!Y279*'Sconti Export'!J279))*'Zone Export'!$V$14)","v":605.29999999999995}]
[null,"15 kg",null,{"$f":"IF('Sconti Export'!R$255>'Sconti Export'!R280-('Sconti Export'!R280*'Sconti Export'!C280),'Sconti Export'!R279*'Zone Export'!$V$14,('Sconti Export'!R280-('Sconti Export'!R280*'Sconti Export'!C280))*'Zone Export'!$V$14)","v":114.35},{"$f":"IF('Sconti Export'!S$255>'Sconti Export'!S280-('Sconti Export'!S280*'Sconti Export'!D280),'Sconti Export'!S279*'Zone Export'!$V$14,('Sconti Export'!S280-('Sconti Export'!S280*'Sconti Export'!D280))*'Zone Export'!$V$14)","v":303.55},{"$f":"IF('Sconti Export'!T$255>'Sconti Export'!T280-('Sconti Export'!T280*'Sconti Export'!E280),'Sconti Export'!T279*'Zone Export'!$V$14,('Sconti Export'!T280-('Sconti Export'!T280*'Sconti Export'!E280))*'Zone Export'!$V$14)","v":315.10000000000002},{"$f":"IF('Sconti Export'!U$255>'Sconti Export'!U280-('Sconti Export'!U280*'Sconti Export'!F280),'Sconti Export'!U279*'Zone Export'!$V$14,('Sconti Export'!U280-('Sconti Export'!U280*'Sconti Export'!F280))*'Zone Export'!$V$14)","v":330.2},{"$f":"IF('Sconti Export'!V$255>'Sconti Export'!V280-('Sconti Export'!V280*'Sconti Export'!G280),'Sconti Export'!V279*'Zone Export'!$V$14,('Sconti Export'!V280-('Sconti Export'!V280*'Sconti Export'!G280))*'Zone Export'!$V$14)","v":655},{"$f":"IF('Sconti Export'!W$255>'Sconti Export'!W280-('Sconti Export'!W280*'Sconti Export'!H280),'Sconti Export'!W279*'Zone Export'!$V$14,('Sconti Export'!W280-('Sconti Export'!W280*'Sconti Export'!H280))*'Zone Export'!$V$14)","v":332.8},{"$f":"IF('Sconti Export'!X$255>'Sconti Export'!X280-('Sconti Export'!X280*'Sconti Export'!I280),'Sconti Export'!X279*'Zone Export'!$V$14,('Sconti Export'!X280-('Sconti Export'!X280*'Sconti Export'!I280))*'Zone Export'!$V$14)","v":410.3},{"$f":"IF('Sconti Export'!Y$255>'Sconti Export'!Y280-('Sconti Export'!Y280*'Sconti Export'!J280),'Sconti Export'!Y279*'Zone Export'!$V$14,('Sconti Export'!Y280-('Sconti Export'!Y280*'Sconti Export'!J280))*'Zone Export'!$V$14)","v":630.6}]
[null,"16 kg",null,{"$f":"IF('Sconti Export'!R$255>'Sconti Export'!R281-('Sconti Export'!R281*'Sconti Export'!C281),'Sconti Export'!R280*'Zone Export'!$V$14,('Sconti Export'!R281-('Sconti Export'!R281*'Sconti Export'!C281))*'Zone Export'!$V$14)","v":114.35},{"$f":"IF('Sconti Export'!S$255>'Sconti Export'!S281-('Sconti Export'!S281*'Sconti Export'!D281),'Sconti Export'!S280*'Zone Export'!$V$14,('Sconti Export'!S281-('Sconti Export'!S281*'Sconti Export'!D281))*'Zone Export'!$V$14)","v":312.7},{"$f":"IF('Sconti Export'!T$255>'Sconti Export'!T281-('Sconti Export'!T281*'Sconti Export'!E281),'Sconti Export'!T280*'Zone Export'!$V$14,('Sconti Export'!T281-('Sconti Export'!T281*'Sconti Export'!E281))*'Zone Export'!$V$14)","v":326.8},{"$f":"IF('Sconti Export'!U$255>'Sconti Export'!U281-('Sconti Export'!U281*'Sconti Export'!F281),'Sconti Export'!U280*'Zone Export'!$V$14,('Sconti Export'!U281-('Sconti Export'!U281*'Sconti Export'!F281))*'Zone Export'!$V$14)","v":342.75},{"$f":"IF('Sconti Export'!V$255>'Sconti Export'!V281-('Sconti Export'!V281*'Sconti Export'!G281),'Sconti Export'!V280*'Zone Export'!$V$14,('Sconti Export'!V281-('Sconti Export'!V281*'Sconti Export'!G281))*'Zone Export'!$V$14)","v":684.55},{"$f":"IF('Sconti Export'!W$255>'Sconti Export'!W281-('Sconti Export'!W281*'Sconti Export'!H281),'Sconti Export'!W280*'Zone Export'!$V$14,('Sconti Export'!W281-('Sconti Export'!W281*'Sconti Export'!H281))*'Zone Export'!$V$14)","v":345.55},{"$f":"IF('Sconti Export'!X$255>'Sconti Export'!X281-('Sconti Export'!X281*'Sconti Export'!I281),'Sconti Export'!X280*'Zone Export'!$V$14,('Sconti Export'!X281-('Sconti Export'!X281*'Sconti Export'!I281))*'Zone Export'!$V$14)","v":429.55},{"$f":"IF('Sconti Export'!Y$255>'Sconti Export'!Y281-('Sconti Export'!Y281*'Sconti Export'!J281),'Sconti Export'!Y280*'Zone Export'!$V$14,('Sconti Export'!Y281-('Sconti Export'!Y281*'Sconti Export'!J281))*'Zone Export'!$V$14)","v":655.75}]
[null,"17 kg",null,{"$f":"IF('Sconti Export'!R$255>'Sconti Export'!R282-('Sconti Export'!R282*'Sconti Export'!C282),'Sconti Export'!R281*'Zone Export'!$V$14,('Sconti Export'!R282-('Sconti Export'!R282*'Sconti Export'!C282))*'Zone Export'!$V$14)","v":114.35},{"$f":"IF('Sconti Export'!S$255>'Sconti Export'!S282-('Sconti Export'!S282*'Sconti Export'!D282),'Sconti Export'!S281*'Zone Export'!$V$14,('Sconti Export'!S282-('Sconti Export'!S282*'Sconti Export'!D282))*'Zone Export'!$V$14)","v":321.7},{"$f":"IF('Sconti Export'!T$255>'Sconti Export'!T282-('Sconti Export'!T282*'Sconti Export'!E282),'Sconti Export'!T281*'Zone Export'!$V$14,('Sconti Export'!T282-('Sconti Export'!T282*'Sconti Export'!E282))*'Zone Export'!$V$14)","v":338.4},{"$f":"IF('Sconti Export'!U$255>'Sconti Export'!U282-('Sconti Export'!U282*'Sconti Export'!F282),'Sconti Export'!U281*'Zone Export'!$V$14,('Sconti Export'!U282-('Sconti Export'!U282*'Sconti Export'!F282))*'Zone Export'!$V$14)","v":355.25},{"$f":"IF('Sconti Export'!V$255>'Sconti Export'!V282-('Sconti Export'!V282*'Sconti Export'!G282),'Sconti Export'!V281*'Zone Export'!$V$14,('Sconti Export'!V282-('Sconti Export'!V282*'Sconti Export'!G282))*'Zone Export'!$V$14)","v":714.2},{"$f":"IF('Sconti Export'!W$255>'Sconti Export'!W282-('Sconti Export'!W282*'Sconti Export'!H282),'Sconti Export'!W281*'Zone Export'!$V$14,('Sconti Export'!W282-('Sconti Export'!W282*'Sconti Export'!H282))*'Zone Export'!$V$14)","v":358.25},{"$f":"IF('Sconti Export'!X$255>'Sconti Export'!X282-('Sconti Export'!X282*'Sconti Export'!I282),'Sconti Export'!X281*'Zone Export'!$V$14,('Sconti Export'!X282-('Sconti Export'!X282*'Sconti Export'!I282))*'Zone Export'!$V$14)","v":448.8},{"$f":"IF('Sconti Export'!Y$255>'Sconti Export'!Y282-('Sconti Export'!Y282*'Sconti Export'!J282),'Sconti Export'!Y281*'Zone Export'!$V$14,('Sconti Export'!Y282-('Sconti Export'!Y282*'Sconti Export'!J282))*'Zone Export'!$V$14)","v":681.1}]
[null,"18 kg",null,{"$f":"IF('Sconti Export'!R$255>'Sconti Export'!R283-('Sconti Export'!R283*'Sconti Export'!C283),'Sconti Export'!R282*'Zone Export'!$V$14,('Sconti Export'!R283-('Sconti Export'!R283*'Sconti Export'!C283))*'Zone Export'!$V$14)","v":114.35},{"$f":"IF('Sconti Export'!S$255>'Sconti Export'!S283-('Sconti Export'!S283*'Sconti Export'!D283),'Sconti Export'!S282*'Zone Export'!$V$14,('Sconti Export'!S283-('Sconti Export'!S283*'Sconti Export'!D283))*'Zone Export'!$V$14)","v":330.95},{"$f":"IF('Sconti Export'!T$255>'Sconti Export'!T283-('Sconti Export'!T283*'Sconti Export'!E283),'Sconti Export'!T282*'Zone Export'!$V$14,('Sconti Export'!T283-('Sconti Export'!T283*'Sconti Export'!E283))*'Zone Export'!$V$14)","v":350.1},{"$f":"IF('Sconti Export'!U$255>'Sconti Export'!U283-('Sconti Export'!U283*'Sconti Export'!F283),'Sconti Export'!U282*'Zone Export'!$V$14,('Sconti Export'!U283-('Sconti Export'!U283*'Sconti Export'!F283))*'Zone Export'!$V$14)","v":367.75},{"$f":"IF('Sconti Export'!V$255>'Sconti Export'!V283-('Sconti Export'!V283*'Sconti Export'!G283),'Sconti Export'!V282*'Zone Export'!$V$14,('Sconti Export'!V283-('Sconti Export'!V283*'Sconti Export'!G283))*'Zone Export'!$V$14)","v":743.7},{"$f":"IF('Sconti Export'!W$255>'Sconti Export'!W283-('Sconti Export'!W283*'Sconti Export'!H283),'Sconti Export'!W282*'Zone Export'!$V$14,('Sconti Export'!W283-('Sconti Export'!W283*'Sconti Export'!H283))*'Zone Export'!$V$14)","v":371},{"$f":"IF('Sconti Export'!X$255>'Sconti Export'!X283-('Sconti Export'!X283*'Sconti Export'!I283),'Sconti Export'!X282*'Zone Export'!$V$14,('Sconti Export'!X283-('Sconti Export'!X283*'Sconti Export'!I283))*'Zone Export'!$V$14)","v":468.05},{"$f":"IF('Sconti Export'!Y$255>'Sconti Export'!Y283-('Sconti Export'!Y283*'Sconti Export'!J283),'Sconti Export'!Y282*'Zone Export'!$V$14,('Sconti Export'!Y283-('Sconti Export'!Y283*'Sconti Export'!J283))*'Zone Export'!$V$14)","v":706.4}]
[null,"19 kg",null,{"$f":"IF('Sconti Export'!R$255>'Sconti Export'!R284-('Sconti Export'!R284*'Sconti Export'!C284),'Sconti Export'!R283*'Zone Export'!$V$14,('Sconti Export'!R284-('Sconti Export'!R284*'Sconti Export'!C284))*'Zone Export'!$V$14)","v":114.35},{"$f":"IF('Sconti Export'!S$255>'Sconti Export'!S284-('Sconti Export'!S284*'Sconti Export'!D284),'Sconti Export'!S283*'Zone Export'!$V$14,('Sconti Export'!S284-('Sconti Export'!S284*'Sconti Export'!D284))*'Zone Export'!$V$14)","v":340.05},{"$f":"IF('Sconti Export'!T$255>'Sconti Export'!T284-('Sconti Export'!T284*'Sconti Export'!E284),'Sconti Export'!T283*'Zone Export'!$V$14,('Sconti Export'!T284-('Sconti Export'!T284*'Sconti Export'!E284))*'Zone Export'!$V$14)","v":361.7},{"$f":"IF('Sconti Export'!U$255>'Sconti Export'!U284-('Sconti Export'!U284*'Sconti Export'!F284),'Sconti Export'!U283*'Zone Export'!$V$14,('Sconti Export'!U284-('Sconti Export'!U284*'Sconti Export'!F284))*'Zone Export'!$V$14)","v":380.4},{"$f":"IF('Sconti Export'!V$255>'Sconti Export'!V284-('Sconti Export'!V284*'Sconti Export'!G284),'Sconti Export'!V283*'Zone Export'!$V$14,('Sconti Export'!V284-('Sconti Export'!V284*'Sconti Export'!G284))*'Zone Export'!$V$14)","v":773.45},{"$f":"IF('Sconti Export'!W$255>'Sconti Export'!W284-('Sconti Export'!W284*'Sconti Export'!H284),'Sconti Export'!W283*'Zone Export'!$V$14,('Sconti Export'!W284-('Sconti Export'!W284*'Sconti Export'!H284))*'Zone Export'!$V$14)","v":383.95},{"$f":"IF('Sconti Export'!X$255>'Sconti Export'!X284-('Sconti Export'!X284*'Sconti Export'!I284),'Sconti Export'!X283*'Zone Export'!$V$14,('Sconti Export'!X284-('Sconti Export'!X284*'Sconti Export'!I284))*'Zone Export'!$V$14)","v":487.3},{"$f":"IF('Sconti Export'!Y$255>'Sconti Export'!Y284-('Sconti Export'!Y284*'Sconti Export'!J284),'Sconti Export'!Y283*'Zone Export'!$V$14,('Sconti Export'!Y284-('Sconti Export'!Y284*'Sconti Export'!J284))*'Zone Export'!$V$14)","v":731.55}]
[null,"20 kg",null,{"$f":"IF('Sconti Export'!R$255>'Sconti Export'!R285-('Sconti Export'!R285*'Sconti Export'!C285),'Sconti Export'!R284*'Zone Export'!$V$14,('Sconti Export'!R285-('Sconti Export'!R285*'Sconti Export'!C285))*'Zone Export'!$V$14)","v":114.35},{"$f":"IF('Sconti Export'!S$255>'Sconti Export'!S285-('Sconti Export'!S285*'Sconti Export'!D285),'Sconti Export'!S284*'Zone Export'!$V$14,('Sconti Export'!S285-('Sconti Export'!S285*'Sconti Export'!D285))*'Zone Export'!$V$14)","v":349.2},{"$f":"IF('Sconti Export'!T$255>'Sconti Export'!T285-('Sconti Export'!T285*'Sconti Export'!E285),'Sconti Export'!T284*'Zone Export'!$V$14,('Sconti Export'!T285-('Sconti Export'!T285*'Sconti Export'!E285))*'Zone Export'!$V$14)","v":373.4},{"$f":"IF('Sconti Export'!U$255>'Sconti Export'!U285-('Sconti Export'!U285*'Sconti Export'!F285),'Sconti Export'!U284*'Zone Export'!$V$14,('Sconti Export'!U285-('Sconti Export'!U285*'Sconti Export'!F285))*'Zone Export'!$V$14)","v":392.95},{"$f":"IF('Sconti Export'!V$255>'Sconti Export'!V285-('Sconti Export'!V285*'Sconti Export'!G285),'Sconti Export'!V284*'Zone Export'!$V$14,('Sconti Export'!V285-('Sconti Export'!V285*'Sconti Export'!G285))*'Zone Export'!$V$14)","v":803.05},{"$f":"IF('Sconti Export'!W$255>'Sconti Export'!W285-('Sconti Export'!W285*'Sconti Export'!H285),'Sconti Export'!W284*'Zone Export'!$V$14,('Sconti Export'!W285-('Sconti Export'!W285*'Sconti Export'!H285))*'Zone Export'!$V$14)","v":396.7},{"$f":"IF('Sconti Export'!X$255>'Sconti Export'!X285-('Sconti Export'!X285*'Sconti Export'!I285),'Sconti Export'!X284*'Zone Export'!$V$14,('Sconti Export'!X285-('Sconti Export'!X285*'Sconti Export'!I285))*'Zone Export'!$V$14)","v":506.65},{"$f":"IF('Sconti Export'!Y$255>'Sconti Export'!Y285-('Sconti Export'!Y285*'Sconti Export'!J285),'Sconti Export'!Y284*'Zone Export'!$V$14,('Sconti Export'!Y285-('Sconti Export'!Y285*'Sconti Export'!J285))*'Zone Export'!$V$14)","v":756.8}]
[null,"22 kg",null,{"$f":"IF('Sconti Export'!R$255>'Sconti Export'!R286-('Sconti Export'!R286*'Sconti Export'!C286),'Sconti Export'!R285*'Zone Export'!$V$14,('Sconti Export'!R286-('Sconti Export'!R286*'Sconti Export'!C286))*'Zone Export'!$V$14)","v":133.19999999999999},{"$f":"IF('Sconti Export'!S$255>'Sconti Export'!S286-('Sconti Export'!S286*'Sconti Export'!D286),'Sconti Export'!S285*'Zone Export'!$V$14,('Sconti Export'!S286-('Sconti Export'!S286*'Sconti Export'!D286))*'Zone Export'!$V$14)","v":369.2},{"$f":"IF('Sconti Export'!T$255>'Sconti Export'!T286-('Sconti Export'!T286*'Sconti Export'!E286),'Sconti Export'!T285*'Zone Export'!$V$14,('Sconti Export'!T286-('Sconti Export'!T286*'Sconti Export'!E286))*'Zone Export'!$V$14)","v":394},{"$f":"IF('Sconti Export'!U$255>'Sconti Export'!U286-('Sconti Export'!U286*'Sconti Export'!F286),'Sconti Export'!U285*'Zone Export'!$V$14,('Sconti Export'!U286-('Sconti Export'!U286*'Sconti Export'!F286))*'Zone Export'!$V$14)","v":415.3},{"$f":"IF('Sconti Export'!V$255>'Sconti Export'!V286-('Sconti Export'!V286*'Sconti Export'!G286),'Sconti Export'!V285*'Zone Export'!$V$14,('Sconti Export'!V286-('Sconti Export'!V286*'Sconti Export'!G286))*'Zone Export'!$V$14)","v":864},{"$f":"IF('Sconti Export'!W$255>'Sconti Export'!W286-('Sconti Export'!W286*'Sconti Export'!H286),'Sconti Export'!W285*'Zone Export'!$V$14,('Sconti Export'!W286-('Sconti Export'!W286*'Sconti Export'!H286))*'Zone Export'!$V$14)","v":418.8},{"$f":"IF('Sconti Export'!X$255>'Sconti Export'!X286-('Sconti Export'!X286*'Sconti Export'!I286),'Sconti Export'!X285*'Zone Export'!$V$14,('Sconti Export'!X286-('Sconti Export'!X286*'Sconti Export'!I286))*'Zone Export'!$V$14)","v":547.15},{"$f":"IF('Sconti Export'!Y$255>'Sconti Export'!Y286-('Sconti Export'!Y286*'Sconti Export'!J286),'Sconti Export'!Y285*'Zone Export'!$V$14,('Sconti Export'!Y286-('Sconti Export'!Y286*'Sconti Export'!J286))*'Zone Export'!$V$14)","v":809.45}]
[null,"24 kg",null,{"$f":"IF('Sconti Export'!R$255>'Sconti Export'!R287-('Sconti Export'!R287*'Sconti Export'!C287),'Sconti Export'!R286*'Zone Export'!$V$14,('Sconti Export'!R287-('Sconti Export'!R287*'Sconti Export'!C287))*'Zone Export'!$V$14)","v":133.19999999999999},{"$f":"IF('Sconti Export'!S$255>'Sconti Export'!S287-('Sconti Export'!S287*'Sconti Export'!D287),'Sconti Export'!S286*'Zone Export'!$V$14,('Sconti Export'!S287-('Sconti Export'!S287*'Sconti Export'!D287))*'Zone Export'!$V$14)","v":387.6},{"$f":"IF('Sconti Export'!T$255>'Sconti Export'!T287-('Sconti Export'!T287*'Sconti Export'!E287),'Sconti Export'!T286*'Zone Export'!$V$14,('Sconti Export'!T287-('Sconti Export'!T287*'Sconti Export'!E287))*'Zone Export'!$V$14)","v":413},{"$f":"IF('Sconti Export'!U$255>'Sconti Export'!U287-('Sconti Export'!U287*'Sconti Export'!F287),'Sconti Export'!U286*'Zone Export'!$V$14,('Sconti Export'!U287-('Sconti Export'!U287*'Sconti Export'!F287))*'Zone Export'!$V$14)","v":435.85},{"$f":"IF('Sconti Export'!V$255>'Sconti Export'!V287-('Sconti Export'!V287*'Sconti Export'!G287),'Sconti Export'!V286*'Zone Export'!$V$14,('Sconti Export'!V287-('Sconti Export'!V287*'Sconti Export'!G287))*'Zone Export'!$V$14)","v":921},{"$f":"IF('Sconti Export'!W$255>'Sconti Export'!W287-('Sconti Export'!W287*'Sconti Export'!H287),'Sconti Export'!W286*'Zone Export'!$V$14,('Sconti Export'!W287-('Sconti Export'!W287*'Sconti Export'!H287))*'Zone Export'!$V$14)","v":439.15},{"$f":"IF('Sconti Export'!X$255>'Sconti Export'!X287-('Sconti Export'!X287*'Sconti Export'!I287),'Sconti Export'!X286*'Zone Export'!$V$14,('Sconti Export'!X287-('Sconti Export'!X287*'Sconti Export'!I287))*'Zone Export'!$V$14)","v":585.15},{"$f":"IF('Sconti Export'!Y$255>'Sconti Export'!Y287-('Sconti Export'!Y287*'Sconti Export'!J287),'Sconti Export'!Y286*'Zone Export'!$V$14,('Sconti Export'!Y287-('Sconti Export'!Y287*'Sconti Export'!J287))*'Zone Export'!$V$14)","v":858.45}]
[null,"26 kg",null,{"$f":"IF('Sconti Export'!R$255>'Sconti Export'!R288-('Sconti Export'!R288*'Sconti Export'!C288),'Sconti Export'!R287*'Zone Export'!$V$14,('Sconti Export'!R288-('Sconti Export'!R288*'Sconti Export'!C288))*'Zone Export'!$V$14)","v":133.19999999999999},{"$f":"IF('Sconti Export'!S$255>'Sconti Export'!S288-('Sconti Export'!S288*'Sconti Export'!D288),'Sconti Export'!S287*'Zone Export'!$V$14,('Sconti Export'!S288-('Sconti Export'!S288*'Sconti Export'!D288))*'Zone Export'!$V$14)","v":405.95},{"$f":"IF('Sconti Export'!T$255>'Sconti Export'!T288-('Sconti Export'!T288*'Sconti Export'!E288),'Sconti Export'!T287*'Zone Export'!$V$14,('Sconti Export'!T288-('Sconti Export'!T288*'Sconti Export'!E288))*'Zone Export'!$V$14)","v":432},{"$f":"IF('Sconti Export'!U$255>'Sconti Export'!U288-('Sconti Export'!U288*'Sconti Export'!F288),'Sconti Export'!U287*'Zone Export'!$V$14,('Sconti Export'!U288-('Sconti Export'!U288*'Sconti Export'!F288))*'Zone Export'!$V$14)","v":456.45},{"$f":"IF('Sconti Export'!V$255>'Sconti Export'!V288-('Sconti Export'!V288*'Sconti Export'!G288),'Sconti Export'!V287*'Zone Export'!$V$14,('Sconti Export'!V288-('Sconti Export'!V288*'Sconti Export'!G288))*'Zone Export'!$V$14)","v":978},{"$f":"IF('Sconti Export'!W$255>'Sconti Export'!W288-('Sconti Export'!W288*'Sconti Export'!H288),'Sconti Export'!W287*'Zone Export'!$V$14,('Sconti Export'!W288-('Sconti Export'!W288*'Sconti Export'!H288))*'Zone Export'!$V$14)","v":459.4},{"$f":"IF('Sconti Export'!X$255>'Sconti Export'!X288-('Sconti Export'!X288*'Sconti Export'!I288),'Sconti Export'!X287*'Zone Export'!$V$14,('Sconti Export'!X288-('Sconti Export'!X288*'Sconti Export'!I288))*'Zone Export'!$V$14)","v":623.29999999999995},{"$f":"IF('Sconti Export'!Y$255>'Sconti Export'!Y288-('Sconti Export'!Y288*'Sconti Export'!J288),'Sconti Export'!Y287*'Zone Export'!$V$14,('Sconti Export'!Y288-('Sconti Export'!Y288*'Sconti Export'!J288))*'Zone Export'!$V$14)","v":907.45}]
[null,"28 kg",null,{"$f":"IF('Sconti Export'!R$255>'Sconti Export'!R289-('Sconti Export'!R289*'Sconti Export'!C289),'Sconti Export'!R288*'Zone Export'!$V$14,('Sconti Export'!R289-('Sconti Export'!R289*'Sconti Export'!C289))*'Zone Export'!$V$14)","v":133.19999999999999},{"$f":"IF('Sconti Export'!S$255>'Sconti Export'!S289-('Sconti Export'!S289*'Sconti Export'!D289),'Sconti Export'!S288*'Zone Export'!$V$14,('Sconti Export'!S289-('Sconti Export'!S289*'Sconti Export'!D289))*'Zone Export'!$V$14)","v":424.3},{"$f":"IF('Sconti Export'!T$255>'Sconti Export'!T289-('Sconti Export'!T289*'Sconti Export'!E289),'Sconti Export'!T288*'Zone Export'!$V$14,('Sconti Export'!T289-('Sconti Export'!T289*'Sconti Export'!E289))*'Zone Export'!$V$14)","v":450.7},{"$f":"IF('Sconti Export'!U$255>'Sconti Export'!U289-('Sconti Export'!U289*'Sconti Export'!F289),'Sconti Export'!U288*'Zone Export'!$V$14,('Sconti Export'!U289-('Sconti Export'!U289*'Sconti Export'!F289))*'Zone Export'!$V$14)","v":476.9},{"$f":"IF('Sconti Export'!V$255>'Sconti Export'!V289-('Sconti Export'!V289*'Sconti Export'!G289),'Sconti Export'!V288*'Zone Export'!$V$14,('Sconti Export'!V289-('Sconti Export'!V289*'Sconti Export'!G289))*'Zone Export'!$V$14)","v":1034.95},{"$f":"IF('Sconti Export'!W$255>'Sconti Export'!W289-('Sconti Export'!W289*'Sconti Export'!H289),'Sconti Export'!W288*'Zone Export'!$V$14,('Sconti Export'!W289-('Sconti Export'!W289*'Sconti Export'!H289))*'Zone Export'!$V$14)","v":479.8},{"$f":"IF('Sconti Export'!X$255>'Sconti Export'!X289-('Sconti Export'!X289*'Sconti Export'!I289),'Sconti Export'!X288*'Zone Export'!$V$14,('Sconti Export'!X289-('Sconti Export'!X289*'Sconti Export'!I289))*'Zone Export'!$V$14)","v":661.3},{"$f":"IF('Sconti Export'!Y$255>'Sconti Export'!Y289-('Sconti Export'!Y289*'Sconti Export'!J289),'Sconti Export'!Y288*'Zone Export'!$V$14,('Sconti Export'!Y289-('Sconti Export'!Y289*'Sconti Export'!J289))*'Zone Export'!$V$14)","v":956.35}]
[null,"30 kg",null,{"$f":"IF('Sconti Export'!R$255>'Sconti Export'!R290-('Sconti Export'!R290*'Sconti Export'!C290),'Sconti Export'!R289*'Zone Export'!$V$14,('Sconti Export'!R290-('Sconti Export'!R290*'Sconti Export'!C290))*'Zone Export'!$V$14)","v":133.19999999999999},{"$f":"IF('Sconti Export'!S$255>'Sconti Export'!S290-('Sconti Export'!S290*'Sconti Export'!D290),'Sconti Export'!S289*'Zone Export'!$V$14,('Sconti Export'!S290-('Sconti Export'!S290*'Sconti Export'!D290))*'Zone Export'!$V$14)","v":442.7},{"$f":"IF('Sconti Export'!T$255>'Sconti Export'!T290-('Sconti Export'!T290*'Sconti Export'!E290),'Sconti Export'!T289*'Zone Export'!$V$14,('Sconti Export'!T290-('Sconti Export'!T290*'Sconti Export'!E290))*'Zone Export'!$V$14)","v":469.75},{"$f":"IF('Sconti Export'!U$255>'Sconti Export'!U290-('Sconti Export'!U290*'Sconti Export'!F290),'Sconti Export'!U289*'Zone Export'!$V$14,('Sconti Export'!U290-('Sconti Export'!U290*'Sconti Export'!F290))*'Zone Export'!$V$14)","v":497.45},{"$f":"IF('Sconti Export'!V$255>'Sconti Export'!V290-('Sconti Export'!V290*'Sconti Export'!G290),'Sconti Export'!V289*'Zone Export'!$V$14,('Sconti Export'!V290-('Sconti Export'!V290*'Sconti Export'!G290))*'Zone Export'!$V$14)","v":1092},{"$f":"IF('Sconti Export'!W$255>'Sconti Export'!W290-('Sconti Export'!W290*'Sconti Export'!H290),'Sconti Export'!W289*'Zone Export'!$V$14,('Sconti Export'!W290-('Sconti Export'!W290*'Sconti Export'!H290))*'Zone Export'!$V$14)","v":500},{"$f":"IF('Sconti Export'!X$255>'Sconti Export'!X290-('Sconti Export'!X290*'Sconti Export'!I290),'Sconti Export'!X289*'Zone Export'!$V$14,('Sconti Export'!X290-('Sconti Export'!X290*'Sconti Export'!I290))*'Zone Export'!$V$14)","v":699.4},{"$f":"IF('Sconti Export'!Y$255>'Sconti Export'!Y290-('Sconti Export'!Y290*'Sconti Export'!J290),'Sconti Export'!Y289*'Zone Export'!$V$14,('Sconti Export'!Y290-('Sconti Export'!Y290*'Sconti Export'!J290))*'Zone Export'!$V$14)","v":1005.35}]
[null,"35 kg",null,{"$f":"IF('Sconti Export'!R$255>'Sconti Export'!R291-('Sconti Export'!R291*'Sconti Export'!C291),'Sconti Export'!R290*'Zone Export'!$V$14,('Sconti Export'!R291-('Sconti Export'!R291*'Sconti Export'!C291))*'Zone Export'!$V$14)","v":151.65},{"$f":"IF('Sconti Export'!S$255>'Sconti Export'!S291-('Sconti Export'!S291*'Sconti Export'!D291),'Sconti Export'!S290*'Zone Export'!$V$14,('Sconti Export'!S291-('Sconti Export'!S291*'Sconti Export'!D291))*'Zone Export'!$V$14)","v":484.7},{"$f":"IF('Sconti Export'!T$255>'Sconti Export'!T291-('Sconti Export'!T291*'Sconti Export'!E291),'Sconti Export'!T290*'Zone Export'!$V$14,('Sconti Export'!T291-('Sconti Export'!T291*'Sconti Export'!E291))*'Zone Export'!$V$14)","v":513.79999999999995},{"$f":"IF('Sconti Export'!U$255>'Sconti Export'!U291-('Sconti Export'!U291*'Sconti Export'!F291),'Sconti Export'!U290*'Zone Export'!$V$14,('Sconti Export'!U291-('Sconti Export'!U291*'Sconti Export'!F291))*'Zone Export'!$V$14)","v":539.25},{"$f":"IF('Sconti Export'!V$255>'Sconti Export'!V291-('Sconti Export'!V291*'Sconti Export'!G291),'Sconti Export'!V290*'Zone Export'!$V$14,('Sconti Export'!V291-('Sconti Export'!V291*'Sconti Export'!G291))*'Zone Export'!$V$14)","v":1219.05},{"$f":"IF('Sconti Export'!W$255>'Sconti Export'!W291-('Sconti Export'!W291*'Sconti Export'!H291),'Sconti Export'!W290*'Zone Export'!$V$14,('Sconti Export'!W291-('Sconti Export'!W291*'Sconti Export'!H291))*'Zone Export'!$V$14)","v":541.6},{"$f":"IF('Sconti Export'!X$255>'Sconti Export'!X291-('Sconti Export'!X291*'Sconti Export'!I291),'Sconti Export'!X290*'Zone Export'!$V$14,('Sconti Export'!X291-('Sconti Export'!X291*'Sconti Export'!I291))*'Zone Export'!$V$14)","v":783.45},{"$f":"IF('Sconti Export'!Y$255>'Sconti Export'!Y291-('Sconti Export'!Y291*'Sconti Export'!J291),'Sconti Export'!Y290*'Zone Export'!$V$14,('Sconti Export'!Y291-('Sconti Export'!Y291*'Sconti Export'!J291))*'Zone Export'!$V$14)","v":1116.1500000000001}]
[null,"40 kg",null,{"$f":"IF('Sconti Export'!R$255>'Sconti Export'!R292-('Sconti Export'!R292*'Sconti Export'!C292),'Sconti Export'!R291*'Zone Export'!$V$14,('Sconti Export'!R292-('Sconti Export'!R292*'Sconti Export'!C292))*'Zone Export'!$V$14)","v":151.65},{"$f":"IF('Sconti Export'!S$255>'Sconti Export'!S292-('Sconti Export'!S292*'Sconti Export'!D292),'Sconti Export'!S291*'Zone Export'!$V$14,('Sconti Export'!S292-('Sconti Export'!S292*'Sconti Export'!D292))*'Zone Export'!$V$14)","v":526.70000000000005},{"$f":"IF('Sconti Export'!T$255>'Sconti Export'!T292-('Sconti Export'!T292*'Sconti Export'!E292),'Sconti Export'!T291*'Zone Export'!$V$14,('Sconti Export'!T292-('Sconti Export'!T292*'Sconti Export'!E292))*'Zone Export'!$V$14)","v":557.79999999999995},{"$f":"IF('Sconti Export'!U$255>'Sconti Export'!U292-('Sconti Export'!U292*'Sconti Export'!F292),'Sconti Export'!U291*'Zone Export'!$V$14,('Sconti Export'!U292-('Sconti Export'!U292*'Sconti Export'!F292))*'Zone Export'!$V$14)","v":581.15},{"$f":"IF('Sconti Export'!V$255>'Sconti Export'!V292-('Sconti Export'!V292*'Sconti Export'!G292),'Sconti Export'!V291*'Zone Export'!$V$14,('Sconti Export'!V292-('Sconti Export'!V292*'Sconti Export'!G292))*'Zone Export'!$V$14)","v":1346},{"$f":"IF('Sconti Export'!W$255>'Sconti Export'!W292-('Sconti Export'!W292*'Sconti Export'!H292),'Sconti Export'!W291*'Zone Export'!$V$14,('Sconti Export'!W292-('Sconti Export'!W292*'Sconti Export'!H292))*'Zone Export'!$V$14)","v":583.1},{"$f":"IF('Sconti Export'!X$255>'Sconti Export'!X292-('Sconti Export'!X292*'Sconti Export'!I292),'Sconti Export'!X291*'Zone Export'!$V$14,('Sconti Export'!X292-('Sconti Export'!X292*'Sconti Export'!I292))*'Zone Export'!$V$14)","v":867.45},{"$f":"IF('Sconti Export'!Y$255>'Sconti Export'!Y292-('Sconti Export'!Y292*'Sconti Export'!J292),'Sconti Export'!Y291*'Zone Export'!$V$14,('Sconti Export'!Y292-('Sconti Export'!Y292*'Sconti Export'!J292))*'Zone Export'!$V$14)","v":1226.75}]
[null,"45 kg",null,{"$f":"IF('Sconti Export'!R$255>'Sconti Export'!R293-('Sconti Export'!R293*'Sconti Export'!C293),'Sconti Export'!R292*'Zone Export'!$V$14,('Sconti Export'!R293-('Sconti Export'!R293*'Sconti Export'!C293))*'Zone Export'!$V$14)","v":170.05},{"$f":"IF('Sconti Export'!S$255>'Sconti Export'!S293-('Sconti Export'!S293*'Sconti Export'!D293),'Sconti Export'!S292*'Zone Export'!$V$14,('Sconti Export'!S293-('Sconti Export'!S293*'Sconti Export'!D293))*'Zone Export'!$V$14)","v":568.70000000000005},{"$f":"IF('Sconti Export'!T$255>'Sconti Export'!T293-('Sconti Export'!T293*'Sconti Export'!E293),'Sconti Export'!T292*'Zone Export'!$V$14,('Sconti Export'!T293-('Sconti Export'!T293*'Sconti Export'!E293))*'Zone Export'!$V$14)","v":601.79999999999995},{"$f":"IF('Sconti Export'!U$255>'Sconti Export'!U293-('Sconti Export'!U293*'Sconti Export'!F293),'Sconti Export'!U292*'Zone Export'!$V$14,('Sconti Export'!U293-('Sconti Export'!U293*'Sconti Export'!F293))*'Zone Export'!$V$14)","v":627},{"$f":"IF('Sconti Export'!V$255>'Sconti Export'!V293-('Sconti Export'!V293*'Sconti Export'!G293),'Sconti Export'!V292*'Zone Export'!$V$14,('Sconti Export'!V293-('Sconti Export'!V293*'Sconti Export'!G293))*'Zone Export'!$V$14)","v":1473},{"$f":"IF('Sconti Export'!W$255>'Sconti Export'!W293-('Sconti Export'!W293*'Sconti Export'!H293),'Sconti Export'!W292*'Zone Export'!$V$14,('Sconti Export'!W293-('Sconti Export'!W293*'Sconti Export'!H293))*'Zone Export'!$V$14)","v":624.75},{"$f":"IF('Sconti Export'!X$255>'Sconti Export'!X293-('Sconti Export'!X293*'Sconti Export'!I293),'Sconti Export'!X292*'Zone Export'!$V$14,('Sconti Export'!X293-('Sconti Export'!X293*'Sconti Export'!I293))*'Zone Export'!$V$14)","v":951.6},{"$f":"IF('Sconti Export'!Y$255>'Sconti Export'!Y293-('Sconti Export'!Y293*'Sconti Export'!J293),'Sconti Export'!Y292*'Zone Export'!$V$14,('Sconti Export'!Y293-('Sconti Export'!Y293*'Sconti Export'!J293))*'Zone Export'!$V$14)","v":1343}]
[null,"50 kg",null,{"$f":"IF('Sconti Export'!R$255>'Sconti Export'!R294-('Sconti Export'!R294*'Sconti Export'!C294),'Sconti Export'!R293*'Zone Export'!$V$14,('Sconti Export'!R294-('Sconti Export'!R294*'Sconti Export'!C294))*'Zone Export'!$V$14)","v":170.05},{"$f":"IF('Sconti Export'!S$255>'Sconti Export'!S294-('Sconti Export'!S294*'Sconti Export'!D294),'Sconti Export'!S293*'Zone Export'!$V$14,('Sconti Export'!S294-('Sconti Export'!S294*'Sconti Export'!D294))*'Zone Export'!$V$14)","v":610},{"$f":"IF('Sconti Export'!T$255>'Sconti Export'!T294-('Sconti Export'!T294*'Sconti Export'!E294),'Sconti Export'!T293*'Zone Export'!$V$14,('Sconti Export'!T294-('Sconti Export'!T294*'Sconti Export'!E294))*'Zone Export'!$V$14)","v":645.85},{"$f":"IF('Sconti Export'!U$255>'Sconti Export'!U294-('Sconti Export'!U294*'Sconti Export'!F294),'Sconti Export'!U293*'Zone Export'!$V$14,('Sconti Export'!U294-('Sconti Export'!U294*'Sconti Export'!F294))*'Zone Export'!$V$14)","v":673},{"$f":"IF('Sconti Export'!V$255>'Sconti Export'!V294-('Sconti Export'!V294*'Sconti Export'!G294),'Sconti Export'!V293*'Zone Export'!$V$14,('Sconti Export'!V294-('Sconti Export'!V294*'Sconti Export'!G294))*'Zone Export'!$V$14)","v":1599.9},{"$f":"IF('Sconti Export'!W$255>'Sconti Export'!W294-('Sconti Export'!W294*'Sconti Export'!H294),'Sconti Export'!W293*'Zone Export'!$V$14,('Sconti Export'!W294-('Sconti Export'!W294*'Sconti Export'!H294))*'Zone Export'!$V$14)","v":666.45},{"$f":"IF('Sconti Export'!X$255>'Sconti Export'!X294-('Sconti Export'!X294*'Sconti Export'!I294),'Sconti Export'!X293*'Zone Export'!$V$14,('Sconti Export'!X294-('Sconti Export'!X294*'Sconti Export'!I294))*'Zone Export'!$V$14)","v":1035.5999999999999},{"$f":"IF('Sconti Export'!Y$255>'Sconti Export'!Y294-('Sconti Export'!Y294*'Sconti Export'!J294),'Sconti Export'!Y293*'Zone Export'!$V$14,('Sconti Export'!Y294-('Sconti Export'!Y294*'Sconti Export'!J294))*'Zone Export'!$V$14)","v":1492}]
[null,"55 kg",null,{"$f":"IF('Sconti Export'!R$255>'Sconti Export'!R295-('Sconti Export'!R295*'Sconti Export'!C295),'Sconti Export'!R294*'Zone Export'!$V$14,('Sconti Export'!R295-('Sconti Export'!R295*'Sconti Export'!C295))*'Zone Export'!$V$14)","v":188.25},{"$f":"IF('Sconti Export'!S$255>'Sconti Export'!S295-('Sconti Export'!S295*'Sconti Export'!D295),'Sconti Export'!S294*'Zone Export'!$V$14,('Sconti Export'!S295-('Sconti Export'!S295*'Sconti Export'!D295))*'Zone Export'!$V$14)","v":651.35},{"$f":"IF('Sconti Export'!T$255>'Sconti Export'!T295-('Sconti Export'!T295*'Sconti Export'!E295),'Sconti Export'!T294*'Zone Export'!$V$14,('Sconti Export'!T295-('Sconti Export'!T295*'Sconti Export'!E295))*'Zone Export'!$V$14)","v":689.9},{"$f":"IF('Sconti Export'!U$255>'Sconti Export'!U295-('Sconti Export'!U295*'Sconti Export'!F295),'Sconti Export'!U294*'Zone Export'!$V$14,('Sconti Export'!U295-('Sconti Export'!U295*'Sconti Export'!F295))*'Zone Export'!$V$14)","v":718.75},{"$f":"IF('Sconti Export'!V$255>'Sconti Export'!V295-('Sconti Export'!V295*'Sconti Export'!G295),'Sconti Export'!V294*'Zone Export'!$V$14,('Sconti Export'!V295-('Sconti Export'!V295*'Sconti Export'!G295))*'Zone Export'!$V$14)","v":1729.5},{"$f":"IF('Sconti Export'!W$255>'Sconti Export'!W295-('Sconti Export'!W295*'Sconti Export'!H295),'Sconti Export'!W294*'Zone Export'!$V$14,('Sconti Export'!W295-('Sconti Export'!W295*'Sconti Export'!H295))*'Zone Export'!$V$14)","v":708},{"$f":"IF('Sconti Export'!X$255>'Sconti Export'!X295-('Sconti Export'!X295*'Sconti Export'!I295),'Sconti Export'!X294*'Zone Export'!$V$14,('Sconti Export'!X295-('Sconti Export'!X295*'Sconti Export'!I295))*'Zone Export'!$V$14)","v":1119.75},{"$f":"IF('Sconti Export'!Y$255>'Sconti Export'!Y295-('Sconti Export'!Y295*'Sconti Export'!J295),'Sconti Export'!Y294*'Zone Export'!$V$14,('Sconti Export'!Y295-('Sconti Export'!Y295*'Sconti Export'!J295))*'Zone Export'!$V$14)","v":1612.5}]
[null,"60 kg",null,{"$f":"IF('Sconti Export'!R$255>'Sconti Export'!R296-('Sconti Export'!R296*'Sconti Export'!C296),'Sconti Export'!R295*'Zone Export'!$V$14,('Sconti Export'!R296-('Sconti Export'!R296*'Sconti Export'!C296))*'Zone Export'!$V$14)","v":188.25},{"$f":"IF('Sconti Export'!S$255>'Sconti Export'!S296-('Sconti Export'!S296*'Sconti Export'!D296),'Sconti Export'!S295*'Zone Export'!$V$14,('Sconti Export'!S296-('Sconti Export'!S296*'Sconti Export'!D296))*'Zone Export'!$V$14)","v":692.6},{"$f":"IF('Sconti Export'!T$255>'Sconti Export'!T296-('Sconti Export'!T296*'Sconti Export'!E296),'Sconti Export'!T295*'Zone Export'!$V$14,('Sconti Export'!T296-('Sconti Export'!T296*'Sconti Export'!E296))*'Zone Export'!$V$14)","v":734},{"$f":"IF('Sconti Export'!U$255>'Sconti Export'!U296-('Sconti Export'!U296*'Sconti Export'!F296),'Sconti Export'!U295*'Zone Export'!$V$14,('Sconti Export'!U296-('Sconti Export'!U296*'Sconti Export'!F296))*'Zone Export'!$V$14)","v":764.8},{"$f":"IF('Sconti Export'!V$255>'Sconti Export'!V296-('Sconti Export'!V296*'Sconti Export'!G296),'Sconti Export'!V295*'Zone Export'!$V$14,('Sconti Export'!V296-('Sconti Export'!V296*'Sconti Export'!G296))*'Zone Export'!$V$14)","v":1861.15},{"$f":"IF('Sconti Export'!W$255>'Sconti Export'!W296-('Sconti Export'!W296*'Sconti Export'!H296),'Sconti Export'!W295*'Zone Export'!$V$14,('Sconti Export'!W296-('Sconti Export'!W296*'Sconti Export'!H296))*'Zone Export'!$V$14)","v":749.55},{"$f":"IF('Sconti Export'!X$255>'Sconti Export'!X296-('Sconti Export'!X296*'Sconti Export'!I296),'Sconti Export'!X295*'Zone Export'!$V$14,('Sconti Export'!X296-('Sconti Export'!X296*'Sconti Export'!I296))*'Zone Export'!$V$14)","v":1203.75},{"$f":"IF('Sconti Export'!Y$255>'Sconti Export'!Y296-('Sconti Export'!Y296*'Sconti Export'!J296),'Sconti Export'!Y295*'Zone Export'!$V$14,('Sconti Export'!Y296-('Sconti Export'!Y296*'Sconti Export'!J296))*'Zone Export'!$V$14)","v":1727.85}]
[null,"65 kg",null,{"$f":"IF('Sconti Export'!R$255>'Sconti Export'!R297-('Sconti Export'!R297*'Sconti Export'!C297),'Sconti Export'!R296*'Zone Export'!$V$14,('Sconti Export'!R297-('Sconti Export'!R297*'Sconti Export'!C297))*'Zone Export'!$V$14)","v":206.65},{"$f":"IF('Sconti Export'!S$255>'Sconti Export'!S297-('Sconti Export'!S297*'Sconti Export'!D297),'Sconti Export'!S296*'Zone Export'!$V$14,('Sconti Export'!S297-('Sconti Export'!S297*'Sconti Export'!D297))*'Zone Export'!$V$14)","v":733.9},{"$f":"IF('Sconti Export'!T$255>'Sconti Export'!T297-('Sconti Export'!T297*'Sconti Export'!E297),'Sconti Export'!T296*'Zone Export'!$V$14,('Sconti Export'!T297-('Sconti Export'!T297*'Sconti Export'!E297))*'Zone Export'!$V$14)","v":778.1},{"$f":"IF('Sconti Export'!U$255>'Sconti Export'!U297-('Sconti Export'!U297*'Sconti Export'!F297),'Sconti Export'!U296*'Zone Export'!$V$14,('Sconti Export'!U297-('Sconti Export'!U297*'Sconti Export'!F297))*'Zone Export'!$V$14)","v":810.65},{"$f":"IF('Sconti Export'!V$255>'Sconti Export'!V297-('Sconti Export'!V297*'Sconti Export'!G297),'Sconti Export'!V296*'Zone Export'!$V$14,('Sconti Export'!V297-('Sconti Export'!V297*'Sconti Export'!G297))*'Zone Export'!$V$14)","v":1992.6},{"$f":"IF('Sconti Export'!W$255>'Sconti Export'!W297-('Sconti Export'!W297*'Sconti Export'!H297),'Sconti Export'!W296*'Zone Export'!$V$14,('Sconti Export'!W297-('Sconti Export'!W297*'Sconti Export'!H297))*'Zone Export'!$V$14)","v":791.1},{"$f":"IF('Sconti Export'!X$255>'Sconti Export'!X297-('Sconti Export'!X297*'Sconti Export'!I297),'Sconti Export'!X296*'Zone Export'!$V$14,('Sconti Export'!X297-('Sconti Export'!X297*'Sconti Export'!I297))*'Zone Export'!$V$14)","v":1287.8},{"$f":"IF('Sconti Export'!Y$255>'Sconti Export'!Y297-('Sconti Export'!Y297*'Sconti Export'!J297),'Sconti Export'!Y296*'Zone Export'!$V$14,('Sconti Export'!Y297-('Sconti Export'!Y297*'Sconti Export'!J297))*'Zone Export'!$V$14)","v":1843.3}]
[null,"70 kg",null,{"$f":"IF('Sconti Export'!R$255>'Sconti Export'!R298-('Sconti Export'!R298*'Sconti Export'!C298),'Sconti Export'!R297*'Zone Export'!$V$14,('Sconti Export'!R298-('Sconti Export'!R298*'Sconti Export'!C298))*'Zone Export'!$V$14)","v":206.65},{"$f":"IF('Sconti Export'!S$255>'Sconti Export'!S298-('Sconti Export'!S298*'Sconti Export'!D298),'Sconti Export'!S297*'Zone Export'!$V$14,('Sconti Export'!S298-('Sconti Export'!S298*'Sconti Export'!D298))*'Zone Export'!$V$14)","v":775.15},{"$f":"IF('Sconti Export'!T$255>'Sconti Export'!T298-('Sconti Export'!T298*'Sconti Export'!E298),'Sconti Export'!T297*'Zone Export'!$V$14,('Sconti Export'!T298-('Sconti Export'!T298*'Sconti Export'!E298))*'Zone Export'!$V$14)","v":822.05},{"$f":"IF('Sconti Export'!U$255>'Sconti Export'!U298-('Sconti Export'!U298*'Sconti Export'!F298),'Sconti Export'!U297*'Zone Export'!$V$14,('Sconti Export'!U298-('Sconti Export'!U298*'Sconti Export'!F298))*'Zone Export'!$V$14)","v":856.5},{"$f":"IF('Sconti Export'!V$255>'Sconti Export'!V298-('Sconti Export'!V298*'Sconti Export'!G298),'Sconti Export'!V297*'Zone Export'!$V$14,('Sconti Export'!V298-('Sconti Export'!V298*'Sconti Export'!G298))*'Zone Export'!$V$14)","v":2122.4},{"$f":"IF('Sconti Export'!W$255>'Sconti Export'!W298-('Sconti Export'!W298*'Sconti Export'!H298),'Sconti Export'!W297*'Zone Export'!$V$14,('Sconti Export'!W298-('Sconti Export'!W298*'Sconti Export'!H298))*'Zone Export'!$V$14)","v":832.75},{"$f":"IF('Sconti Export'!X$255>'Sconti Export'!X298-('Sconti Export'!X298*'Sconti Export'!I298),'Sconti Export'!X297*'Zone Export'!$V$14,('Sconti Export'!X298-('Sconti Export'!X298*'Sconti Export'!I298))*'Zone Export'!$V$14)","v":1371.95},{"$f":"IF('Sconti Export'!Y$255>'Sconti Export'!Y298-('Sconti Export'!Y298*'Sconti Export'!J298),'Sconti Export'!Y297*'Zone Export'!$V$14,('Sconti Export'!Y298-('Sconti Export'!Y298*'Sconti Export'!J298))*'Zone Export'!$V$14)","v":1958.65}]
[null,"Oltre 70 Kg"]
[null,"Prezzo al Kg",null,{"$f":"('Sconti Export'!R300-('Sconti Export'!R300*'Sconti Export'!C300))*'Zone Export'!$V$14","v":2.95},{"$f":"('Sconti Export'!S300-('Sconti Export'!S300*'Sconti Export'!D300))*'Zone Export'!$V$14","v":11.07},{"$f":"('Sconti Export'!T300-('Sconti Export'!T300*'Sconti Export'!E300))*'Zone Export'!$V$14","v":11.74},{"$f":"('Sconti Export'!U300-('Sconti Export'!U300*'Sconti Export'!F300))*'Zone Export'!$V$14","v":12.23},{"$f":"('Sconti Export'!V300-('Sconti Export'!V300*'Sconti Export'!G300))*'Zone Export'!$V$14","v":30.32},{"$f":"('Sconti Export'!W300-('Sconti Export'!W300*'Sconti Export'!H300))*'Zone Export'!$V$14","v":11.89},{"$f":"('Sconti Export'!X300-('Sconti Export'!X300*'Sconti Export'!I300))*'Zone Export'!$V$14","v":19.59},{"$f":"('Sconti Export'!Y300-('Sconti Export'!Y300*'Sconti Export'!J300))*'Zone Export'!$V$14","v":27.98}]
[null,"Tariffa Minima",null,{"$f":"('Sconti Export'!R301-('Sconti Export'!R301*'Sconti Export'!C301))*'Zone Export'!$V$14","v":206.65},{"$f":"('Sconti Export'!S301-('Sconti Export'!S301*'Sconti Export'!D301))*'Zone Export'!$V$14","v":775.15},{"$f":"('Sconti Export'!T301-('Sconti Export'!T301*'Sconti Export'!E301))*'Zone Export'!$V$14","v":822.05},{"$f":"('Sconti Export'!U301-('Sconti Export'!U301*'Sconti Export'!F301))*'Zone Export'!$V$14","v":856.5},{"$f":"('Sconti Export'!V301-('Sconti Export'!V301*'Sconti Export'!G301))*'Zone Export'!$V$14","v":2122.4},{"$f":"('Sconti Export'!W301-('Sconti Export'!W301*'Sconti Export'!H301))*'Zone Export'!$V$14","v":832.75},{"$f":"('Sconti Export'!X301-('Sconti Export'!X301*'Sconti Export'!I301))*'Zone Export'!$V$14","v":1371.95},{"$f":"('Sconti Export'!Y301-('Sconti Export'!Y301*'Sconti Export'!J301))*'Zone Export'!$V$14","v":1958.65}]

{"sheet":"Express","index":8,"n_rows":71,"n_cols":16,"rows_kept":71,"cut":false,"hidden":false,"merged":[[5,1,6,15],[23,1,23,2],[22,9,22,15],[7,1,7,16],[22,4,22,8],[22,1,22,2],[10,1,10,2],[11,1,11,2],[10,9,10,15],[13,1,18,1],[10,4,10,8],[8,11,8,14]]}
[]
[]
[]
[]
[]
[]
[]
[null,"* Per ulteriori dettagli su Garanzie di Rimborso, Copertura Servizi e Condizioni contattare il Numero 02 30 30 30 39 o consultare il sito www.ups.com"]
[null,null,null,null,null,null,null,null,null,null,"Spettabile",{"$f":"+Cover!$C$2","v":"GLOCAL WEB"}]
[]
[null,"€",null,"Italia","Unione Europea",null,null,null,null," Resto del Mondo"]
[null,"Zona",null,1,2,3,4,41,42,5,6,8,9,10,11,12]
[null,"Envelope",null,{"$f":"('Sconti Export'!R6-('Sconti Export'!R6*'Sconti Export'!C6))*'Zone Export'!$V$14","v":12.52},{"$f":"('Sconti Export'!S6-('Sconti Export'!S6*'Sconti Export'!D6))*'Zone Export'!$V$14","v":13.441500000000005},{"$f":"('Sconti Export'!T6-('Sconti Export'!T6*'Sconti Export'!E6))*'Zone Export'!$V$14","v":13.600999999999999},{"$f":"('Sconti Export'!U6-('Sconti Export'!U6*'Sconti Export'!F6))*'Zone Export'!$V$14","v":14.166499999999999},{"$f":"('Sconti Export'!V6-('Sconti Export'!V6*'Sconti Export'!G6))*'Zone Export'!$V$14","v":23.707500000000003},{"$f":"('Sconti Export'!W6-('Sconti Export'!W6*'Sconti Export'!H6))*'Zone Export'!$V$14","v":23.881500000000003},{"$f":"('Sconti Export'!X6-('Sconti Export'!X6*'Sconti Export'!I6))*'Zone Export'!$V$14","v":14.663000000000004},{"$f":"('Sconti Export'!Y6-('Sconti Export'!Y6*'Sconti Export'!J6))*'Zone Export'!$V$14","v":30.100999999999999},{"$f":"('Sconti Export'!Z6-('Sconti Export'!Z6*'Sconti Export'!K6))*'Zone Export'!$V$14","v":14.1205},{"$f":"('Sconti Export'!AA6-('Sconti Export'!AA6*'Sconti Export'!L6))*'Zone Export'!$V$14","v":17.499500000000005},{"$f":"('Sconti Export'!AB6-('Sconti Export'!AB6*'Sconti Export'!M6))*'Zone Export'!$V$14","v":18.863500000000002},{"$f":"('Sconti Export'!AC6-('Sconti Export'!AC6*'Sconti Export'!N6))*'Zone Export'!$V$14","v":29.326000000000008},{"$f":"('Sconti Export'!AD6-('Sconti Export'!AD6*'Sconti Export'!O6))*'Zone Export'!$V$14","v":17.917999999999999}]
[null,"Documenti","Peso"]
[null,null,"0,5 kg",{"$f":"('Sconti Export'!R8-('Sconti Export'!R8*'Sconti Export'!C8))*'Zone Export'!$V$14","v":13.780000000000001},{"$f":"('Sconti Export'!S8-('Sconti Export'!S8*'Sconti Export'!D8))*'Zone Export'!$V$14","v":14.761000000000003},{"$f":"('Sconti Export'!T8-('Sconti Export'!T8*'Sconti Export'!E8))*'Zone Export'!$V$14","v":15.0075},{"$f":"('Sconti Export'!U8-('Sconti Export'!U8*'Sconti Export'!F8))*'Zone Export'!$V$14","v":15.805},{"$f":"('Sconti Export'!V8-('Sconti Export'!V8*'Sconti Export'!G8))*'Zone Export'!$V$14","v":25.984000000000002},{"$f":"('Sconti Export'!W8-('Sconti Export'!W8*'Sconti Export'!H8))*'Zone Export'!$V$14","v":25.998500000000007},{"$f":"('Sconti Export'!X8-('Sconti Export'!X8*'Sconti Export'!I8))*'Zone Export'!$V$14","v":14.771500000000003},{"$f":"('Sconti Export'!Y8-('Sconti Export'!Y8*'Sconti Export'!J8))*'Zone Export'!$V$14","v":30.100999999999999},{"$f":"('Sconti Export'!Z8-('Sconti Export'!Z8*'Sconti Export'!K8))*'Zone Export'!$V$14","v":14.1205},{"$f":"('Sconti Export'!AA8-('Sconti Export'!AA8*'Sconti Export'!L8))*'Zone Export'!$V$14","v":17.499500000000005},{"$f":"('Sconti Export'!AB8-('Sconti Export'!AB8*'Sconti Export'!M8))*'Zone Export'!$V$14","v":18.863500000000002},{"$f":"('Sconti Export'!AC8-('Sconti Export'!AC8*'Sconti Export'!N8))*'Zone Export'!$V$14","v":29.326000000000008},{"$f":"('Sconti Export'!AD8-('Sconti Export'!AD8*'Sconti Export'!O8))*'Zone Export'!$V$14","v":17.917999999999999}]
[null,null,"1,0 kg",{"$f":"('Sconti Export'!R9-('Sconti Export'!R9*'Sconti Export'!C9))*'Zone Export'!$V$14","v":13.780000000000001},{"$f":"('Sconti Export'!S9-('Sconti Export'!S9*'Sconti Export'!D9))*'Zone Export'!$V$14","v":17.994500000000002},{"$f":"('Sconti Export'!T9-('Sconti Export'!T9*'Sconti Export'!E9))*'Zone Export'!$V$14","v":18.110500000000002},{"$f":"('Sconti Export'!U9-('Sconti Export'!U9*'Sconti Export'!F9))*'Zone Export'!$V$14","v":18.908000000000001},{"$f":"('Sconti Export'!V9-('Sconti Export'!V9*'Sconti Export'!G9))*'Zone Export'!$V$14","v":30.232500000000002},{"$f":"('Sconti Export'!W9-('Sconti Export'!W9*'Sconti Export'!H9))*'Zone Export'!$V$14","v":30.247},{"$f":"('Sconti Export'!X9-('Sconti Export'!X9*'Sconti Export'!I9))*'Zone Export'!$V$14","v":18.119500000000002},{"$f":"('Sconti Export'!Y9-('Sconti Export'!Y9*'Sconti Export'!J9))*'Zone Export'!$V$14","v":36.487000000000009},{"$f":"('Sconti Export'!Z9-('Sconti Export'!Z9*'Sconti Export'!K9))*'Zone Export'!$V$14","v":18.646500000000003},{"$f":"('Sconti Export'!AA9-('Sconti Export'!AA9*'Sconti Export'!L9))*'Zone Export'!$V$14","v":23.513500000000001},{"$f":"('Sconti Export'!AB9-('Sconti Export'!AB9*'Sconti Export'!M9))*'Zone Export'!$V$14","v":25.404500000000006},{"$f":"('Sconti Export'!AC9-('Sconti Export'!AC9*'Sconti Export'!N9))*'Zone Export'!$V$14","v":36.378500000000003},{"$f":"('Sconti Export'!AD9-('Sconti Export'!AD9*'Sconti Export'!O9))*'Zone Export'!$V$14","v":22.134000000000007}]
[null,null,"1,5 kg",{"$f":"('Sconti Export'!R10-('Sconti Export'!R10*'Sconti Export'!C10))*'Zone Export'!$V$14","v":15},{"$f":"('Sconti Export'!S10-('Sconti Export'!S10*'Sconti Export'!D10))*'Zone Export'!$V$14","v":21.155500000000004},{"$f":"('Sconti Export'!T10-('Sconti Export'!T10*'Sconti Export'!E10))*'Zone Export'!$V$14","v":21.300500000000007},{"$f":"('Sconti Export'!U10-('Sconti Export'!U10*'Sconti Export'!F10))*'Zone Export'!$V$14","v":21.953000000000003},{"$f":"('Sconti Export'!V10-('Sconti Export'!V10*'Sconti Export'!G10))*'Zone Export'!$V$14","v":37.685500000000005},{"$f":"('Sconti Export'!W10-('Sconti Export'!W10*'Sconti Export'!H10))*'Zone Export'!$V$14","v":37.888500000000008},{"$f":"('Sconti Export'!X10-('Sconti Export'!X10*'Sconti Export'!I10))*'Zone Export'!$V$14","v":21.436500000000002},{"$f":"('Sconti Export'!Y10-('Sconti Export'!Y10*'Sconti Export'!J10))*'Zone Export'!$V$14","v":42.888500000000008},{"$f":"('Sconti Export'!Z10-('Sconti Export'!Z10*'Sconti Export'!K10))*'Zone Export'!$V$14","v":23.141500000000008},{"$f":"('Sconti Export'!AA10-('Sconti Export'!AA10*'Sconti Export'!L10))*'Zone Export'!$V$14","v":29.589500000000001},{"$f":"('Sconti Export'!AB10-('Sconti Export'!AB10*'Sconti Export'!M10))*'Zone Export'!$V$14","v":31.883499999999998},{"$f":"('Sconti Export'!AC10-('Sconti Export'!AC10*'Sconti Export'!N10))*'Zone Export'!$V$14","v":43.431000000000012},{"$f":"('Sconti Export'!AD10-('Sconti Export'!AD10*'Sconti Export'!O10))*'Zone Export'!$V$14","v":26.35}]
[null,null,"2,0 kg",{"$f":"('Sconti Export'!R11-('Sconti Export'!R11*'Sconti Export'!C11))*'Zone Export'!$V$14","v":15},{"$f":"('Sconti Export'!S11-('Sconti Export'!S11*'Sconti Export'!D11))*'Zone Export'!$V$14","v":24.316499999999998},{"$f":"('Sconti Export'!T11-('Sconti Export'!T11*'Sconti Export'!E11))*'Zone Export'!$V$14","v":24.432500000000005},{"$f":"('Sconti Export'!U11-('Sconti Export'!U11*'Sconti Export'!F11))*'Zone Export'!$V$14","v":25.056000000000004},{"$f":"('Sconti Export'!V11-('Sconti Export'!V11*'Sconti Export'!G11))*'Zone Export'!$V$14","v":44.863},{"$f":"('Sconti Export'!W11-('Sconti Export'!W11*'Sconti Export'!H11))*'Zone Export'!$V$14","v":45.240000000000009},{"$f":"('Sconti Export'!X11-('Sconti Export'!X11*'Sconti Export'!I11))*'Zone Export'!$V$14","v":24.8155},{"$f":"('Sconti Export'!Y11-('Sconti Export'!Y11*'Sconti Export'!J11))*'Zone Export'!$V$14","v":49.274500000000003},{"$f":"('Sconti Export'!Z11-('Sconti Export'!Z11*'Sconti Export'!K11))*'Zone Export'!$V$14","v":27.652000000000008},{"$f":"('Sconti Export'!AA11-('Sconti Export'!AA11*'Sconti Export'!L11))*'Zone Export'!$V$14","v":35.650000000000006},{"$f":"('Sconti Export'!AB11-('Sconti Export'!AB11*'Sconti Export'!M11))*'Zone Export'!$V$14","v":38.362500000000011},{"$f":"('Sconti Export'!AC11-('Sconti Export'!AC11*'Sconti Export'!N11))*'Zone Export'!$V$14","v":50.57650000000001},{"$f":"('Sconti Export'!AD11-('Sconti Export'!AD11*'Sconti Export'!O11))*'Zone Export'!$V$14","v":30.581500000000005}]
[null,null,"2,5 kg",{"$f":"('Sconti Export'!R12-('Sconti Export'!R12*'Sconti Export'!C12))*'Zone Export'!$V$14","v":15},{"$f":"('Sconti Export'!S12-('Sconti Export'!S12*'Sconti Export'!D12))*'Zone Export'!$V$14","v":27.463000000000008},{"$f":"('Sconti Export'!T12-('Sconti Export'!T12*'Sconti Export'!E12))*'Zone Export'!$V$14","v":27.593500000000006},{"$f":"('Sconti Export'!U12-('Sconti Export'!U12*'Sconti Export'!F12))*'Zone Export'!$V$14","v":28.13000000000001},{"$f":"('Sconti Export'!V12-('Sconti Export'!V12*'Sconti Export'!G12))*'Zone Export'!$V$14","v":52.156500000000008},{"$f":"('Sconti Export'!W12-('Sconti Export'!W12*'Sconti Export'!H12))*'Zone Export'!$V$14","v":52.693000000000012},{"$f":"('Sconti Export'!X12-('Sconti Export'!X12*'Sconti Export'!I12))*'Zone Export'!$V$14","v":28.148000000000003},{"$f":"('Sconti Export'!Y12-('Sconti Export'!Y12*'Sconti Export'!J12))*'Zone Export'!$V$14","v":55.629500000000007},{"$f":"('Sconti Export'!Z12-('Sconti Export'!Z12*'Sconti Export'!K12))*'Zone Export'!$V$14","v":32.147000000000006},{"$f":"('Sconti Export'!AA12-('Sconti Export'!AA12*'Sconti Export'!L12))*'Zone Export'!$V$14","v":41.8035},{"$f":"('Sconti Export'!AB12-('Sconti Export'!AB12*'Sconti Export'!M12))*'Zone Export'!$V$14","v":44.872500000000002},{"$f":"('Sconti Export'!AC12-('Sconti Export'!AC12*'Sconti Export'!N12))*'Zone Export'!$V$14","v":57.66},{"$f":"('Sconti Export'!AD12-('Sconti Export'!AD12*'Sconti Export'!O12))*'Zone Export'!$V$14","v":34.766500000000008}]
[]
[]
[]
[null,"€",null,"Italia","Unione Europea",null,null,null,null," Resto del Mondo"]
[null,"Zona",null,1,2,3,4,41,42,5,6,8,9,10,11,12]
[null,"Peso"]
[null,"0,5 kg",null,{"$f":"IF('Sconti Export'!R$16>'Sconti Export'!R17-('Sconti Export'!R17*'Sconti Export'!C17),'Sconti Export'!R$16*'Zone Export'!$V$14,('Sconti Export'!R17-('Sconti Export'!R17*'Sconti Export'!C17))*'Zone Export'!$V$14)","v":13.780000000000001},{"$f":"IF('Sconti Export'!S$16>'Sconti Export'!S17-('Sconti Export'!S17*'Sconti Export'!D17),'Sconti Export'!S$16*'Zone Export'!$V$14,('Sconti Export'!S17-('Sconti Export'!S17*'Sconti Export'!D17))*'Zone Export'!$V$14)","v":14.761000000000003},{"$f":"IF('Sconti Export'!T$16>'Sconti Export'!T17-('Sconti Export'!T17*'Sconti Export'!E17),'Sconti Export'!T$16*'Zone Export'!$V$14,('Sconti Export'!T17-('Sconti Export'!T17*'Sconti Export'!E17))*'Zone Export'!$V$14)","v":15.0075},{"$f":"IF('Sconti Export'!U$16>'Sconti Export'!U17-('Sconti Export'!U17*'Sconti Export'!F17),'Sconti Export'!U$16*'Zone Export'!$V$14,('Sconti Export'!U17-('Sconti Export'!U17*'Sconti Export'!F17))*'Zone Export'!$V$14)","v":15.805},{"$f":"IF('Sconti Export'!V$16>'Sconti Export'!V17-('Sconti Export'!V17*'Sconti Export'!G17),'Sconti Export'!V$16*'Zone Export'!$V$14,('Sconti Export'!V17-('Sconti Export'!V17*'Sconti Export'!G17))*'Zone Export'!$V$14)","v":25.984000000000002},{"$f":"IF('Sconti Export'!W$16>'Sconti Export'!W17-('Sconti Export'!W17*'Sconti Export'!H17),'Sconti Export'!W$16*'Zone Export'!$V$14,('Sconti Export'!W17-('Sconti Export'!W17*'Sconti Export'!H17))*'Zone Export'!$V$14)","v":25.998500000000007},{"$f":"IF('Sconti Export'!X$16>'Sconti Export'!X17-('Sconti Export'!X17*'Sconti Export'!I17),'Sconti Export'!X$16*'Zone Export'!$V$14,('Sconti Export'!X17-('Sconti Export'!X17*'Sconti Export'!I17))*'Zone Export'!$V$14)","v":19.669500000000006},{"$f":"IF('Sconti Export'!Y$16>'Sconti Export'!Y17-('Sconti Export'!Y17*'Sconti Export'!J17),'Sconti Export'!Y$16*'Zone Export'!$V$14,('Sconti Export'!Y17-('Sconti Export'!Y17*'Sconti Export'!J17))*'Zone Export'!$V$14)","v":51.336000000000013},{"$f":"IF('Sconti Export'!Z$16>'Sconti Export'!Z17-('Sconti Export'!Z17*'Sconti Export'!K17),'Sconti Export'!Z$16*'Zone Export'!$V$14,('Sconti Export'!Z17-('Sconti Export'!Z17*'Sconti Export'!K17))*'Zone Export'!$V$14)","v":22.986500000000007},{"$f":"IF('Sconti Export'!AA$16>'Sconti Export'!AA17-('Sconti Export'!AA17*'Sconti Export'!L17),'Sconti Export'!AA$16*'Zone Export'!$V$14,('Sconti Export'!AA17-('Sconti Export'!AA17*'Sconti Export'!L17))*'Zone Export'!$V$14)","v":38.827500000000001},{"$f":"IF('Sconti Export'!AB$16>'Sconti Export'!AB17-('Sconti Export'!AB17*'Sconti Export'!M17),'Sconti Export'!AB$16*'Zone Export'!$V$14,('Sconti Export'!AB17-('Sconti Export'!AB17*'Sconti Export'!M17))*'Zone Export'!$V$14)","v":42.950500000000005},{"$f":"IF('Sconti Export'!AC$16>'Sconti Export'!AC17-('Sconti Export'!AC17*'Sconti Export'!N17),'Sconti Export'!AC$16*'Zone Export'!$V$14,('Sconti Export'!AC17-('Sconti Export'!AC17*'Sconti Export'!N17))*'Zone Export'!$V$14)","v":51.522000000000006},{"$f":"IF('Sconti Export'!AD$16>'Sconti Export'!AD17-('Sconti Export'!AD17*'Sconti Export'!O17),'Sconti Export'!AD$16*'Zone Export'!$V$14,('Sconti Export'!AD17-('Sconti Export'!AD17*'Sconti Export'!O17))*'Zone Export'!$V$14)","v":24.908500000000004}]
[null,"1,0 kg",null,{"$f":"IF('Sconti Export'!R$16>'Sconti Export'!R18-('Sconti Export'!R18*'Sconti Export'!C18),'Sconti Export'!R$16*'Zone Export'!$V$14,('Sconti Export'!R18-('Sconti Export'!R18*'Sconti Export'!C18))*'Zone Export'!$V$14)","v":13.780000000000001},{"$f":"IF('Sconti Export'!S$16>'Sconti Export'!S18-('Sconti Export'!S18*'Sconti Export'!D18),'Sconti Export'!S$16*'Zone Export'!$V$14,('Sconti Export'!S18-('Sconti Export'!S18*'Sconti Export'!D18))*'Zone Export'!$V$14)","v":17.994500000000002},{"$f":"IF('Sconti Export'!T$16>'Sconti Export'!T18-('Sconti Export'!T18*'Sconti Export'!E18),'Sconti Export'!T$16*'Zone Export'!$V$14,('Sconti Export'!T18-('Sconti Export'!T18*'Sconti Export'!E18))*'Zone Export'!$V$14)","v":18.110500000000002},{"$f":"IF('Sconti Export'!U$16>'Sconti Export'!U18-('Sconti Export'!U18*'Sconti Export'!F18),'Sconti Export'!U$16*'Zone Export'!$V$14,('Sconti Export'!U18-('Sconti Export'!U18*'Sconti Export'!F18))*'Zone Export'!$V$14)","v":18.908000000000001},{"$f":"IF('Sconti Export'!V$16>'Sconti Export'!V18-('Sconti Export'!V18*'Sconti Export'!G18),'Sconti Export'!V$16*'Zone Export'!$V$14,('Sconti Export'!V18-('Sconti Export'!V18*'Sconti Export'!G18))*'Zone Export'!$V$14)","v":30.232500000000002},{"$f":"IF('Sconti Export'!W$16>'Sconti Export'!W18-('Sconti Export'!W18*'Sconti Export'!H18),'Sconti Export'!W$16*'Zone Export'!$V$14,('Sconti Export'!W18-('Sconti Export'!W18*'Sconti Export'!H18))*'Zone Export'!$V$14)","v":30.247},{"$f":"IF('Sconti Export'!X$16>'Sconti Export'!X18-('Sconti Export'!X18*'Sconti Export'!I18),'Sconti Export'!X$16*'Zone Export'!$V$14,('Sconti Export'!X18-('Sconti Export'!X18*'Sconti Export'!I18))*'Zone Export'!$V$14)","v":22.537000000000006},{"$f":"IF('Sconti Export'!Y$16>'Sconti Export'!Y18-('Sconti Export'!Y18*'Sconti Export'!J18),'Sconti Export'!Y$16*'Zone Export'!$V$14,('Sconti Export'!Y18-('Sconti Export'!Y18*'Sconti Export'!J18))*'Zone Export'!$V$14)","v":56.83850000000001},{"$f":"IF('Sconti Export'!Z$16>'Sconti Export'!Z18-('Sconti Export'!Z18*'Sconti Export'!K18),'Sconti Export'!Z$16*'Zone Export'!$V$14,('Sconti Export'!Z18-('Sconti Export'!Z18*'Sconti Export'!K18))*'Zone Export'!$V$14)","v":26.241500000000009},{"$f":"IF('Sconti Export'!AA$16>'Sconti Export'!AA18-('Sconti Export'!AA18*'Sconti Export'!L18),'Sconti Export'!AA$16*'Zone Export'!$V$14,('Sconti Export'!AA18-('Sconti Export'!AA18*'Sconti Export'!L18))*'Zone Export'!$V$14)","v":44.593500000000006},{"$f":"IF('Sconti Export'!AB$16>'Sconti Export'!AB18-('Sconti Export'!AB18*'Sconti Export'!M18),'Sconti Export'!AB$16*'Zone Export'!$V$14,('Sconti Export'!AB18-('Sconti Export'!AB18*'Sconti Export'!M18))*'Zone Export'!$V$14)","v":48.964500000000001},{"$f":"IF('Sconti Export'!AC$16>'Sconti Export'!AC18-('Sconti Export'!AC18*'Sconti Export'!N18),'Sconti Export'!AC$16*'Zone Export'!$V$14,('Sconti Export'!AC18-('Sconti Export'!AC18*'Sconti Export'!N18))*'Zone Export'!$V$14)","v":57.691000000000003},{"$f":"IF('Sconti Export'!AD$16>'Sconti Export'!AD18-('Sconti Export'!AD18*'Sconti Export'!O18),'Sconti Export'!AD$16*'Zone Export'!$V$14,('Sconti Export'!AD18-('Sconti Export'!AD18*'Sconti Export'!O18))*'Zone Export'!$V$14)","v":29.124500000000012}]
[null,"1,5 kg",null,{"$f":"IF('Sconti Export'!R$16>'Sconti Export'!R19-('Sconti Export'!R19*'Sconti Export'!C19),'Sconti Export'!R$16*'Zone Export'!$V$14,('Sconti Export'!R19-('Sconti Export'!R19*'Sconti Export'!C19))*'Zone Export'!$V$14)","v":15},{"$f":"IF('Sconti Export'!S$16>'Sconti Export'!S19-('Sconti Export'!S19*'Sconti Export'!D19),'Sconti Export'!S$16*'Zone Export'!$V$14,('Sconti Export'!S19-('Sconti Export'!S19*'Sconti Export'!D19))*'Zone Export'!$V$14)","v":21.155500000000004},{"$f":"IF('Sconti Export'!T$16>'Sconti Export'!T19-('Sconti Export'!T19*'Sconti Export'!E19),'Sconti Export'!T$16*'Zone Export'!$V$14,('Sconti Export'!T19-('Sconti Export'!T19*'Sconti Export'!E19))*'Zone Export'!$V$14)","v":21.300500000000007},{"$f":"IF('Sconti Export'!U$16>'Sconti Export'!U19-('Sconti Export'!U19*'Sconti Export'!F19),'Sconti Export'!U$16*'Zone Export'!$V$14,('Sconti Export'!U19-('Sconti Export'!U19*'Sconti Export'!F19))*'Zone Export'!$V$14)","v":21.953000000000003},{"$f":"IF('Sconti Export'!V$16>'Sconti Export'!V19-('Sconti Export'!V19*'Sconti Export'!G19),'Sconti Export'!V$16*'Zone Export'!$V$14,('Sconti Export'!V19-('Sconti Export'!V19*'Sconti Export'!G19))*'Zone Export'!$V$14)","v":37.685500000000005},{"$f":"IF('Sconti Export'!W$16>'Sconti Export'!W19-('Sconti Export'!W19*'Sconti Export'!H19),'Sconti Export'!W$16*'Zone Export'!$V$14,('Sconti Export'!W19-('Sconti Export'!W19*'Sconti Export'!H19))*'Zone Export'!$V$14)","v":37.888500000000008},{"$f":"IF('Sconti Export'!X$16>'Sconti Export'!X19-('Sconti Export'!X19*'Sconti Export'!I19),'Sconti Export'!X$16*'Zone Export'!$V$14,('Sconti Export'!X19-('Sconti Export'!X19*'Sconti Export'!I19))*'Zone Export'!$V$14)","v":25.42},{"$f":"IF('Sconti Export'!Y$16>'Sconti Export'!Y19-('Sconti Export'!Y19*'Sconti Export'!J19),'Sconti Export'!Y$16*'Zone Export'!$V$14,('Sconti Export'!Y19-('Sconti Export'!Y19*'Sconti Export'!J19))*'Zone Export'!$V$14)","v":62.4495},{"$f":"IF('Sconti Export'!Z$16>'Sconti Export'!Z19-('Sconti Export'!Z19*'Sconti Export'!K19),'Sconti Export'!Z$16*'Zone Export'!$V$14,('Sconti Export'!Z19-('Sconti Export'!Z19*'Sconti Export'!K19))*'Zone Export'!$V$14)","v":29.465500000000006},{"$f":"IF('Sconti Export'!AA$16>'Sconti Export'!AA19-('Sconti Export'!AA19*'Sconti Export'!L19),'Sconti Export'!AA$16*'Zone Export'!$V$14,('Sconti Export'!AA19-('Sconti Export'!AA19*'Sconti Export'!L19))*'Zone Export'!$V$14)","v":50.390500000000017},{"$f":"IF('Sconti Export'!AB$16>'Sconti Export'!AB19-('Sconti Export'!AB19*'Sconti Export'!M19),'Sconti Export'!AB$16*'Zone Export'!$V$14,('Sconti Export'!AB19-('Sconti Export'!AB19*'Sconti Export'!M19))*'Zone Export'!$V$14)","v":54.932000000000002},{"$f":"IF('Sconti Export'!AC$16>'Sconti Export'!AC19-('Sconti Export'!AC19*'Sconti Export'!N19),'Sconti Export'!AC$16*'Zone Export'!$V$14,('Sconti Export'!AC19-('Sconti Export'!AC19*'Sconti Export'!N19))*'Zone Export'!$V$14)","v":63.813500000000005},{"$f":"IF('Sconti Export'!AD$16>'Sconti Export'!AD19-('Sconti Export'!AD19*'Sconti Export'!O19),'Sconti Export'!AD$16*'Zone Export'!$V$14,('Sconti Export'!AD19-('Sconti Export'!AD19*'Sconti Export'!O19))*'Zone Export'!$V$14)","v":33.294000000000011}]
[null,"2,0 kg",null,{"$f":"IF('Sconti Export'!R$16>'Sconti Export'!R20-('Sconti Export'!R20*'Sconti Export'!C20),'Sconti Export'!R$16*'Zone Export'!$V$14,('Sconti Export'!R20-('Sconti Export'!R20*'Sconti Export'!C20))*'Zone Export'!$V$14)","v":15},{"$f":"IF('Sconti Export'!S$16>'Sconti Export'!S20-('Sconti Export'!S20*'Sconti Export'!D20),'Sconti Export'!S$16*'Zone Export'!$V$14,('Sconti Export'!S20-('Sconti Export'!S20*'Sconti Export'!D20))*'Zone Export'!$V$14)","v":24.316499999999998},{"$f":"IF('Sconti Export'!T$16>'Sconti Export'!T20-('Sconti Export'!T20*'Sconti Export'!E20),'Sconti Export'!T$16*'Zone Export'!$V$14,('Sconti Export'!T20-('Sconti Export'!T20*'Sconti Export'!E20))*'Zone Export'!$V$14)","v":24.432500000000005},{"$f":"IF('Sconti Export'!U$16>'Sconti Export'!U20-('Sconti Export'!U20*'Sconti Export'!F20),'Sconti Export'!U$16*'Zone Export'!$V$14,('Sconti Export'!U20-('Sconti Export'!U20*'Sconti Export'!F20))*'Zone Export'!$V$14)","v":25.056000000000004},{"$f":"IF('Sconti Export'!V$16>'Sconti Export'!V20-('Sconti Export'!V20*'Sconti Export'!G20),'Sconti Export'!V$16*'Zone Export'!$V$14,('Sconti Export'!V20-('Sconti Export'!V20*'Sconti Export'!G20))*'Zone Export'!$V$14)","v":44.863},{"$f":"IF('Sconti Export'!W$16>'Sconti Export'!W20-('Sconti Export'!W20*'Sconti Export'!H20),'Sconti Export'!W$16*'Zone Export'!$V$14,('Sconti Export'!W20-('Sconti Export'!W20*'Sconti Export'!H20))*'Zone Export'!$V$14)","v":45.240000000000009},{"$f":"IF('Sconti Export'!X$16>'Sconti Export'!X20-('Sconti Export'!X20*'Sconti Export'!I20),'Sconti Export'!X$16*'Zone Export'!$V$14,('Sconti Export'!X20-('Sconti Export'!X20*'Sconti Export'!I20))*'Zone Export'!$V$14)","v":28.287500000000001},{"$f":"IF('Sconti Export'!Y$16>'Sconti Export'!Y20-('Sconti Export'!Y20*'Sconti Export'!J20),'Sconti Export'!Y$16*'Zone Export'!$V$14,('Sconti Export'!Y20-('Sconti Export'!Y20*'Sconti Export'!J20))*'Zone Export'!$V$14)","v":67.936500000000024},{"$f":"IF('Sconti Export'!Z$16>'Sconti Export'!Z20-('Sconti Export'!Z20*'Sconti Export'!K20),'Sconti Export'!Z$16*'Zone Export'!$V$14,('Sconti Export'!Z20-('Sconti Export'!Z20*'Sconti Export'!K20))*'Zone Export'!$V$14)","v":32.705000000000013},{"$f":"IF('Sconti Export'!AA$16>'Sconti Export'!AA20-('Sconti Export'!AA20*'Sconti Export'!L20),'Sconti Export'!AA$16*'Zone Export'!$V$14,('Sconti Export'!AA20-('Sconti Export'!AA20*'Sconti Export'!L20))*'Zone Export'!$V$14)","v":56.203000000000017},{"$f":"IF('Sconti Export'!AB$16>'Sconti Export'!AB20-('Sconti Export'!AB20*'Sconti Export'!M20),'Sconti Export'!AB$16*'Zone Export'!$V$14,('Sconti Export'!AB20-('Sconti Export'!AB20*'Sconti Export'!M20))*'Zone Export'!$V$14)","v":60.899500000000018},{"$f":"IF('Sconti Export'!AC$16>'Sconti Export'!AC20-('Sconti Export'!AC20*'Sconti Export'!N20),'Sconti Export'!AC$16*'Zone Export'!$V$14,('Sconti Export'!AC20-('Sconti Export'!AC20*'Sconti Export'!N20))*'Zone Export'!$V$14)","v":69.982500000000016},{"$f":"IF('Sconti Export'!AD$16>'Sconti Export'!AD20-('Sconti Export'!AD20*'Sconti Export'!O20),'Sconti Export'!AD$16*'Zone Export'!$V$14,('Sconti Export'!AD20-('Sconti Export'!AD20*'Sconti Export'!O20))*'Zone Export'!$V$14)","v":37.525500000000008}]
[null,"2,5 kg",null,{"$f":"IF('Sconti Export'!R$16>'Sconti Export'!R21-('Sconti Export'!R21*'Sconti Export'!C21),'Sconti Export'!R$16*'Zone Export'!$V$14,('Sconti Export'!R21-('Sconti Export'!R21*'Sconti Export'!C21))*'Zone Export'!$V$14)","v":15},{"$f":"IF('Sconti Export'!S$16>'Sconti Export'!S21-('Sconti Export'!S21*'Sconti Export'!D21),'Sconti Export'!S$16*'Zone Export'!$V$14,('Sconti Export'!S21-('Sconti Export'!S21*'Sconti Export'!D21))*'Zone Export'!$V$14)","v":27.463000000000008},{"$f":"IF('Sconti Export'!T$16>'Sconti Export'!T21-('Sconti Export'!T21*'Sconti Export'!E21),'Sconti Export'!T$16*'Zone Export'!$V$14,('Sconti Export'!T21-('Sconti Export'!T21*'Sconti Export'!E21))*'Zone Export'!$V$14)","v":27.593500000000006},{"$f":"IF('Sconti Export'!U$16>'Sconti Export'!U21-('Sconti Export'!U21*'Sconti Export'!F21),'Sconti Export'!U$16*'Zone Export'!$V$14,('Sconti Export'!U21-('Sconti Export'!U21*'Sconti Export'!F21))*'Zone Export'!$V$14)","v":28.13000000000001},{"$f":"IF('Sconti Export'!V$16>'Sconti Export'!V21-('Sconti Export'!V21*'Sconti Export'!G21),'Sconti Export'!V$16*'Zone Export'!$V$14,('Sconti Export'!V21-('Sconti Export'!V21*'Sconti Export'!G21))*'Zone Export'!$V$14)","v":52.156500000000008},{"$f":"IF('Sconti Export'!W$16>'Sconti Export'!W21-('Sconti Export'!W21*'Sconti Export'!H21),'Sconti Export'!W$16*'Zone Export'!$V$14,('Sconti Export'!W21-('Sconti Export'!W21*'Sconti Export'!H21))*'Zone Export'!$V$14)","v":52.693000000000012},{"$f":"IF('Sconti Export'!X$16>'Sconti Export'!X21-('Sconti Export'!X21*'Sconti Export'!I21),'Sconti Export'!X$16*'Zone Export'!$V$14,('Sconti Export'!X21-('Sconti Export'!X21*'Sconti Export'!I21))*'Zone Export'!$V$14)","v":31},{"$f":"IF('Sconti Export'!Y$16>'Sconti Export'!Y21-('Sconti Export'!Y21*'Sconti Export'!J21),'Sconti Export'!Y$16*'Zone Export'!$V$14,('Sconti Export'!Y21-('Sconti Export'!Y21*'Sconti Export'!J21))*'Zone Export'!$V$14)","v":73.47},{"$f":"IF('Sconti Export'!Z$16>'Sconti Export'!Z21-('Sconti Export'!Z21*'Sconti Export'!K21),'Sconti Export'!Z$16*'Zone Export'!$V$14,('Sconti Export'!Z21-('Sconti Export'!Z21*'Sconti Export'!K21))*'Zone Export'!$V$14)","v":35.944500000000005},{"$f":"IF('Sconti Export'!AA$16>'Sconti Export'!AA21-('Sconti Export'!AA21*'Sconti Export'!L21),'Sconti Export'!AA$16*'Zone Export'!$V$14,('Sconti Export'!AA21-('Sconti Export'!AA21*'Sconti Export'!L21))*'Zone Export'!$V$14)","v":61.95350000000002},{"$f":"IF('Sconti Export'!AB$16>'Sconti Export'!AB21-('Sconti Export'!AB21*'Sconti Export'!M21),'Sconti Export'!AB$16*'Zone Export'!$V$14,('Sconti Export'!AB21-('Sconti Export'!AB21*'Sconti Export'!M21))*'Zone Export'!$V$14)","v":66.898000000000025},{"$f":"IF('Sconti Export'!AC$16>'Sconti Export'!AC21-('Sconti Export'!AC21*'Sconti Export'!N21),'Sconti Export'!AC$16*'Zone Export'!$V$14,('Sconti Export'!AC21-('Sconti Export'!AC21*'Sconti Export'!N21))*'Zone Export'!$V$14)","v":76.120500000000021},{"$f":"IF('Sconti Export'!AD$16>'Sconti Export'!AD21-('Sconti Export'!AD21*'Sconti Export'!O21),'Sconti Export'!AD$16*'Zone Export'!$V$14,('Sconti Export'!AD21-('Sconti Export'!AD21*'Sconti Export'!O21))*'Zone Export'!$V$14)","v":41.664000000000016}]
[null,"3,0 kg",null,{"$f":"IF('Sconti Export'!R$16>'Sconti Export'!R22-('Sconti Export'!R22*'Sconti Export'!C22),'Sconti Export'!R$16*'Zone Export'!$V$14,('Sconti Export'!R22-('Sconti Export'!R22*'Sconti Export'!C22))*'Zone Export'!$V$14)","v":15},{"$f":"IF('Sconti Export'!S$16>'Sconti Export'!S22-('Sconti Export'!S22*'Sconti Export'!D22),'Sconti Export'!S$16*'Zone Export'!$V$14,('Sconti Export'!S22-('Sconti Export'!S22*'Sconti Export'!D22))*'Zone Export'!$V$14)","v":29.783000000000001},{"$f":"IF('Sconti Export'!T$16>'Sconti Export'!T22-('Sconti Export'!T22*'Sconti Export'!E22),'Sconti Export'!T$16*'Zone Export'!$V$14,('Sconti Export'!T22-('Sconti Export'!T22*'Sconti Export'!E22))*'Zone Export'!$V$14)","v":30.363},{"$f":"IF('Sconti Export'!U$16>'Sconti Export'!U22-('Sconti Export'!U22*'Sconti Export'!F22),'Sconti Export'!U$16*'Zone Export'!$V$14,('Sconti Export'!U22-('Sconti Export'!U22*'Sconti Export'!F22))*'Zone Export'!$V$14)","v":31.262},{"$f":"IF('Sconti Export'!V$16>'Sconti Export'!V22-('Sconti Export'!V22*'Sconti Export'!G22),'Sconti Export'!V$16*'Zone Export'!$V$14,('Sconti Export'!V22-('Sconti Export'!V22*'Sconti Export'!G22))*'Zone Export'!$V$14)","v":59.986500000000007},{"$f":"IF('Sconti Export'!W$16>'Sconti Export'!W22-('Sconti Export'!W22*'Sconti Export'!H22),'Sconti Export'!W$16*'Zone Export'!$V$14,('Sconti Export'!W22-('Sconti Export'!W22*'Sconti Export'!H22))*'Zone Export'!$V$14)","v":60.349000000000018},{"$f":"IF('Sconti Export'!X$16>'Sconti Export'!X22-('Sconti Export'!X22*'Sconti Export'!I22),'Sconti Export'!X$16*'Zone Export'!$V$14,('Sconti Export'!X22-('Sconti Export'!X22*'Sconti Export'!I22))*'Zone Export'!$V$14)","v":33.619500000000002},{"$f":"IF('Sconti Export'!Y$16>'Sconti Export'!Y22-('Sconti Export'!Y22*'Sconti Export'!J22),'Sconti Export'!Y$16*'Zone Export'!$V$14,('Sconti Export'!Y22-('Sconti Export'!Y22*'Sconti Export'!J22))*'Zone Export'!$V$14)","v":78.988000000000028},{"$f":"IF('Sconti Export'!Z$16>'Sconti Export'!Z22-('Sconti Export'!Z22*'Sconti Export'!K22),'Sconti Export'!Z$16*'Zone Export'!$V$14,('Sconti Export'!Z22-('Sconti Export'!Z22*'Sconti Export'!K22))*'Zone Export'!$V$14)","v":39.168500000000009},{"$f":"IF('Sconti Export'!AA$16>'Sconti Export'!AA22-('Sconti Export'!AA22*'Sconti Export'!L22),'Sconti Export'!AA$16*'Zone Export'!$V$14,('Sconti Export'!AA22-('Sconti Export'!AA22*'Sconti Export'!L22))*'Zone Export'!$V$14)","v":67.750500000000017},{"$f":"IF('Sconti Export'!AB$16>'Sconti Export'!AB22-('Sconti Export'!AB22*'Sconti Export'!M22),'Sconti Export'!AB$16*'Zone Export'!$V$14,('Sconti Export'!AB22-('Sconti Export'!AB22*'Sconti Export'!M22))*'Zone Export'!$V$14)","v":72.881},{"$f":"IF('Sconti Export'!AC$16>'Sconti Export'!AC22-('Sconti Export'!AC22*'Sconti Export'!N22),'Sconti Export'!AC$16*'Zone Export'!$V$14,('Sconti Export'!AC22-('Sconti Export'!AC22*'Sconti Export'!N22))*'Zone Export'!$V$14)","v":82.212000000000018},{"$f":"IF('Sconti Export'!AD$16>'Sconti Export'!AD22-('Sconti Export'!AD22*'Sconti Export'!O22),'Sconti Export'!AD$16*'Zone Export'!$V$14,('Sconti Export'!AD22-('Sconti Export'!AD22*'Sconti Export'!O22))*'Zone Export'!$V$14)","v":45.043000000000006}]
[null,"3,5 kg",null,{"$f":"IF('Sconti Export'!R$16>'Sconti Export'!R23-('Sconti Export'!R23*'Sconti Export'!C23),'Sconti Export'!R$16*'Zone Export'!$V$14,('Sconti Export'!R23-('Sconti Export'!R23*'Sconti Export'!C23))*'Zone Export'!$V$14)","v":15.46},{"$f":"IF('Sconti Export'!S$16>'Sconti Export'!S23-('Sconti Export'!S23*'Sconti Export'!D23),'Sconti Export'!S$16*'Zone Export'!$V$14,('Sconti Export'!S23-('Sconti Export'!S23*'Sconti Export'!D23))*'Zone Export'!$V$14)","v":32.451000000000008},{"$f":"IF('Sconti Export'!T$16>'Sconti Export'!T23-('Sconti Export'!T23*'Sconti Export'!E23),'Sconti Export'!T$16*'Zone Export'!$V$14,('Sconti Export'!T23-('Sconti Export'!T23*'Sconti Export'!E23))*'Zone Export'!$V$14)","v":33.103500000000011},{"$f":"IF('Sconti Export'!U$16>'Sconti Export'!U23-('Sconti Export'!U23*'Sconti Export'!F23),'Sconti Export'!U$16*'Zone Export'!$V$14,('Sconti Export'!U23-('Sconti Export'!U23*'Sconti Export'!F23))*'Zone Export'!$V$14)","v":34.423000000000002},{"$f":"IF('Sconti Export'!V$16>'Sconti Export'!V23-('Sconti Export'!V23*'Sconti Export'!G23),'Sconti Export'!V$16*'Zone Export'!$V$14,('Sconti Export'!V23-('Sconti Export'!V23*'Sconti Export'!G23))*'Zone Export'!$V$14)","v":67.700500000000005},{"$f":"IF('Sconti Export'!W$16>'Sconti Export'!W23-('Sconti Export'!W23*'Sconti Export'!H23),'Sconti Export'!W$16*'Zone Export'!$V$14,('Sconti Export'!W23-('Sconti Export'!W23*'Sconti Export'!H23))*'Zone Export'!$V$14)","v":68.004999999999995},{"$f":"IF('Sconti Export'!X$16>'Sconti Export'!X23-('Sconti Export'!X23*'Sconti Export'!I23),'Sconti Export'!X$16*'Zone Export'!$V$14,('Sconti Export'!X23-('Sconti Export'!X23*'Sconti Export'!I23))*'Zone Export'!$V$14)","v":36.456000000000003},{"$f":"IF('Sconti Export'!Y$16>'Sconti Export'!Y23-('Sconti Export'!Y23*'Sconti Export'!J23),'Sconti Export'!Y$16*'Zone Export'!$V$14,('Sconti Export'!Y23-('Sconti Export'!Y23*'Sconti Export'!J23))*'Zone Export'!$V$14)","v":84.552500000000009},{"$f":"IF('Sconti Export'!Z$16>'Sconti Export'!Z23-('Sconti Export'!Z23*'Sconti Export'!K23),'Sconti Export'!Z$16*'Zone Export'!$V$14,('Sconti Export'!Z23-('Sconti Export'!Z23*'Sconti Export'!K23))*'Zone Export'!$V$14)","v":42.423500000000004},{"$f":"IF('Sconti Export'!AA$16>'Sconti Export'!AA23-('Sconti Export'!AA23*'Sconti Export'!L23),'Sconti Export'!AA$16*'Zone Export'!$V$14,('Sconti Export'!AA23-('Sconti Export'!AA23*'Sconti Export'!L23))*'Zone Export'!$V$14)","v":73.78},{"$f":"IF('Sconti Export'!AB$16>'Sconti Export'!AB23-('Sconti Export'!AB23*'Sconti Export'!M23),'Sconti Export'!AB$16*'Zone Export'!$V$14,('Sconti Export'!AB23-('Sconti Export'!AB23*'Sconti Export'!M23))*'Zone Export'!$V$14)","v":78.879500000000007},{"$f":"IF('Sconti Export'!AC$16>'Sconti Export'!AC23-('Sconti Export'!AC23*'Sconti Export'!N23),'Sconti Export'!AC$16*'Zone Export'!$V$14,('Sconti Export'!AC23-('Sconti Export'!AC23*'Sconti Export'!N23))*'Zone Export'!$V$14)","v":88.365500000000026},{"$f":"IF('Sconti Export'!AD$16>'Sconti Export'!AD23-('Sconti Export'!AD23*'Sconti Export'!O23),'Sconti Export'!AD$16*'Zone Export'!$V$14,('Sconti Export'!AD23-('Sconti Export'!AD23*'Sconti Export'!O23))*'Zone Export'!$V$14)","v":48.406500000000008}]
[null,"4,0 kg",null,{"$f":"IF('Sconti Export'!R$16>'Sconti Export'!R24-('Sconti Export'!R24*'Sconti Export'!C24),'Sconti Export'!R$16*'Zone Export'!$V$14,('Sconti Export'!R24-('Sconti Export'!R24*'Sconti Export'!C24))*'Zone Export'!$V$14)","v":15.46},{"$f":"IF('Sconti Export'!S$16>'Sconti Export'!S24-('Sconti Export'!S24*'Sconti Export'!D24),'Sconti Export'!S$16*'Zone Export'!$V$14,('Sconti Export'!S24-('Sconti Export'!S24*'Sconti Export'!D24))*'Zone Export'!$V$14)","v":35.162500000000009},{"$f":"IF('Sconti Export'!T$16>'Sconti Export'!T24-('Sconti Export'!T24*'Sconti Export'!E24),'Sconti Export'!T$16*'Zone Export'!$V$14,('Sconti Export'!T24-('Sconti Export'!T24*'Sconti Export'!E24))*'Zone Export'!$V$14)","v":35.873000000000005},{"$f":"IF('Sconti Export'!U$16>'Sconti Export'!U24-('Sconti Export'!U24*'Sconti Export'!F24),'Sconti Export'!U$16*'Zone Export'!$V$14,('Sconti Export'!U24-('Sconti Export'!U24*'Sconti Export'!F24))*'Zone Export'!$V$14)","v":37.584000000000003},{"$f":"IF('Sconti Export'!V$16>'Sconti Export'!V24-('Sconti Export'!V24*'Sconti Export'!G24),'Sconti Export'!V$16*'Zone Export'!$V$14,('Sconti Export'!V24-('Sconti Export'!V24*'Sconti Export'!G24))*'Zone Export'!$V$14)","v":75.385500000000008},{"$f":"IF('Sconti Export'!W$16>'Sconti Export'!W24-('Sconti Export'!W24*'Sconti Export'!H24),'Sconti Export'!W$16*'Zone Export'!$V$14,('Sconti Export'!W24-('Sconti Export'!W24*'Sconti Export'!H24))*'Zone Export'!$V$14)","v":75.632000000000005},{"$f":"IF('Sconti Export'!X$16>'Sconti Export'!X24-('Sconti Export'!X24*'Sconti Export'!I24),'Sconti Export'!X$16*'Zone Export'!$V$14,('Sconti Export'!X24-('Sconti Export'!X24*'Sconti Export'!I24))*'Zone Export'!$V$14)","v":39.277000000000001},{"$f":"IF('Sconti Export'!Y$16>'Sconti Export'!Y24-('Sconti Export'!Y24*'Sconti Export'!J24),'Sconti Export'!Y$16*'Zone Export'!$V$14,('Sconti Export'!Y24-('Sconti Export'!Y24*'Sconti Export'!J24))*'Zone Export'!$V$14)","v":90.086000000000013},{"$f":"IF('Sconti Export'!Z$16>'Sconti Export'!Z24-('Sconti Export'!Z24*'Sconti Export'!K24),'Sconti Export'!Z$16*'Zone Export'!$V$14,('Sconti Export'!Z24-('Sconti Export'!Z24*'Sconti Export'!K24))*'Zone Export'!$V$14)","v":45.663000000000011},{"$f":"IF('Sconti Export'!AA$16>'Sconti Export'!AA24-('Sconti Export'!AA24*'Sconti Export'!L24),'Sconti Export'!AA$16*'Zone Export'!$V$14,('Sconti Export'!AA24-('Sconti Export'!AA24*'Sconti Export'!L24))*'Zone Export'!$V$14)","v":79.421999999999997},{"$f":"IF('Sconti Export'!AB$16>'Sconti Export'!AB24-('Sconti Export'!AB24*'Sconti Export'!M24),'Sconti Export'!AB$16*'Zone Export'!$V$14,('Sconti Export'!AB24-('Sconti Export'!AB24*'Sconti Export'!M24))*'Zone Export'!$V$14)","v":84.90900000000002},{"$f":"IF('Sconti Export'!AC$16>'Sconti Export'!AC24-('Sconti Export'!AC24*'Sconti Export'!N24),'Sconti Export'!AC$16*'Zone Export'!$V$14,('Sconti Export'!AC24-('Sconti Export'!AC24*'Sconti Export'!N24))*'Zone Export'!$V$14)","v":94.534500000000008},{"$f":"IF('Sconti Export'!AD$16>'Sconti Export'!AD24-('Sconti Export'!AD24*'Sconti Export'!O24),'Sconti Export'!AD$16*'Zone Export'!$V$14,('Sconti Export'!AD24-('Sconti Export'!AD24*'Sconti Export'!O24))*'Zone Export'!$V$14)","v":51.801000000000002}]
[null,"4,5 kg",null,{"$f":"IF('Sconti Export'!R$16>'Sconti Export'!R25-('Sconti Export'!R25*'Sconti Export'!C25),'Sconti Export'!R$16*'Zone Export'!$V$14,('Sconti Export'!R25-('Sconti Export'!R25*'Sconti Export'!C25))*'Zone Export'!$V$14)","v":15.940000000000001},{"$f":"IF('Sconti Export'!S$16>'Sconti Export'!S25-('Sconti Export'!S25*'Sconti Export'!D25),'Sconti Export'!S$16*'Zone Export'!$V$14,('Sconti Export'!S25-('Sconti Export'!S25*'Sconti Export'!D25))*'Zone Export'!$V$14)","v":37.859500000000011},{"$f":"IF('Sconti Export'!T$16>'Sconti Export'!T25-('Sconti Export'!T25*'Sconti Export'!E25),'Sconti Export'!T$16*'Zone Export'!$V$14,('Sconti Export'!T25-('Sconti Export'!T25*'Sconti Export'!E25))*'Zone Export'!$V$14)","v":38.628},{"$f":"IF('Sconti Export'!U$16>'Sconti Export'!U25-('Sconti Export'!U25*'Sconti Export'!F25),'Sconti Export'!U$16*'Zone Export'!$V$14,('Sconti Export'!U25-('Sconti Export'!U25*'Sconti Export'!F25))*'Zone Export'!$V$14)","v":40.672499999999999},{"$f":"IF('Sconti Export'!V$16>'Sconti Export'!V25-('Sconti Export'!V25*'Sconti Export'!G25),'Sconti Export'!V$16*'Zone Export'!$V$14,('Sconti Export'!V25-('Sconti Export'!V25*'Sconti Export'!G25))*'Zone Export'!$V$14)","v":83.099500000000006},{"$f":"IF('Sconti Export'!W$16>'Sconti Export'!W25-('Sconti Export'!W25*'Sconti Export'!H25),'Sconti Export'!W$16*'Zone Export'!$V$14,('Sconti Export'!W25-('Sconti Export'!W25*'Sconti Export'!H25))*'Zone Export'!$V$14)","v":83.230000000000018},{"$f":"IF('Sconti Export'!X$16>'Sconti Export'!X25-('Sconti Export'!X25*'Sconti Export'!I25),'Sconti Export'!X$16*'Zone Export'!$V$14,('Sconti Export'!X25-('Sconti Export'!X25*'Sconti Export'!I25))*'Zone Export'!$V$14)","v":42.08250000000001},{"$f":"IF('Sconti Export'!Y$16>'Sconti Export'!Y25-('Sconti Export'!Y25*'Sconti Export'!J25),'Sconti Export'!Y$16*'Zone Export'!$V$14,('Sconti Export'!Y25-('Sconti Export'!Y25*'Sconti Export'!J25))*'Zone Export'!$V$14)","v":95.650500000000022},{"$f":"IF('Sconti Export'!Z$16>'Sconti Export'!Z25-('Sconti Export'!Z25*'Sconti Export'!K25),'Sconti Export'!Z$16*'Zone Export'!$V$14,('Sconti Export'!Z25-('Sconti Export'!Z25*'Sconti Export'!K25))*'Zone Export'!$V$14)","v":48.902500000000003},{"$f":"IF('Sconti Export'!AA$16>'Sconti Export'!AA25-('Sconti Export'!AA25*'Sconti Export'!L25),'Sconti Export'!AA$16*'Zone Export'!$V$14,('Sconti Export'!AA25-('Sconti Export'!AA25*'Sconti Export'!L25))*'Zone Export'!$V$14)","v":85.250000000000028},{"$f":"IF('Sconti Export'!AB$16>'Sconti Export'!AB25-('Sconti Export'!AB25*'Sconti Export'!M25),'Sconti Export'!AB$16*'Zone Export'!$V$14,('Sconti Export'!AB25-('Sconti Export'!AB25*'Sconti Export'!M25))*'Zone Export'!$V$14)","v":90.938500000000033},{"$f":"IF('Sconti Export'!AC$16>'Sconti Export'!AC25-('Sconti Export'!AC25*'Sconti Export'!N25),'Sconti Export'!AC$16*'Zone Export'!$V$14,('Sconti Export'!AC25-('Sconti Export'!AC25*'Sconti Export'!N25))*'Zone Export'!$V$14)","v":100.65700000000001},{"$f":"IF('Sconti Export'!AD$16>'Sconti Export'!AD25-('Sconti Export'!AD25*'Sconti Export'!O25),'Sconti Export'!AD$16*'Zone Export'!$V$14,('Sconti Export'!AD25-('Sconti Export'!AD25*'Sconti Export'!O25))*'Zone Export'!$V$14)","v":55.180000000000007}]
[null,"5,0 kg",null,{"$f":"IF('Sconti Export'!R$16>'Sconti Export'!R26-('Sconti Export'!R26*'Sconti Export'!C26),'Sconti Export'!R$16*'Zone Export'!$V$14,('Sconti Export'!R26-('Sconti Export'!R26*'Sconti Export'!C26))*'Zone Export'!$V$14)","v":15.940000000000001},{"$f":"IF('Sconti Export'!S$16>'Sconti Export'!S26-('Sconti Export'!S26*'Sconti Export'!D26),'Sconti Export'!S$16*'Zone Export'!$V$14,('Sconti Export'!S26-('Sconti Export'!S26*'Sconti Export'!D26))*'Zone Export'!$V$14)","v":40.208500000000001},{"$f":"IF('Sconti Export'!T$16>'Sconti Export'!T26-('Sconti Export'!T26*'Sconti Export'!E26),'Sconti Export'!T$16*'Zone Export'!$V$14,('Sconti Export'!T26-('Sconti Export'!T26*'Sconti Export'!E26))*'Zone Export'!$V$14)","v":41.397500000000008},{"$f":"IF('Sconti Export'!U$16>'Sconti Export'!U26-('Sconti Export'!U26*'Sconti Export'!F26),'Sconti Export'!U$16*'Zone Export'!$V$14,('Sconti Export'!U26-('Sconti Export'!U26*'Sconti Export'!F26))*'Zone Export'!$V$14)","v":43.282499999999999},{"$f":"IF('Sconti Export'!V$16>'Sconti Export'!V26-('Sconti Export'!V26*'Sconti Export'!G26),'Sconti Export'!V$16*'Zone Export'!$V$14,('Sconti Export'!V26-('Sconti Export'!V26*'Sconti Export'!G26))*'Zone Export'!$V$14)","v":90.712000000000018},{"$f":"IF('Sconti Export'!W$16>'Sconti Export'!W26-('Sconti Export'!W26*'Sconti Export'!H26),'Sconti Export'!W$16*'Zone Export'!$V$14,('Sconti Export'!W26-('Sconti Export'!W26*'Sconti Export'!H26))*'Zone Export'!$V$14)","v":90.871500000000026},{"$f":"IF('Sconti Export'!X$16>'Sconti Export'!X26-('Sconti Export'!X26*'Sconti Export'!I26),'Sconti Export'!X$16*'Zone Export'!$V$14,('Sconti Export'!X26-('Sconti Export'!X26*'Sconti Export'!I26))*'Zone Export'!$V$14)","v":44.903500000000008},{"$f":"IF('Sconti Export'!Y$16>'Sconti Export'!Y26-('Sconti Export'!Y26*'Sconti Export'!J26),'Sconti Export'!Y$16*'Zone Export'!$V$14,('Sconti Export'!Y26-('Sconti Export'!Y26*'Sconti Export'!J26))*'Zone Export'!$V$14)","v":101.215},{"$f":"IF('Sconti Export'!Z$16>'Sconti Export'!Z26-('Sconti Export'!Z26*'Sconti Export'!K26),'Sconti Export'!Z$16*'Zone Export'!$V$14,('Sconti Export'!Z26-('Sconti Export'!Z26*'Sconti Export'!K26))*'Zone Export'!$V$14)","v":52.157500000000013},{"$f":"IF('Sconti Export'!AA$16>'Sconti Export'!AA26-('Sconti Export'!AA26*'Sconti Export'!L26),'Sconti Export'!AA$16*'Zone Export'!$V$14,('Sconti Export'!AA26-('Sconti Export'!AA26*'Sconti Export'!L26))*'Zone Export'!$V$14)","v":90.92300000000003},{"$f":"IF('Sconti Export'!AB$16>'Sconti Export'!AB26-('Sconti Export'!AB26*'Sconti Export'!M26),'Sconti Export'!AB$16*'Zone Export'!$V$14,('Sconti Export'!AB26-('Sconti Export'!AB26*'Sconti Export'!M26))*'Zone Export'!$V$14)","v":96.952500000000015},{"$f":"IF('Sconti Export'!AC$16>'Sconti Export'!AC26-('Sconti Export'!AC26*'Sconti Export'!N26),'Sconti Export'!AC$16*'Zone Export'!$V$14,('Sconti Export'!AC26-('Sconti Export'!AC26*'Sconti Export'!N26))*'Zone Export'!$V$14)","v":106.82600000000002},{"$f":"IF('Sconti Export'!AD$16>'Sconti Export'!AD26-('Sconti Export'!AD26*'Sconti Export'!O26),'Sconti Export'!AD$16*'Zone Export'!$V$14,('Sconti Export'!AD26-('Sconti Export'!AD26*'Sconti Export'!O26))*'Zone Export'!$V$14)","v":58.559000000000026}]
[null,"5,5 kg",null,{"$f":"IF('Sconti Export'!R$16>'Sconti Export'!R27-('Sconti Export'!R27*'Sconti Export'!C27),'Sconti Export'!R$16*'Zone Export'!$V$14,('Sconti Export'!R27-('Sconti Export'!R27*'Sconti Export'!C27))*'Zone Export'!$V$14)","v":16.900000000000002},{"$f":"IF('Sconti Export'!S$16>'Sconti Export'!S27-('Sconti Export'!S27*'Sconti Export'!D27),'Sconti Export'!S$16*'Zone Export'!$V$14,('Sconti Export'!S27-('Sconti Export'!S27*'Sconti Export'!D27))*'Zone Export'!$V$14)","v":42.209500000000006},{"$f":"IF('Sconti Export'!T$16>'Sconti Export'!T27-('Sconti Export'!T27*'Sconti Export'!E27),'Sconti Export'!T$16*'Zone Export'!$V$14,('Sconti Export'!T27-('Sconti Export'!T27*'Sconti Export'!E27))*'Zone Export'!$V$14)","v":43.036000000000001},{"$f":"IF('Sconti Export'!U$16>'Sconti Export'!U27-('Sconti Export'!U27*'Sconti Export'!F27),'Sconti Export'!U$16*'Zone Export'!$V$14,('Sconti Export'!U27-('Sconti Export'!U27*'Sconti Export'!F27))*'Zone Export'!$V$14)","v":45.414000000000001},{"$f":"IF('Sconti Export'!V$16>'Sconti Export'!V27-('Sconti Export'!V27*'Sconti Export'!G27),'Sconti Export'!V$16*'Zone Export'!$V$14,('Sconti Export'!V27-('Sconti Export'!V27*'Sconti Export'!G27))*'Zone Export'!$V$14)","v":95.279500000000013},{"$f":"IF('Sconti Export'!W$16>'Sconti Export'!W27-('Sconti Export'!W27*'Sconti Export'!H27),'Sconti Export'!W$16*'Zone Export'!$V$14,('Sconti Export'!W27-('Sconti Export'!W27*'Sconti Export'!H27))*'Zone Export'!$V$14)","v":95.468000000000018},{"$f":"IF('Sconti Export'!X$16>'Sconti Export'!X27-('Sconti Export'!X27*'Sconti Export'!I27),'Sconti Export'!X$16*'Zone Export'!$V$14,('Sconti Export'!X27-('Sconti Export'!X27*'Sconti Export'!I27))*'Zone Export'!$V$14)","v":46.918500000000009},{"$f":"IF('Sconti Export'!Y$16>'Sconti Export'!Y27-('Sconti Export'!Y27*'Sconti Export'!J27),'Sconti Export'!Y$16*'Zone Export'!$V$14,('Sconti Export'!Y27-('Sconti Export'!Y27*'Sconti Export'!J27))*'Zone Export'!$V$14)","v":106.67100000000002},{"$f":"IF('Sconti Export'!Z$16>'Sconti Export'!Z27-('Sconti Export'!Z27*'Sconti Export'!K27),'Sconti Export'!Z$16*'Zone Export'!$V$14,('Sconti Export'!Z27-('Sconti Export'!Z27*'Sconti Export'!K27))*'Zone Export'!$V$14)","v":55.118000000000009},{"$f":"IF('Sconti Export'!AA$16>'Sconti Export'!AA27-('Sconti Export'!AA27*'Sconti Export'!L27),'Sconti Export'!AA$16*'Zone Export'!$V$14,('Sconti Export'!AA27-('Sconti Export'!AA27*'Sconti Export'!L27))*'Zone Export'!$V$14)","v":92.876000000000033},{"$f":"IF('Sconti Export'!AB$16>'Sconti Export'!AB27-('Sconti Export'!AB27*'Sconti Export'!M27),'Sconti Export'!AB$16*'Zone Export'!$V$14,('Sconti Export'!AB27-('Sconti Export'!AB27*'Sconti Export'!M27))*'Zone Export'!$V$14)","v":97.944500000000005},{"$f":"IF('Sconti Export'!AC$16>'Sconti Export'!AC27-('Sconti Export'!AC27*'Sconti Export'!N27),'Sconti Export'!AC$16*'Zone Export'!$V$14,('Sconti Export'!AC27-('Sconti Export'!AC27*'Sconti Export'!N27))*'Zone Export'!$V$14)","v":113.02600000000004},{"$f":"IF('Sconti Export'!AD$16>'Sconti Export'!AD27-('Sconti Export'!AD27*'Sconti Export'!O27),'Sconti Export'!AD$16*'Zone Export'!$V$14,('Sconti Export'!AD27-('Sconti Export'!AD27*'Sconti Export'!O27))*'Zone Export'!$V$14)","v":61.426500000000004}]
[null,"6,0 kg",null,{"$f":"IF('Sconti Export'!R$16>'Sconti Export'!R28-('Sconti Export'!R28*'Sconti Export'!C28),'Sconti Export'!R$16*'Zone Export'!$V$14,('Sconti Export'!R28-('Sconti Export'!R28*'Sconti Export'!C28))*'Zone Export'!$V$14)","v":16.900000000000002},{"$f":"IF('Sconti Export'!S$16>'Sconti Export'!S28-('Sconti Export'!S28*'Sconti Export'!D28),'Sconti Export'!S$16*'Zone Export'!$V$14,('Sconti Export'!S28-('Sconti Export'!S28*'Sconti Export'!D28))*'Zone Export'!$V$14)","v":44.225000000000009},{"$f":"IF('Sconti Export'!T$16>'Sconti Export'!T28-('Sconti Export'!T28*'Sconti Export'!E28),'Sconti Export'!T$16*'Zone Export'!$V$14,('Sconti Export'!T28-('Sconti Export'!T28*'Sconti Export'!E28))*'Zone Export'!$V$14)","v":45.066000000000003},{"$f":"IF('Sconti Export'!U$16>'Sconti Export'!U28-('Sconti Export'!U28*'Sconti Export'!F28),'Sconti Export'!U$16*'Zone Export'!$V$14,('Sconti Export'!U28-('Sconti Export'!U28*'Sconti Export'!F28))*'Zone Export'!$V$14)","v":47.50200000000001},{"$f":"IF('Sconti Export'!V$16>'Sconti Export'!V28-('Sconti Export'!V28*'Sconti Export'!G28),'Sconti Export'!V$16*'Zone Export'!$V$14,('Sconti Export'!V28-('Sconti Export'!V28*'Sconti Export'!G28))*'Zone Export'!$V$14)","v":99.83250000000001},{"$f":"IF('Sconti Export'!W$16>'Sconti Export'!W28-('Sconti Export'!W28*'Sconti Export'!H28),'Sconti Export'!W$16*'Zone Export'!$V$14,('Sconti Export'!W28-('Sconti Export'!W28*'Sconti Export'!H28))*'Zone Export'!$V$14)","v":100.06450000000001},{"$f":"IF('Sconti Export'!X$16>'Sconti Export'!X28-('Sconti Export'!X28*'Sconti Export'!I28),'Sconti Export'!X$16*'Zone Export'!$V$14,('Sconti Export'!X28-('Sconti Export'!X28*'Sconti Export'!I28))*'Zone Export'!$V$14)","v":49.026500000000013},{"$f":"IF('Sconti Export'!Y$16>'Sconti Export'!Y28-('Sconti Export'!Y28*'Sconti Export'!J28),'Sconti Export'!Y$16*'Zone Export'!$V$14,('Sconti Export'!Y28-('Sconti Export'!Y28*'Sconti Export'!J28))*'Zone Export'!$V$14)","v":112.25100000000003},{"$f":"IF('Sconti Export'!Z$16>'Sconti Export'!Z28-('Sconti Export'!Z28*'Sconti Export'!K28),'Sconti Export'!Z$16*'Zone Export'!$V$14,('Sconti Export'!Z28-('Sconti Export'!Z28*'Sconti Export'!K28))*'Zone Export'!$V$14)","v":58.07850000000002},{"$f":"IF('Sconti Export'!AA$16>'Sconti Export'!AA28-('Sconti Export'!AA28*'Sconti Export'!L28),'Sconti Export'!AA$16*'Zone Export'!$V$14,('Sconti Export'!AA28-('Sconti Export'!AA28*'Sconti Export'!L28))*'Zone Export'!$V$14)","v":98.27000000000001},{"$f":"IF('Sconti Export'!AB$16>'Sconti Export'!AB28-('Sconti Export'!AB28*'Sconti Export'!M28),'Sconti Export'!AB$16*'Zone Export'!$V$14,('Sconti Export'!AB28-('Sconti Export'!AB28*'Sconti Export'!M28))*'Zone Export'!$V$14)","v":103.71050000000002},{"$f":"IF('Sconti Export'!AC$16>'Sconti Export'!AC28-('Sconti Export'!AC28*'Sconti Export'!N28),'Sconti Export'!AC$16*'Zone Export'!$V$14,('Sconti Export'!AC28-('Sconti Export'!AC28*'Sconti Export'!N28))*'Zone Export'!$V$14)","v":119.13300000000004},{"$f":"IF('Sconti Export'!AD$16>'Sconti Export'!AD28-('Sconti Export'!AD28*'Sconti Export'!O28),'Sconti Export'!AD$16*'Zone Export'!$V$14,('Sconti Export'!AD28-('Sconti Export'!AD28*'Sconti Export'!O28))*'Zone Export'!$V$14)","v":64.325000000000017}]
[null,"6,5 kg",null,{"$f":"IF('Sconti Export'!R$16>'Sconti Export'!R29-('Sconti Export'!R29*'Sconti Export'!C29),'Sconti Export'!R$16*'Zone Export'!$V$14,('Sconti Export'!R29-('Sconti Export'!R29*'Sconti Export'!C29))*'Zone Export'!$V$14)","v":17.880000000000003},{"$f":"IF('Sconti Export'!S$16>'Sconti Export'!S29-('Sconti Export'!S29*'Sconti Export'!D29),'Sconti Export'!S$16*'Zone Export'!$V$14,('Sconti Export'!S29-('Sconti Export'!S29*'Sconti Export'!D29))*'Zone Export'!$V$14)","v":46.226000000000013},{"$f":"IF('Sconti Export'!T$16>'Sconti Export'!T29-('Sconti Export'!T29*'Sconti Export'!E29),'Sconti Export'!T$16*'Zone Export'!$V$14,('Sconti Export'!T29-('Sconti Export'!T29*'Sconti Export'!E29))*'Zone Export'!$V$14)","v":47.096000000000004},{"$f":"IF('Sconti Export'!U$16>'Sconti Export'!U29-('Sconti Export'!U29*'Sconti Export'!F29),'Sconti Export'!U$16*'Zone Export'!$V$14,('Sconti Export'!U29-('Sconti Export'!U29*'Sconti Export'!F29))*'Zone Export'!$V$14)","v":49.619},{"$f":"IF('Sconti Export'!V$16>'Sconti Export'!V29-('Sconti Export'!V29*'Sconti Export'!G29),'Sconti Export'!V$16*'Zone Export'!$V$14,('Sconti Export'!V29-('Sconti Export'!V29*'Sconti Export'!G29))*'Zone Export'!$V$14)","v":104.38550000000001},{"$f":"IF('Sconti Export'!W$16>'Sconti Export'!W29-('Sconti Export'!W29*'Sconti Export'!H29),'Sconti Export'!W$16*'Zone Export'!$V$14,('Sconti Export'!W29-('Sconti Export'!W29*'Sconti Export'!H29))*'Zone Export'!$V$14)","v":104.661},{"$f":"IF('Sconti Export'!X$16>'Sconti Export'!X29-('Sconti Export'!X29*'Sconti Export'!I29),'Sconti Export'!X$16*'Zone Export'!$V$14,('Sconti Export'!X29-('Sconti Export'!X29*'Sconti Export'!I29))*'Zone Export'!$V$14)","v":51.057000000000002},{"$f":"IF('Sconti Export'!Y$16>'Sconti Export'!Y29-('Sconti Export'!Y29*'Sconti Export'!J29),'Sconti Export'!Y$16*'Zone Export'!$V$14,('Sconti Export'!Y29-('Sconti Export'!Y29*'Sconti Export'!J29))*'Zone Export'!$V$14)","v":117.80000000000001},{"$f":"IF('Sconti Export'!Z$16>'Sconti Export'!Z29-('Sconti Export'!Z29*'Sconti Export'!K29),'Sconti Export'!Z$16*'Zone Export'!$V$14,('Sconti Export'!Z29-('Sconti Export'!Z29*'Sconti Export'!K29))*'Zone Export'!$V$14)","v":61.039000000000016},{"$f":"IF('Sconti Export'!AA$16>'Sconti Export'!AA29-('Sconti Export'!AA29*'Sconti Export'!L29),'Sconti Export'!AA$16*'Zone Export'!$V$14,('Sconti Export'!AA29-('Sconti Export'!AA29*'Sconti Export'!L29))*'Zone Export'!$V$14)","v":103.67950000000002},{"$f":"IF('Sconti Export'!AB$16>'Sconti Export'!AB29-('Sconti Export'!AB29*'Sconti Export'!M29),'Sconti Export'!AB$16*'Zone Export'!$V$14,('Sconti Export'!AB29-('Sconti Export'!AB29*'Sconti Export'!M29))*'Zone Export'!$V$14)","v":109.43},{"$f":"IF('Sconti Export'!AC$16>'Sconti Export'!AC29-('Sconti Export'!AC29*'Sconti Export'!N29),'Sconti Export'!AC$16*'Zone Export'!$V$14,('Sconti Export'!AC29-('Sconti Export'!AC29*'Sconti Export'!N29))*'Zone Export'!$V$14)","v":125.28649999999999},{"$f":"IF('Sconti Export'!AD$16>'Sconti Export'!AD29-('Sconti Export'!AD29*'Sconti Export'!O29),'Sconti Export'!AD$16*'Zone Export'!$V$14,('Sconti Export'!AD29-('Sconti Export'!AD29*'Sconti Export'!O29))*'Zone Export'!$V$14)","v":67.239000000000004}]
[null,"7,0 kg",null,{"$f":"IF('Sconti Export'!R$16>'Sconti Export'!R30-('Sconti Export'!R30*'Sconti Export'!C30),'Sconti Export'!R$16*'Zone Export'!$V$14,('Sconti Export'!R30-('Sconti Export'!R30*'Sconti Export'!C30))*'Zone Export'!$V$14)","v":17.880000000000003},{"$f":"IF('Sconti Export'!S$16>'Sconti Export'!S30-('Sconti Export'!S30*'Sconti Export'!D30),'Sconti Export'!S$16*'Zone Export'!$V$14,('Sconti Export'!S30-('Sconti Export'!S30*'Sconti Export'!D30))*'Zone Export'!$V$14)","v":48.227000000000004},{"$f":"IF('Sconti Export'!T$16>'Sconti Export'!T30-('Sconti Export'!T30*'Sconti Export'!E30),'Sconti Export'!T$16*'Zone Export'!$V$14,('Sconti Export'!T30-('Sconti Export'!T30*'Sconti Export'!E30))*'Zone Export'!$V$14)","v":49.111500000000007},{"$f":"IF('Sconti Export'!U$16>'Sconti Export'!U30-('Sconti Export'!U30*'Sconti Export'!F30),'Sconti Export'!U$16*'Zone Export'!$V$14,('Sconti Export'!U30-('Sconti Export'!U30*'Sconti Export'!F30))*'Zone Export'!$V$14)","v":51.591000000000008},{"$f":"IF('Sconti Export'!V$16>'Sconti Export'!V30-('Sconti Export'!V30*'Sconti Export'!G30),'Sconti Export'!V$16*'Zone Export'!$V$14,('Sconti Export'!V30-('Sconti Export'!V30*'Sconti Export'!G30))*'Zone Export'!$V$14)","v":108.93850000000003},{"$f":"IF('Sconti Export'!W$16>'Sconti Export'!W30-('Sconti Export'!W30*'Sconti Export'!H30),'Sconti Export'!W$16*'Zone Export'!$V$14,('Sconti Export'!W30-('Sconti Export'!W30*'Sconti Export'!H30))*'Zone Export'!$V$14)","v":109.25749999999999},{"$f":"IF('Sconti Export'!X$16>'Sconti Export'!X30-('Sconti Export'!X30*'Sconti Export'!I30),'Sconti Export'!X$16*'Zone Export'!$V$14,('Sconti Export'!X30-('Sconti Export'!X30*'Sconti Export'!I30))*'Zone Export'!$V$14)","v":53.118500000000012},{"$f":"IF('Sconti Export'!Y$16>'Sconti Export'!Y30-('Sconti Export'!Y30*'Sconti Export'!J30),'Sconti Export'!Y$16*'Zone Export'!$V$14,('Sconti Export'!Y30-('Sconti Export'!Y30*'Sconti Export'!J30))*'Zone Export'!$V$14)","v":123.34899999999999},{"$f":"IF('Sconti Export'!Z$16>'Sconti Export'!Z30-('Sconti Export'!Z30*'Sconti Export'!K30),'Sconti Export'!Z$16*'Zone Export'!$V$14,('Sconti Export'!Z30-('Sconti Export'!Z30*'Sconti Export'!K30))*'Zone Export'!$V$14)","v":63.968500000000006},{"$f":"IF('Sconti Export'!AA$16>'Sconti Export'!AA30-('Sconti Export'!AA30*'Sconti Export'!L30),'Sconti Export'!AA$16*'Zone Export'!$V$14,('Sconti Export'!AA30-('Sconti Export'!AA30*'Sconti Export'!L30))*'Zone Export'!$V$14)","v":109.04250000000002},{"$f":"IF('Sconti Export'!AB$16>'Sconti Export'!AB30-('Sconti Export'!AB30*'Sconti Export'!M30),'Sconti Export'!AB$16*'Zone Export'!$V$14,('Sconti Export'!AB30-('Sconti Export'!AB30*'Sconti Export'!M30))*'Zone Export'!$V$14)","v":115.2115},{"$f":"IF('Sconti Export'!AC$16>'Sconti Export'!AC30-('Sconti Export'!AC30*'Sconti Export'!N30),'Sconti Export'!AC$16*'Zone Export'!$V$14,('Sconti Export'!AC30-('Sconti Export'!AC30*'Sconti Export'!N30))*'Zone Export'!$V$14)","v":131.44},{"$f":"IF('Sconti Export'!AD$16>'Sconti Export'!AD30-('Sconti Export'!AD30*'Sconti Export'!O30),'Sconti Export'!AD$16*'Zone Export'!$V$14,('Sconti Export'!AD30-('Sconti Export'!AD30*'Sconti Export'!O30))*'Zone Export'!$V$14)","v":70.106500000000011}]
[null,"7,5 kg",null,{"$f":"IF('Sconti Export'!R$16>'Sconti Export'!R31-('Sconti Export'!R31*'Sconti Export'!C31),'Sconti Export'!R$16*'Zone Export'!$V$14,('Sconti Export'!R31-('Sconti Export'!R31*'Sconti Export'!C31))*'Zone Export'!$V$14)","v":18.880000000000003},{"$f":"IF('Sconti Export'!S$16>'Sconti Export'!S31-('Sconti Export'!S31*'Sconti Export'!D31),'Sconti Export'!S$16*'Zone Export'!$V$14,('Sconti Export'!S31-('Sconti Export'!S31*'Sconti Export'!D31))*'Zone Export'!$V$14)","v":50.228000000000009},{"$f":"IF('Sconti Export'!T$16>'Sconti Export'!T31-('Sconti Export'!T31*'Sconti Export'!E31),'Sconti Export'!T$16*'Zone Export'!$V$14,('Sconti Export'!T31-('Sconti Export'!T31*'Sconti Export'!E31))*'Zone Export'!$V$14)","v":51.156000000000006},{"$f":"IF('Sconti Export'!U$16>'Sconti Export'!U31-('Sconti Export'!U31*'Sconti Export'!F31),'Sconti Export'!U$16*'Zone Export'!$V$14,('Sconti Export'!U31-('Sconti Export'!U31*'Sconti Export'!F31))*'Zone Export'!$V$14)","v":53.548500000000018},{"$f":"IF('Sconti Export'!V$16>'Sconti Export'!V31-('Sconti Export'!V31*'Sconti Export'!G31),'Sconti Export'!V$16*'Zone Export'!$V$14,('Sconti Export'!V31-('Sconti Export'!V31*'Sconti Export'!G31))*'Zone Export'!$V$14)","v":113.44800000000004},{"$f":"IF('Sconti Export'!W$16>'Sconti Export'!W31-('Sconti Export'!W31*'Sconti Export'!H31),'Sconti Export'!W$16*'Zone Export'!$V$14,('Sconti Export'!W31-('Sconti Export'!W31*'Sconti Export'!H31))*'Zone Export'!$V$14)","v":113.86849999999998},{"$f":"IF('Sconti Export'!X$16>'Sconti Export'!X31-('Sconti Export'!X31*'Sconti Export'!I31),'Sconti Export'!X$16*'Zone Export'!$V$14,('Sconti Export'!X31-('Sconti Export'!X31*'Sconti Export'!I31))*'Zone Export'!$V$14)","v":55.180000000000007},{"$f":"IF('Sconti Export'!Y$16>'Sconti Export'!Y31-('Sconti Export'!Y31*'Sconti Export'!J31),'Sconti Export'!Y$16*'Zone Export'!$V$14,('Sconti Export'!Y31-('Sconti Export'!Y31*'Sconti Export'!J31))*'Zone Export'!$V$14)","v":128.88250000000005},{"$f":"IF('Sconti Export'!Z$16>'Sconti Export'!Z31-('Sconti Export'!Z31*'Sconti Export'!K31),'Sconti Export'!Z$16*'Zone Export'!$V$14,('Sconti Export'!Z31-('Sconti Export'!Z31*'Sconti Export'!K31))*'Zone Export'!$V$14)","v":66.913499999999999},{"$f":"IF('Sconti Export'!AA$16>'Sconti Export'!AA31-('Sconti Export'!AA31*'Sconti Export'!L31),'Sconti Export'!AA$16*'Zone Export'!$V$14,('Sconti Export'!AA31-('Sconti Export'!AA31*'Sconti Export'!L31))*'Zone Export'!$V$14)","v":114.39000000000001},{"$f":"IF('Sconti Export'!AB$16>'Sconti Export'!AB31-('Sconti Export'!AB31*'Sconti Export'!M31),'Sconti Export'!AB$16*'Zone Export'!$V$14,('Sconti Export'!AB31-('Sconti Export'!AB31*'Sconti Export'!M31))*'Zone Export'!$V$14)","v":120.93100000000004},{"$f":"IF('Sconti Export'!AC$16>'Sconti Export'!AC31-('Sconti Export'!AC31*'Sconti Export'!N31),'Sconti Export'!AC$16*'Zone Export'!$V$14,('Sconti Export'!AC31-('Sconti Export'!AC31*'Sconti Export'!N31))*'Zone Export'!$V$14)","v":137.5625},{"$f":"IF('Sconti Export'!AD$16>'Sconti Export'!AD31-('Sconti Export'!AD31*'Sconti Export'!O31),'Sconti Export'!AD$16*'Zone Export'!$V$14,('Sconti Export'!AD31-('Sconti Export'!AD31*'Sconti Export'!O31))*'Zone Export'!$V$14)","v":72.989500000000021}]
[null,"8,0 kg",null,{"$f":"IF('Sconti Export'!R$16>'Sconti Export'!R32-('Sconti Export'!R32*'Sconti Export'!C32),'Sconti Export'!R$16*'Zone Export'!$V$14,('Sconti Export'!R32-('Sconti Export'!R32*'Sconti Export'!C32))*'Zone Export'!$V$14)","v":18.880000000000003},{"$f":"IF('Sconti Export'!S$16>'Sconti Export'!S32-('Sconti Export'!S32*'Sconti Export'!D32),'Sconti Export'!S$16*'Zone Export'!$V$14,('Sconti Export'!S32-('Sconti Export'!S32*'Sconti Export'!D32))*'Zone Export'!$V$14)","v":52.214500000000015},{"$f":"IF('Sconti Export'!T$16>'Sconti Export'!T32-('Sconti Export'!T32*'Sconti Export'!E32),'Sconti Export'!T$16*'Zone Export'!$V$14,('Sconti Export'!T32-('Sconti Export'!T32*'Sconti Export'!E32))*'Zone Export'!$V$14)","v":53.186000000000007},{"$f":"IF('Sconti Export'!U$16>'Sconti Export'!U32-('Sconti Export'!U32*'Sconti Export'!F32),'Sconti Export'!U$16*'Zone Export'!$V$14,('Sconti Export'!U32-('Sconti Export'!U32*'Sconti Export'!F32))*'Zone Export'!$V$14)","v":55.534999999999997},{"$f":"IF('Sconti Export'!V$16>'Sconti Export'!V32-('Sconti Export'!V32*'Sconti Export'!G32),'Sconti Export'!V$16*'Zone Export'!$V$14,('Sconti Export'!V32-('Sconti Export'!V32*'Sconti Export'!G32))*'Zone Export'!$V$14)","v":118.01550000000003},{"$f":"IF('Sconti Export'!W$16>'Sconti Export'!W32-('Sconti Export'!W32*'Sconti Export'!H32),'Sconti Export'!W$16*'Zone Export'!$V$14,('Sconti Export'!W32-('Sconti Export'!W32*'Sconti Export'!H32))*'Zone Export'!$V$14)","v":118.45050000000003},{"$f":"IF('Sconti Export'!X$16>'Sconti Export'!X32-('Sconti Export'!X32*'Sconti Export'!I32),'Sconti Export'!X$16*'Zone Export'!$V$14,('Sconti Export'!X32-('Sconti Export'!X32*'Sconti Export'!I32))*'Zone Export'!$V$14)","v":57.226000000000013},{"$f":"IF('Sconti Export'!Y$16>'Sconti Export'!Y32-('Sconti Export'!Y32*'Sconti Export'!J32),'Sconti Export'!Y$16*'Zone Export'!$V$14,('Sconti Export'!Y32-('Sconti Export'!Y32*'Sconti Export'!J32))*'Zone Export'!$V$14)","v":134.43150000000003},{"$f":"IF('Sconti Export'!Z$16>'Sconti Export'!Z32-('Sconti Export'!Z32*'Sconti Export'!K32),'Sconti Export'!Z$16*'Zone Export'!$V$14,('Sconti Export'!Z32-('Sconti Export'!Z32*'Sconti Export'!K32))*'Zone Export'!$V$14)","v":69.858500000000021},{"$f":"IF('Sconti Export'!AA$16>'Sconti Export'!AA32-('Sconti Export'!AA32*'Sconti Export'!L32),'Sconti Export'!AA$16*'Zone Export'!$V$14,('Sconti Export'!AA32-('Sconti Export'!AA32*'Sconti Export'!L32))*'Zone Export'!$V$14)","v":119.83050000000003},{"$f":"IF('Sconti Export'!AB$16>'Sconti Export'!AB32-('Sconti Export'!AB32*'Sconti Export'!M32),'Sconti Export'!AB$16*'Zone Export'!$V$14,('Sconti Export'!AB32-('Sconti Export'!AB32*'Sconti Export'!M32))*'Zone Export'!$V$14)","v":126.66600000000005},{"$f":"IF('Sconti Export'!AC$16>'Sconti Export'!AC32-('Sconti Export'!AC32*'Sconti Export'!N32),'Sconti Export'!AC$16*'Zone Export'!$V$14,('Sconti Export'!AC32-('Sconti Export'!AC32*'Sconti Export'!N32))*'Zone Export'!$V$14)","v":143.76250000000005},{"$f":"IF('Sconti Export'!AD$16>'Sconti Export'!AD32-('Sconti Export'!AD32*'Sconti Export'!O32),'Sconti Export'!AD$16*'Zone Export'!$V$14,('Sconti Export'!AD32-('Sconti Export'!AD32*'Sconti Export'!O32))*'Zone Export'!$V$14)","v":75.919000000000011}]
[null,"8,5 kg",null,{"$f":"IF('Sconti Export'!R$16>'Sconti Export'!R33-('Sconti Export'!R33*'Sconti Export'!C33),'Sconti Export'!R$16*'Zone Export'!$V$14,('Sconti Export'!R33-('Sconti Export'!R33*'Sconti Export'!C33))*'Zone Export'!$V$14)","v":19.880000000000003},{"$f":"IF('Sconti Export'!S$16>'Sconti Export'!S33-('Sconti Export'!S33*'Sconti Export'!D33),'Sconti Export'!S$16*'Zone Export'!$V$14,('Sconti Export'!S33-('Sconti Export'!S33*'Sconti Export'!D33))*'Zone Export'!$V$14)","v":54.259000000000015},{"$f":"IF('Sconti Export'!T$16>'Sconti Export'!T33-('Sconti Export'!T33*'Sconti Export'!E33),'Sconti Export'!T$16*'Zone Export'!$V$14,('Sconti Export'!T33-('Sconti Export'!T33*'Sconti Export'!E33))*'Zone Export'!$V$14)","v":55.216000000000008},{"$f":"IF('Sconti Export'!U$16>'Sconti Export'!U33-('Sconti Export'!U33*'Sconti Export'!F33),'Sconti Export'!U$16*'Zone Export'!$V$14,('Sconti Export'!U33-('Sconti Export'!U33*'Sconti Export'!F33))*'Zone Export'!$V$14)","v":57.46350000000001},{"$f":"IF('Sconti Export'!V$16>'Sconti Export'!V33-('Sconti Export'!V33*'Sconti Export'!G33),'Sconti Export'!V$16*'Zone Export'!$V$14,('Sconti Export'!V33-('Sconti Export'!V33*'Sconti Export'!G33))*'Zone Export'!$V$14)","v":122.56850000000003},{"$f":"IF('Sconti Export'!W$16>'Sconti Export'!W33-('Sconti Export'!W33*'Sconti Export'!H33),'Sconti Export'!W$16*'Zone Export'!$V$14,('Sconti Export'!W33-('Sconti Export'!W33*'Sconti Export'!H33))*'Zone Export'!$V$14)","v":123.03250000000003},{"$f":"IF('Sconti Export'!X$16>'Sconti Export'!X33-('Sconti Export'!X33*'Sconti Export'!I33),'Sconti Export'!X$16*'Zone Export'!$V$14,('Sconti Export'!X33-('Sconti Export'!X33*'Sconti Export'!I33))*'Zone Export'!$V$14)","v":59.225500000000011},{"$f":"IF('Sconti Export'!Y$16>'Sconti Export'!Y33-('Sconti Export'!Y33*'Sconti Export'!J33),'Sconti Export'!Y$16*'Zone Export'!$V$14,('Sconti Export'!Y33-('Sconti Export'!Y33*'Sconti Export'!J33))*'Zone Export'!$V$14)","v":139.9495},{"$f":"IF('Sconti Export'!Z$16>'Sconti Export'!Z33-('Sconti Export'!Z33*'Sconti Export'!K33),'Sconti Export'!Z$16*'Zone Export'!$V$14,('Sconti Export'!Z33-('Sconti Export'!Z33*'Sconti Export'!K33))*'Zone Export'!$V$14)","v":72.819000000000017},{"$f":"IF('Sconti Export'!AA$16>'Sconti Export'!AA33-('Sconti Export'!AA33*'Sconti Export'!L33),'Sconti Export'!AA$16*'Zone Export'!$V$14,('Sconti Export'!AA33-('Sconti Export'!AA33*'Sconti Export'!L33))*'Zone Export'!$V$14)","v":125.22450000000003},{"$f":"IF('Sconti Export'!AB$16>'Sconti Export'!AB33-('Sconti Export'!AB33*'Sconti Export'!M33),'Sconti Export'!AB$16*'Zone Export'!$V$14,('Sconti Export'!AB33-('Sconti Export'!AB33*'Sconti Export'!M33))*'Zone Export'!$V$14)","v":132.41650000000004},{"$f":"IF('Sconti Export'!AC$16>'Sconti Export'!AC33-('Sconti Export'!AC33*'Sconti Export'!N33),'Sconti Export'!AC$16*'Zone Export'!$V$14,('Sconti Export'!AC33-('Sconti Export'!AC33*'Sconti Export'!N33))*'Zone Export'!$V$14)","v":149.88500000000005},{"$f":"IF('Sconti Export'!AD$16>'Sconti Export'!AD33-('Sconti Export'!AD33*'Sconti Export'!O33),'Sconti Export'!AD$16*'Zone Export'!$V$14,('Sconti Export'!AD33-('Sconti Export'!AD33*'Sconti Export'!O33))*'Zone Export'!$V$14)","v":78.771000000000015}]
[null,"9,0 kg",null,{"$f":"IF('Sconti Export'!R$16>'Sconti Export'!R34-('Sconti Export'!R34*'Sconti Export'!C34),'Sconti Export'!R$16*'Zone Export'!$V$14,('Sconti Export'!R34-('Sconti Export'!R34*'Sconti Export'!C34))*'Zone Export'!$V$14)","v":19.880000000000003},{"$f":"IF('Sconti Export'!S$16>'Sconti Export'!S34-('Sconti Export'!S34*'Sconti Export'!D34),'Sconti Export'!S$16*'Zone Export'!$V$14,('Sconti Export'!S34-('Sconti Export'!S34*'Sconti Export'!D34))*'Zone Export'!$V$14)","v":56.245499999999993},{"$f":"IF('Sconti Export'!T$16>'Sconti Export'!T34-('Sconti Export'!T34*'Sconti Export'!E34),'Sconti Export'!T$16*'Zone Export'!$V$14,('Sconti Export'!T34-('Sconti Export'!T34*'Sconti Export'!E34))*'Zone Export'!$V$14)","v":57.246000000000009},{"$f":"IF('Sconti Export'!U$16>'Sconti Export'!U34-('Sconti Export'!U34*'Sconti Export'!F34),'Sconti Export'!U$16*'Zone Export'!$V$14,('Sconti Export'!U34-('Sconti Export'!U34*'Sconti Export'!F34))*'Zone Export'!$V$14)","v":59.421000000000021},{"$f":"IF('Sconti Export'!V$16>'Sconti Export'!V34-('Sconti Export'!V34*'Sconti Export'!G34),'Sconti Export'!V$16*'Zone Export'!$V$14,('Sconti Export'!V34-('Sconti Export'!V34*'Sconti Export'!G34))*'Zone Export'!$V$14)","v":127.09250000000003},{"$f":"IF('Sconti Export'!W$16>'Sconti Export'!W34-('Sconti Export'!W34*'Sconti Export'!H34),'Sconti Export'!W$16*'Zone Export'!$V$14,('Sconti Export'!W34-('Sconti Export'!W34*'Sconti Export'!H34))*'Zone Export'!$V$14)","v":127.62900000000002},{"$f":"IF('Sconti Export'!X$16>'Sconti Export'!X34-('Sconti Export'!X34*'Sconti Export'!I34),'Sconti Export'!X$16*'Zone Export'!$V$14,('Sconti Export'!X34-('Sconti Export'!X34*'Sconti Export'!I34))*'Zone Export'!$V$14)","v":61.240500000000026},{"$f":"IF('Sconti Export'!Y$16>'Sconti Export'!Y34-('Sconti Export'!Y34*'Sconti Export'!J34),'Sconti Export'!Y$16*'Zone Export'!$V$14,('Sconti Export'!Y34-('Sconti Export'!Y34*'Sconti Export'!J34))*'Zone Export'!$V$14)","v":145.49850000000004},{"$f":"IF('Sconti Export'!Z$16>'Sconti Export'!Z34-('Sconti Export'!Z34*'Sconti Export'!K34),'Sconti Export'!Z$16*'Zone Export'!$V$14,('Sconti Export'!Z34-('Sconti Export'!Z34*'Sconti Export'!K34))*'Zone Export'!$V$14)","v":75.76400000000001},{"$f":"IF('Sconti Export'!AA$16>'Sconti Export'!AA34-('Sconti Export'!AA34*'Sconti Export'!L34),'Sconti Export'!AA$16*'Zone Export'!$V$14,('Sconti Export'!AA34-('Sconti Export'!AA34*'Sconti Export'!L34))*'Zone Export'!$V$14)","v":130.58750000000003},{"$f":"IF('Sconti Export'!AB$16>'Sconti Export'!AB34-('Sconti Export'!AB34*'Sconti Export'!M34),'Sconti Export'!AB$16*'Zone Export'!$V$14,('Sconti Export'!AB34-('Sconti Export'!AB34*'Sconti Export'!M34))*'Zone Export'!$V$14)","v":138.13600000000002},{"$f":"IF('Sconti Export'!AC$16>'Sconti Export'!AC34-('Sconti Export'!AC34*'Sconti Export'!N34),'Sconti Export'!AC$16*'Zone Export'!$V$14,('Sconti Export'!AC34-('Sconti Export'!AC34*'Sconti Export'!N34))*'Zone Export'!$V$14)","v":156.06950000000001},{"$f":"IF('Sconti Export'!AD$16>'Sconti Export'!AD34-('Sconti Export'!AD34*'Sconti Export'!O34),'Sconti Export'!AD$16*'Zone Export'!$V$14,('Sconti Export'!AD34-('Sconti Export'!AD34*'Sconti Export'!O34))*'Zone Export'!$V$14)","v":81.669499999999999}]
[null,"9,5 kg",null,{"$f":"IF('Sconti Export'!R$16>'Sconti Export'!R35-('Sconti Export'!R35*'Sconti Export'!C35),'Sconti Export'!R$16*'Zone Export'!$V$14,('Sconti Export'!R35-('Sconti Export'!R35*'Sconti Export'!C35))*'Zone Export'!$V$14)","v":20.880000000000003},{"$f":"IF('Sconti Export'!S$16>'Sconti Export'!S35-('Sconti Export'!S35*'Sconti Export'!D35),'Sconti Export'!S$16*'Zone Export'!$V$14,('Sconti Export'!S35-('Sconti Export'!S35*'Sconti Export'!D35))*'Zone Export'!$V$14)","v":58.246499999999997},{"$f":"IF('Sconti Export'!T$16>'Sconti Export'!T35-('Sconti Export'!T35*'Sconti Export'!E35),'Sconti Export'!T$16*'Zone Export'!$V$14,('Sconti Export'!T35-('Sconti Export'!T35*'Sconti Export'!E35))*'Zone Export'!$V$14)","v":59.27600000000001},{"$f":"IF('Sconti Export'!U$16>'Sconti Export'!U35-('Sconti Export'!U35*'Sconti Export'!F35),'Sconti Export'!U$16*'Zone Export'!$V$14,('Sconti Export'!U35-('Sconti Export'!U35*'Sconti Export'!F35))*'Zone Export'!$V$14)","v":61.407499999999999},{"$f":"IF('Sconti Export'!V$16>'Sconti Export'!V35-('Sconti Export'!V35*'Sconti Export'!G35),'Sconti Export'!V$16*'Zone Export'!$V$14,('Sconti Export'!V35-('Sconti Export'!V35*'Sconti Export'!G35))*'Zone Export'!$V$14)","v":131.61650000000003},{"$f":"IF('Sconti Export'!W$16>'Sconti Export'!W35-('Sconti Export'!W35*'Sconti Export'!H35),'Sconti Export'!W$16*'Zone Export'!$V$14,('Sconti Export'!W35-('Sconti Export'!W35*'Sconti Export'!H35))*'Zone Export'!$V$14)","v":132.22550000000001},{"$f":"IF('Sconti Export'!X$16>'Sconti Export'!X35-('Sconti Export'!X35*'Sconti Export'!I35),'Sconti Export'!X$16*'Zone Export'!$V$14,('Sconti Export'!X35-('Sconti Export'!X35*'Sconti Export'!I35))*'Zone Export'!$V$14)","v":63.240000000000009},{"$f":"IF('Sconti Export'!Y$16>'Sconti Export'!Y35-('Sconti Export'!Y35*'Sconti Export'!J35),'Sconti Export'!Y$16*'Zone Export'!$V$14,('Sconti Export'!Y35-('Sconti Export'!Y35*'Sconti Export'!J35))*'Zone Export'!$V$14)","v":151.04750000000001},{"$f":"IF('Sconti Export'!Z$16>'Sconti Export'!Z35-('Sconti Export'!Z35*'Sconti Export'!K35),'Sconti Export'!Z$16*'Zone Export'!$V$14,('Sconti Export'!Z35-('Sconti Export'!Z35*'Sconti Export'!K35))*'Zone Export'!$V$14)","v":78.724500000000006},{"$f":"IF('Sconti Export'!AA$16>'Sconti Export'!AA35-('Sconti Export'!AA35*'Sconti Export'!L35),'Sconti Export'!AA$16*'Zone Export'!$V$14,('Sconti Export'!AA35-('Sconti Export'!AA35*'Sconti Export'!L35))*'Zone Export'!$V$14)","v":135.96600000000001},{"$f":"IF('Sconti Export'!AB$16>'Sconti Export'!AB35-('Sconti Export'!AB35*'Sconti Export'!M35),'Sconti Export'!AB$16*'Zone Export'!$V$14,('Sconti Export'!AB35-('Sconti Export'!AB35*'Sconti Export'!M35))*'Zone Export'!$V$14)","v":143.90200000000004},{"$f":"IF('Sconti Export'!AC$16>'Sconti Export'!AC35-('Sconti Export'!AC35*'Sconti Export'!N35),'Sconti Export'!AC$16*'Zone Export'!$V$14,('Sconti Export'!AC35-('Sconti Export'!AC35*'Sconti Export'!N35))*'Zone Export'!$V$14)","v":162.22300000000001},{"$f":"IF('Sconti Export'!AD$16>'Sconti Export'!AD35-('Sconti Export'!AD35*'Sconti Export'!O35),'Sconti Export'!AD$16*'Zone Export'!$V$14,('Sconti Export'!AD35-('Sconti Export'!AD35*'Sconti Export'!O35))*'Zone Export'!$V$14)","v":84.583500000000015}]
[null,"10 kg",null,{"$f":"IF('Sconti Export'!R$16>'Sconti Export'!R36-('Sconti Export'!R36*'Sconti Export'!C36),'Sconti Export'!R$16*'Zone Export'!$V$14,('Sconti Export'!R36-('Sconti Export'!R36*'Sconti Export'!C36))*'Zone Export'!$V$14)","v":20.880000000000003},{"$f":"IF('Sconti Export'!S$16>'Sconti Export'!S36-('Sconti Export'!S36*'Sconti Export'!D36),'Sconti Export'!S$16*'Zone Export'!$V$14,('Sconti Export'!S36-('Sconti Export'!S36*'Sconti Export'!D36))*'Zone Export'!$V$14)","v":60.247500000000002},{"$f":"IF('Sconti Export'!T$16>'Sconti Export'!T36-('Sconti Export'!T36*'Sconti Export'!E36),'Sconti Export'!T$16*'Zone Export'!$V$14,('Sconti Export'!T36-('Sconti Export'!T36*'Sconti Export'!E36))*'Zone Export'!$V$14)","v":61.306000000000012},{"$f":"IF('Sconti Export'!U$16>'Sconti Export'!U36-('Sconti Export'!U36*'Sconti Export'!F36),'Sconti Export'!U$16*'Zone Export'!$V$14,('Sconti Export'!U36-('Sconti Export'!U36*'Sconti Export'!F36))*'Zone Export'!$V$14)","v":63.365000000000009},{"$f":"IF('Sconti Export'!V$16>'Sconti Export'!V36-('Sconti Export'!V36*'Sconti Export'!G36),'Sconti Export'!V$16*'Zone Export'!$V$14,('Sconti Export'!V36-('Sconti Export'!V36*'Sconti Export'!G36))*'Zone Export'!$V$14)","v":136.18400000000003},{"$f":"IF('Sconti Export'!W$16>'Sconti Export'!W36-('Sconti Export'!W36*'Sconti Export'!H36),'Sconti Export'!W$16*'Zone Export'!$V$14,('Sconti Export'!W36-('Sconti Export'!W36*'Sconti Export'!H36))*'Zone Export'!$V$14)","v":136.822},{"$f":"IF('Sconti Export'!X$16>'Sconti Export'!X36-('Sconti Export'!X36*'Sconti Export'!I36),'Sconti Export'!X$16*'Zone Export'!$V$14,('Sconti Export'!X36-('Sconti Export'!X36*'Sconti Export'!I36))*'Zone Export'!$V$14)","v":65.208500000000015},{"$f":"IF('Sconti Export'!Y$16>'Sconti Export'!Y36-('Sconti Export'!Y36*'Sconti Export'!J36),'Sconti Export'!Y$16*'Zone Export'!$V$14,('Sconti Export'!Y36-('Sconti Export'!Y36*'Sconti Export'!J36))*'Zone Export'!$V$14)","v":156.62750000000005},{"$f":"IF('Sconti Export'!Z$16>'Sconti Export'!Z36-('Sconti Export'!Z36*'Sconti Export'!K36),'Sconti Export'!Z$16*'Zone Export'!$V$14,('Sconti Export'!Z36-('Sconti Export'!Z36*'Sconti Export'!K36))*'Zone Export'!$V$14)","v":81.669499999999999},{"$f":"IF('Sconti Export'!AA$16>'Sconti Export'!AA36-('Sconti Export'!AA36*'Sconti Export'!L36),'Sconti Export'!AA$16*'Zone Export'!$V$14,('Sconti Export'!AA36-('Sconti Export'!AA36*'Sconti Export'!L36))*'Zone Export'!$V$14)","v":141.39100000000002},{"$f":"IF('Sconti Export'!AB$16>'Sconti Export'!AB36-('Sconti Export'!AB36*'Sconti Export'!M36),'Sconti Export'!AB$16*'Zone Export'!$V$14,('Sconti Export'!AB36-('Sconti Export'!AB36*'Sconti Export'!M36))*'Zone Export'!$V$14)","v":149.66800000000001},{"$f":"IF('Sconti Export'!AC$16>'Sconti Export'!AC36-('Sconti Export'!AC36*'Sconti Export'!N36),'Sconti Export'!AC$16*'Zone Export'!$V$14,('Sconti Export'!AC36-('Sconti Export'!AC36*'Sconti Export'!N36))*'Zone Export'!$V$14)","v":168.34550000000002},{"$f":"IF('Sconti Export'!AD$16>'Sconti Export'!AD36-('Sconti Export'!AD36*'Sconti Export'!O36),'Sconti Export'!AD$16*'Zone Export'!$V$14,('Sconti Export'!AD36-('Sconti Export'!AD36*'Sconti Export'!O36))*'Zone Export'!$V$14)","v":87.451000000000022}]
[null,"11 kg",null,{"$f":"IF('Sconti Export'!R$16>'Sconti Export'!R37-('Sconti Export'!R37*'Sconti Export'!C37),'Sconti Export'!R$16*'Zone Export'!$V$14,('Sconti Export'!R37-('Sconti Export'!R37*'Sconti Export'!C37))*'Zone Export'!$V$14)","v":28.260000000000005},{"$f":"IF('Sconti Export'!S$16>'Sconti Export'!S37-('Sconti Export'!S37*'Sconti Export'!D37),'Sconti Export'!S$16*'Zone Export'!$V$14,('Sconti Export'!S37-('Sconti Export'!S37*'Sconti Export'!D37))*'Zone Export'!$V$14)","v":62.263000000000005},{"$f":"IF('Sconti Export'!T$16>'Sconti Export'!T37-('Sconti Export'!T37*'Sconti Export'!E37),'Sconti Export'!T$16*'Zone Export'!$V$14,('Sconti Export'!T37-('Sconti Export'!T37*'Sconti Export'!E37))*'Zone Export'!$V$14)","v":62.349999999999994},{"$f":"IF('Sconti Export'!U$16>'Sconti Export'!U37-('Sconti Export'!U37*'Sconti Export'!F37),'Sconti Export'!U$16*'Zone Export'!$V$14,('Sconti Export'!U37-('Sconti Export'!U37*'Sconti Export'!F37))*'Zone Export'!$V$14)","v":65.424000000000007},{"$f":"IF('Sconti Export'!V$16>'Sconti Export'!V37-('Sconti Export'!V37*'Sconti Export'!G37),'Sconti Export'!V$16*'Zone Export'!$V$14,('Sconti Export'!V37-('Sconti Export'!V37*'Sconti Export'!G37))*'Zone Export'!$V$14)","v":145.17400000000004},{"$f":"IF('Sconti Export'!W$16>'Sconti Export'!W37-('Sconti Export'!W37*'Sconti Export'!H37),'Sconti Export'!W$16*'Zone Export'!$V$14,('Sconti Export'!W37-('Sconti Export'!W37*'Sconti Export'!H37))*'Zone Export'!$V$14)","v":146.10200000000003},{"$f":"IF('Sconti Export'!X$16>'Sconti Export'!X37-('Sconti Export'!X37*'Sconti Export'!I37),'Sconti Export'!X$16*'Zone Export'!$V$14,('Sconti Export'!X37-('Sconti Export'!X37*'Sconti Export'!I37))*'Zone Export'!$V$14)","v":69.068000000000012},{"$f":"IF('Sconti Export'!Y$16>'Sconti Export'!Y37-('Sconti Export'!Y37*'Sconti Export'!J37),'Sconti Export'!Y$16*'Zone Export'!$V$14,('Sconti Export'!Y37-('Sconti Export'!Y37*'Sconti Export'!J37))*'Zone Export'!$V$14)","v":166.4855},{"$f":"IF('Sconti Export'!Z$16>'Sconti Export'!Z37-('Sconti Export'!Z37*'Sconti Export'!K37),'Sconti Export'!Z$16*'Zone Export'!$V$14,('Sconti Export'!Z37-('Sconti Export'!Z37*'Sconti Export'!K37))*'Zone Export'!$V$14)","v":87.730000000000018},{"$f":"IF('Sconti Export'!AA$16>'Sconti Export'!AA37-('Sconti Export'!AA37*'Sconti Export'!L37),'Sconti Export'!AA$16*'Zone Export'!$V$14,('Sconti Export'!AA37-('Sconti Export'!AA37*'Sconti Export'!L37))*'Zone Export'!$V$14)","v":149.28050000000002},{"$f":"IF('Sconti Export'!AB$16>'Sconti Export'!AB37-('Sconti Export'!AB37*'Sconti Export'!M37),'Sconti Export'!AB$16*'Zone Export'!$V$14,('Sconti Export'!AB37-('Sconti Export'!AB37*'Sconti Export'!M37))*'Zone Export'!$V$14)","v":157.5265},{"$f":"IF('Sconti Export'!AC$16>'Sconti Export'!AC37-('Sconti Export'!AC37*'Sconti Export'!N37),'Sconti Export'!AC$16*'Zone Export'!$V$14,('Sconti Export'!AC37-('Sconti Export'!AC37*'Sconti Export'!N37))*'Zone Export'!$V$14)","v":178.04850000000005},{"$f":"IF('Sconti Export'!AD$16>'Sconti Export'!AD37-('Sconti Export'!AD37*'Sconti Export'!O37),'Sconti Export'!AD$16*'Zone Export'!$V$14,('Sconti Export'!AD37-('Sconti Export'!AD37*'Sconti Export'!O37))*'Zone Export'!$V$14)","v":91.496499999999997}]
[null,"12 kg",null,{"$f":"IF('Sconti Export'!R$16>'Sconti Export'!R38-('Sconti Export'!R38*'Sconti Export'!C38),'Sconti Export'!R$16*'Zone Export'!$V$14,('Sconti Export'!R38-('Sconti Export'!R38*'Sconti Export'!C38))*'Zone Export'!$V$14)","v":28.260000000000005},{"$f":"IF('Sconti Export'!S$16>'Sconti Export'!S38-('Sconti Export'!S38*'Sconti Export'!D38),'Sconti Export'!S$16*'Zone Export'!$V$14,('Sconti Export'!S38-('Sconti Export'!S38*'Sconti Export'!D38))*'Zone Export'!$V$14)","v":65.293500000000023},{"$f":"IF('Sconti Export'!T$16>'Sconti Export'!T38-('Sconti Export'!T38*'Sconti Export'!E38),'Sconti Export'!T$16*'Zone Export'!$V$14,('Sconti Export'!T38-('Sconti Export'!T38*'Sconti Export'!E38))*'Zone Export'!$V$14)","v":65.641500000000008},{"$f":"IF('Sconti Export'!U$16>'Sconti Export'!U38-('Sconti Export'!U38*'Sconti Export'!F38),'Sconti Export'!U$16*'Zone Export'!$V$14,('Sconti Export'!U38-('Sconti Export'!U38*'Sconti Export'!F38))*'Zone Export'!$V$14)","v":69.049000000000007},{"$f":"IF('Sconti Export'!V$16>'Sconti Export'!V38-('Sconti Export'!V38*'Sconti Export'!G38),'Sconti Export'!V$16*'Zone Export'!$V$14,('Sconti Export'!V38-('Sconti Export'!V38*'Sconti Export'!G38))*'Zone Export'!$V$14)","v":154.0335},{"$f":"IF('Sconti Export'!W$16>'Sconti Export'!W38-('Sconti Export'!W38*'Sconti Export'!H38),'Sconti Export'!W$16*'Zone Export'!$V$14,('Sconti Export'!W38-('Sconti Export'!W38*'Sconti Export'!H38))*'Zone Export'!$V$14)","v":155.42550000000006},{"$f":"IF('Sconti Export'!X$16>'Sconti Export'!X38-('Sconti Export'!X38*'Sconti Export'!I38),'Sconti Export'!X$16*'Zone Export'!$V$14,('Sconti Export'!X38-('Sconti Export'!X38*'Sconti Export'!I38))*'Zone Export'!$V$14)","v":72.63300000000001},{"$f":"IF('Sconti Export'!Y$16>'Sconti Export'!Y38-('Sconti Export'!Y38*'Sconti Export'!J38),'Sconti Export'!Y$16*'Zone Export'!$V$14,('Sconti Export'!Y38-('Sconti Export'!Y38*'Sconti Export'!J38))*'Zone Export'!$V$14)","v":176.37450000000007},{"$f":"IF('Sconti Export'!Z$16>'Sconti Export'!Z38-('Sconti Export'!Z38*'Sconti Export'!K38),'Sconti Export'!Z$16*'Zone Export'!$V$14,('Sconti Export'!Z38-('Sconti Export'!Z38*'Sconti Export'!K38))*'Zone Export'!$V$14)","v":93.728500000000025},{"$f":"IF('Sconti Export'!AA$16>'Sconti Export'!AA38-('Sconti Export'!AA38*'Sconti Export'!L38),'Sconti Export'!AA$16*'Zone Export'!$V$14,('Sconti Export'!AA38-('Sconti Export'!AA38*'Sconti Export'!L38))*'Zone Export'!$V$14)","v":157.23200000000003},{"$f":"IF('Sconti Export'!AB$16>'Sconti Export'!AB38-('Sconti Export'!AB38*'Sconti Export'!M38),'Sconti Export'!AB$16*'Zone Export'!$V$14,('Sconti Export'!AB38-('Sconti Export'!AB38*'Sconti Export'!M38))*'Zone Export'!$V$14)","v":165.44700000000006},{"$f":"IF('Sconti Export'!AC$16>'Sconti Export'!AC38-('Sconti Export'!AC38*'Sconti Export'!N38),'Sconti Export'!AC$16*'Zone Export'!$V$14,('Sconti Export'!AC38-('Sconti Export'!AC38*'Sconti Export'!N38))*'Zone Export'!$V$14)","v":187.76700000000005},{"$f":"IF('Sconti Export'!AD$16>'Sconti Export'!AD38-('Sconti Export'!AD38*'Sconti Export'!O38),'Sconti Export'!AD$16*'Zone Export'!$V$14,('Sconti Export'!AD38-('Sconti Export'!AD38*'Sconti Export'!O38))*'Zone Export'!$V$14)","v":95.58850000000001}]
[null,"13 kg",null,{"$f":"IF('Sconti Export'!R$16>'Sconti Export'!R39-('Sconti Export'!R39*'Sconti Export'!C39),'Sconti Export'!R$16*'Zone Export'!$V$14,('Sconti Export'!R39-('Sconti Export'!R39*'Sconti Export'!C39))*'Zone Export'!$V$14)","v":28.260000000000005},{"$f":"IF('Sconti Export'!S$16>'Sconti Export'!S39-('Sconti Export'!S39*'Sconti Export'!D39),'Sconti Export'!S$16*'Zone Export'!$V$14,('Sconti Export'!S39-('Sconti Export'!S39*'Sconti Export'!D39))*'Zone Export'!$V$14)","v":68.26600000000002},{"$f":"IF('Sconti Export'!T$16>'Sconti Export'!T39-('Sconti Export'!T39*'Sconti Export'!E39),'Sconti Export'!T$16*'Zone Export'!$V$14,('Sconti Export'!T39-('Sconti Export'!T39*'Sconti Export'!E39))*'Zone Export'!$V$14)","v":68.932999999999993},{"$f":"IF('Sconti Export'!U$16>'Sconti Export'!U39-('Sconti Export'!U39*'Sconti Export'!F39),'Sconti Export'!U$16*'Zone Export'!$V$14,('Sconti Export'!U39-('Sconti Export'!U39*'Sconti Export'!F39))*'Zone Export'!$V$14)","v":72.601500000000016},{"$f":"IF('Sconti Export'!V$16>'Sconti Export'!V39-('Sconti Export'!V39*'Sconti Export'!G39),'Sconti Export'!V$16*'Zone Export'!$V$14,('Sconti Export'!V39-('Sconti Export'!V39*'Sconti Export'!G39))*'Zone Export'!$V$14)","v":162.87850000000003},{"$f":"IF('Sconti Export'!W$16>'Sconti Export'!W39-('Sconti Export'!W39*'Sconti Export'!H39),'Sconti Export'!W$16*'Zone Export'!$V$14,('Sconti Export'!W39-('Sconti Export'!W39*'Sconti Export'!H39))*'Zone Export'!$V$14)","v":164.67650000000003},{"$f":"IF('Sconti Export'!X$16>'Sconti Export'!X39-('Sconti Export'!X39*'Sconti Export'!I39),'Sconti Export'!X$16*'Zone Export'!$V$14,('Sconti Export'!X39-('Sconti Export'!X39*'Sconti Export'!I39))*'Zone Export'!$V$14)","v":76.229000000000013},{"$f":"IF('Sconti Export'!Y$16>'Sconti Export'!Y39-('Sconti Export'!Y39*'Sconti Export'!J39),'Sconti Export'!Y$16*'Zone Export'!$V$14,('Sconti Export'!Y39-('Sconti Export'!Y39*'Sconti Export'!J39))*'Zone Export'!$V$14)","v":186.26350000000002},{"$f":"IF('Sconti Export'!Z$16>'Sconti Export'!Z39-('Sconti Export'!Z39*'Sconti Export'!K39),'Sconti Export'!Z$16*'Zone Export'!$V$14,('Sconti Export'!Z39-('Sconti Export'!Z39*'Sconti Export'!K39))*'Zone Export'!$V$14)","v":99.773500000000013},{"$f":"IF('Sconti Export'!AA$16>'Sconti Export'!AA39-('Sconti Export'!AA39*'Sconti Export'!L39),'Sconti Export'!AA$16*'Zone Export'!$V$14,('Sconti Export'!AA39-('Sconti Export'!AA39*'Sconti Export'!L39))*'Zone Export'!$V$14)","v":165.09050000000002},{"$f":"IF('Sconti Export'!AB$16>'Sconti Export'!AB39-('Sconti Export'!AB39*'Sconti Export'!M39),'Sconti Export'!AB$16*'Zone Export'!$V$14,('Sconti Export'!AB39-('Sconti Export'!AB39*'Sconti Export'!M39))*'Zone Export'!$V$14)","v":173.32100000000003},{"$f":"IF('Sconti Export'!AC$16>'Sconti Export'!AC39-('Sconti Export'!AC39*'Sconti Export'!N39),'Sconti Export'!AC$16*'Zone Export'!$V$14,('Sconti Export'!AC39-('Sconti Export'!AC39*'Sconti Export'!N39))*'Zone Export'!$V$14)","v":197.43900000000002},{"$f":"IF('Sconti Export'!AD$16>'Sconti Export'!AD39-('Sconti Export'!AD39*'Sconti Export'!O39),'Sconti Export'!AD$16*'Zone Export'!$V$14,('Sconti Export'!AD39-('Sconti Export'!AD39*'Sconti Export'!O39))*'Zone Export'!$V$14)","v":99.634000000000015}]
[null,"14 kg",null,{"$f":"IF('Sconti Export'!R$16>'Sconti Export'!R40-('Sconti Export'!R40*'Sconti Export'!C40),'Sconti Export'!R$16*'Zone Export'!$V$14,('Sconti Export'!R40-('Sconti Export'!R40*'Sconti Export'!C40))*'Zone Export'!$V$14)","v":28.260000000000005},{"$f":"IF('Sconti Export'!S$16>'Sconti Export'!S40-('Sconti Export'!S40*'Sconti Export'!D40),'Sconti Export'!S$16*'Zone Export'!$V$14,('Sconti Export'!S40-('Sconti Export'!S40*'Sconti Export'!D40))*'Zone Export'!$V$14)","v":71.267500000000013},{"$f":"IF('Sconti Export'!T$16>'Sconti Export'!T40-('Sconti Export'!T40*'Sconti Export'!E40),'Sconti Export'!T$16*'Zone Export'!$V$14,('Sconti Export'!T40-('Sconti Export'!T40*'Sconti Export'!E40))*'Zone Export'!$V$14)","v":72.19550000000001},{"$f":"IF('Sconti Export'!U$16>'Sconti Export'!U40-('Sconti Export'!U40*'Sconti Export'!F40),'Sconti Export'!U$16*'Zone Export'!$V$14,('Sconti Export'!U40-('Sconti Export'!U40*'Sconti Export'!F40))*'Zone Export'!$V$14)","v":76.241000000000014},{"$f":"IF('Sconti Export'!V$16>'Sconti Export'!V40-('Sconti Export'!V40*'Sconti Export'!G40),'Sconti Export'!V$16*'Zone Export'!$V$14,('Sconti Export'!V40-('Sconti Export'!V40*'Sconti Export'!G40))*'Zone Export'!$V$14)","v":171.767},{"$f":"IF('Sconti Export'!W$16>'Sconti Export'!W40-('Sconti Export'!W40*'Sconti Export'!H40),'Sconti Export'!W$16*'Zone Export'!$V$14,('Sconti Export'!W40-('Sconti Export'!W40*'Sconti Export'!H40))*'Zone Export'!$V$14)","v":174},{"$f":"IF('Sconti Export'!X$16>'Sconti Export'!X40-('Sconti Export'!X40*'Sconti Export'!I40),'Sconti Export'!X$16*'Zone Export'!$V$14,('Sconti Export'!X40-('Sconti Export'!X40*'Sconti Export'!I40))*'Zone Export'!$V$14)","v":79.794000000000011},{"$f":"IF('Sconti Export'!Y$16>'Sconti Export'!Y40-('Sconti Export'!Y40*'Sconti Export'!J40),'Sconti Export'!Y$16*'Zone Export'!$V$14,('Sconti Export'!Y40-('Sconti Export'!Y40*'Sconti Export'!J40))*'Zone Export'!$V$14)","v":196.16800000000001},{"$f":"IF('Sconti Export'!Z$16>'Sconti Export'!Z40-('Sconti Export'!Z40*'Sconti Export'!K40),'Sconti Export'!Z$16*'Zone Export'!$V$14,('Sconti Export'!Z40-('Sconti Export'!Z40*'Sconti Export'!K40))*'Zone Export'!$V$14)","v":105.80300000000003},{"$f":"IF('Sconti Export'!AA$16>'Sconti Export'!AA40-('Sconti Export'!AA40*'Sconti Export'!L40),'Sconti Export'!AA$16*'Zone Export'!$V$14,('Sconti Export'!AA40-('Sconti Export'!AA40*'Sconti Export'!L40))*'Zone Export'!$V$14)","v":173.01100000000002},{"$f":"IF('Sconti Export'!AB$16>'Sconti Export'!AB40-('Sconti Export'!AB40*'Sconti Export'!M40),'Sconti Export'!AB$16*'Zone Export'!$V$14,('Sconti Export'!AB40-('Sconti Export'!AB40*'Sconti Export'!M40))*'Zone Export'!$V$14)","v":181.27250000000004},{"$f":"IF('Sconti Export'!AC$16>'Sconti Export'!AC40-('Sconti Export'!AC40*'Sconti Export'!N40),'Sconti Export'!AC$16*'Zone Export'!$V$14,('Sconti Export'!AC40-('Sconti Export'!AC40*'Sconti Export'!N40))*'Zone Export'!$V$14)","v":207.173},{"$f":"IF('Sconti Export'!AD$16>'Sconti Export'!AD40-('Sconti Export'!AD40*'Sconti Export'!O40),'Sconti Export'!AD$16*'Zone Export'!$V$14,('Sconti Export'!AD40-('Sconti Export'!AD40*'Sconti Export'!O40))*'Zone Export'!$V$14)","v":103.71050000000002}]
[null,"15 kg",null,{"$f":"IF('Sconti Export'!R$16>'Sconti Export'!R41-('Sconti Export'!R41*'Sconti Export'!C41),'Sconti Export'!R$16*'Zone Export'!$V$14,('Sconti Export'!R41-('Sconti Export'!R41*'Sconti Export'!C41))*'Zone Export'!$V$14)","v":28.260000000000005},{"$f":"IF('Sconti Export'!S$16>'Sconti Export'!S41-('Sconti Export'!S41*'Sconti Export'!D41),'Sconti Export'!S$16*'Zone Export'!$V$14,('Sconti Export'!S41-('Sconti Export'!S41*'Sconti Export'!D41))*'Zone Export'!$V$14)","v":74.298000000000002},{"$f":"IF('Sconti Export'!T$16>'Sconti Export'!T41-('Sconti Export'!T41*'Sconti Export'!E41),'Sconti Export'!T$16*'Zone Export'!$V$14,('Sconti Export'!T41-('Sconti Export'!T41*'Sconti Export'!E41))*'Zone Export'!$V$14)","v":75.472499999999997},{"$f":"IF('Sconti Export'!U$16>'Sconti Export'!U41-('Sconti Export'!U41*'Sconti Export'!F41),'Sconti Export'!U$16*'Zone Export'!$V$14,('Sconti Export'!U41-('Sconti Export'!U41*'Sconti Export'!F41))*'Zone Export'!$V$14)","v":79.793499999999995},{"$f":"IF('Sconti Export'!V$16>'Sconti Export'!V41-('Sconti Export'!V41*'Sconti Export'!G41),'Sconti Export'!V$16*'Zone Export'!$V$14,('Sconti Export'!V41-('Sconti Export'!V41*'Sconti Export'!G41))*'Zone Export'!$V$14)","v":180.58300000000003},{"$f":"IF('Sconti Export'!W$16>'Sconti Export'!W41-('Sconti Export'!W41*'Sconti Export'!H41),'Sconti Export'!W$16*'Zone Export'!$V$14,('Sconti Export'!W41-('Sconti Export'!W41*'Sconti Export'!H41))*'Zone Export'!$V$14)","v":183.28000000000003},{"$f":"IF('Sconti Export'!X$16>'Sconti Export'!X41-('Sconti Export'!X41*'Sconti Export'!I41),'Sconti Export'!X$16*'Zone Export'!$V$14,('Sconti Export'!X41-('Sconti Export'!X41*'Sconti Export'!I41))*'Zone Export'!$V$14)","v":83.390000000000015},{"$f":"IF('Sconti Export'!Y$16>'Sconti Export'!Y41-('Sconti Export'!Y41*'Sconti Export'!J41),'Sconti Export'!Y$16*'Zone Export'!$V$14,('Sconti Export'!Y41-('Sconti Export'!Y41*'Sconti Export'!J41))*'Zone Export'!$V$14)","v":206.04150000000004},{"$f":"IF('Sconti Export'!Z$16>'Sconti Export'!Z41-('Sconti Export'!Z41*'Sconti Export'!K41),'Sconti Export'!Z$16*'Zone Export'!$V$14,('Sconti Export'!Z41-('Sconti Export'!Z41*'Sconti Export'!K41))*'Zone Export'!$V$14)","v":111.91000000000003},{"$f":"IF('Sconti Export'!AA$16>'Sconti Export'!AA41-('Sconti Export'!AA41*'Sconti Export'!L41),'Sconti Export'!AA$16*'Zone Export'!$V$14,('Sconti Export'!AA41-('Sconti Export'!AA41*'Sconti Export'!L41))*'Zone Export'!$V$14)","v":180.90050000000002},{"$f":"IF('Sconti Export'!AB$16>'Sconti Export'!AB41-('Sconti Export'!AB41*'Sconti Export'!M41),'Sconti Export'!AB$16*'Zone Export'!$V$14,('Sconti Export'!AB41-('Sconti Export'!AB41*'Sconti Export'!M41))*'Zone Export'!$V$14)","v":189.1465},{"$f":"IF('Sconti Export'!AC$16>'Sconti Export'!AC41-('Sconti Export'!AC41*'Sconti Export'!N41),'Sconti Export'!AC$16*'Zone Export'!$V$14,('Sconti Export'!AC41-('Sconti Export'!AC41*'Sconti Export'!N41))*'Zone Export'!$V$14)","v":216.89150000000001},{"$f":"IF('Sconti Export'!AD$16>'Sconti Export'!AD41-('Sconti Export'!AD41*'Sconti Export'!O41),'Sconti Export'!AD$16*'Zone Export'!$V$14,('Sconti Export'!AD41-('Sconti Export'!AD41*'Sconti Export'!O41))*'Zone Export'!$V$14)","v":107.7715}]
[null,"16 kg",null,{"$f":"IF('Sconti Export'!R$16>'Sconti Export'!R42-('Sconti Export'!R42*'Sconti Export'!C42),'Sconti Export'!R$16*'Zone Export'!$V$14,('Sconti Export'!R42-('Sconti Export'!R42*'Sconti Export'!C42))*'Zone Export'!$V$14)","v":28.260000000000005},{"$f":"IF('Sconti Export'!S$16>'Sconti Export'!S42-('Sconti Export'!S42*'Sconti Export'!D42),'Sconti Export'!S$16*'Zone Export'!$V$14,('Sconti Export'!S42-('Sconti Export'!S42*'Sconti Export'!D42))*'Zone Export'!$V$14)","v":77.284999999999997},{"$f":"IF('Sconti Export'!T$16>'Sconti Export'!T42-('Sconti Export'!T42*'Sconti Export'!E42),'Sconti Export'!T$16*'Zone Export'!$V$14,('Sconti Export'!T42-('Sconti Export'!T42*'Sconti Export'!E42))*'Zone Export'!$V$14)","v":78.76400000000001},{"$f":"IF('Sconti Export'!U$16>'Sconti Export'!U42-('Sconti Export'!U42*'Sconti Export'!F42),'Sconti Export'!U$16*'Zone Export'!$V$14,('Sconti Export'!U42-('Sconti Export'!U42*'Sconti Export'!F42))*'Zone Export'!$V$14)","v":83.375},{"$f":"IF('Sconti Export'!V$16>'Sconti Export'!V42-('Sconti Export'!V42*'Sconti Export'!G42),'Sconti Export'!V$16*'Zone Export'!$V$14,('Sconti Export'!V42-('Sconti Export'!V42*'Sconti Export'!G42))*'Zone Export'!$V$14)","v":189.12350000000004},{"$f":"IF('Sconti Export'!W$16>'Sconti Export'!W42-('Sconti Export'!W42*'Sconti Export'!H42),'Sconti Export'!W$16*'Zone Export'!$V$14,('Sconti Export'!W42-('Sconti Export'!W42*'Sconti Export'!H42))*'Zone Export'!$V$14)","v":192.37150000000003},{"$f":"IF('Sconti Export'!X$16>'Sconti Export'!X42-('Sconti Export'!X42*'Sconti Export'!I42),'Sconti Export'!X$16*'Zone Export'!$V$14,('Sconti Export'!X42-('Sconti Export'!X42*'Sconti Export'!I42))*'Zone Export'!$V$14)","v":86.970500000000015},{"$f":"IF('Sconti Export'!Y$16>'Sconti Export'!Y42-('Sconti Export'!Y42*'Sconti Export'!J42),'Sconti Export'!Y$16*'Zone Export'!$V$14,('Sconti Export'!Y42-('Sconti Export'!Y42*'Sconti Export'!J42))*'Zone Export'!$V$14)","v":215.91500000000002},{"$f":"IF('Sconti Export'!Z$16>'Sconti Export'!Z42-('Sconti Export'!Z42*'Sconti Export'!K42),'Sconti Export'!Z$16*'Zone Export'!$V$14,('Sconti Export'!Z42-('Sconti Export'!Z42*'Sconti Export'!K42))*'Zone Export'!$V$14)","v":117.92400000000004},{"$f":"IF('Sconti Export'!AA$16>'Sconti Export'!AA42-('Sconti Export'!AA42*'Sconti Export'!L42),'Sconti Export'!AA$16*'Zone Export'!$V$14,('Sconti Export'!AA42-('Sconti Export'!AA42*'Sconti Export'!L42))*'Zone Export'!$V$14)","v":188.8365},{"$f":"IF('Sconti Export'!AB$16>'Sconti Export'!AB42-('Sconti Export'!AB42*'Sconti Export'!M42),'Sconti Export'!AB$16*'Zone Export'!$V$14,('Sconti Export'!AB42-('Sconti Export'!AB42*'Sconti Export'!M42))*'Zone Export'!$V$14)","v":197.09800000000001},{"$f":"IF('Sconti Export'!AC$16>'Sconti Export'!AC42-('Sconti Export'!AC42*'Sconti Export'!N42),'Sconti Export'!AC$16*'Zone Export'!$V$14,('Sconti Export'!AC42-('Sconti Export'!AC42*'Sconti Export'!N42))*'Zone Export'!$V$14)","v":226.548},{"$f":"IF('Sconti Export'!AD$16>'Sconti Export'!AD42-('Sconti Export'!AD42*'Sconti Export'!O42),'Sconti Export'!AD$16*'Zone Export'!$V$14,('Sconti Export'!AD42-('Sconti Export'!AD42*'Sconti Export'!O42))*'Zone Export'!$V$14)","v":111.81700000000001}]
[null,"17 kg",null,{"$f":"IF('Sconti Export'!R$16>'Sconti Export'!R43-('Sconti Export'!R43*'Sconti Export'!C43),'Sconti Export'!R$16*'Zone Export'!$V$14,('Sconti Export'!R43-('Sconti Export'!R43*'Sconti Export'!C43))*'Zone Export'!$V$14)","v":28.260000000000005},{"$f":"IF('Sconti Export'!S$16>'Sconti Export'!S43-('Sconti Export'!S43*'Sconti Export'!D43),'Sconti Export'!S$16*'Zone Export'!$V$14,('Sconti Export'!S43-('Sconti Export'!S43*'Sconti Export'!D43))*'Zone Export'!$V$14)","v":80.286500000000018},{"$f":"IF('Sconti Export'!T$16>'Sconti Export'!T43-('Sconti Export'!T43*'Sconti Export'!E43),'Sconti Export'!T$16*'Zone Export'!$V$14,('Sconti Export'!T43-('Sconti Export'!T43*'Sconti Export'!E43))*'Zone Export'!$V$14)","v":82.012},{"$f":"IF('Sconti Export'!U$16>'Sconti Export'!U43-('Sconti Export'!U43*'Sconti Export'!F43),'Sconti Export'!U$16*'Zone Export'!$V$14,('Sconti Export'!U43-('Sconti Export'!U43*'Sconti Export'!F43))*'Zone Export'!$V$14)","v":86.956500000000005},{"$f":"IF('Sconti Export'!V$16>'Sconti Export'!V43-('Sconti Export'!V43*'Sconti Export'!G43),'Sconti Export'!V$16*'Zone Export'!$V$14,('Sconti Export'!V43-('Sconti Export'!V43*'Sconti Export'!G43))*'Zone Export'!$V$14)","v":197.59150000000005},{"$f":"IF('Sconti Export'!W$16>'Sconti Export'!W43-('Sconti Export'!W43*'Sconti Export'!H43),'Sconti Export'!W$16*'Zone Export'!$V$14,('Sconti Export'!W43-('Sconti Export'!W43*'Sconti Export'!H43))*'Zone Export'!$V$14)","v":201.21650000000005},{"$f":"IF('Sconti Export'!X$16>'Sconti Export'!X43-('Sconti Export'!X43*'Sconti Export'!I43),'Sconti Export'!X$16*'Zone Export'!$V$14,('Sconti Export'!X43-('Sconti Export'!X43*'Sconti Export'!I43))*'Zone Export'!$V$14)","v":90.551000000000016},{"$f":"IF('Sconti Export'!Y$16>'Sconti Export'!Y43-('Sconti Export'!Y43*'Sconti Export'!J43),'Sconti Export'!Y$16*'Zone Export'!$V$14,('Sconti Export'!Y43-('Sconti Export'!Y43*'Sconti Export'!J43))*'Zone Export'!$V$14)","v":225.80400000000003},{"$f":"IF('Sconti Export'!Z$16>'Sconti Export'!Z43-('Sconti Export'!Z43*'Sconti Export'!K43),'Sconti Export'!Z$16*'Zone Export'!$V$14,('Sconti Export'!Z43-('Sconti Export'!Z43*'Sconti Export'!K43))*'Zone Export'!$V$14)","v":124},{"$f":"IF('Sconti Export'!AA$16>'Sconti Export'!AA43-('Sconti Export'!AA43*'Sconti Export'!L43),'Sconti Export'!AA$16*'Zone Export'!$V$14,('Sconti Export'!AA43-('Sconti Export'!AA43*'Sconti Export'!L43))*'Zone Export'!$V$14)","v":196.74150000000003},{"$f":"IF('Sconti Export'!AB$16>'Sconti Export'!AB43-('Sconti Export'!AB43*'Sconti Export'!M43),'Sconti Export'!AB$16*'Zone Export'!$V$14,('Sconti Export'!AB43-('Sconti Export'!AB43*'Sconti Export'!M43))*'Zone Export'!$V$14)","v":204.97200000000004},{"$f":"IF('Sconti Export'!AC$16>'Sconti Export'!AC43-('Sconti Export'!AC43*'Sconti Export'!N43),'Sconti Export'!AC$16*'Zone Export'!$V$14,('Sconti Export'!AC43-('Sconti Export'!AC43*'Sconti Export'!N43))*'Zone Export'!$V$14)","v":236.26650000000006},{"$f":"IF('Sconti Export'!AD$16>'Sconti Export'!AD43-('Sconti Export'!AD43*'Sconti Export'!O43),'Sconti Export'!AD$16*'Zone Export'!$V$14,('Sconti Export'!AD43-('Sconti Export'!AD43*'Sconti Export'!O43))*'Zone Export'!$V$14)","v":115.87800000000004}]
[null,"18 kg",null,{"$f":"IF('Sconti Export'!R$16>'Sconti Export'!R44-('Sconti Export'!R44*'Sconti Export'!C44),'Sconti Export'!R$16*'Zone Export'!$V$14,('Sconti Export'!R44-('Sconti Export'!R44*'Sconti Export'!C44))*'Zone Export'!$V$14)","v":28.260000000000005},{"$f":"IF('Sconti Export'!S$16>'Sconti Export'!S44-('Sconti Export'!S44*'Sconti Export'!D44),'Sconti Export'!S$16*'Zone Export'!$V$14,('Sconti Export'!S44-('Sconti Export'!S44*'Sconti Export'!D44))*'Zone Export'!$V$14)","v":83.041500000000013},{"$f":"IF('Sconti Export'!T$16>'Sconti Export'!T44-('Sconti Export'!T44*'Sconti Export'!E44),'Sconti Export'!T$16*'Zone Export'!$V$14,('Sconti Export'!T44-('Sconti Export'!T44*'Sconti Export'!E44))*'Zone Export'!$V$14)","v":85.318000000000012},{"$f":"IF('Sconti Export'!U$16>'Sconti Export'!U44-('Sconti Export'!U44*'Sconti Export'!F44),'Sconti Export'!U$16*'Zone Export'!$V$14,('Sconti Export'!U44-('Sconti Export'!U44*'Sconti Export'!F44))*'Zone Export'!$V$14)","v":90.538000000000011},{"$f":"IF('Sconti Export'!V$16>'Sconti Export'!V44-('Sconti Export'!V44*'Sconti Export'!G44),'Sconti Export'!V$16*'Zone Export'!$V$14,('Sconti Export'!V44-('Sconti Export'!V44*'Sconti Export'!G44))*'Zone Export'!$V$14)","v":206.11750000000001},{"$f":"IF('Sconti Export'!W$16>'Sconti Export'!W44-('Sconti Export'!W44*'Sconti Export'!H44),'Sconti Export'!W$16*'Zone Export'!$V$14,('Sconti Export'!W44-('Sconti Export'!W44*'Sconti Export'!H44))*'Zone Export'!$V$14)","v":210.10500000000002},{"$f":"IF('Sconti Export'!X$16>'Sconti Export'!X44-('Sconti Export'!X44*'Sconti Export'!I44),'Sconti Export'!X$16*'Zone Export'!$V$14,('Sconti Export'!X44-('Sconti Export'!X44*'Sconti Export'!I44))*'Zone Export'!$V$14)","v":94.100500000000011},{"$f":"IF('Sconti Export'!Y$16>'Sconti Export'!Y44-('Sconti Export'!Y44*'Sconti Export'!J44),'Sconti Export'!Y$16*'Zone Export'!$V$14,('Sconti Export'!Y44-('Sconti Export'!Y44*'Sconti Export'!J44))*'Zone Export'!$V$14)","v":235.72400000000005},{"$f":"IF('Sconti Export'!Z$16>'Sconti Export'!Z44-('Sconti Export'!Z44*'Sconti Export'!K44),'Sconti Export'!Z$16*'Zone Export'!$V$14,('Sconti Export'!Z44-('Sconti Export'!Z44*'Sconti Export'!K44))*'Zone Export'!$V$14)","v":129.99850000000004},{"$f":"IF('Sconti Export'!AA$16>'Sconti Export'!AA44-('Sconti Export'!AA44*'Sconti Export'!L44),'Sconti Export'!AA$16*'Zone Export'!$V$14,('Sconti Export'!AA44-('Sconti Export'!AA44*'Sconti Export'!L44))*'Zone Export'!$V$14)","v":204.67750000000001},{"$f":"IF('Sconti Export'!AB$16>'Sconti Export'!AB44-('Sconti Export'!AB44*'Sconti Export'!M44),'Sconti Export'!AB$16*'Zone Export'!$V$14,('Sconti Export'!AB44-('Sconti Export'!AB44*'Sconti Export'!M44))*'Zone Export'!$V$14)","v":212.93900000000002},{"$f":"IF('Sconti Export'!AC$16>'Sconti Export'!AC44-('Sconti Export'!AC44*'Sconti Export'!N44),'Sconti Export'!AC$16*'Zone Export'!$V$14,('Sconti Export'!AC44-('Sconti Export'!AC44*'Sconti Export'!N44))*'Zone Export'!$V$14)","v":245.96950000000004},{"$f":"IF('Sconti Export'!AD$16>'Sconti Export'!AD44-('Sconti Export'!AD44*'Sconti Export'!O44),'Sconti Export'!AD$16*'Zone Export'!$V$14,('Sconti Export'!AD44-('Sconti Export'!AD44*'Sconti Export'!O44))*'Zone Export'!$V$14)","v":119.97000000000003}]
[null,"19 kg",null,{"$f":"IF('Sconti Export'!R$16>'Sconti Export'!R45-('Sconti Export'!R45*'Sconti Export'!C45),'Sconti Export'!R$16*'Zone Export'!$V$14,('Sconti Export'!R45-('Sconti Export'!R45*'Sconti Export'!C45))*'Zone Export'!$V$14)","v":28.260000000000005},{"$f":"IF('Sconti Export'!S$16>'Sconti Export'!S45-('Sconti Export'!S45*'Sconti Export'!D45),'Sconti Export'!S$16*'Zone Export'!$V$14,('Sconti Export'!S45-('Sconti Export'!S45*'Sconti Export'!D45))*'Zone Export'!$V$14)","v":85.738500000000016},{"$f":"IF('Sconti Export'!T$16>'Sconti Export'!T45-('Sconti Export'!T45*'Sconti Export'!E45),'Sconti Export'!T$16*'Zone Export'!$V$14,('Sconti Export'!T45-('Sconti Export'!T45*'Sconti Export'!E45))*'Zone Export'!$V$14)","v":88.609500000000025},{"$f":"IF('Sconti Export'!U$16>'Sconti Export'!U45-('Sconti Export'!U45*'Sconti Export'!F45),'Sconti Export'!U$16*'Zone Export'!$V$14,('Sconti Export'!U45-('Sconti Export'!U45*'Sconti Export'!F45))*'Zone Export'!$V$14)","v":94.134000000000015},{"$f":"IF('Sconti Export'!V$16>'Sconti Export'!V45-('Sconti Export'!V45*'Sconti Export'!G45),'Sconti Export'!V$16*'Zone Export'!$V$14,('Sconti Export'!V45-('Sconti Export'!V45*'Sconti Export'!G45))*'Zone Export'!$V$14)","v":214.60000000000002},{"$f":"IF('Sconti Export'!W$16>'Sconti Export'!W45-('Sconti Export'!W45*'Sconti Export'!H45),'Sconti Export'!W$16*'Zone Export'!$V$14,('Sconti Export'!W45-('Sconti Export'!W45*'Sconti Export'!H45))*'Zone Export'!$V$14)","v":218.89200000000005},{"$f":"IF('Sconti Export'!X$16>'Sconti Export'!X45-('Sconti Export'!X45*'Sconti Export'!I45),'Sconti Export'!X$16*'Zone Export'!$V$14,('Sconti Export'!X45-('Sconti Export'!X45*'Sconti Export'!I45))*'Zone Export'!$V$14)","v":97.681000000000012},{"$f":"IF('Sconti Export'!Y$16>'Sconti Export'!Y45-('Sconti Export'!Y45*'Sconti Export'!J45),'Sconti Export'!Y$16*'Zone Export'!$V$14,('Sconti Export'!Y45-('Sconti Export'!Y45*'Sconti Export'!J45))*'Zone Export'!$V$14)","v":245.58200000000011},{"$f":"IF('Sconti Export'!Z$16>'Sconti Export'!Z45-('Sconti Export'!Z45*'Sconti Export'!K45),'Sconti Export'!Z$16*'Zone Export'!$V$14,('Sconti Export'!Z45-('Sconti Export'!Z45*'Sconti Export'!K45))*'Zone Export'!$V$14)","v":136.04350000000005},{"$f":"IF('Sconti Export'!AA$16>'Sconti Export'!AA45-('Sconti Export'!AA45*'Sconti Export'!L45),'Sconti Export'!AA$16*'Zone Export'!$V$14,('Sconti Export'!AA45-('Sconti Export'!AA45*'Sconti Export'!L45))*'Zone Export'!$V$14)","v":212.56700000000006},{"$f":"IF('Sconti Export'!AB$16>'Sconti Export'!AB45-('Sconti Export'!AB45*'Sconti Export'!M45),'Sconti Export'!AB$16*'Zone Export'!$V$14,('Sconti Export'!AB45-('Sconti Export'!AB45*'Sconti Export'!M45))*'Zone Export'!$V$14)","v":220.79750000000001},{"$f":"IF('Sconti Export'!AC$16>'Sconti Export'!AC45-('Sconti Export'!AC45*'Sconti Export'!N45),'Sconti Export'!AC$16*'Zone Export'!$V$14,('Sconti Export'!AC45-('Sconti Export'!AC45*'Sconti Export'!N45))*'Zone Export'!$V$14)","v":255.67250000000001},{"$f":"IF('Sconti Export'!AD$16>'Sconti Export'!AD45-('Sconti Export'!AD45*'Sconti Export'!O45),'Sconti Export'!AD$16*'Zone Export'!$V$14,('Sconti Export'!AD45-('Sconti Export'!AD45*'Sconti Export'!O45))*'Zone Export'!$V$14)","v":124.01550000000003}]
[null,"20 kg",null,{"$f":"IF('Sconti Export'!R$16>'Sconti Export'!R46-('Sconti Export'!R46*'Sconti Export'!C46),'Sconti Export'!R$16*'Zone Export'!$V$14,('Sconti Export'!R46-('Sconti Export'!R46*'Sconti Export'!C46))*'Zone Export'!$V$14)","v":28.260000000000005},{"$f":"IF('Sconti Export'!S$16>'Sconti Export'!S46-('Sconti Export'!S46*'Sconti Export'!D46),'Sconti Export'!S$16*'Zone Export'!$V$14,('Sconti Export'!S46-('Sconti Export'!S46*'Sconti Export'!D46))*'Zone Export'!$V$14)","v":88.420999999999992},{"$f":"IF('Sconti Export'!T$16>'Sconti Export'!T46-('Sconti Export'!T46*'Sconti Export'!E46),'Sconti Export'!T$16*'Zone Export'!$V$14,('Sconti Export'!T46-('Sconti Export'!T46*'Sconti Export'!E46))*'Zone Export'!$V$14)","v":91.872000000000014},{"$f":"IF('Sconti Export'!U$16>'Sconti Export'!U46-('Sconti Export'!U46*'Sconti Export'!F46),'Sconti Export'!U$16*'Zone Export'!$V$14,('Sconti Export'!U46-('Sconti Export'!U46*'Sconti Export'!F46))*'Zone Export'!$V$14)","v":97.71550000000002},{"$f":"IF('Sconti Export'!V$16>'Sconti Export'!V46-('Sconti Export'!V46*'Sconti Export'!G46),'Sconti Export'!V$16*'Zone Export'!$V$14,('Sconti Export'!V46-('Sconti Export'!V46*'Sconti Export'!G46))*'Zone Export'!$V$14)","v":223.12599999999998},{"$f":"IF('Sconti Export'!W$16>'Sconti Export'!W46-('Sconti Export'!W46*'Sconti Export'!H46),'Sconti Export'!W$16*'Zone Export'!$V$14,('Sconti Export'!W46-('Sconti Export'!W46*'Sconti Export'!H46))*'Zone Export'!$V$14)","v":227.73699999999997},{"$f":"IF('Sconti Export'!X$16>'Sconti Export'!X46-('Sconti Export'!X46*'Sconti Export'!I46),'Sconti Export'!X$16*'Zone Export'!$V$14,('Sconti Export'!X46-('Sconti Export'!X46*'Sconti Export'!I46))*'Zone Export'!$V$14)","v":101.27700000000002},{"$f":"IF('Sconti Export'!Y$16>'Sconti Export'!Y46-('Sconti Export'!Y46*'Sconti Export'!J46),'Sconti Export'!Y$16*'Zone Export'!$V$14,('Sconti Export'!Y46-('Sconti Export'!Y46*'Sconti Export'!J46))*'Zone Export'!$V$14)","v":255.53300000000002},{"$f":"IF('Sconti Export'!Z$16>'Sconti Export'!Z46-('Sconti Export'!Z46*'Sconti Export'!K46),'Sconti Export'!Z$16*'Zone Export'!$V$14,('Sconti Export'!Z46-('Sconti Export'!Z46*'Sconti Export'!K46))*'Zone Export'!$V$14)","v":142.07300000000004},{"$f":"IF('Sconti Export'!AA$16>'Sconti Export'!AA46-('Sconti Export'!AA46*'Sconti Export'!L46),'Sconti Export'!AA$16*'Zone Export'!$V$14,('Sconti Export'!AA46-('Sconti Export'!AA46*'Sconti Export'!L46))*'Zone Export'!$V$14)","v":220.44100000000003},{"$f":"IF('Sconti Export'!AB$16>'Sconti Export'!AB46-('Sconti Export'!AB46*'Sconti Export'!M46),'Sconti Export'!AB$16*'Zone Export'!$V$14,('Sconti Export'!AB46-('Sconti Export'!AB46*'Sconti Export'!M46))*'Zone Export'!$V$14)","v":228.73350000000005},{"$f":"IF('Sconti Export'!AC$16>'Sconti Export'!AC46-('Sconti Export'!AC46*'Sconti Export'!N46),'Sconti Export'!AC$16*'Zone Export'!$V$14,('Sconti Export'!AC46-('Sconti Export'!AC46*'Sconti Export'!N46))*'Zone Export'!$V$14)","v":265.39100000000008},{"$f":"IF('Sconti Export'!AD$16>'Sconti Export'!AD46-('Sconti Export'!AD46*'Sconti Export'!O46),'Sconti Export'!AD$16*'Zone Export'!$V$14,('Sconti Export'!AD46-('Sconti Export'!AD46*'Sconti Export'!O46))*'Zone Export'!$V$14)","v":128.0455}]
[null,"22 kg",null,{"$f":"IF('Sconti Export'!R$16>'Sconti Export'!R47-('Sconti Export'!R47*'Sconti Export'!C47),'Sconti Export'!R$16*'Zone Export'!$V$14,('Sconti Export'!R47-('Sconti Export'!R47*'Sconti Export'!C47))*'Zone Export'!$V$14)","v":35.700000000000003},{"$f":"IF('Sconti Export'!S$16>'Sconti Export'!S47-('Sconti Export'!S47*'Sconti Export'!D47),'Sconti Export'!S$16*'Zone Export'!$V$14,('Sconti Export'!S47-('Sconti Export'!S47*'Sconti Export'!D47))*'Zone Export'!$V$14)","v":94.293499999999995},{"$f":"IF('Sconti Export'!T$16>'Sconti Export'!T47-('Sconti Export'!T47*'Sconti Export'!E47),'Sconti Export'!T$16*'Zone Export'!$V$14,('Sconti Export'!T47-('Sconti Export'!T47*'Sconti Export'!E47))*'Zone Export'!$V$14)","v":97.730000000000018},{"$f":"IF('Sconti Export'!U$16>'Sconti Export'!U47-('Sconti Export'!U47*'Sconti Export'!F47),'Sconti Export'!U$16*'Zone Export'!$V$14,('Sconti Export'!U47-('Sconti Export'!U47*'Sconti Export'!F47))*'Zone Export'!$V$14)","v":104.08100000000002},{"$f":"IF('Sconti Export'!V$16>'Sconti Export'!V47-('Sconti Export'!V47*'Sconti Export'!G47),'Sconti Export'!V$16*'Zone Export'!$V$14,('Sconti Export'!V47-('Sconti Export'!V47*'Sconti Export'!G47))*'Zone Export'!$V$14)","v":241.9325},{"$f":"IF('Sconti Export'!W$16>'Sconti Export'!W47-('Sconti Export'!W47*'Sconti Export'!H47),'Sconti Export'!W$16*'Zone Export'!$V$14,('Sconti Export'!W47-('Sconti Export'!W47*'Sconti Export'!H47))*'Zone Export'!$V$14)","v":246.10850000000005},{"$f":"IF('Sconti Export'!X$16>'Sconti Export'!X47-('Sconti Export'!X47*'Sconti Export'!I47),'Sconti Export'!X$16*'Zone Export'!$V$14,('Sconti Export'!X47-('Sconti Export'!X47*'Sconti Export'!I47))*'Zone Export'!$V$14)","v":107.80250000000001},{"$f":"IF('Sconti Export'!Y$16>'Sconti Export'!Y47-('Sconti Export'!Y47*'Sconti Export'!J47),'Sconti Export'!Y$16*'Zone Export'!$V$14,('Sconti Export'!Y47-('Sconti Export'!Y47*'Sconti Export'!J47))*'Zone Export'!$V$14)","v":276.76800000000003},{"$f":"IF('Sconti Export'!Z$16>'Sconti Export'!Z47-('Sconti Export'!Z47*'Sconti Export'!K47),'Sconti Export'!Z$16*'Zone Export'!$V$14,('Sconti Export'!Z47-('Sconti Export'!Z47*'Sconti Export'!K47))*'Zone Export'!$V$14)","v":154.65899999999999},{"$f":"IF('Sconti Export'!AA$16>'Sconti Export'!AA47-('Sconti Export'!AA47*'Sconti Export'!L47),'Sconti Export'!AA$16*'Zone Export'!$V$14,('Sconti Export'!AA47-('Sconti Export'!AA47*'Sconti Export'!L47))*'Zone Export'!$V$14)","v":236.90200000000004},{"$f":"IF('Sconti Export'!AB$16>'Sconti Export'!AB47-('Sconti Export'!AB47*'Sconti Export'!M47),'Sconti Export'!AB$16*'Zone Export'!$V$14,('Sconti Export'!AB47-('Sconti Export'!AB47*'Sconti Export'!M47))*'Zone Export'!$V$14)","v":245.95400000000006},{"$f":"IF('Sconti Export'!AC$16>'Sconti Export'!AC47-('Sconti Export'!AC47*'Sconti Export'!N47),'Sconti Export'!AC$16*'Zone Export'!$V$14,('Sconti Export'!AC47-('Sconti Export'!AC47*'Sconti Export'!N47))*'Zone Export'!$V$14)","v":285.46350000000007},{"$f":"IF('Sconti Export'!AD$16>'Sconti Export'!AD47-('Sconti Export'!AD47*'Sconti Export'!O47),'Sconti Export'!AD$16*'Zone Export'!$V$14,('Sconti Export'!AD47-('Sconti Export'!AD47*'Sconti Export'!O47))*'Zone Export'!$V$14)","v":136.91149999999999}]
[null,"24 kg",null,{"$f":"IF('Sconti Export'!R$16>'Sconti Export'!R48-('Sconti Export'!R48*'Sconti Export'!C48),'Sconti Export'!R$16*'Zone Export'!$V$14,('Sconti Export'!R48-('Sconti Export'!R48*'Sconti Export'!C48))*'Zone Export'!$V$14)","v":35.700000000000003},{"$f":"IF('Sconti Export'!S$16>'Sconti Export'!S48-('Sconti Export'!S48*'Sconti Export'!D48),'Sconti Export'!S$16*'Zone Export'!$V$14,('Sconti Export'!S48-('Sconti Export'!S48*'Sconti Export'!D48))*'Zone Export'!$V$14)","v":99.803500000000014},{"$f":"IF('Sconti Export'!T$16>'Sconti Export'!T48-('Sconti Export'!T48*'Sconti Export'!E48),'Sconti Export'!T$16*'Zone Export'!$V$14,('Sconti Export'!T48-('Sconti Export'!T48*'Sconti Export'!E48))*'Zone Export'!$V$14)","v":103.12400000000002},{"$f":"IF('Sconti Export'!U$16>'Sconti Export'!U48-('Sconti Export'!U48*'Sconti Export'!F48),'Sconti Export'!U$16*'Zone Export'!$V$14,('Sconti Export'!U48-('Sconti Export'!U48*'Sconti Export'!F48))*'Zone Export'!$V$14)","v":109.6925},{"$f":"IF('Sconti Export'!V$16>'Sconti Export'!V48-('Sconti Export'!V48*'Sconti Export'!G48),'Sconti Export'!V$16*'Zone Export'!$V$14,('Sconti Export'!V48-('Sconti Export'!V48*'Sconti Export'!G48))*'Zone Export'!$V$14)","v":259.62250000000006},{"$f":"IF('Sconti Export'!W$16>'Sconti Export'!W48-('Sconti Export'!W48*'Sconti Export'!H48),'Sconti Export'!W$16*'Zone Export'!$V$14,('Sconti Export'!W48-('Sconti Export'!W48*'Sconti Export'!H48))*'Zone Export'!$V$14)","v":263.37800000000004},{"$f":"IF('Sconti Export'!X$16>'Sconti Export'!X48-('Sconti Export'!X48*'Sconti Export'!I48),'Sconti Export'!X$16*'Zone Export'!$V$14,('Sconti Export'!X48-('Sconti Export'!X48*'Sconti Export'!I48))*'Zone Export'!$V$14)","v":113.84750000000003},{"$f":"IF('Sconti Export'!Y$16>'Sconti Export'!Y48-('Sconti Export'!Y48*'Sconti Export'!J48),'Sconti Export'!Y$16*'Zone Export'!$V$14,('Sconti Export'!Y48-('Sconti Export'!Y48*'Sconti Export'!J48))*'Zone Export'!$V$14)","v":296.77850000000001},{"$f":"IF('Sconti Export'!Z$16>'Sconti Export'!Z48-('Sconti Export'!Z48*'Sconti Export'!K48),'Sconti Export'!Z$16*'Zone Export'!$V$14,('Sconti Export'!Z48-('Sconti Export'!Z48*'Sconti Export'!K48))*'Zone Export'!$V$14)","v":166.62500000000006},{"$f":"IF('Sconti Export'!AA$16>'Sconti Export'!AA48-('Sconti Export'!AA48*'Sconti Export'!L48),'Sconti Export'!AA$16*'Zone Export'!$V$14,('Sconti Export'!AA48-('Sconti Export'!AA48*'Sconti Export'!L48))*'Zone Export'!$V$14)","v":252.23149999999998},{"$f":"IF('Sconti Export'!AB$16>'Sconti Export'!AB48-('Sconti Export'!AB48*'Sconti Export'!M48),'Sconti Export'!AB$16*'Zone Export'!$V$14,('Sconti Export'!AB48-('Sconti Export'!AB48*'Sconti Export'!M48))*'Zone Export'!$V$14)","v":262.10500000000002},{"$f":"IF('Sconti Export'!AC$16>'Sconti Export'!AC48-('Sconti Export'!AC48*'Sconti Export'!N48),'Sconti Export'!AC$16*'Zone Export'!$V$14,('Sconti Export'!AC48-('Sconti Export'!AC48*'Sconti Export'!N48))*'Zone Export'!$V$14)","v":304.28050000000007},{"$f":"IF('Sconti Export'!AD$16>'Sconti Export'!AD48-('Sconti Export'!AD48*'Sconti Export'!O48),'Sconti Export'!AD$16*'Zone Export'!$V$14,('Sconti Export'!AD48-('Sconti Export'!AD48*'Sconti Export'!O48))*'Zone Export'!$V$14)","v":145.09550000000002}]
[null,"26 kg",null,{"$f":"IF('Sconti Export'!R$16>'Sconti Export'!R49-('Sconti Export'!R49*'Sconti Export'!C49),'Sconti Export'!R$16*'Zone Export'!$V$14,('Sconti Export'!R49-('Sconti Export'!R49*'Sconti Export'!C49))*'Zone Export'!$V$14)","v":35.700000000000003},{"$f":"IF('Sconti Export'!S$16>'Sconti Export'!S49-('Sconti Export'!S49*'Sconti Export'!D49),'Sconti Export'!S$16*'Zone Export'!$V$14,('Sconti Export'!S49-('Sconti Export'!S49*'Sconti Export'!D49))*'Zone Export'!$V$14)","v":105.22650000000004},{"$f":"IF('Sconti Export'!T$16>'Sconti Export'!T49-('Sconti Export'!T49*'Sconti Export'!E49),'Sconti Export'!T$16*'Zone Export'!$V$14,('Sconti Export'!T49-('Sconti Export'!T49*'Sconti Export'!E49))*'Zone Export'!$V$14)","v":108.50350000000003},{"$f":"IF('Sconti Export'!U$16>'Sconti Export'!U49-('Sconti Export'!U49*'Sconti Export'!F49),'Sconti Export'!U$16*'Zone Export'!$V$14,('Sconti Export'!U49-('Sconti Export'!U49*'Sconti Export'!F49))*'Zone Export'!$V$14)","v":115.20249999999999},{"$f":"IF('Sconti Export'!V$16>'Sconti Export'!V49-('Sconti Export'!V49*'Sconti Export'!G49),'Sconti Export'!V$16*'Zone Export'!$V$14,('Sconti Export'!V49-('Sconti Export'!V49*'Sconti Export'!G49))*'Zone Export'!$V$14)","v":277.21100000000001},{"$f":"IF('Sconti Export'!W$16>'Sconti Export'!W49-('Sconti Export'!W49*'Sconti Export'!H49),'Sconti Export'!W$16*'Zone Export'!$V$14,('Sconti Export'!W49-('Sconti Export'!W49*'Sconti Export'!H49))*'Zone Export'!$V$14)","v":280.57500000000005},{"$f":"IF('Sconti Export'!X$16>'Sconti Export'!X49-('Sconti Export'!X49*'Sconti Export'!I49),'Sconti Export'!X$16*'Zone Export'!$V$14,('Sconti Export'!X49-('Sconti Export'!X49*'Sconti Export'!I49))*'Zone Export'!$V$14)","v":119.83050000000003},{"$f":"IF('Sconti Export'!Y$16>'Sconti Export'!Y49-('Sconti Export'!Y49*'Sconti Export'!J49),'Sconti Export'!Y$16*'Zone Export'!$V$14,('Sconti Export'!Y49-('Sconti Export'!Y49*'Sconti Export'!J49))*'Zone Export'!$V$14)","v":316.82000000000005},{"$f":"IF('Sconti Export'!Z$16>'Sconti Export'!Z49-('Sconti Export'!Z49*'Sconti Export'!K49),'Sconti Export'!Z$16*'Zone Export'!$V$14,('Sconti Export'!Z49-('Sconti Export'!Z49*'Sconti Export'!K49))*'Zone Export'!$V$14)","v":178.529},{"$f":"IF('Sconti Export'!AA$16>'Sconti Export'!AA49-('Sconti Export'!AA49*'Sconti Export'!L49),'Sconti Export'!AA$16*'Zone Export'!$V$14,('Sconti Export'!AA49-('Sconti Export'!AA49*'Sconti Export'!L49))*'Zone Export'!$V$14)","v":267.5920000000001},{"$f":"IF('Sconti Export'!AB$16>'Sconti Export'!AB49-('Sconti Export'!AB49*'Sconti Export'!M49),'Sconti Export'!AB$16*'Zone Export'!$V$14,('Sconti Export'!AB49-('Sconti Export'!AB49*'Sconti Export'!M49))*'Zone Export'!$V$14)","v":278.22500000000002},{"$f":"IF('Sconti Export'!AC$16>'Sconti Export'!AC49-('Sconti Export'!AC49*'Sconti Export'!N49),'Sconti Export'!AC$16*'Zone Export'!$V$14,('Sconti Export'!AC49-('Sconti Export'!AC49*'Sconti Export'!N49))*'Zone Export'!$V$14)","v":323.06650000000013},{"$f":"IF('Sconti Export'!AD$16>'Sconti Export'!AD49-('Sconti Export'!AD49*'Sconti Export'!O49),'Sconti Export'!AD$16*'Zone Export'!$V$14,('Sconti Export'!AD49-('Sconti Export'!AD49*'Sconti Export'!O49))*'Zone Export'!$V$14)","v":153.26400000000001}]
[null,"28 kg",null,{"$f":"IF('Sconti Export'!R$16>'Sconti Export'!R50-('Sconti Export'!R50*'Sconti Export'!C50),'Sconti Export'!R$16*'Zone Export'!$V$14,('Sconti Export'!R50-('Sconti Export'!R50*'Sconti Export'!C50))*'Zone Export'!$V$14)","v":35.700000000000003},{"$f":"IF('Sconti Export'!S$16>'Sconti Export'!S50-('Sconti Export'!S50*'Sconti Export'!D50),'Sconti Export'!S$16*'Zone Export'!$V$14,('Sconti Export'!S50-('Sconti Export'!S50*'Sconti Export'!D50))*'Zone Export'!$V$14)","v":110.66400000000004},{"$f":"IF('Sconti Export'!T$16>'Sconti Export'!T50-('Sconti Export'!T50*'Sconti Export'!E50),'Sconti Export'!T$16*'Zone Export'!$V$14,('Sconti Export'!T50-('Sconti Export'!T50*'Sconti Export'!E50))*'Zone Export'!$V$14)","v":113.95550000000003},{"$f":"IF('Sconti Export'!U$16>'Sconti Export'!U50-('Sconti Export'!U50*'Sconti Export'!F50),'Sconti Export'!U$16*'Zone Export'!$V$14,('Sconti Export'!U50-('Sconti Export'!U50*'Sconti Export'!F50))*'Zone Export'!$V$14)","v":120.71250000000003},{"$f":"IF('Sconti Export'!V$16>'Sconti Export'!V50-('Sconti Export'!V50*'Sconti Export'!G50),'Sconti Export'!V$16*'Zone Export'!$V$14,('Sconti Export'!V50-('Sconti Export'!V50*'Sconti Export'!G50))*'Zone Export'!$V$14)","v":294.29200000000003},{"$f":"IF('Sconti Export'!W$16>'Sconti Export'!W50-('Sconti Export'!W50*'Sconti Export'!H50),'Sconti Export'!W$16*'Zone Export'!$V$14,('Sconti Export'!W50-('Sconti Export'!W50*'Sconti Export'!H50))*'Zone Export'!$V$14)","v":297.84450000000004},{"$f":"IF('Sconti Export'!X$16>'Sconti Export'!X50-('Sconti Export'!X50*'Sconti Export'!I50),'Sconti Export'!X$16*'Zone Export'!$V$14,('Sconti Export'!X50-('Sconti Export'!X50*'Sconti Export'!I50))*'Zone Export'!$V$14)","v":125.84450000000004},{"$f":"IF('Sconti Export'!Y$16>'Sconti Export'!Y50-('Sconti Export'!Y50*'Sconti Export'!J50),'Sconti Export'!Y$16*'Zone Export'!$V$14,('Sconti Export'!Y50-('Sconti Export'!Y50*'Sconti Export'!J50))*'Zone Export'!$V$14)","v":336.81500000000005},{"$f":"IF('Sconti Export'!Z$16>'Sconti Export'!Z50-('Sconti Export'!Z50*'Sconti Export'!K50),'Sconti Export'!Z$16*'Zone Export'!$V$14,('Sconti Export'!Z50-('Sconti Export'!Z50*'Sconti Export'!K50))*'Zone Export'!$V$14)","v":190.464},{"$f":"IF('Sconti Export'!AA$16>'Sconti Export'!AA50-('Sconti Export'!AA50*'Sconti Export'!L50),'Sconti Export'!AA$16*'Zone Export'!$V$14,('Sconti Export'!AA50-('Sconti Export'!AA50*'Sconti Export'!L50))*'Zone Export'!$V$14)","v":282.89050000000009},{"$f":"IF('Sconti Export'!AB$16>'Sconti Export'!AB50-('Sconti Export'!AB50*'Sconti Export'!M50),'Sconti Export'!AB$16*'Zone Export'!$V$14,('Sconti Export'!AB50-('Sconti Export'!AB50*'Sconti Export'!M50))*'Zone Export'!$V$14)","v":294.32950000000005},{"$f":"IF('Sconti Export'!AC$16>'Sconti Export'!AC50-('Sconti Export'!AC50*'Sconti Export'!N50),'Sconti Export'!AC$16*'Zone Export'!$V$14,('Sconti Export'!AC50-('Sconti Export'!AC50*'Sconti Export'!N50))*'Zone Export'!$V$14)","v":341.85250000000008},{"$f":"IF('Sconti Export'!AD$16>'Sconti Export'!AD50-('Sconti Export'!AD50*'Sconti Export'!O50),'Sconti Export'!AD$16*'Zone Export'!$V$14,('Sconti Export'!AD50-('Sconti Export'!AD50*'Sconti Export'!O50))*'Zone Export'!$V$14)","v":161.49450000000002}]
[null,"30 kg",null,{"$f":"IF('Sconti Export'!R$16>'Sconti Export'!R51-('Sconti Export'!R51*'Sconti Export'!C51),'Sconti Export'!R$16*'Zone Export'!$V$14,('Sconti Export'!R51-('Sconti Export'!R51*'Sconti Export'!C51))*'Zone Export'!$V$14)","v":35.700000000000003},{"$f":"IF('Sconti Export'!S$16>'Sconti Export'!S51-('Sconti Export'!S51*'Sconti Export'!D51),'Sconti Export'!S$16*'Zone Export'!$V$14,('Sconti Export'!S51-('Sconti Export'!S51*'Sconti Export'!D51))*'Zone Export'!$V$14)","v":116.14500000000004},{"$f":"IF('Sconti Export'!T$16>'Sconti Export'!T51-('Sconti Export'!T51*'Sconti Export'!E51),'Sconti Export'!T$16*'Zone Export'!$V$14,('Sconti Export'!T51-('Sconti Export'!T51*'Sconti Export'!E51))*'Zone Export'!$V$14)","v":119.30599999999998},{"$f":"IF('Sconti Export'!U$16>'Sconti Export'!U51-('Sconti Export'!U51*'Sconti Export'!F51),'Sconti Export'!U$16*'Zone Export'!$V$14,('Sconti Export'!U51-('Sconti Export'!U51*'Sconti Export'!F51))*'Zone Export'!$V$14)","v":126.22250000000003},{"$f":"IF('Sconti Export'!V$16>'Sconti Export'!V51-('Sconti Export'!V51*'Sconti Export'!G51),'Sconti Export'!V$16*'Zone Export'!$V$14,('Sconti Export'!V51-('Sconti Export'!V51*'Sconti Export'!G51))*'Zone Export'!$V$14)","v":311.34400000000005},{"$f":"IF('Sconti Export'!W$16>'Sconti Export'!W51-('Sconti Export'!W51*'Sconti Export'!H51),'Sconti Export'!W$16*'Zone Export'!$V$14,('Sconti Export'!W51-('Sconti Export'!W51*'Sconti Export'!H51))*'Zone Export'!$V$14)","v":315.09950000000003},{"$f":"IF('Sconti Export'!X$16>'Sconti Export'!X51-('Sconti Export'!X51*'Sconti Export'!I51),'Sconti Export'!X$16*'Zone Export'!$V$14,('Sconti Export'!X51-('Sconti Export'!X51*'Sconti Export'!I51))*'Zone Export'!$V$14)","v":131.8895},{"$f":"IF('Sconti Export'!Y$16>'Sconti Export'!Y51-('Sconti Export'!Y51*'Sconti Export'!J51),'Sconti Export'!Y$16*'Zone Export'!$V$14,('Sconti Export'!Y51-('Sconti Export'!Y51*'Sconti Export'!J51))*'Zone Export'!$V$14)","v":356.88750000000005},{"$f":"IF('Sconti Export'!Z$16>'Sconti Export'!Z51-('Sconti Export'!Z51*'Sconti Export'!K51),'Sconti Export'!Z$16*'Zone Export'!$V$14,('Sconti Export'!Z51-('Sconti Export'!Z51*'Sconti Export'!K51))*'Zone Export'!$V$14)","v":202.36799999999999},{"$f":"IF('Sconti Export'!AA$16>'Sconti Export'!AA51-('Sconti Export'!AA51*'Sconti Export'!L51),'Sconti Export'!AA$16*'Zone Export'!$V$14,('Sconti Export'!AA51-('Sconti Export'!AA51*'Sconti Export'!L51))*'Zone Export'!$V$14)","v":298.2355},{"$f":"IF('Sconti Export'!AB$16>'Sconti Export'!AB51-('Sconti Export'!AB51*'Sconti Export'!M51),'Sconti Export'!AB$16*'Zone Export'!$V$14,('Sconti Export'!AB51-('Sconti Export'!AB51*'Sconti Export'!M51))*'Zone Export'!$V$14)","v":310.48050000000001},{"$f":"IF('Sconti Export'!AC$16>'Sconti Export'!AC51-('Sconti Export'!AC51*'Sconti Export'!N51),'Sconti Export'!AC$16*'Zone Export'!$V$14,('Sconti Export'!AC51-('Sconti Export'!AC51*'Sconti Export'!N51))*'Zone Export'!$V$14)","v":360.65400000000011},{"$f":"IF('Sconti Export'!AD$16>'Sconti Export'!AD51-('Sconti Export'!AD51*'Sconti Export'!O51),'Sconti Export'!AD$16*'Zone Export'!$V$14,('Sconti Export'!AD51-('Sconti Export'!AD51*'Sconti Export'!O51))*'Zone Export'!$V$14)","v":169.70950000000005}]
[null,"35 kg",null,{"$f":"IF('Sconti Export'!R$16>'Sconti Export'!R52-('Sconti Export'!R52*'Sconti Export'!C52),'Sconti Export'!R$16*'Zone Export'!$V$14,('Sconti Export'!R52-('Sconti Export'!R52*'Sconti Export'!C52))*'Zone Export'!$V$14)","v":43.06},{"$f":"IF('Sconti Export'!S$16>'Sconti Export'!S52-('Sconti Export'!S52*'Sconti Export'!D52),'Sconti Export'!S$16*'Zone Export'!$V$14,('Sconti Export'!S52-('Sconti Export'!S52*'Sconti Export'!D52))*'Zone Export'!$V$14)","v":124.75800000000004},{"$f":"IF('Sconti Export'!T$16>'Sconti Export'!T52-('Sconti Export'!T52*'Sconti Export'!E52),'Sconti Export'!T$16*'Zone Export'!$V$14,('Sconti Export'!T52-('Sconti Export'!T52*'Sconti Export'!E52))*'Zone Export'!$V$14)","v":132.44300000000004},{"$f":"IF('Sconti Export'!U$16>'Sconti Export'!U52-('Sconti Export'!U52*'Sconti Export'!F52),'Sconti Export'!U$16*'Zone Export'!$V$14,('Sconti Export'!U52-('Sconti Export'!U52*'Sconti Export'!F52))*'Zone Export'!$V$14)","v":138.14150000000001},{"$f":"IF('Sconti Export'!V$16>'Sconti Export'!V52-('Sconti Export'!V52*'Sconti Export'!G52),'Sconti Export'!V$16*'Zone Export'!$V$14,('Sconti Export'!V52-('Sconti Export'!V52*'Sconti Export'!G52))*'Zone Export'!$V$14)","v":349.34850000000006},{"$f":"IF('Sconti Export'!W$16>'Sconti Export'!W52-('Sconti Export'!W52*'Sconti Export'!H52),'Sconti Export'!W$16*'Zone Export'!$V$14,('Sconti Export'!W52-('Sconti Export'!W52*'Sconti Export'!H52))*'Zone Export'!$V$14)","v":355.14850000000013},{"$f":"IF('Sconti Export'!X$16>'Sconti Export'!X52-('Sconti Export'!X52*'Sconti Export'!I52),'Sconti Export'!X$16*'Zone Export'!$V$14,('Sconti Export'!X52-('Sconti Export'!X52*'Sconti Export'!I52))*'Zone Export'!$V$14)","v":144.1345},{"$f":"IF('Sconti Export'!Y$16>'Sconti Export'!Y52-('Sconti Export'!Y52*'Sconti Export'!J52),'Sconti Export'!Y$16*'Zone Export'!$V$14,('Sconti Export'!Y52-('Sconti Export'!Y52*'Sconti Export'!J52))*'Zone Export'!$V$14)","v":399.4815000000001},{"$f":"IF('Sconti Export'!Z$16>'Sconti Export'!Z52-('Sconti Export'!Z52*'Sconti Export'!K52),'Sconti Export'!Z$16*'Zone Export'!$V$14,('Sconti Export'!Z52-('Sconti Export'!Z52*'Sconti Export'!K52))*'Zone Export'!$V$14)","v":228.71800000000002},{"$f":"IF('Sconti Export'!AA$16>'Sconti Export'!AA52-('Sconti Export'!AA52*'Sconti Export'!L52),'Sconti Export'!AA$16*'Zone Export'!$V$14,('Sconti Export'!AA52-('Sconti Export'!AA52*'Sconti Export'!L52))*'Zone Export'!$V$14)","v":335.11},{"$f":"IF('Sconti Export'!AB$16>'Sconti Export'!AB52-('Sconti Export'!AB52*'Sconti Export'!M52),'Sconti Export'!AB$16*'Zone Export'!$V$14,('Sconti Export'!AB52-('Sconti Export'!AB52*'Sconti Export'!M52))*'Zone Export'!$V$14)","v":347.60300000000007},{"$f":"IF('Sconti Export'!AC$16>'Sconti Export'!AC52-('Sconti Export'!AC52*'Sconti Export'!N52),'Sconti Export'!AC$16*'Zone Export'!$V$14,('Sconti Export'!AC52-('Sconti Export'!AC52*'Sconti Export'!N52))*'Zone Export'!$V$14)","v":399.72950000000003},{"$f":"IF('Sconti Export'!AD$16>'Sconti Export'!AD52-('Sconti Export'!AD52*'Sconti Export'!O52),'Sconti Export'!AD$16*'Zone Export'!$V$14,('Sconti Export'!AD52-('Sconti Export'!AD52*'Sconti Export'!O52))*'Zone Export'!$V$14)","v":185.31800000000004}]
[null,"40 kg",null,{"$f":"IF('Sconti Export'!R$16>'Sconti Export'!R53-('Sconti Export'!R53*'Sconti Export'!C53),'Sconti Export'!R$16*'Zone Export'!$V$14,('Sconti Export'!R53-('Sconti Export'!R53*'Sconti Export'!C53))*'Zone Export'!$V$14)","v":43.06},{"$f":"IF('Sconti Export'!S$16>'Sconti Export'!S53-('Sconti Export'!S53*'Sconti Export'!D53),'Sconti Export'!S$16*'Zone Export'!$V$14,('Sconti Export'!S53-('Sconti Export'!S53*'Sconti Export'!D53))*'Zone Export'!$V$14)","v":136.01},{"$f":"IF('Sconti Export'!T$16>'Sconti Export'!T53-('Sconti Export'!T53*'Sconti Export'!E53),'Sconti Export'!T$16*'Zone Export'!$V$14,('Sconti Export'!T53-('Sconti Export'!T53*'Sconti Export'!E53))*'Zone Export'!$V$14)","v":145.52200000000005},{"$f":"IF('Sconti Export'!U$16>'Sconti Export'!U53-('Sconti Export'!U53*'Sconti Export'!F53),'Sconti Export'!U$16*'Zone Export'!$V$14,('Sconti Export'!U53-('Sconti Export'!U53*'Sconti Export'!F53))*'Zone Export'!$V$14)","v":149.98800000000006},{"$f":"IF('Sconti Export'!V$16>'Sconti Export'!V53-('Sconti Export'!V53*'Sconti Export'!G53),'Sconti Export'!V$16*'Zone Export'!$V$14,('Sconti Export'!V53-('Sconti Export'!V53*'Sconti Export'!G53))*'Zone Export'!$V$14)","v":387.35300000000007},{"$f":"IF('Sconti Export'!W$16>'Sconti Export'!W53-('Sconti Export'!W53*'Sconti Export'!H53),'Sconti Export'!W$16*'Zone Export'!$V$14,('Sconti Export'!W53-('Sconti Export'!W53*'Sconti Export'!H53))*'Zone Export'!$V$14)","v":393.74750000000006},{"$f":"IF('Sconti Export'!X$16>'Sconti Export'!X53-('Sconti Export'!X53*'Sconti Export'!I53),'Sconti Export'!X$16*'Zone Export'!$V$14,('Sconti Export'!X53-('Sconti Export'!X53*'Sconti Export'!I53))*'Zone Export'!$V$14)","v":156.36400000000003},{"$f":"IF('Sconti Export'!Y$16>'Sconti Export'!Y53-('Sconti Export'!Y53*'Sconti Export'!J53),'Sconti Export'!Y$16*'Zone Export'!$V$14,('Sconti Export'!Y53-('Sconti Export'!Y53*'Sconti Export'!J53))*'Zone Export'!$V$14)","v":442.15300000000002},{"$f":"IF('Sconti Export'!Z$16>'Sconti Export'!Z53-('Sconti Export'!Z53*'Sconti Export'!K53),'Sconti Export'!Z$16*'Zone Export'!$V$14,('Sconti Export'!Z53-('Sconti Export'!Z53*'Sconti Export'!K53))*'Zone Export'!$V$14)","v":255.05250000000001},{"$f":"IF('Sconti Export'!AA$16>'Sconti Export'!AA53-('Sconti Export'!AA53*'Sconti Export'!L53),'Sconti Export'!AA$16*'Zone Export'!$V$14,('Sconti Export'!AA53-('Sconti Export'!AA53*'Sconti Export'!L53))*'Zone Export'!$V$14)","v":368.59000000000003},{"$f":"IF('Sconti Export'!AB$16>'Sconti Export'!AB53-('Sconti Export'!AB53*'Sconti Export'!M53),'Sconti Export'!AB$16*'Zone Export'!$V$14,('Sconti Export'!AB53-('Sconti Export'!AB53*'Sconti Export'!M53))*'Zone Export'!$V$14)","v":384.6635},{"$f":"IF('Sconti Export'!AC$16>'Sconti Export'!AC53-('Sconti Export'!AC53*'Sconti Export'!N53),'Sconti Export'!AC$16*'Zone Export'!$V$14,('Sconti Export'!AC53-('Sconti Export'!AC53*'Sconti Export'!N53))*'Zone Export'!$V$14)","v":438.75850000000003},{"$f":"IF('Sconti Export'!AD$16>'Sconti Export'!AD53-('Sconti Export'!AD53*'Sconti Export'!O53),'Sconti Export'!AD$16*'Zone Export'!$V$14,('Sconti Export'!AD53-('Sconti Export'!AD53*'Sconti Export'!O53))*'Zone Export'!$V$14)","v":200.88000000000005}]
[null,"45 kg",null,{"$f":"IF('Sconti Export'!R$16>'Sconti Export'!R54-('Sconti Export'!R54*'Sconti Export'!C54),'Sconti Export'!R$16*'Zone Export'!$V$14,('Sconti Export'!R54-('Sconti Export'!R54*'Sconti Export'!C54))*'Zone Export'!$V$14)","v":50.42},{"$f":"IF('Sconti Export'!S$16>'Sconti Export'!S54-('Sconti Export'!S54*'Sconti Export'!D54),'Sconti Export'!S$16*'Zone Export'!$V$14,('Sconti Export'!S54-('Sconti Export'!S54*'Sconti Export'!D54))*'Zone Export'!$V$14)","v":147.91450000000003},{"$f":"IF('Sconti Export'!T$16>'Sconti Export'!T54-('Sconti Export'!T54*'Sconti Export'!E54),'Sconti Export'!T$16*'Zone Export'!$V$14,('Sconti Export'!T54-('Sconti Export'!T54*'Sconti Export'!E54))*'Zone Export'!$V$14)","v":158.5575},{"$f":"IF('Sconti Export'!U$16>'Sconti Export'!U54-('Sconti Export'!U54*'Sconti Export'!F54),'Sconti Export'!U$16*'Zone Export'!$V$14,('Sconti Export'!U54-('Sconti Export'!U54*'Sconti Export'!F54))*'Zone Export'!$V$14)","v":164.60400000000004},{"$f":"IF('Sconti Export'!V$16>'Sconti Export'!V54-('Sconti Export'!V54*'Sconti Export'!G54),'Sconti Export'!V$16*'Zone Export'!$V$14,('Sconti Export'!V54-('Sconti Export'!V54*'Sconti Export'!G54))*'Zone Export'!$V$14)","v":425.37200000000007},{"$f":"IF('Sconti Export'!W$16>'Sconti Export'!W54-('Sconti Export'!W54*'Sconti Export'!H54),'Sconti Export'!W$16*'Zone Export'!$V$14,('Sconti Export'!W54-('Sconti Export'!W54*'Sconti Export'!H54))*'Zone Export'!$V$14)","v":432.3755000000001},{"$f":"IF('Sconti Export'!X$16>'Sconti Export'!X54-('Sconti Export'!X54*'Sconti Export'!I54),'Sconti Export'!X$16*'Zone Export'!$V$14,('Sconti Export'!X54-('Sconti Export'!X54*'Sconti Export'!I54))*'Zone Export'!$V$14)","v":168.62450000000007},{"$f":"IF('Sconti Export'!Y$16>'Sconti Export'!Y54-('Sconti Export'!Y54*'Sconti Export'!J54),'Sconti Export'!Y$16*'Zone Export'!$V$14,('Sconti Export'!Y54-('Sconti Export'!Y54*'Sconti Export'!J54))*'Zone Export'!$V$14)","v":484.7315000000001},{"$f":"IF('Sconti Export'!Z$16>'Sconti Export'!Z54-('Sconti Export'!Z54*'Sconti Export'!K54),'Sconti Export'!Z$16*'Zone Export'!$V$14,('Sconti Export'!Z54-('Sconti Export'!Z54*'Sconti Export'!K54))*'Zone Export'!$V$14)","v":281.40250000000003},{"$f":"IF('Sconti Export'!AA$16>'Sconti Export'!AA54-('Sconti Export'!AA54*'Sconti Export'!L54),'Sconti Export'!AA$16*'Zone Export'!$V$14,('Sconti Export'!AA54-('Sconti Export'!AA54*'Sconti Export'!L54))*'Zone Export'!$V$14)","v":407.03000000000009},{"$f":"IF('Sconti Export'!AB$16>'Sconti Export'!AB54-('Sconti Export'!AB54*'Sconti Export'!M54),'Sconti Export'!AB$16*'Zone Export'!$V$14,('Sconti Export'!AB54-('Sconti Export'!AB54*'Sconti Export'!M54))*'Zone Export'!$V$14)","v":421.77050000000008},{"$f":"IF('Sconti Export'!AC$16>'Sconti Export'!AC54-('Sconti Export'!AC54*'Sconti Export'!N54),'Sconti Export'!AC$16*'Zone Export'!$V$14,('Sconti Export'!AC54-('Sconti Export'!AC54*'Sconti Export'!N54))*'Zone Export'!$V$14)","v":477.78750000000014},{"$f":"IF('Sconti Export'!AD$16>'Sconti Export'!AD54-('Sconti Export'!AD54*'Sconti Export'!O54),'Sconti Export'!AD$16*'Zone Export'!$V$14,('Sconti Export'!AD54-('Sconti Export'!AD54*'Sconti Export'!O54))*'Zone Export'!$V$14)","v":216.45750000000004}]
[null,"50 kg",null,{"$f":"IF('Sconti Export'!R$16>'Sconti Export'!R55-('Sconti Export'!R55*'Sconti Export'!C55),'Sconti Export'!R$16*'Zone Export'!$V$14,('Sconti Export'!R55-('Sconti Export'!R55*'Sconti Export'!C55))*'Zone Export'!$V$14)","v":50.42},{"$f":"IF('Sconti Export'!S$16>'Sconti Export'!S55-('Sconti Export'!S55*'Sconti Export'!D55),'Sconti Export'!S$16*'Zone Export'!$V$14,('Sconti Export'!S55-('Sconti Export'!S55*'Sconti Export'!D55))*'Zone Export'!$V$14)","v":159.67400000000004},{"$f":"IF('Sconti Export'!T$16>'Sconti Export'!T55-('Sconti Export'!T55*'Sconti Export'!E55),'Sconti Export'!T$16*'Zone Export'!$V$14,('Sconti Export'!T55-('Sconti Export'!T55*'Sconti Export'!E55))*'Zone Export'!$V$14)","v":171.23050000000001},{"$f":"IF('Sconti Export'!U$16>'Sconti Export'!U55-('Sconti Export'!U55*'Sconti Export'!F55),'Sconti Export'!U$16*'Zone Export'!$V$14,('Sconti Export'!U55-('Sconti Export'!U55*'Sconti Export'!F55))*'Zone Export'!$V$14)","v":179.29250000000002},{"$f":"IF('Sconti Export'!V$16>'Sconti Export'!V55-('Sconti Export'!V55*'Sconti Export'!G55),'Sconti Export'!V$16*'Zone Export'!$V$14,('Sconti Export'!V55-('Sconti Export'!V55*'Sconti Export'!G55))*'Zone Export'!$V$14)","v":463.34750000000008},{"$f":"IF('Sconti Export'!W$16>'Sconti Export'!W55-('Sconti Export'!W55*'Sconti Export'!H55),'Sconti Export'!W$16*'Zone Export'!$V$14,('Sconti Export'!W55-('Sconti Export'!W55*'Sconti Export'!H55))*'Zone Export'!$V$14)","v":470.98900000000003},{"$f":"IF('Sconti Export'!X$16>'Sconti Export'!X55-('Sconti Export'!X55*'Sconti Export'!I55),'Sconti Export'!X$16*'Zone Export'!$V$14,('Sconti Export'!X55-('Sconti Export'!X55*'Sconti Export'!I55))*'Zone Export'!$V$14)","v":180.90050000000002},{"$f":"IF('Sconti Export'!Y$16>'Sconti Export'!Y55-('Sconti Export'!Y55*'Sconti Export'!J55),'Sconti Export'!Y$16*'Zone Export'!$V$14,('Sconti Export'!Y55-('Sconti Export'!Y55*'Sconti Export'!J55))*'Zone Export'!$V$14)","v":527.3565000000001},{"$f":"IF('Sconti Export'!Z$16>'Sconti Export'!Z55-('Sconti Export'!Z55*'Sconti Export'!K55),'Sconti Export'!Z$16*'Zone Export'!$V$14,('Sconti Export'!Z55-('Sconti Export'!Z55*'Sconti Export'!K55))*'Zone Export'!$V$14)","v":307.73700000000008},{"$f":"IF('Sconti Export'!AA$16>'Sconti Export'!AA55-('Sconti Export'!AA55*'Sconti Export'!L55),'Sconti Export'!AA$16*'Zone Export'!$V$14,('Sconti Export'!AA55-('Sconti Export'!AA55*'Sconti Export'!L55))*'Zone Export'!$V$14)","v":451.05000000000007},{"$f":"IF('Sconti Export'!AB$16>'Sconti Export'!AB55-('Sconti Export'!AB55*'Sconti Export'!M55),'Sconti Export'!AB$16*'Zone Export'!$V$14,('Sconti Export'!AB55-('Sconti Export'!AB55*'Sconti Export'!M55))*'Zone Export'!$V$14)","v":468.56500000000005},{"$f":"IF('Sconti Export'!AC$16>'Sconti Export'!AC55-('Sconti Export'!AC55*'Sconti Export'!N55),'Sconti Export'!AC$16*'Zone Export'!$V$14,('Sconti Export'!AC55-('Sconti Export'!AC55*'Sconti Export'!N55))*'Zone Export'!$V$14)","v":516.84750000000008},{"$f":"IF('Sconti Export'!AD$16>'Sconti Export'!AD55-('Sconti Export'!AD55*'Sconti Export'!O55),'Sconti Export'!AD$16*'Zone Export'!$V$14,('Sconti Export'!AD55-('Sconti Export'!AD55*'Sconti Export'!O55))*'Zone Export'!$V$14)","v":232.06600000000003}]
[null,"55 kg",null,{"$f":"IF('Sconti Export'!R$16>'Sconti Export'!R56-('Sconti Export'!R56*'Sconti Export'!C56),'Sconti Export'!R$16*'Zone Export'!$V$14,('Sconti Export'!R56-('Sconti Export'!R56*'Sconti Export'!C56))*'Zone Export'!$V$14)","v":57.8},{"$f":"IF('Sconti Export'!S$16>'Sconti Export'!S56-('Sconti Export'!S56*'Sconti Export'!D56),'Sconti Export'!S$16*'Zone Export'!$V$14,('Sconti Export'!S56-('Sconti Export'!S56*'Sconti Export'!D56))*'Zone Export'!$V$14)","v":171.47700000000003},{"$f":"IF('Sconti Export'!T$16>'Sconti Export'!T56-('Sconti Export'!T56*'Sconti Export'!E56),'Sconti Export'!T$16*'Zone Export'!$V$14,('Sconti Export'!T56-('Sconti Export'!T56*'Sconti Export'!E56))*'Zone Export'!$V$14)","v":183.9615},{"$f":"IF('Sconti Export'!U$16>'Sconti Export'!U56-('Sconti Export'!U56*'Sconti Export'!F56),'Sconti Export'!U$16*'Zone Export'!$V$14,('Sconti Export'!U56-('Sconti Export'!U56*'Sconti Export'!F56))*'Zone Export'!$V$14)","v":193.0675},{"$f":"IF('Sconti Export'!V$16>'Sconti Export'!V56-('Sconti Export'!V56*'Sconti Export'!G56),'Sconti Export'!V$16*'Zone Export'!$V$14,('Sconti Export'!V56-('Sconti Export'!V56*'Sconti Export'!G56))*'Zone Export'!$V$14)","v":501.35200000000009},{"$f":"IF('Sconti Export'!W$16>'Sconti Export'!W56-('Sconti Export'!W56*'Sconti Export'!H56),'Sconti Export'!W$16*'Zone Export'!$V$14,('Sconti Export'!W56-('Sconti Export'!W56*'Sconti Export'!H56))*'Zone Export'!$V$14)","v":509.60249999999996},{"$f":"IF('Sconti Export'!X$16>'Sconti Export'!X56-('Sconti Export'!X56*'Sconti Export'!I56),'Sconti Export'!X$16*'Zone Export'!$V$14,('Sconti Export'!X56-('Sconti Export'!X56*'Sconti Export'!I56))*'Zone Export'!$V$14)","v":193.16100000000006},{"$f":"IF('Sconti Export'!Y$16>'Sconti Export'!Y56-('Sconti Export'!Y56*'Sconti Export'!J56),'Sconti Export'!Y$16*'Zone Export'!$V$14,('Sconti Export'!Y56-('Sconti Export'!Y56*'Sconti Export'!J56))*'Zone Export'!$V$14)","v":570.01250000000005},{"$f":"IF('Sconti Export'!Z$16>'Sconti Export'!Z56-('Sconti Export'!Z56*'Sconti Export'!K56),'Sconti Export'!Z$16*'Zone Export'!$V$14,('Sconti Export'!Z56-('Sconti Export'!Z56*'Sconti Export'!K56))*'Zone Export'!$V$14)","v":334.05600000000004},{"$f":"IF('Sconti Export'!AA$16>'Sconti Export'!AA56-('Sconti Export'!AA56*'Sconti Export'!L56),'Sconti Export'!AA$16*'Zone Export'!$V$14,('Sconti Export'!AA56-('Sconti Export'!AA56*'Sconti Export'!L56))*'Zone Export'!$V$14)","v":488.4670000000001},{"$f":"IF('Sconti Export'!AB$16>'Sconti Export'!AB56-('Sconti Export'!AB56*'Sconti Export'!M56),'Sconti Export'!AB$16*'Zone Export'!$V$14,('Sconti Export'!AB56-('Sconti Export'!AB56*'Sconti Export'!M56))*'Zone Export'!$V$14)","v":505.87350000000015},{"$f":"IF('Sconti Export'!AC$16>'Sconti Export'!AC56-('Sconti Export'!AC56*'Sconti Export'!N56),'Sconti Export'!AC$16*'Zone Export'!$V$14,('Sconti Export'!AC56-('Sconti Export'!AC56*'Sconti Export'!N56))*'Zone Export'!$V$14)","v":555.89200000000005},{"$f":"IF('Sconti Export'!AD$16>'Sconti Export'!AD56-('Sconti Export'!AD56*'Sconti Export'!O56),'Sconti Export'!AD$16*'Zone Export'!$V$14,('Sconti Export'!AD56-('Sconti Export'!AD56*'Sconti Export'!O56))*'Zone Export'!$V$14)","v":247.61250000000007}]
[null,"60 kg",null,{"$f":"IF('Sconti Export'!R$16>'Sconti Export'!R57-('Sconti Export'!R57*'Sconti Export'!C57),'Sconti Export'!R$16*'Zone Export'!$V$14,('Sconti Export'!R57-('Sconti Export'!R57*'Sconti Export'!C57))*'Zone Export'!$V$14)","v":57.8},{"$f":"IF('Sconti Export'!S$16>'Sconti Export'!S57-('Sconti Export'!S57*'Sconti Export'!D57),'Sconti Export'!S$16*'Zone Export'!$V$14,('Sconti Export'!S57-('Sconti Export'!S57*'Sconti Export'!D57))*'Zone Export'!$V$14)","v":182.90300000000002},{"$f":"IF('Sconti Export'!T$16>'Sconti Export'!T57-('Sconti Export'!T57*'Sconti Export'!E57),'Sconti Export'!T$16*'Zone Export'!$V$14,('Sconti Export'!T57-('Sconti Export'!T57*'Sconti Export'!E57))*'Zone Export'!$V$14)","v":196.6635},{"$f":"IF('Sconti Export'!U$16>'Sconti Export'!U57-('Sconti Export'!U57*'Sconti Export'!F57),'Sconti Export'!U$16*'Zone Export'!$V$14,('Sconti Export'!U57-('Sconti Export'!U57*'Sconti Export'!F57))*'Zone Export'!$V$14)","v":206.34950000000003},{"$f":"IF('Sconti Export'!V$16>'Sconti Export'!V57-('Sconti Export'!V57*'Sconti Export'!G57),'Sconti Export'!V$16*'Zone Export'!$V$14,('Sconti Export'!V57-('Sconti Export'!V57*'Sconti Export'!G57))*'Zone Export'!$V$14)","v":539.37100000000009},{"$f":"IF('Sconti Export'!W$16>'Sconti Export'!W57-('Sconti Export'!W57*'Sconti Export'!H57),'Sconti Export'!W$16*'Zone Export'!$V$14,('Sconti Export'!W57-('Sconti Export'!W57*'Sconti Export'!H57))*'Zone Export'!$V$14)","v":547.85350000000017},{"$f":"IF('Sconti Export'!X$16>'Sconti Export'!X57-('Sconti Export'!X57*'Sconti Export'!I57),'Sconti Export'!X$16*'Zone Export'!$V$14,('Sconti Export'!X57-('Sconti Export'!X57*'Sconti Export'!I57))*'Zone Export'!$V$14)","v":205.39050000000003},{"$f":"IF('Sconti Export'!Y$16>'Sconti Export'!Y57-('Sconti Export'!Y57*'Sconti Export'!J57),'Sconti Export'!Y$16*'Zone Export'!$V$14,('Sconti Export'!Y57-('Sconti Export'!Y57*'Sconti Export'!J57))*'Zone Export'!$V$14)","v":612.62200000000007},{"$f":"IF('Sconti Export'!Z$16>'Sconti Export'!Z57-('Sconti Export'!Z57*'Sconti Export'!K57),'Sconti Export'!Z$16*'Zone Export'!$V$14,('Sconti Export'!Z57-('Sconti Export'!Z57*'Sconti Export'!K57))*'Zone Export'!$V$14)","v":360.40600000000006},{"$f":"IF('Sconti Export'!AA$16>'Sconti Export'!AA57-('Sconti Export'!AA57*'Sconti Export'!L57),'Sconti Export'!AA$16*'Zone Export'!$V$14,('Sconti Export'!AA57-('Sconti Export'!AA57*'Sconti Export'!L57))*'Zone Export'!$V$14)","v":524.64400000000001},{"$f":"IF('Sconti Export'!AB$16>'Sconti Export'!AB57-('Sconti Export'!AB57*'Sconti Export'!M57),'Sconti Export'!AB$16*'Zone Export'!$V$14,('Sconti Export'!AB57-('Sconti Export'!AB57*'Sconti Export'!M57))*'Zone Export'!$V$14)","v":543.13550000000009},{"$f":"IF('Sconti Export'!AC$16>'Sconti Export'!AC57-('Sconti Export'!AC57*'Sconti Export'!N57),'Sconti Export'!AC$16*'Zone Export'!$V$14,('Sconti Export'!AC57-('Sconti Export'!AC57*'Sconti Export'!N57))*'Zone Export'!$V$14)","v":594.95200000000023},{"$f":"IF('Sconti Export'!AD$16>'Sconti Export'!AD57-('Sconti Export'!AD57*'Sconti Export'!O57),'Sconti Export'!AD$16*'Zone Export'!$V$14,('Sconti Export'!AD57-('Sconti Export'!AD57*'Sconti Export'!O57))*'Zone Export'!$V$14)","v":263.19000000000005}]
[null,"65 kg",null,{"$f":"IF('Sconti Export'!R$16>'Sconti Export'!R58-('Sconti Export'!R58*'Sconti Export'!C58),'Sconti Export'!R$16*'Zone Export'!$V$14,('Sconti Export'!R58-('Sconti Export'!R58*'Sconti Export'!C58))*'Zone Export'!$V$14)","v":65.179999999999993},{"$f":"IF('Sconti Export'!S$16>'Sconti Export'!S58-('Sconti Export'!S58*'Sconti Export'!D58),'Sconti Export'!S$16*'Zone Export'!$V$14,('Sconti Export'!S58-('Sconti Export'!S58*'Sconti Export'!D58))*'Zone Export'!$V$14)","v":193.9375},{"$f":"IF('Sconti Export'!T$16>'Sconti Export'!T58-('Sconti Export'!T58*'Sconti Export'!E58),'Sconti Export'!T$16*'Zone Export'!$V$14,('Sconti Export'!T58-('Sconti Export'!T58*'Sconti Export'!E58))*'Zone Export'!$V$14)","v":209.322},{"$f":"IF('Sconti Export'!U$16>'Sconti Export'!U58-('Sconti Export'!U58*'Sconti Export'!F58),'Sconti Export'!U$16*'Zone Export'!$V$14,('Sconti Export'!U58-('Sconti Export'!U58*'Sconti Export'!F58))*'Zone Export'!$V$14)","v":219.63150000000007},{"$f":"IF('Sconti Export'!V$16>'Sconti Export'!V58-('Sconti Export'!V58*'Sconti Export'!G58),'Sconti Export'!V$16*'Zone Export'!$V$14,('Sconti Export'!V58-('Sconti Export'!V58*'Sconti Export'!G58))*'Zone Export'!$V$14)","v":577.3610000000001},{"$f":"IF('Sconti Export'!W$16>'Sconti Export'!W58-('Sconti Export'!W58*'Sconti Export'!H58),'Sconti Export'!W$16*'Zone Export'!$V$14,('Sconti Export'!W58-('Sconti Export'!W58*'Sconti Export'!H58))*'Zone Export'!$V$14)","v":585.98850000000016},{"$f":"IF('Sconti Export'!X$16>'Sconti Export'!X58-('Sconti Export'!X58*'Sconti Export'!I58),'Sconti Export'!X$16*'Zone Export'!$V$14,('Sconti Export'!X58-('Sconti Export'!X58*'Sconti Export'!I58))*'Zone Export'!$V$14)","v":217.62000000000006},{"$f":"IF('Sconti Export'!Y$16>'Sconti Export'!Y58-('Sconti Export'!Y58*'Sconti Export'!J58),'Sconti Export'!Y$16*'Zone Export'!$V$14,('Sconti Export'!Y58-('Sconti Export'!Y58*'Sconti Export'!J58))*'Zone Export'!$V$14)","v":655.26250000000005},{"$f":"IF('Sconti Export'!Z$16>'Sconti Export'!Z58-('Sconti Export'!Z58*'Sconti Export'!K58),'Sconti Export'!Z$16*'Zone Export'!$V$14,('Sconti Export'!Z58-('Sconti Export'!Z58*'Sconti Export'!K58))*'Zone Export'!$V$14)","v":386.75600000000009},{"$f":"IF('Sconti Export'!AA$16>'Sconti Export'!AA58-('Sconti Export'!AA58*'Sconti Export'!L58),'Sconti Export'!AA$16*'Zone Export'!$V$14,('Sconti Export'!AA58-('Sconti Export'!AA58*'Sconti Export'!L58))*'Zone Export'!$V$14)","v":560.79000000000019},{"$f":"IF('Sconti Export'!AB$16>'Sconti Export'!AB58-('Sconti Export'!AB58*'Sconti Export'!M58),'Sconti Export'!AB$16*'Zone Export'!$V$14,('Sconti Export'!AB58-('Sconti Export'!AB58*'Sconti Export'!M58))*'Zone Export'!$V$14)","v":580.42849999999999},{"$f":"IF('Sconti Export'!AC$16>'Sconti Export'!AC58-('Sconti Export'!AC58*'Sconti Export'!N58),'Sconti Export'!AC$16*'Zone Export'!$V$14,('Sconti Export'!AC58-('Sconti Export'!AC58*'Sconti Export'!N58))*'Zone Export'!$V$14)","v":633.9965000000002},{"$f":"IF('Sconti Export'!AD$16>'Sconti Export'!AD58-('Sconti Export'!AD58*'Sconti Export'!O58),'Sconti Export'!AD$16*'Zone Export'!$V$14,('Sconti Export'!AD58-('Sconti Export'!AD58*'Sconti Export'!O58))*'Zone Export'!$V$14)","v":278.76750000000004}]
[null,"70 kg",null,{"$f":"IF('Sconti Export'!R$16>'Sconti Export'!R59-('Sconti Export'!R59*'Sconti Export'!C59),'Sconti Export'!R$16*'Zone Export'!$V$14,('Sconti Export'!R59-('Sconti Export'!R59*'Sconti Export'!C59))*'Zone Export'!$V$14)","v":65.179999999999993},{"$f":"IF('Sconti Export'!S$16>'Sconti Export'!S59-('Sconti Export'!S59*'Sconti Export'!D59),'Sconti Export'!S$16*'Zone Export'!$V$14,('Sconti Export'!S59-('Sconti Export'!S59*'Sconti Export'!D59))*'Zone Export'!$V$14)","v":205.00100000000003},{"$f":"IF('Sconti Export'!T$16>'Sconti Export'!T59-('Sconti Export'!T59*'Sconti Export'!E59),'Sconti Export'!T$16*'Zone Export'!$V$14,('Sconti Export'!T59-('Sconti Export'!T59*'Sconti Export'!E59))*'Zone Export'!$V$14)","v":221.995},{"$f":"IF('Sconti Export'!U$16>'Sconti Export'!U59-('Sconti Export'!U59*'Sconti Export'!F59),'Sconti Export'!U$16*'Zone Export'!$V$14,('Sconti Export'!U59-('Sconti Export'!U59*'Sconti Export'!F59))*'Zone Export'!$V$14)","v":233.16000000000008},{"$f":"IF('Sconti Export'!V$16>'Sconti Export'!V59-('Sconti Export'!V59*'Sconti Export'!G59),'Sconti Export'!V$16*'Zone Export'!$V$14,('Sconti Export'!V59-('Sconti Export'!V59*'Sconti Export'!G59))*'Zone Export'!$V$14)","v":615.38000000000011},{"$f":"IF('Sconti Export'!W$16>'Sconti Export'!W59-('Sconti Export'!W59*'Sconti Export'!H59),'Sconti Export'!W$16*'Zone Export'!$V$14,('Sconti Export'!W59-('Sconti Export'!W59*'Sconti Export'!H59))*'Zone Export'!$V$14)","v":624.12350000000015},{"$f":"IF('Sconti Export'!X$16>'Sconti Export'!X59-('Sconti Export'!X59*'Sconti Export'!I59),'Sconti Export'!X$16*'Zone Export'!$V$14,('Sconti Export'!X59-('Sconti Export'!X59*'Sconti Export'!I59))*'Zone Export'!$V$14)","v":229.89600000000007},{"$f":"IF('Sconti Export'!Y$16>'Sconti Export'!Y59-('Sconti Export'!Y59*'Sconti Export'!J59),'Sconti Export'!Y$16*'Zone Export'!$V$14,('Sconti Export'!Y59-('Sconti Export'!Y59*'Sconti Export'!J59))*'Zone Export'!$V$14)","v":697.88750000000005},{"$f":"IF('Sconti Export'!Z$16>'Sconti Export'!Z59-('Sconti Export'!Z59*'Sconti Export'!K59),'Sconti Export'!Z$16*'Zone Export'!$V$14,('Sconti Export'!Z59-('Sconti Export'!Z59*'Sconti Export'!K59))*'Zone Export'!$V$14)","v":413.07500000000005},{"$f":"IF('Sconti Export'!AA$16>'Sconti Export'!AA59-('Sconti Export'!AA59*'Sconti Export'!L59),'Sconti Export'!AA$16*'Zone Export'!$V$14,('Sconti Export'!AA59-('Sconti Export'!AA59*'Sconti Export'!L59))*'Zone Export'!$V$14)","v":596.95150000000012},{"$f":"IF('Sconti Export'!AB$16>'Sconti Export'!AB59-('Sconti Export'!AB59*'Sconti Export'!M59),'Sconti Export'!AB$16*'Zone Export'!$V$14,('Sconti Export'!AB59-('Sconti Export'!AB59*'Sconti Export'!M59))*'Zone Export'!$V$14)","v":617.72150000000011},{"$f":"IF('Sconti Export'!AC$16>'Sconti Export'!AC59-('Sconti Export'!AC59*'Sconti Export'!N59),'Sconti Export'!AC$16*'Zone Export'!$V$14,('Sconti Export'!AC59-('Sconti Export'!AC59*'Sconti Export'!N59))*'Zone Export'!$V$14)","v":673.04100000000017},{"$f":"IF('Sconti Export'!AD$16>'Sconti Export'!AD59-('Sconti Export'!AD59*'Sconti Export'!O59),'Sconti Export'!AD$16*'Zone Export'!$V$14,('Sconti Export'!AD59-('Sconti Export'!AD59*'Sconti Export'!O59))*'Zone Export'!$V$14)","v":294.32950000000005}]
[null,"Oltre 70 Kg"]
[null,"Prezzo al Kg",null,{"$f":"('Sconti Export'!R61-('Sconti Export'!R61*'Sconti Export'!C61))*'Zone Export'!$V$14","v":0.92799999999999994},{"$f":"('Sconti Export'!S61-('Sconti Export'!S61*'Sconti Export'!D61))*'Zone Export'!$V$14","v":2.9260999999999999},{"$f":"('Sconti Export'!T61-('Sconti Export'!T61*'Sconti Export'!E61))*'Zone Export'!$V$14","v":3.1697000000000006},{"$f":"('Sconti Export'!U61-('Sconti Export'!U61*'Sconti Export'!F61))*'Zone Export'!$V$14","v":3.3292000000000002},{"$f":"('Sconti Export'!V61-('Sconti Export'!V61*'Sconti Export'!G61))*'Zone Export'!$V$14","v":8.7898999999999994},{"$f":"('Sconti Export'!W61-('Sconti Export'!W61*'Sconti Export'!H61))*'Zone Export'!$V$14","v":8.9146000000000001},{"$f":"('Sconti Export'!X61-('Sconti Export'!X61*'Sconti Export'!I61))*'Zone Export'!$V$14","v":3.2829000000000006},{"$f":"('Sconti Export'!Y61-('Sconti Export'!Y61*'Sconti Export'!J61))*'Zone Export'!$V$14","v":9.9695999999999998},{"$f":"('Sconti Export'!Z61-('Sconti Export'!Z61*'Sconti Export'!K61))*'Zone Export'!$V$14","v":5.899300000000002},{"$f":"('Sconti Export'!AA61-('Sconti Export'!AA61*'Sconti Export'!L61))*'Zone Export'!$V$14","v":8.5250000000000021},{"$f":"('Sconti Export'!AB61-('Sconti Export'!AB61*'Sconti Export'!M61))*'Zone Export'!$V$14","v":8.8226000000000013},{"$f":"('Sconti Export'!AC61-('Sconti Export'!AC61*'Sconti Export'!N61))*'Zone Export'!$V$14","v":9.6131000000000029},{"$f":"('Sconti Export'!AD61-('Sconti Export'!AD61*'Sconti Export'!O61))*'Zone Export'!$V$14","v":4.2036000000000016}]
[null,"Tariffa Minima",null,{"$f":"('Sconti Export'!R62-('Sconti Export'!R62*'Sconti Export'!C62))*'Zone Export'!$V$14","v":65.179999999999993},{"$f":"('Sconti Export'!S62-('Sconti Export'!S62*'Sconti Export'!D62))*'Zone Export'!$V$14","v":205.00100000000003},{"$f":"('Sconti Export'!T62-('Sconti Export'!T62*'Sconti Export'!E62))*'Zone Export'!$V$14","v":221.995},{"$f":"('Sconti Export'!U62-('Sconti Export'!U62*'Sconti Export'!F62))*'Zone Export'!$V$14","v":233.16000000000008},{"$f":"('Sconti Export'!V62-('Sconti Export'!V62*'Sconti Export'!G62))*'Zone Export'!$V$14","v":615.38000000000011},{"$f":"('Sconti Export'!W62-('Sconti Export'!W62*'Sconti Export'!H62))*'Zone Export'!$V$14","v":624.12350000000015},{"$f":"('Sconti Export'!X62-('Sconti Export'!X62*'Sconti Export'!I62))*'Zone Export'!$V$14","v":229.89600000000007},{"$f":"('Sconti Export'!Y62-('Sconti Export'!Y62*'Sconti Export'!J62))*'Zone Export'!$V$14","v":697.88750000000005},{"$f":"('Sconti Export'!Z62-('Sconti Export'!Z62*'Sconti Export'!K62))*'Zone Export'!$V$14","v":413.07500000000005},{"$f":"('Sconti Export'!AA62-('Sconti Export'!AA62*'Sconti Export'!L62))*'Zone Export'!$V$14","v":596.95150000000012},{"$f":"('Sconti Export'!AB62-('Sconti Export'!AB62*'Sconti Export'!M62))*'Zone Export'!$V$14","v":617.72150000000011},{"$f":"('Sconti Export'!AC62-('Sconti Export'!AC62*'Sconti Export'!N62))*'Zone Export'!$V$14","v":673.04100000000017},{"$f":"('Sconti Export'!AD62-('Sconti Export'!AD62*'Sconti Export'!O62))*'Zone Export'!$V$14","v":294.32950000000005}]

{"sheet":"Saver","index":9,"n_rows":71,"n_cols":16,"rows_kept":71,"cut":false,"hidden":false,"merged":[[26,17,30,19],[5,1,6,16],[7,1,7,16],[10,17,15,19],[11,1,11,2],[13,1,18,1],[10,9,10,15],[10,4,10,8],[10,1,10,2],[23,1,23,2],[22,4,22,8],[22,1,22,2],[22,9,22,15],[22,17,23,19],[8,12,8,15],[59,17,64,19],[33,17,37,19],[40,17,42,19],[45,17,52,19],[54,17,56,19]]}
[]
[]
[]
[]
[]
[]
[]
[null,"* Per ulteriori dettagli su Garanzie di Rimborso, Copertura Servizi e Condizioni contattare il Numero 02 30 30 30 39 o consultare il sito www.ups.com"]
[null,null,null,null,null,null,null,null,null,null,null,"Spettabile",{"$f":"+Cover!$C$2","v":"GLOCAL WEB"}]
[]
[null,"€",null,"Italia","Unione Europea",null,null,null,null,"Resto del Mondo"]
[null,"Zona",null,1,2,3,4,41,42,5,6,8,9,10,11,12]
[null,"Envelope",null,{"$f":"('Sconti Export'!R70-('Sconti Export'!R70*'Sconti Export'!C70))*'Zone Export'!$V$14","v":11.900000000000002},{"$f":"('Sconti Export'!S70-('Sconti Export'!S70*'Sconti Export'!D70))*'Zone Export'!$V$14","v":12.441000000000003},{"$f":"('Sconti Export'!T70-('Sconti Export'!T70*'Sconti Export'!E70))*'Zone Export'!$V$14","v":12.6875},{"$f":"('Sconti Export'!U70-('Sconti Export'!U70*'Sconti Export'!F70))*'Zone Export'!$V$14","v":13.137},{"$f":"('Sconti Export'!V70-('Sconti Export'!V70*'Sconti Export'!G70))*'Zone Export'!$V$14","v":21.938500000000005},{"$f":"('Sconti Export'!W70-('Sconti Export'!W70*'Sconti Export'!H70))*'Zone Export'!$V$14","v":22.112500000000004},{"$f":"('Sconti Export'!X70-('Sconti Export'!X70*'Sconti Export'!I70))*'Zone Export'!$V$14","v":13.578000000000003},{"$f":"('Sconti Export'!Y70-('Sconti Export'!Y70*'Sconti Export'!J70))*'Zone Export'!$V$14","v":28.024000000000008},{"$f":"('Sconti Export'!Z70-('Sconti Export'!Z70*'Sconti Export'!K70))*'Zone Export'!$V$14","v":13.175000000000001},{"$f":"('Sconti Export'!AA70-('Sconti Export'!AA70*'Sconti Export'!L70))*'Zone Export'!$V$14","v":16.197500000000005},{"$f":"('Sconti Export'!AB70-('Sconti Export'!AB70*'Sconti Export'!M70))*'Zone Export'!$V$14","v":17.546000000000006},{"$f":"('Sconti Export'!AC70-('Sconti Export'!AC70*'Sconti Export'!N70))*'Zone Export'!$V$14","v":27.295500000000004},{"$f":"('Sconti Export'!AD70-('Sconti Export'!AD70*'Sconti Export'!O70))*'Zone Export'!$V$14","v":16.709000000000003}]
[null,"Documenti","Peso"]
[null,null,"0,5 kg",{"$f":"('Sconti Export'!R72-('Sconti Export'!R72*'Sconti Export'!C72))*'Zone Export'!$V$14","v":12.720000000000002},{"$f":"('Sconti Export'!S72-('Sconti Export'!S72*'Sconti Export'!D72))*'Zone Export'!$V$14","v":13.658999999999999},{"$f":"('Sconti Export'!T72-('Sconti Export'!T72*'Sconti Export'!E72))*'Zone Export'!$V$14","v":13.890999999999998},{"$f":"('Sconti Export'!U72-('Sconti Export'!U72*'Sconti Export'!F72))*'Zone Export'!$V$14","v":14.630500000000005},{"$f":"('Sconti Export'!V72-('Sconti Export'!V72*'Sconti Export'!G72))*'Zone Export'!$V$14","v":24.055500000000002},{"$f":"('Sconti Export'!W72-('Sconti Export'!W72*'Sconti Export'!H72))*'Zone Export'!$V$14","v":24.07},{"$f":"('Sconti Export'!X72-('Sconti Export'!X72*'Sconti Export'!I72))*'Zone Export'!$V$14","v":13.671000000000003},{"$f":"('Sconti Export'!Y72-('Sconti Export'!Y72*'Sconti Export'!J72))*'Zone Export'!$V$14","v":28.024000000000008},{"$f":"('Sconti Export'!Z72-('Sconti Export'!Z72*'Sconti Export'!K72))*'Zone Export'!$V$14","v":13.175000000000001},{"$f":"('Sconti Export'!AA72-('Sconti Export'!AA72*'Sconti Export'!L72))*'Zone Export'!$V$14","v":16.197500000000005},{"$f":"('Sconti Export'!AB72-('Sconti Export'!AB72*'Sconti Export'!M72))*'Zone Export'!$V$14","v":17.546000000000006},{"$f":"('Sconti Export'!AC72-('Sconti Export'!AC72*'Sconti Export'!N72))*'Zone Export'!$V$14","v":27.295500000000004},{"$f":"('Sconti Export'!AD72-('Sconti Export'!AD72*'Sconti Export'!O72))*'Zone Export'!$V$14","v":16.709000000000003}]
[null,null,"1,0 kg",{"$f":"('Sconti Export'!R73-('Sconti Export'!R73*'Sconti Export'!C73))*'Zone Export'!$V$14","v":12.720000000000002},{"$f":"('Sconti Export'!S73-('Sconti Export'!S73*'Sconti Export'!D73))*'Zone Export'!$V$14","v":16.646000000000001},{"$f":"('Sconti Export'!T73-('Sconti Export'!T73*'Sconti Export'!E73))*'Zone Export'!$V$14","v":16.762},{"$f":"('Sconti Export'!U73-('Sconti Export'!U73*'Sconti Export'!F73))*'Zone Export'!$V$14","v":17.5015},{"$f":"('Sconti Export'!V73-('Sconti Export'!V73*'Sconti Export'!G73))*'Zone Export'!$V$14","v":27.999499999999998},{"$f":"('Sconti Export'!W73-('Sconti Export'!W73*'Sconti Export'!H73))*'Zone Export'!$V$14","v":28.013999999999996},{"$f":"('Sconti Export'!X73-('Sconti Export'!X73*'Sconti Export'!I73))*'Zone Export'!$V$14","v":16.771000000000001},{"$f":"('Sconti Export'!Y73-('Sconti Export'!Y73*'Sconti Export'!J73))*'Zone Export'!$V$14","v":33.898499999999999},{"$f":"('Sconti Export'!Z73-('Sconti Export'!Z73*'Sconti Export'!K73))*'Zone Export'!$V$14","v":17.36},{"$f":"('Sconti Export'!AA73-('Sconti Export'!AA73*'Sconti Export'!L73))*'Zone Export'!$V$14","v":21.886000000000003},{"$f":"('Sconti Export'!AB73-('Sconti Export'!AB73*'Sconti Export'!M73))*'Zone Export'!$V$14","v":23.591000000000001},{"$f":"('Sconti Export'!AC73-('Sconti Export'!AC73*'Sconti Export'!N73))*'Zone Export'!$V$14","v":33.820999999999998},{"$f":"('Sconti Export'!AD73-('Sconti Export'!AD73*'Sconti Export'!O73))*'Zone Export'!$V$14","v":20.599500000000006}]
[null,null,"1,5 kg",{"$f":"('Sconti Export'!R74-('Sconti Export'!R74*'Sconti Export'!C74))*'Zone Export'!$V$14","v":13.32},{"$f":"('Sconti Export'!S74-('Sconti Export'!S74*'Sconti Export'!D74))*'Zone Export'!$V$14","v":19.575000000000003},{"$f":"('Sconti Export'!T74-('Sconti Export'!T74*'Sconti Export'!E74))*'Zone Export'!$V$14","v":19.72},{"$f":"('Sconti Export'!U74-('Sconti Export'!U74*'Sconti Export'!F74))*'Zone Export'!$V$14","v":20.329000000000001},{"$f":"('Sconti Export'!V74-('Sconti Export'!V74*'Sconti Export'!G74))*'Zone Export'!$V$14","v":35.191500000000005},{"$f":"('Sconti Export'!W74-('Sconti Export'!W74*'Sconti Export'!H74))*'Zone Export'!$V$14","v":35.394500000000008},{"$f":"('Sconti Export'!X74-('Sconti Export'!X74*'Sconti Export'!I74))*'Zone Export'!$V$14","v":19.855499999999999},{"$f":"('Sconti Export'!Y74-('Sconti Export'!Y74*'Sconti Export'!J74))*'Zone Export'!$V$14","v":39.819500000000005},{"$f":"('Sconti Export'!Z74-('Sconti Export'!Z74*'Sconti Export'!K74))*'Zone Export'!$V$14","v":21.576000000000001},{"$f":"('Sconti Export'!AA74-('Sconti Export'!AA74*'Sconti Export'!L74))*'Zone Export'!$V$14","v":27.574500000000008},{"$f":"('Sconti Export'!AB74-('Sconti Export'!AB74*'Sconti Export'!M74))*'Zone Export'!$V$14","v":29.620500000000007},{"$f":"('Sconti Export'!AC74-('Sconti Export'!AC74*'Sconti Export'!N74))*'Zone Export'!$V$14","v":40.346500000000006},{"$f":"('Sconti Export'!AD74-('Sconti Export'!AD74*'Sconti Export'!O74))*'Zone Export'!$V$14","v":24.521000000000001}]
[null,null,"2,0 kg",{"$f":"('Sconti Export'!R75-('Sconti Export'!R75*'Sconti Export'!C75))*'Zone Export'!$V$14","v":13.32},{"$f":"('Sconti Export'!S75-('Sconti Export'!S75*'Sconti Export'!D75))*'Zone Export'!$V$14","v":22.503999999999998},{"$f":"('Sconti Export'!T75-('Sconti Export'!T75*'Sconti Export'!E75))*'Zone Export'!$V$14","v":22.620000000000005},{"$f":"('Sconti Export'!U75-('Sconti Export'!U75*'Sconti Export'!F75))*'Zone Export'!$V$14","v":23.185500000000005},{"$f":"('Sconti Export'!V75-('Sconti Export'!V75*'Sconti Export'!G75))*'Zone Export'!$V$14","v":42.354500000000002},{"$f":"('Sconti Export'!W75-('Sconti Export'!W75*'Sconti Export'!H75))*'Zone Export'!$V$14","v":42.804000000000002},{"$f":"('Sconti Export'!X75-('Sconti Export'!X75*'Sconti Export'!I75))*'Zone Export'!$V$14","v":22.971000000000004},{"$f":"('Sconti Export'!Y75-('Sconti Export'!Y75*'Sconti Export'!J75))*'Zone Export'!$V$14","v":45.725000000000009},{"$f":"('Sconti Export'!Z75-('Sconti Export'!Z75*'Sconti Export'!K75))*'Zone Export'!$V$14","v":25.730000000000004},{"$f":"('Sconti Export'!AA75-('Sconti Export'!AA75*'Sconti Export'!L75))*'Zone Export'!$V$14","v":33.232000000000014},{"$f":"('Sconti Export'!AB75-('Sconti Export'!AB75*'Sconti Export'!M75))*'Zone Export'!$V$14","v":35.650000000000006},{"$f":"('Sconti Export'!AC75-('Sconti Export'!AC75*'Sconti Export'!N75))*'Zone Export'!$V$14","v":46.872},{"$f":"('Sconti Export'!AD75-('Sconti Export'!AD75*'Sconti Export'!O75))*'Zone Export'!$V$14","v":28.427000000000007}]
[null,null,"2,5 kg",{"$f":"('Sconti Export'!R76-('Sconti Export'!R76*'Sconti Export'!C76))*'Zone Export'!$V$14","v":13.880000000000003},{"$f":"('Sconti Export'!S76-('Sconti Export'!S76*'Sconti Export'!D76))*'Zone Export'!$V$14","v":25.418500000000002},{"$f":"('Sconti Export'!T76-('Sconti Export'!T76*'Sconti Export'!E76))*'Zone Export'!$V$14","v":25.534500000000001},{"$f":"('Sconti Export'!U76-('Sconti Export'!U76*'Sconti Export'!F76))*'Zone Export'!$V$14","v":26.027500000000003},{"$f":"('Sconti Export'!V76-('Sconti Export'!V76*'Sconti Export'!G76))*'Zone Export'!$V$14","v":49.546500000000009},{"$f":"('Sconti Export'!W76-('Sconti Export'!W76*'Sconti Export'!H76))*'Zone Export'!$V$14","v":50.198999999999998},{"$f":"('Sconti Export'!X76-('Sconti Export'!X76*'Sconti Export'!I76))*'Zone Export'!$V$14","v":26.040000000000006},{"$f":"('Sconti Export'!Y76-('Sconti Export'!Y76*'Sconti Export'!J76))*'Zone Export'!$V$14","v":51.661500000000004},{"$f":"('Sconti Export'!Z76-('Sconti Export'!Z76*'Sconti Export'!K76))*'Zone Export'!$V$14","v":29.930500000000009},{"$f":"('Sconti Export'!AA76-('Sconti Export'!AA76*'Sconti Export'!L76))*'Zone Export'!$V$14","v":38.936000000000007},{"$f":"('Sconti Export'!AB76-('Sconti Export'!AB76*'Sconti Export'!M76))*'Zone Export'!$V$14","v":41.695000000000007},{"$f":"('Sconti Export'!AC76-('Sconti Export'!AC76*'Sconti Export'!N76))*'Zone Export'!$V$14","v":53.444000000000017},{"$f":"('Sconti Export'!AD76-('Sconti Export'!AD76*'Sconti Export'!O76))*'Zone Export'!$V$14","v":32.332999999999998}]
[]
[]
[]
[null,"€",null,"Italia","Unione Europea",null,null,null,null,"Resto del Mondo"]
[null,"Zona",null,1,2,3,4,41,42,5,6,8,9,10,11,12]
[null,"Peso"]
[null,"0,5 kg",null,{"$f":"IF('Sconti Export'!R$80>'Sconti Export'!R81-('Sconti Export'!R81*'Sconti Export'!C81),'Sconti Export'!R$80*'Zone Export'!$V$14,('Sconti Export'!R81-('Sconti Export'!R81*'Sconti Export'!C81))*'Zone Export'!$V$14)","v":12.720000000000002},{"$f":"IF('Sconti Export'!S$80>'Sconti Export'!S81-('Sconti Export'!S81*'Sconti Export'!D81),'Sconti Export'!S$80*'Zone Export'!$V$14,('Sconti Export'!S81-('Sconti Export'!S81*'Sconti Export'!D81))*'Zone Export'!$V$14)","v":13.658999999999999},{"$f":"IF('Sconti Export'!T$80>'Sconti Export'!T81-('Sconti Export'!T81*'Sconti Export'!E81),'Sconti Export'!T$80*'Zone Export'!$V$14,('Sconti Export'!T81-('Sconti Export'!T81*'Sconti Export'!E81))*'Zone Export'!$V$14)","v":13.890999999999998},{"$f":"IF('Sconti Export'!U$80>'Sconti Export'!U81-('Sconti Export'!U81*'Sconti Export'!F81),'Sconti Export'!U$80*'Zone Export'!$V$14,('Sconti Export'!U81-('Sconti Export'!U81*'Sconti Export'!F81))*'Zone Export'!$V$14)","v":14.630500000000005},{"$f":"IF('Sconti Export'!V$80>'Sconti Export'!V81-('Sconti Export'!V81*'Sconti Export'!G81),'Sconti Export'!V$80*'Zone Export'!$V$14,('Sconti Export'!V81-('Sconti Export'!V81*'Sconti Export'!G81))*'Zone Export'!$V$14)","v":24.055500000000002},{"$f":"IF('Sconti Export'!W$80>'Sconti Export'!W81-('Sconti Export'!W81*'Sconti Export'!H81),'Sconti Export'!W$80*'Zone Export'!$V$14,('Sconti Export'!W81-('Sconti Export'!W81*'Sconti Export'!H81))*'Zone Export'!$V$14)","v":24.07},{"$f":"IF('Sconti Export'!X$80>'Sconti Export'!X81-('Sconti Export'!X81*'Sconti Export'!I81),'Sconti Export'!X$80*'Zone Export'!$V$14,('Sconti Export'!X81-('Sconti Export'!X81*'Sconti Export'!I81))*'Zone Export'!$V$14)","v":18.197000000000003},{"$f":"IF('Sconti Export'!Y$80>'Sconti Export'!Y81-('Sconti Export'!Y81*'Sconti Export'!J81),'Sconti Export'!Y$80*'Zone Export'!$V$14,('Sconti Export'!Y81-('Sconti Export'!Y81*'Sconti Export'!J81))*'Zone Export'!$V$14)","v":47.833000000000013},{"$f":"IF('Sconti Export'!Z$80>'Sconti Export'!Z81-('Sconti Export'!Z81*'Sconti Export'!K81),'Sconti Export'!Z$80*'Zone Export'!$V$14,('Sconti Export'!Z81-('Sconti Export'!Z81*'Sconti Export'!K81))*'Zone Export'!$V$14)","v":21.39},{"$f":"IF('Sconti Export'!AA$80>'Sconti Export'!AA81-('Sconti Export'!AA81*'Sconti Export'!L81),'Sconti Export'!AA$80*'Zone Export'!$V$14,('Sconti Export'!AA81-('Sconti Export'!AA81*'Sconti Export'!L81))*'Zone Export'!$V$14)","v":35.929000000000002},{"$f":"IF('Sconti Export'!AB$80>'Sconti Export'!AB81-('Sconti Export'!AB81*'Sconti Export'!M81),'Sconti Export'!AB$80*'Zone Export'!$V$14,('Sconti Export'!AB81-('Sconti Export'!AB81*'Sconti Export'!M81))*'Zone Export'!$V$14)","v":39.850500000000011},{"$f":"IF('Sconti Export'!AC$80>'Sconti Export'!AC81-('Sconti Export'!AC81*'Sconti Export'!N81),'Sconti Export'!AC$80*'Zone Export'!$V$14,('Sconti Export'!AC81-('Sconti Export'!AC81*'Sconti Export'!N81))*'Zone Export'!$V$14)","v":47.972500000000011},{"$f":"IF('Sconti Export'!AD$80>'Sconti Export'!AD81-('Sconti Export'!AD81*'Sconti Export'!O81),'Sconti Export'!AD$80*'Zone Export'!$V$14,('Sconti Export'!AD81-('Sconti Export'!AD81*'Sconti Export'!O81))*'Zone Export'!$V$14)","v":23.203500000000005}]
[null,"1,0 kg",null,{"$f":"IF('Sconti Export'!R$80>'Sconti Export'!R82-('Sconti Export'!R82*'Sconti Export'!C82),'Sconti Export'!R$80*'Zone Export'!$V$14,('Sconti Export'!R82-('Sconti Export'!R82*'Sconti Export'!C82))*'Zone Export'!$V$14)","v":12.720000000000002},{"$f":"IF('Sconti Export'!S$80>'Sconti Export'!S82-('Sconti Export'!S82*'Sconti Export'!D82),'Sconti Export'!S$80*'Zone Export'!$V$14,('Sconti Export'!S82-('Sconti Export'!S82*'Sconti Export'!D82))*'Zone Export'!$V$14)","v":16.646000000000001},{"$f":"IF('Sconti Export'!T$80>'Sconti Export'!T82-('Sconti Export'!T82*'Sconti Export'!E82),'Sconti Export'!T$80*'Zone Export'!$V$14,('Sconti Export'!T82-('Sconti Export'!T82*'Sconti Export'!E82))*'Zone Export'!$V$14)","v":16.762},{"$f":"IF('Sconti Export'!U$80>'Sconti Export'!U82-('Sconti Export'!U82*'Sconti Export'!F82),'Sconti Export'!U$80*'Zone Export'!$V$14,('Sconti Export'!U82-('Sconti Export'!U82*'Sconti Export'!F82))*'Zone Export'!$V$14)","v":17.5015},{"$f":"IF('Sconti Export'!V$80>'Sconti Export'!V82-('Sconti Export'!V82*'Sconti Export'!G82),'Sconti Export'!V$80*'Zone Export'!$V$14,('Sconti Export'!V82-('Sconti Export'!V82*'Sconti Export'!G82))*'Zone Export'!$V$14)","v":27.999499999999998},{"$f":"IF('Sconti Export'!W$80>'Sconti Export'!W82-('Sconti Export'!W82*'Sconti Export'!H82),'Sconti Export'!W$80*'Zone Export'!$V$14,('Sconti Export'!W82-('Sconti Export'!W82*'Sconti Export'!H82))*'Zone Export'!$V$14)","v":28.013999999999996},{"$f":"IF('Sconti Export'!X$80>'Sconti Export'!X82-('Sconti Export'!X82*'Sconti Export'!I82),'Sconti Export'!X$80*'Zone Export'!$V$14,('Sconti Export'!X82-('Sconti Export'!X82*'Sconti Export'!I82))*'Zone Export'!$V$14)","v":20.832000000000008},{"$f":"IF('Sconti Export'!Y$80>'Sconti Export'!Y82-('Sconti Export'!Y82*'Sconti Export'!J82),'Sconti Export'!Y$80*'Zone Export'!$V$14,('Sconti Export'!Y82-('Sconti Export'!Y82*'Sconti Export'!J82))*'Zone Export'!$V$14)","v":52.917000000000002},{"$f":"IF('Sconti Export'!Z$80>'Sconti Export'!Z82-('Sconti Export'!Z82*'Sconti Export'!K82),'Sconti Export'!Z$80*'Zone Export'!$V$14,('Sconti Export'!Z82-('Sconti Export'!Z82*'Sconti Export'!K82))*'Zone Export'!$V$14)","v":24.397000000000006},{"$f":"IF('Sconti Export'!AA$80>'Sconti Export'!AA82-('Sconti Export'!AA82*'Sconti Export'!L82),'Sconti Export'!AA$80*'Zone Export'!$V$14,('Sconti Export'!AA82-('Sconti Export'!AA82*'Sconti Export'!L82))*'Zone Export'!$V$14)","v":41.400500000000008},{"$f":"IF('Sconti Export'!AB$80>'Sconti Export'!AB82-('Sconti Export'!AB82*'Sconti Export'!M82),'Sconti Export'!AB$80*'Zone Export'!$V$14,('Sconti Export'!AB82-('Sconti Export'!AB82*'Sconti Export'!M82))*'Zone Export'!$V$14)","v":45.430500000000009},{"$f":"IF('Sconti Export'!AC$80>'Sconti Export'!AC82-('Sconti Export'!AC82*'Sconti Export'!N82),'Sconti Export'!AC$80*'Zone Export'!$V$14,('Sconti Export'!AC82-('Sconti Export'!AC82*'Sconti Export'!N82))*'Zone Export'!$V$14)","v":53.645500000000013},{"$f":"IF('Sconti Export'!AD$80>'Sconti Export'!AD82-('Sconti Export'!AD82*'Sconti Export'!O82),'Sconti Export'!AD$80*'Zone Export'!$V$14,('Sconti Export'!AD82-('Sconti Export'!AD82*'Sconti Export'!O82))*'Zone Export'!$V$14)","v":27.094000000000008}]
[null,"1,5 kg",null,{"$f":"IF('Sconti Export'!R$80>'Sconti Export'!R83-('Sconti Export'!R83*'Sconti Export'!C83),'Sconti Export'!R$80*'Zone Export'!$V$14,('Sconti Export'!R83-('Sconti Export'!R83*'Sconti Export'!C83))*'Zone Export'!$V$14)","v":13.32},{"$f":"IF('Sconti Export'!S$80>'Sconti Export'!S83-('Sconti Export'!S83*'Sconti Export'!D83),'Sconti Export'!S$80*'Zone Export'!$V$14,('Sconti Export'!S83-('Sconti Export'!S83*'Sconti Export'!D83))*'Zone Export'!$V$14)","v":19.575000000000003},{"$f":"IF('Sconti Export'!T$80>'Sconti Export'!T83-('Sconti Export'!T83*'Sconti Export'!E83),'Sconti Export'!T$80*'Zone Export'!$V$14,('Sconti Export'!T83-('Sconti Export'!T83*'Sconti Export'!E83))*'Zone Export'!$V$14)","v":19.72},{"$f":"IF('Sconti Export'!U$80>'Sconti Export'!U83-('Sconti Export'!U83*'Sconti Export'!F83),'Sconti Export'!U$80*'Zone Export'!$V$14,('Sconti Export'!U83-('Sconti Export'!U83*'Sconti Export'!F83))*'Zone Export'!$V$14)","v":20.329000000000001},{"$f":"IF('Sconti Export'!V$80>'Sconti Export'!V83-('Sconti Export'!V83*'Sconti Export'!G83),'Sconti Export'!V$80*'Zone Export'!$V$14,('Sconti Export'!V83-('Sconti Export'!V83*'Sconti Export'!G83))*'Zone Export'!$V$14)","v":35.191500000000005},{"$f":"IF('Sconti Export'!W$80>'Sconti Export'!W83-('Sconti Export'!W83*'Sconti Export'!H83),'Sconti Export'!W$80*'Zone Export'!$V$14,('Sconti Export'!W83-('Sconti Export'!W83*'Sconti Export'!H83))*'Zone Export'!$V$14)","v":35.394500000000008},{"$f":"IF('Sconti Export'!X$80>'Sconti Export'!X83-('Sconti Export'!X83*'Sconti Export'!I83),'Sconti Export'!X$80*'Zone Export'!$V$14,('Sconti Export'!X83-('Sconti Export'!X83*'Sconti Export'!I83))*'Zone Export'!$V$14)","v":23.389500000000005},{"$f":"IF('Sconti Export'!Y$80>'Sconti Export'!Y83-('Sconti Export'!Y83*'Sconti Export'!J83),'Sconti Export'!Y$80*'Zone Export'!$V$14,('Sconti Export'!Y83-('Sconti Export'!Y83*'Sconti Export'!J83))*'Zone Export'!$V$14)","v":58.07850000000002},{"$f":"IF('Sconti Export'!Z$80>'Sconti Export'!Z83-('Sconti Export'!Z83*'Sconti Export'!K83),'Sconti Export'!Z$80*'Zone Export'!$V$14,('Sconti Export'!Z83-('Sconti Export'!Z83*'Sconti Export'!K83))*'Zone Export'!$V$14)","v":27.466000000000001},{"$f":"IF('Sconti Export'!AA$80>'Sconti Export'!AA83-('Sconti Export'!AA83*'Sconti Export'!L83),'Sconti Export'!AA$80*'Zone Export'!$V$14,('Sconti Export'!AA83-('Sconti Export'!AA83*'Sconti Export'!L83))*'Zone Export'!$V$14)","v":46.81},{"$f":"IF('Sconti Export'!AB$80>'Sconti Export'!AB83-('Sconti Export'!AB83*'Sconti Export'!M83),'Sconti Export'!AB$80*'Zone Export'!$V$14,('Sconti Export'!AB83-('Sconti Export'!AB83*'Sconti Export'!M83))*'Zone Export'!$V$14)","v":51.041500000000013},{"$f":"IF('Sconti Export'!AC$80>'Sconti Export'!AC83-('Sconti Export'!AC83*'Sconti Export'!N83),'Sconti Export'!AC$80*'Zone Export'!$V$14,('Sconti Export'!AC83-('Sconti Export'!AC83*'Sconti Export'!N83))*'Zone Export'!$V$14)","v":59.3185},{"$f":"IF('Sconti Export'!AD$80>'Sconti Export'!AD83-('Sconti Export'!AD83*'Sconti Export'!O83),'Sconti Export'!AD$80*'Zone Export'!$V$14,('Sconti Export'!AD83-('Sconti Export'!AD83*'Sconti Export'!O83))*'Zone Export'!$V$14)","v":31.031000000000006}]
[null,"2,0 kg",null,{"$f":"IF('Sconti Export'!R$80>'Sconti Export'!R84-('Sconti Export'!R84*'Sconti Export'!C84),'Sconti Export'!R$80*'Zone Export'!$V$14,('Sconti Export'!R84-('Sconti Export'!R84*'Sconti Export'!C84))*'Zone Export'!$V$14)","v":13.32},{"$f":"IF('Sconti Export'!S$80>'Sconti Export'!S84-('Sconti Export'!S84*'Sconti Export'!D84),'Sconti Export'!S$80*'Zone Export'!$V$14,('Sconti Export'!S84-('Sconti Export'!S84*'Sconti Export'!D84))*'Zone Export'!$V$14)","v":22.503999999999998},{"$f":"IF('Sconti Export'!T$80>'Sconti Export'!T84-('Sconti Export'!T84*'Sconti Export'!E84),'Sconti Export'!T$80*'Zone Export'!$V$14,('Sconti Export'!T84-('Sconti Export'!T84*'Sconti Export'!E84))*'Zone Export'!$V$14)","v":22.620000000000005},{"$f":"IF('Sconti Export'!U$80>'Sconti Export'!U84-('Sconti Export'!U84*'Sconti Export'!F84),'Sconti Export'!U$80*'Zone Export'!$V$14,('Sconti Export'!U84-('Sconti Export'!U84*'Sconti Export'!F84))*'Zone Export'!$V$14)","v":23.185500000000005},{"$f":"IF('Sconti Export'!V$80>'Sconti Export'!V84-('Sconti Export'!V84*'Sconti Export'!G84),'Sconti Export'!V$80*'Zone Export'!$V$14,('Sconti Export'!V84-('Sconti Export'!V84*'Sconti Export'!G84))*'Zone Export'!$V$14)","v":42.354500000000002},{"$f":"IF('Sconti Export'!W$80>'Sconti Export'!W84-('Sconti Export'!W84*'Sconti Export'!H84),'Sconti Export'!W$80*'Zone Export'!$V$14,('Sconti Export'!W84-('Sconti Export'!W84*'Sconti Export'!H84))*'Zone Export'!$V$14)","v":42.804000000000002},{"$f":"IF('Sconti Export'!X$80>'Sconti Export'!X84-('Sconti Export'!X84*'Sconti Export'!I84),'Sconti Export'!X$80*'Zone Export'!$V$14,('Sconti Export'!X84-('Sconti Export'!X84*'Sconti Export'!I84))*'Zone Export'!$V$14)","v":26.024500000000003},{"$f":"IF('Sconti Export'!Y$80>'Sconti Export'!Y84-('Sconti Export'!Y84*'Sconti Export'!J84),'Sconti Export'!Y$80*'Zone Export'!$V$14,('Sconti Export'!Y84-('Sconti Export'!Y84*'Sconti Export'!J84))*'Zone Export'!$V$14)","v":63.209000000000003},{"$f":"IF('Sconti Export'!Z$80>'Sconti Export'!Z84-('Sconti Export'!Z84*'Sconti Export'!K84),'Sconti Export'!Z$80*'Zone Export'!$V$14,('Sconti Export'!Z84-('Sconti Export'!Z84*'Sconti Export'!K84))*'Zone Export'!$V$14)","v":30.442000000000007},{"$f":"IF('Sconti Export'!AA$80>'Sconti Export'!AA84-('Sconti Export'!AA84*'Sconti Export'!L84),'Sconti Export'!AA$80*'Zone Export'!$V$14,('Sconti Export'!AA84-('Sconti Export'!AA84*'Sconti Export'!L84))*'Zone Export'!$V$14)","v":52.281500000000008},{"$f":"IF('Sconti Export'!AB$80>'Sconti Export'!AB84-('Sconti Export'!AB84*'Sconti Export'!M84),'Sconti Export'!AB$80*'Zone Export'!$V$14,('Sconti Export'!AB84-('Sconti Export'!AB84*'Sconti Export'!M84))*'Zone Export'!$V$14)","v":56.621500000000012},{"$f":"IF('Sconti Export'!AC$80>'Sconti Export'!AC84-('Sconti Export'!AC84*'Sconti Export'!N84),'Sconti Export'!AC$80*'Zone Export'!$V$14,('Sconti Export'!AC84-('Sconti Export'!AC84*'Sconti Export'!N84))*'Zone Export'!$V$14)","v":65.053500000000014},{"$f":"IF('Sconti Export'!AD$80>'Sconti Export'!AD84-('Sconti Export'!AD84*'Sconti Export'!O84),'Sconti Export'!AD$80*'Zone Export'!$V$14,('Sconti Export'!AD84-('Sconti Export'!AD84*'Sconti Export'!O84))*'Zone Export'!$V$14)","v":34.890500000000003}]
[null,"2,5 kg",null,{"$f":"IF('Sconti Export'!R$80>'Sconti Export'!R85-('Sconti Export'!R85*'Sconti Export'!C85),'Sconti Export'!R$80*'Zone Export'!$V$14,('Sconti Export'!R85-('Sconti Export'!R85*'Sconti Export'!C85))*'Zone Export'!$V$14)","v":13.880000000000003},{"$f":"IF('Sconti Export'!S$80>'Sconti Export'!S85-('Sconti Export'!S85*'Sconti Export'!D85),'Sconti Export'!S$80*'Zone Export'!$V$14,('Sconti Export'!S85-('Sconti Export'!S85*'Sconti Export'!D85))*'Zone Export'!$V$14)","v":25.418500000000002},{"$f":"IF('Sconti Export'!T$80>'Sconti Export'!T85-('Sconti Export'!T85*'Sconti Export'!E85),'Sconti Export'!T$80*'Zone Export'!$V$14,('Sconti Export'!T85-('Sconti Export'!T85*'Sconti Export'!E85))*'Zone Export'!$V$14)","v":25.534500000000001},{"$f":"IF('Sconti Export'!U$80>'Sconti Export'!U85-('Sconti Export'!U85*'Sconti Export'!F85),'Sconti Export'!U$80*'Zone Export'!$V$14,('Sconti Export'!U85-('Sconti Export'!U85*'Sconti Export'!F85))*'Zone Export'!$V$14)","v":26.027500000000003},{"$f":"IF('Sconti Export'!V$80>'Sconti Export'!V85-('Sconti Export'!V85*'Sconti Export'!G85),'Sconti Export'!V$80*'Zone Export'!$V$14,('Sconti Export'!V85-('Sconti Export'!V85*'Sconti Export'!G85))*'Zone Export'!$V$14)","v":49.546500000000009},{"$f":"IF('Sconti Export'!W$80>'Sconti Export'!W85-('Sconti Export'!W85*'Sconti Export'!H85),'Sconti Export'!W$80*'Zone Export'!$V$14,('Sconti Export'!W85-('Sconti Export'!W85*'Sconti Export'!H85))*'Zone Export'!$V$14)","v":50.198999999999998},{"$f":"IF('Sconti Export'!X$80>'Sconti Export'!X85-('Sconti Export'!X85*'Sconti Export'!I85),'Sconti Export'!X$80*'Zone Export'!$V$14,('Sconti Export'!X85-('Sconti Export'!X85*'Sconti Export'!I85))*'Zone Export'!$V$14)","v":28.566500000000005},{"$f":"IF('Sconti Export'!Y$80>'Sconti Export'!Y85-('Sconti Export'!Y85*'Sconti Export'!J85),'Sconti Export'!Y$80*'Zone Export'!$V$14,('Sconti Export'!Y85-('Sconti Export'!Y85*'Sconti Export'!J85))*'Zone Export'!$V$14)","v":68.339500000000015},{"$f":"IF('Sconti Export'!Z$80>'Sconti Export'!Z85-('Sconti Export'!Z85*'Sconti Export'!K85),'Sconti Export'!Z$80*'Zone Export'!$V$14,('Sconti Export'!Z85-('Sconti Export'!Z85*'Sconti Export'!K85))*'Zone Export'!$V$14)","v":33.495500000000007},{"$f":"IF('Sconti Export'!AA$80>'Sconti Export'!AA85-('Sconti Export'!AA85*'Sconti Export'!L85),'Sconti Export'!AA$80*'Zone Export'!$V$14,('Sconti Export'!AA85-('Sconti Export'!AA85*'Sconti Export'!L85))*'Zone Export'!$V$14)","v":57.737500000000011},{"$f":"IF('Sconti Export'!AB$80>'Sconti Export'!AB85-('Sconti Export'!AB85*'Sconti Export'!M85),'Sconti Export'!AB$80*'Zone Export'!$V$14,('Sconti Export'!AB85-('Sconti Export'!AB85*'Sconti Export'!M85))*'Zone Export'!$V$14)","v":62.217000000000013},{"$f":"IF('Sconti Export'!AC$80>'Sconti Export'!AC85-('Sconti Export'!AC85*'Sconti Export'!N85),'Sconti Export'!AC$80*'Zone Export'!$V$14,('Sconti Export'!AC85-('Sconti Export'!AC85*'Sconti Export'!N85))*'Zone Export'!$V$14)","v":70.742000000000019},{"$f":"IF('Sconti Export'!AD$80>'Sconti Export'!AD85-('Sconti Export'!AD85*'Sconti Export'!O85),'Sconti Export'!AD$80*'Zone Export'!$V$14,('Sconti Export'!AD85-('Sconti Export'!AD85*'Sconti Export'!O85))*'Zone Export'!$V$14)","v":38.812000000000012}]
[null,"3,0 kg",null,{"$f":"IF('Sconti Export'!R$80>'Sconti Export'!R86-('Sconti Export'!R86*'Sconti Export'!C86),'Sconti Export'!R$80*'Zone Export'!$V$14,('Sconti Export'!R86-('Sconti Export'!R86*'Sconti Export'!C86))*'Zone Export'!$V$14)","v":13.96},{"$f":"IF('Sconti Export'!S$80>'Sconti Export'!S86-('Sconti Export'!S86*'Sconti Export'!D86),'Sconti Export'!S$80*'Zone Export'!$V$14,('Sconti Export'!S86-('Sconti Export'!S86*'Sconti Export'!D86))*'Zone Export'!$V$14)","v":27.56450000000001},{"$f":"IF('Sconti Export'!T$80>'Sconti Export'!T86-('Sconti Export'!T86*'Sconti Export'!E86),'Sconti Export'!T$80*'Zone Export'!$V$14,('Sconti Export'!T86-('Sconti Export'!T86*'Sconti Export'!E86))*'Zone Export'!$V$14)","v":28.100999999999999},{"$f":"IF('Sconti Export'!U$80>'Sconti Export'!U86-('Sconti Export'!U86*'Sconti Export'!F86),'Sconti Export'!U$80*'Zone Export'!$V$14,('Sconti Export'!U86-('Sconti Export'!U86*'Sconti Export'!F86))*'Zone Export'!$V$14)","v":28.942000000000007},{"$f":"IF('Sconti Export'!V$80>'Sconti Export'!V86-('Sconti Export'!V86*'Sconti Export'!G86),'Sconti Export'!V$80*'Zone Export'!$V$14,('Sconti Export'!V86-('Sconti Export'!V86*'Sconti Export'!G86))*'Zone Export'!$V$14)","v":55.549500000000023},{"$f":"IF('Sconti Export'!W$80>'Sconti Export'!W86-('Sconti Export'!W86*'Sconti Export'!H86),'Sconti Export'!W$80*'Zone Export'!$V$14,('Sconti Export'!W86-('Sconti Export'!W86*'Sconti Export'!H86))*'Zone Export'!$V$14)","v":56.216499999999996},{"$f":"IF('Sconti Export'!X$80>'Sconti Export'!X86-('Sconti Export'!X86*'Sconti Export'!I86),'Sconti Export'!X$80*'Zone Export'!$V$14,('Sconti Export'!X86-('Sconti Export'!X86*'Sconti Export'!I86))*'Zone Export'!$V$14)","v":31.124000000000009},{"$f":"IF('Sconti Export'!Y$80>'Sconti Export'!Y86-('Sconti Export'!Y86*'Sconti Export'!J86),'Sconti Export'!Y$80*'Zone Export'!$V$14,('Sconti Export'!Y86-('Sconti Export'!Y86*'Sconti Export'!J86))*'Zone Export'!$V$14)","v":74.245000000000005},{"$f":"IF('Sconti Export'!Z$80>'Sconti Export'!Z86-('Sconti Export'!Z86*'Sconti Export'!K86),'Sconti Export'!Z$80*'Zone Export'!$V$14,('Sconti Export'!Z86-('Sconti Export'!Z86*'Sconti Export'!K86))*'Zone Export'!$V$14)","v":36.766000000000005},{"$f":"IF('Sconti Export'!AA$80>'Sconti Export'!AA86-('Sconti Export'!AA86*'Sconti Export'!L86),'Sconti Export'!AA$80*'Zone Export'!$V$14,('Sconti Export'!AA86-('Sconti Export'!AA86*'Sconti Export'!L86))*'Zone Export'!$V$14)","v":63.906500000000023},{"$f":"IF('Sconti Export'!AB$80>'Sconti Export'!AB86-('Sconti Export'!AB86*'Sconti Export'!M86),'Sconti Export'!AB$80*'Zone Export'!$V$14,('Sconti Export'!AB86-('Sconti Export'!AB86*'Sconti Export'!M86))*'Zone Export'!$V$14)","v":68.432500000000005},{"$f":"IF('Sconti Export'!AC$80>'Sconti Export'!AC86-('Sconti Export'!AC86*'Sconti Export'!N86),'Sconti Export'!AC$80*'Zone Export'!$V$14,('Sconti Export'!AC86-('Sconti Export'!AC86*'Sconti Export'!N86))*'Zone Export'!$V$14)","v":77.236500000000007},{"$f":"IF('Sconti Export'!AD$80>'Sconti Export'!AD86-('Sconti Export'!AD86*'Sconti Export'!O86),'Sconti Export'!AD$80*'Zone Export'!$V$14,('Sconti Export'!AD86-('Sconti Export'!AD86*'Sconti Export'!O86))*'Zone Export'!$V$14)","v":42.253000000000014}]
[null,"3,5 kg",null,{"$f":"IF('Sconti Export'!R$80>'Sconti Export'!R87-('Sconti Export'!R87*'Sconti Export'!C87),'Sconti Export'!R$80*'Zone Export'!$V$14,('Sconti Export'!R87-('Sconti Export'!R87*'Sconti Export'!C87))*'Zone Export'!$V$14)","v":14.540000000000003},{"$f":"IF('Sconti Export'!S$80>'Sconti Export'!S87-('Sconti Export'!S87*'Sconti Export'!D87),'Sconti Export'!S$80*'Zone Export'!$V$14,('Sconti Export'!S87-('Sconti Export'!S87*'Sconti Export'!D87))*'Zone Export'!$V$14)","v":30.043999999999997},{"$f":"IF('Sconti Export'!T$80>'Sconti Export'!T87-('Sconti Export'!T87*'Sconti Export'!E87),'Sconti Export'!T$80*'Zone Export'!$V$14,('Sconti Export'!T87-('Sconti Export'!T87*'Sconti Export'!E87))*'Zone Export'!$V$14)","v":30.653000000000006},{"$f":"IF('Sconti Export'!U$80>'Sconti Export'!U87-('Sconti Export'!U87*'Sconti Export'!F87),'Sconti Export'!U$80*'Zone Export'!$V$14,('Sconti Export'!U87-('Sconti Export'!U87*'Sconti Export'!F87))*'Zone Export'!$V$14)","v":31.871000000000009},{"$f":"IF('Sconti Export'!V$80>'Sconti Export'!V87-('Sconti Export'!V87*'Sconti Export'!G87),'Sconti Export'!V$80*'Zone Export'!$V$14,('Sconti Export'!V87-('Sconti Export'!V87*'Sconti Export'!G87))*'Zone Export'!$V$14)","v":62.683500000000009},{"$f":"IF('Sconti Export'!W$80>'Sconti Export'!W87-('Sconti Export'!W87*'Sconti Export'!H87),'Sconti Export'!W$80*'Zone Export'!$V$14,('Sconti Export'!W87-('Sconti Export'!W87*'Sconti Export'!H87))*'Zone Export'!$V$14)","v":63.234499999999997},{"$f":"IF('Sconti Export'!X$80>'Sconti Export'!X87-('Sconti Export'!X87*'Sconti Export'!I87),'Sconti Export'!X$80*'Zone Export'!$V$14,('Sconti Export'!X87-('Sconti Export'!X87*'Sconti Export'!I87))*'Zone Export'!$V$14)","v":33.759000000000015},{"$f":"IF('Sconti Export'!Y$80>'Sconti Export'!Y87-('Sconti Export'!Y87*'Sconti Export'!J87),'Sconti Export'!Y$80*'Zone Export'!$V$14,('Sconti Export'!Y87-('Sconti Export'!Y87*'Sconti Export'!J87))*'Zone Export'!$V$14)","v":79.421999999999997},{"$f":"IF('Sconti Export'!Z$80>'Sconti Export'!Z87-('Sconti Export'!Z87*'Sconti Export'!K87),'Sconti Export'!Z$80*'Zone Export'!$V$14,('Sconti Export'!Z87-('Sconti Export'!Z87*'Sconti Export'!K87))*'Zone Export'!$V$14)","v":39.819500000000005},{"$f":"IF('Sconti Export'!AA$80>'Sconti Export'!AA87-('Sconti Export'!AA87*'Sconti Export'!L87),'Sconti Export'!AA$80*'Zone Export'!$V$14,('Sconti Export'!AA87-('Sconti Export'!AA87*'Sconti Export'!L87))*'Zone Export'!$V$14)","v":69.455500000000029},{"$f":"IF('Sconti Export'!AB$80>'Sconti Export'!AB87-('Sconti Export'!AB87*'Sconti Export'!M87),'Sconti Export'!AB$80*'Zone Export'!$V$14,('Sconti Export'!AB87-('Sconti Export'!AB87*'Sconti Export'!M87))*'Zone Export'!$V$14)","v":74.0745},{"$f":"IF('Sconti Export'!AC$80>'Sconti Export'!AC87-('Sconti Export'!AC87*'Sconti Export'!N87),'Sconti Export'!AC$80*'Zone Export'!$V$14,('Sconti Export'!AC87-('Sconti Export'!AC87*'Sconti Export'!N87))*'Zone Export'!$V$14)","v":83.018000000000029},{"$f":"IF('Sconti Export'!AD$80>'Sconti Export'!AD87-('Sconti Export'!AD87*'Sconti Export'!O87),'Sconti Export'!AD$80*'Zone Export'!$V$14,('Sconti Export'!AD87-('Sconti Export'!AD87*'Sconti Export'!O87))*'Zone Export'!$V$14)","v":45.446000000000012}]
[null,"4,0 kg",null,{"$f":"IF('Sconti Export'!R$80>'Sconti Export'!R88-('Sconti Export'!R88*'Sconti Export'!C88),'Sconti Export'!R$80*'Zone Export'!$V$14,('Sconti Export'!R88-('Sconti Export'!R88*'Sconti Export'!C88))*'Zone Export'!$V$14)","v":14.540000000000003},{"$f":"IF('Sconti Export'!S$80>'Sconti Export'!S88-('Sconti Export'!S88*'Sconti Export'!D88),'Sconti Export'!S$80*'Zone Export'!$V$14,('Sconti Export'!S88-('Sconti Export'!S88*'Sconti Export'!D88))*'Zone Export'!$V$14)","v":32.538000000000011},{"$f":"IF('Sconti Export'!T$80>'Sconti Export'!T88-('Sconti Export'!T88*'Sconti Export'!E88),'Sconti Export'!T$80*'Zone Export'!$V$14,('Sconti Export'!T88-('Sconti Export'!T88*'Sconti Export'!E88))*'Zone Export'!$V$14)","v":33.204999999999998},{"$f":"IF('Sconti Export'!U$80>'Sconti Export'!U88-('Sconti Export'!U88*'Sconti Export'!F88),'Sconti Export'!U$80*'Zone Export'!$V$14,('Sconti Export'!U88-('Sconti Export'!U88*'Sconti Export'!F88))*'Zone Export'!$V$14)","v":34.785499999999999},{"$f":"IF('Sconti Export'!V$80>'Sconti Export'!V88-('Sconti Export'!V88*'Sconti Export'!G88),'Sconti Export'!V$80*'Zone Export'!$V$14,('Sconti Export'!V88-('Sconti Export'!V88*'Sconti Export'!G88))*'Zone Export'!$V$14)","v":69.802999999999997},{"$f":"IF('Sconti Export'!W$80>'Sconti Export'!W88-('Sconti Export'!W88*'Sconti Export'!H88),'Sconti Export'!W$80*'Zone Export'!$V$14,('Sconti Export'!W88-('Sconti Export'!W88*'Sconti Export'!H88))*'Zone Export'!$V$14)","v":70.252499999999998},{"$f":"IF('Sconti Export'!X$80>'Sconti Export'!X88-('Sconti Export'!X88*'Sconti Export'!I88),'Sconti Export'!X$80*'Zone Export'!$V$14,('Sconti Export'!X88-('Sconti Export'!X88*'Sconti Export'!I88))*'Zone Export'!$V$14)","v":36.363},{"$f":"IF('Sconti Export'!Y$80>'Sconti Export'!Y88-('Sconti Export'!Y88*'Sconti Export'!J88),'Sconti Export'!Y$80*'Zone Export'!$V$14,('Sconti Export'!Y88-('Sconti Export'!Y88*'Sconti Export'!J88))*'Zone Export'!$V$14)","v":84.645500000000027},{"$f":"IF('Sconti Export'!Z$80>'Sconti Export'!Z88-('Sconti Export'!Z88*'Sconti Export'!K88),'Sconti Export'!Z$80*'Zone Export'!$V$14,('Sconti Export'!Z88-('Sconti Export'!Z88*'Sconti Export'!K88))*'Zone Export'!$V$14)","v":42.904000000000011},{"$f":"IF('Sconti Export'!AA$80>'Sconti Export'!AA88-('Sconti Export'!AA88*'Sconti Export'!L88),'Sconti Export'!AA$80*'Zone Export'!$V$14,('Sconti Export'!AA88-('Sconti Export'!AA88*'Sconti Export'!L88))*'Zone Export'!$V$14)","v":74.958000000000027},{"$f":"IF('Sconti Export'!AB$80>'Sconti Export'!AB88-('Sconti Export'!AB88*'Sconti Export'!M88),'Sconti Export'!AB$80*'Zone Export'!$V$14,('Sconti Export'!AB88-('Sconti Export'!AB88*'Sconti Export'!M88))*'Zone Export'!$V$14)","v":79.747500000000002},{"$f":"IF('Sconti Export'!AC$80>'Sconti Export'!AC88-('Sconti Export'!AC88*'Sconti Export'!N88),'Sconti Export'!AC$80*'Zone Export'!$V$14,('Sconti Export'!AC88-('Sconti Export'!AC88*'Sconti Export'!N88))*'Zone Export'!$V$14)","v":88.753000000000014},{"$f":"IF('Sconti Export'!AD$80>'Sconti Export'!AD88-('Sconti Export'!AD88*'Sconti Export'!O88),'Sconti Export'!AD$80*'Zone Export'!$V$14,('Sconti Export'!AD88-('Sconti Export'!AD88*'Sconti Export'!O88))*'Zone Export'!$V$14)","v":48.592500000000015}]
[null,"4,5 kg",null,{"$f":"IF('Sconti Export'!R$80>'Sconti Export'!R89-('Sconti Export'!R89*'Sconti Export'!C89),'Sconti Export'!R$80*'Zone Export'!$V$14,('Sconti Export'!R89-('Sconti Export'!R89*'Sconti Export'!C89))*'Zone Export'!$V$14)","v":15.16},{"$f":"IF('Sconti Export'!S$80>'Sconti Export'!S89-('Sconti Export'!S89*'Sconti Export'!D89),'Sconti Export'!S$80*'Zone Export'!$V$14,('Sconti Export'!S89-('Sconti Export'!S89*'Sconti Export'!D89))*'Zone Export'!$V$14)","v":35.046500000000009},{"$f":"IF('Sconti Export'!T$80>'Sconti Export'!T89-('Sconti Export'!T89*'Sconti Export'!E89),'Sconti Export'!T$80*'Zone Export'!$V$14,('Sconti Export'!T89-('Sconti Export'!T89*'Sconti Export'!E89))*'Zone Export'!$V$14)","v":35.771500000000003},{"$f":"IF('Sconti Export'!U$80>'Sconti Export'!U89-('Sconti Export'!U89*'Sconti Export'!F89),'Sconti Export'!U$80*'Zone Export'!$V$14,('Sconti Export'!U89-('Sconti Export'!U89*'Sconti Export'!F89))*'Zone Export'!$V$14)","v":37.656500000000008},{"$f":"IF('Sconti Export'!V$80>'Sconti Export'!V89-('Sconti Export'!V89*'Sconti Export'!G89),'Sconti Export'!V$80*'Zone Export'!$V$14,('Sconti Export'!V89-('Sconti Export'!V89*'Sconti Export'!G89))*'Zone Export'!$V$14)","v":76.937000000000012},{"$f":"IF('Sconti Export'!W$80>'Sconti Export'!W89-('Sconti Export'!W89*'Sconti Export'!H89),'Sconti Export'!W$80*'Zone Export'!$V$14,('Sconti Export'!W89-('Sconti Export'!W89*'Sconti Export'!H89))*'Zone Export'!$V$14)","v":77.314000000000021},{"$f":"IF('Sconti Export'!X$80>'Sconti Export'!X89-('Sconti Export'!X89*'Sconti Export'!I89),'Sconti Export'!X$80*'Zone Export'!$V$14,('Sconti Export'!X89-('Sconti Export'!X89*'Sconti Export'!I89))*'Zone Export'!$V$14)","v":38.95150000000001},{"$f":"IF('Sconti Export'!Y$80>'Sconti Export'!Y89-('Sconti Export'!Y89*'Sconti Export'!J89),'Sconti Export'!Y$80*'Zone Export'!$V$14,('Sconti Export'!Y89-('Sconti Export'!Y89*'Sconti Export'!J89))*'Zone Export'!$V$14)","v":89.853500000000025},{"$f":"IF('Sconti Export'!Z$80>'Sconti Export'!Z89-('Sconti Export'!Z89*'Sconti Export'!K89),'Sconti Export'!Z$80*'Zone Export'!$V$14,('Sconti Export'!Z89-('Sconti Export'!Z89*'Sconti Export'!K89))*'Zone Export'!$V$14)","v":45.988500000000002},{"$f":"IF('Sconti Export'!AA$80>'Sconti Export'!AA89-('Sconti Export'!AA89*'Sconti Export'!L89),'Sconti Export'!AA$80*'Zone Export'!$V$14,('Sconti Export'!AA89-('Sconti Export'!AA89*'Sconti Export'!L89))*'Zone Export'!$V$14)","v":80.491500000000002},{"$f":"IF('Sconti Export'!AB$80>'Sconti Export'!AB89-('Sconti Export'!AB89*'Sconti Export'!M89),'Sconti Export'!AB$80*'Zone Export'!$V$14,('Sconti Export'!AB89-('Sconti Export'!AB89*'Sconti Export'!M89))*'Zone Export'!$V$14)","v":85.436000000000035},{"$f":"IF('Sconti Export'!AC$80>'Sconti Export'!AC89-('Sconti Export'!AC89*'Sconti Export'!N89),'Sconti Export'!AC$80*'Zone Export'!$V$14,('Sconti Export'!AC89-('Sconti Export'!AC89*'Sconti Export'!N89))*'Zone Export'!$V$14)","v":94.534500000000008},{"$f":"IF('Sconti Export'!AD$80>'Sconti Export'!AD89-('Sconti Export'!AD89*'Sconti Export'!O89),'Sconti Export'!AD$80*'Zone Export'!$V$14,('Sconti Export'!AD89-('Sconti Export'!AD89*'Sconti Export'!O89))*'Zone Export'!$V$14)","v":51.77000000000001}]
[null,"5,0 kg",null,{"$f":"IF('Sconti Export'!R$80>'Sconti Export'!R90-('Sconti Export'!R90*'Sconti Export'!C90),'Sconti Export'!R$80*'Zone Export'!$V$14,('Sconti Export'!R90-('Sconti Export'!R90*'Sconti Export'!C90))*'Zone Export'!$V$14)","v":15.16},{"$f":"IF('Sconti Export'!S$80>'Sconti Export'!S90-('Sconti Export'!S90*'Sconti Export'!D90),'Sconti Export'!S$80*'Zone Export'!$V$14,('Sconti Export'!S90-('Sconti Export'!S90*'Sconti Export'!D90))*'Zone Export'!$V$14)","v":37.555000000000007},{"$f":"IF('Sconti Export'!T$80>'Sconti Export'!T90-('Sconti Export'!T90*'Sconti Export'!E90),'Sconti Export'!T$80*'Zone Export'!$V$14,('Sconti Export'!T90-('Sconti Export'!T90*'Sconti Export'!E90))*'Zone Export'!$V$14)","v":38.32350000000001},{"$f":"IF('Sconti Export'!U$80>'Sconti Export'!U90-('Sconti Export'!U90*'Sconti Export'!F90),'Sconti Export'!U$80*'Zone Export'!$V$14,('Sconti Export'!U90-('Sconti Export'!U90*'Sconti Export'!F90))*'Zone Export'!$V$14)","v":40.078000000000003},{"$f":"IF('Sconti Export'!V$80>'Sconti Export'!V90-('Sconti Export'!V90*'Sconti Export'!G90),'Sconti Export'!V$80*'Zone Export'!$V$14,('Sconti Export'!V90-('Sconti Export'!V90*'Sconti Export'!G90))*'Zone Export'!$V$14)","v":84.042000000000002},{"$f":"IF('Sconti Export'!W$80>'Sconti Export'!W90-('Sconti Export'!W90*'Sconti Export'!H90),'Sconti Export'!W$80*'Zone Export'!$V$14,('Sconti Export'!W90-('Sconti Export'!W90*'Sconti Export'!H90))*'Zone Export'!$V$14)","v":84.302999999999997},{"$f":"IF('Sconti Export'!X$80>'Sconti Export'!X90-('Sconti Export'!X90*'Sconti Export'!I90),'Sconti Export'!X$80*'Zone Export'!$V$14,('Sconti Export'!X90-('Sconti Export'!X90*'Sconti Export'!I90))*'Zone Export'!$V$14)","v":41.571000000000012},{"$f":"IF('Sconti Export'!Y$80>'Sconti Export'!Y90-('Sconti Export'!Y90*'Sconti Export'!J90),'Sconti Export'!Y$80*'Zone Export'!$V$14,('Sconti Export'!Y90-('Sconti Export'!Y90*'Sconti Export'!J90))*'Zone Export'!$V$14)","v":94.999500000000012},{"$f":"IF('Sconti Export'!Z$80>'Sconti Export'!Z90-('Sconti Export'!Z90*'Sconti Export'!K90),'Sconti Export'!Z$80*'Zone Export'!$V$14,('Sconti Export'!Z90-('Sconti Export'!Z90*'Sconti Export'!K90))*'Zone Export'!$V$14)","v":49.042000000000002},{"$f":"IF('Sconti Export'!AA$80>'Sconti Export'!AA90-('Sconti Export'!AA90*'Sconti Export'!L90),'Sconti Export'!AA$80*'Zone Export'!$V$14,('Sconti Export'!AA90-('Sconti Export'!AA90*'Sconti Export'!L90))*'Zone Export'!$V$14)","v":85.188000000000017},{"$f":"IF('Sconti Export'!AB$80>'Sconti Export'!AB90-('Sconti Export'!AB90*'Sconti Export'!M90),'Sconti Export'!AB$80*'Zone Export'!$V$14,('Sconti Export'!AB90-('Sconti Export'!AB90*'Sconti Export'!M90))*'Zone Export'!$V$14)","v":91.078000000000031},{"$f":"IF('Sconti Export'!AC$80>'Sconti Export'!AC90-('Sconti Export'!AC90*'Sconti Export'!N90),'Sconti Export'!AC$80*'Zone Export'!$V$14,('Sconti Export'!AC90-('Sconti Export'!AC90*'Sconti Export'!N90))*'Zone Export'!$V$14)","v":100.26950000000002},{"$f":"IF('Sconti Export'!AD$80>'Sconti Export'!AD90-('Sconti Export'!AD90*'Sconti Export'!O90),'Sconti Export'!AD$80*'Zone Export'!$V$14,('Sconti Export'!AD90-('Sconti Export'!AD90*'Sconti Export'!O90))*'Zone Export'!$V$14)","v":54.916500000000013}]
[null,"5,5 kg",null,{"$f":"IF('Sconti Export'!R$80>'Sconti Export'!R91-('Sconti Export'!R91*'Sconti Export'!C91),'Sconti Export'!R$80*'Zone Export'!$V$14,('Sconti Export'!R91-('Sconti Export'!R91*'Sconti Export'!C91))*'Zone Export'!$V$14)","v":15.760000000000002},{"$f":"IF('Sconti Export'!S$80>'Sconti Export'!S91-('Sconti Export'!S91*'Sconti Export'!D91),'Sconti Export'!S$80*'Zone Export'!$V$14,('Sconti Export'!S91-('Sconti Export'!S91*'Sconti Export'!D91))*'Zone Export'!$V$14)","v":39.396500000000003},{"$f":"IF('Sconti Export'!T$80>'Sconti Export'!T91-('Sconti Export'!T91*'Sconti Export'!E91),'Sconti Export'!T$80*'Zone Export'!$V$14,('Sconti Export'!T91-('Sconti Export'!T91*'Sconti Export'!E91))*'Zone Export'!$V$14)","v":40.179500000000004},{"$f":"IF('Sconti Export'!U$80>'Sconti Export'!U91-('Sconti Export'!U91*'Sconti Export'!F91),'Sconti Export'!U$80*'Zone Export'!$V$14,('Sconti Export'!U91-('Sconti Export'!U91*'Sconti Export'!F91))*'Zone Export'!$V$14)","v":42.035499999999999},{"$f":"IF('Sconti Export'!V$80>'Sconti Export'!V91-('Sconti Export'!V91*'Sconti Export'!G91),'Sconti Export'!V$80*'Zone Export'!$V$14,('Sconti Export'!V91-('Sconti Export'!V91*'Sconti Export'!G91))*'Zone Export'!$V$14)","v":88.261500000000012},{"$f":"IF('Sconti Export'!W$80>'Sconti Export'!W91-('Sconti Export'!W91*'Sconti Export'!H91),'Sconti Export'!W$80*'Zone Export'!$V$14,('Sconti Export'!W91-('Sconti Export'!W91*'Sconti Export'!H91))*'Zone Export'!$V$14)","v":88.769000000000005},{"$f":"IF('Sconti Export'!X$80>'Sconti Export'!X91-('Sconti Export'!X91*'Sconti Export'!I91),'Sconti Export'!X$80*'Zone Export'!$V$14,('Sconti Export'!X91-('Sconti Export'!X91*'Sconti Export'!I91))*'Zone Export'!$V$14)","v":43.446500000000015},{"$f":"IF('Sconti Export'!Y$80>'Sconti Export'!Y91-('Sconti Export'!Y91*'Sconti Export'!J91),'Sconti Export'!Y$80*'Zone Export'!$V$14,('Sconti Export'!Y91-('Sconti Export'!Y91*'Sconti Export'!J91))*'Zone Export'!$V$14)","v":100.19200000000001},{"$f":"IF('Sconti Export'!Z$80>'Sconti Export'!Z91-('Sconti Export'!Z91*'Sconti Export'!K91),'Sconti Export'!Z$80*'Zone Export'!$V$14,('Sconti Export'!Z91-('Sconti Export'!Z91*'Sconti Export'!K91))*'Zone Export'!$V$14)","v":51.785500000000013},{"$f":"IF('Sconti Export'!AA$80>'Sconti Export'!AA91-('Sconti Export'!AA91*'Sconti Export'!L91),'Sconti Export'!AA$80*'Zone Export'!$V$14,('Sconti Export'!AA91-('Sconti Export'!AA91*'Sconti Export'!L91))*'Zone Export'!$V$14)","v":86.986000000000018},{"$f":"IF('Sconti Export'!AB$80>'Sconti Export'!AB91-('Sconti Export'!AB91*'Sconti Export'!M91),'Sconti Export'!AB$80*'Zone Export'!$V$14,('Sconti Export'!AB91-('Sconti Export'!AB91*'Sconti Export'!M91))*'Zone Export'!$V$14)","v":91.977000000000004},{"$f":"IF('Sconti Export'!AC$80>'Sconti Export'!AC91-('Sconti Export'!AC91*'Sconti Export'!N91),'Sconti Export'!AC$80*'Zone Export'!$V$14,('Sconti Export'!AC91-('Sconti Export'!AC91*'Sconti Export'!N91))*'Zone Export'!$V$14)","v":106.06650000000002},{"$f":"IF('Sconti Export'!AD$80>'Sconti Export'!AD91-('Sconti Export'!AD91*'Sconti Export'!O91),'Sconti Export'!AD$80*'Zone Export'!$V$14,('Sconti Export'!AD91-('Sconti Export'!AD91*'Sconti Export'!O91))*'Zone Export'!$V$14)","v":57.66}]
[null,"6,0 kg",null,{"$f":"IF('Sconti Export'!R$80>'Sconti Export'!R92-('Sconti Export'!R92*'Sconti Export'!C92),'Sconti Export'!R$80*'Zone Export'!$V$14,('Sconti Export'!R92-('Sconti Export'!R92*'Sconti Export'!C92))*'Zone Export'!$V$14)","v":15.760000000000002},{"$f":"IF('Sconti Export'!S$80>'Sconti Export'!S92-('Sconti Export'!S92*'Sconti Export'!D92),'Sconti Export'!S$80*'Zone Export'!$V$14,('Sconti Export'!S92-('Sconti Export'!S92*'Sconti Export'!D92))*'Zone Export'!$V$14)","v":41.194500000000005},{"$f":"IF('Sconti Export'!T$80>'Sconti Export'!T92-('Sconti Export'!T92*'Sconti Export'!E92),'Sconti Export'!T$80*'Zone Export'!$V$14,('Sconti Export'!T92-('Sconti Export'!T92*'Sconti Export'!E92))*'Zone Export'!$V$14)","v":42.079000000000008},{"$f":"IF('Sconti Export'!U$80>'Sconti Export'!U92-('Sconti Export'!U92*'Sconti Export'!F92),'Sconti Export'!U$80*'Zone Export'!$V$14,('Sconti Export'!U92-('Sconti Export'!U92*'Sconti Export'!F92))*'Zone Export'!$V$14)","v":43.978500000000011},{"$f":"IF('Sconti Export'!V$80>'Sconti Export'!V92-('Sconti Export'!V92*'Sconti Export'!G92),'Sconti Export'!V$80*'Zone Export'!$V$14,('Sconti Export'!V92-('Sconti Export'!V92*'Sconti Export'!G92))*'Zone Export'!$V$14)","v":92.4375},{"$f":"IF('Sconti Export'!W$80>'Sconti Export'!W92-('Sconti Export'!W92*'Sconti Export'!H92),'Sconti Export'!W$80*'Zone Export'!$V$14,('Sconti Export'!W92-('Sconti Export'!W92*'Sconti Export'!H92))*'Zone Export'!$V$14)","v":93.206000000000017},{"$f":"IF('Sconti Export'!X$80>'Sconti Export'!X92-('Sconti Export'!X92*'Sconti Export'!I92),'Sconti Export'!X$80*'Zone Export'!$V$14,('Sconti Export'!X92-('Sconti Export'!X92*'Sconti Export'!I92))*'Zone Export'!$V$14)","v":45.384000000000015},{"$f":"IF('Sconti Export'!Y$80>'Sconti Export'!Y92-('Sconti Export'!Y92*'Sconti Export'!J92),'Sconti Export'!Y$80*'Zone Export'!$V$14,('Sconti Export'!Y92-('Sconti Export'!Y92*'Sconti Export'!J92))*'Zone Export'!$V$14)","v":105.43100000000001},{"$f":"IF('Sconti Export'!Z$80>'Sconti Export'!Z92-('Sconti Export'!Z92*'Sconti Export'!K92),'Sconti Export'!Z$80*'Zone Export'!$V$14,('Sconti Export'!Z92-('Sconti Export'!Z92*'Sconti Export'!K92))*'Zone Export'!$V$14)","v":54.544499999999999},{"$f":"IF('Sconti Export'!AA$80>'Sconti Export'!AA92-('Sconti Export'!AA92*'Sconti Export'!L92),'Sconti Export'!AA$80*'Zone Export'!$V$14,('Sconti Export'!AA92-('Sconti Export'!AA92*'Sconti Export'!L92))*'Zone Export'!$V$14)","v":91.992500000000007},{"$f":"IF('Sconti Export'!AB$80>'Sconti Export'!AB92-('Sconti Export'!AB92*'Sconti Export'!M92),'Sconti Export'!AB$80*'Zone Export'!$V$14,('Sconti Export'!AB92-('Sconti Export'!AB92*'Sconti Export'!M92))*'Zone Export'!$V$14)","v":97.371000000000038},{"$f":"IF('Sconti Export'!AC$80>'Sconti Export'!AC92-('Sconti Export'!AC92*'Sconti Export'!N92),'Sconti Export'!AC$80*'Zone Export'!$V$14,('Sconti Export'!AC92-('Sconti Export'!AC92*'Sconti Export'!N92))*'Zone Export'!$V$14)","v":111.81700000000001},{"$f":"IF('Sconti Export'!AD$80>'Sconti Export'!AD92-('Sconti Export'!AD92*'Sconti Export'!O92),'Sconti Export'!AD$80*'Zone Export'!$V$14,('Sconti Export'!AD92-('Sconti Export'!AD92*'Sconti Export'!O92))*'Zone Export'!$V$14)","v":60.356999999999999}]
[null,"6,5 kg",null,{"$f":"IF('Sconti Export'!R$80>'Sconti Export'!R93-('Sconti Export'!R93*'Sconti Export'!C93),'Sconti Export'!R$80*'Zone Export'!$V$14,('Sconti Export'!R93-('Sconti Export'!R93*'Sconti Export'!C93))*'Zone Export'!$V$14)","v":16.380000000000003},{"$f":"IF('Sconti Export'!S$80>'Sconti Export'!S93-('Sconti Export'!S93*'Sconti Export'!D93),'Sconti Export'!S$80*'Zone Export'!$V$14,('Sconti Export'!S93-('Sconti Export'!S93*'Sconti Export'!D93))*'Zone Export'!$V$14)","v":43.0505},{"$f":"IF('Sconti Export'!T$80>'Sconti Export'!T93-('Sconti Export'!T93*'Sconti Export'!E93),'Sconti Export'!T$80*'Zone Export'!$V$14,('Sconti Export'!T93-('Sconti Export'!T93*'Sconti Export'!E93))*'Zone Export'!$V$14)","v":43.963999999999999},{"$f":"IF('Sconti Export'!U$80>'Sconti Export'!U93-('Sconti Export'!U93*'Sconti Export'!F93),'Sconti Export'!U$80*'Zone Export'!$V$14,('Sconti Export'!U93-('Sconti Export'!U93*'Sconti Export'!F93))*'Zone Export'!$V$14)","v":45.936000000000007},{"$f":"IF('Sconti Export'!V$80>'Sconti Export'!V93-('Sconti Export'!V93*'Sconti Export'!G93),'Sconti Export'!V$80*'Zone Export'!$V$14,('Sconti Export'!V93-('Sconti Export'!V93*'Sconti Export'!G93))*'Zone Export'!$V$14)","v":96.642500000000013},{"$f":"IF('Sconti Export'!W$80>'Sconti Export'!W93-('Sconti Export'!W93*'Sconti Export'!H93),'Sconti Export'!W$80*'Zone Export'!$V$14,('Sconti Export'!W93-('Sconti Export'!W93*'Sconti Export'!H93))*'Zone Export'!$V$14)","v":97.643000000000001},{"$f":"IF('Sconti Export'!X$80>'Sconti Export'!X93-('Sconti Export'!X93*'Sconti Export'!I93),'Sconti Export'!X$80*'Zone Export'!$V$14,('Sconti Export'!X93-('Sconti Export'!X93*'Sconti Export'!I93))*'Zone Export'!$V$14)","v":47.275000000000006},{"$f":"IF('Sconti Export'!Y$80>'Sconti Export'!Y93-('Sconti Export'!Y93*'Sconti Export'!J93),'Sconti Export'!Y$80*'Zone Export'!$V$14,('Sconti Export'!Y93-('Sconti Export'!Y93*'Sconti Export'!J93))*'Zone Export'!$V$14)","v":110.57700000000003},{"$f":"IF('Sconti Export'!Z$80>'Sconti Export'!Z93-('Sconti Export'!Z93*'Sconti Export'!K93),'Sconti Export'!Z$80*'Zone Export'!$V$14,('Sconti Export'!Z93-('Sconti Export'!Z93*'Sconti Export'!K93))*'Zone Export'!$V$14)","v":57.288000000000011},{"$f":"IF('Sconti Export'!AA$80>'Sconti Export'!AA93-('Sconti Export'!AA93*'Sconti Export'!L93),'Sconti Export'!AA$80*'Zone Export'!$V$14,('Sconti Export'!AA93-('Sconti Export'!AA93*'Sconti Export'!L93))*'Zone Export'!$V$14)","v":97.045500000000033},{"$f":"IF('Sconti Export'!AB$80>'Sconti Export'!AB93-('Sconti Export'!AB93*'Sconti Export'!M93),'Sconti Export'!AB$80*'Zone Export'!$V$14,('Sconti Export'!AB93-('Sconti Export'!AB93*'Sconti Export'!M93))*'Zone Export'!$V$14)","v":102.73400000000001},{"$f":"IF('Sconti Export'!AC$80>'Sconti Export'!AC93-('Sconti Export'!AC93*'Sconti Export'!N93),'Sconti Export'!AC$80*'Zone Export'!$V$14,('Sconti Export'!AC93-('Sconti Export'!AC93*'Sconti Export'!N93))*'Zone Export'!$V$14)","v":117.5675},{"$f":"IF('Sconti Export'!AD$80>'Sconti Export'!AD93-('Sconti Export'!AD93*'Sconti Export'!O93),'Sconti Export'!AD$80*'Zone Export'!$V$14,('Sconti Export'!AD93-('Sconti Export'!AD93*'Sconti Export'!O93))*'Zone Export'!$V$14)","v":63.131500000000017}]
[null,"7,0 kg",null,{"$f":"IF('Sconti Export'!R$80>'Sconti Export'!R94-('Sconti Export'!R94*'Sconti Export'!C94),'Sconti Export'!R$80*'Zone Export'!$V$14,('Sconti Export'!R94-('Sconti Export'!R94*'Sconti Export'!C94))*'Zone Export'!$V$14)","v":16.380000000000003},{"$f":"IF('Sconti Export'!S$80>'Sconti Export'!S94-('Sconti Export'!S94*'Sconti Export'!D94),'Sconti Export'!S$80*'Zone Export'!$V$14,('Sconti Export'!S94-('Sconti Export'!S94*'Sconti Export'!D94))*'Zone Export'!$V$14)","v":44.863},{"$f":"IF('Sconti Export'!T$80>'Sconti Export'!T94-('Sconti Export'!T94*'Sconti Export'!E94),'Sconti Export'!T$80*'Zone Export'!$V$14,('Sconti Export'!T94-('Sconti Export'!T94*'Sconti Export'!E94))*'Zone Export'!$V$14)","v":45.863500000000002},{"$f":"IF('Sconti Export'!U$80>'Sconti Export'!U94-('Sconti Export'!U94*'Sconti Export'!F94),'Sconti Export'!U$80*'Zone Export'!$V$14,('Sconti Export'!U94-('Sconti Export'!U94*'Sconti Export'!F94))*'Zone Export'!$V$14)","v":47.864500000000007},{"$f":"IF('Sconti Export'!V$80>'Sconti Export'!V94-('Sconti Export'!V94*'Sconti Export'!G94),'Sconti Export'!V$80*'Zone Export'!$V$14,('Sconti Export'!V94-('Sconti Export'!V94*'Sconti Export'!G94))*'Zone Export'!$V$14)","v":100.87650000000002},{"$f":"IF('Sconti Export'!W$80>'Sconti Export'!W94-('Sconti Export'!W94*'Sconti Export'!H94),'Sconti Export'!W$80*'Zone Export'!$V$14,('Sconti Export'!W94-('Sconti Export'!W94*'Sconti Export'!H94))*'Zone Export'!$V$14)","v":102.10900000000001},{"$f":"IF('Sconti Export'!X$80>'Sconti Export'!X94-('Sconti Export'!X94*'Sconti Export'!I94),'Sconti Export'!X$80*'Zone Export'!$V$14,('Sconti Export'!X94-('Sconti Export'!X94*'Sconti Export'!I94))*'Zone Export'!$V$14)","v":49.181500000000014},{"$f":"IF('Sconti Export'!Y$80>'Sconti Export'!Y94-('Sconti Export'!Y94*'Sconti Export'!J94),'Sconti Export'!Y$80*'Zone Export'!$V$14,('Sconti Export'!Y94-('Sconti Export'!Y94*'Sconti Export'!J94))*'Zone Export'!$V$14)","v":115.78500000000003},{"$f":"IF('Sconti Export'!Z$80>'Sconti Export'!Z94-('Sconti Export'!Z94*'Sconti Export'!K94),'Sconti Export'!Z$80*'Zone Export'!$V$14,('Sconti Export'!Z94-('Sconti Export'!Z94*'Sconti Export'!K94))*'Zone Export'!$V$14)","v":60.0625},{"$f":"IF('Sconti Export'!AA$80>'Sconti Export'!AA94-('Sconti Export'!AA94*'Sconti Export'!L94),'Sconti Export'!AA$80*'Zone Export'!$V$14,('Sconti Export'!AA94-('Sconti Export'!AA94*'Sconti Export'!L94))*'Zone Export'!$V$14)","v":102.09850000000003},{"$f":"IF('Sconti Export'!AB$80>'Sconti Export'!AB94-('Sconti Export'!AB94*'Sconti Export'!M94),'Sconti Export'!AB$80*'Zone Export'!$V$14,('Sconti Export'!AB94-('Sconti Export'!AB94*'Sconti Export'!M94))*'Zone Export'!$V$14)","v":108.11250000000001},{"$f":"IF('Sconti Export'!AC$80>'Sconti Export'!AC94-('Sconti Export'!AC94*'Sconti Export'!N94),'Sconti Export'!AC$80*'Zone Export'!$V$14,('Sconti Export'!AC94-('Sconti Export'!AC94*'Sconti Export'!N94))*'Zone Export'!$V$14)","v":123.34899999999999},{"$f":"IF('Sconti Export'!AD$80>'Sconti Export'!AD94-('Sconti Export'!AD94*'Sconti Export'!O94),'Sconti Export'!AD$80*'Zone Export'!$V$14,('Sconti Export'!AD94-('Sconti Export'!AD94*'Sconti Export'!O94))*'Zone Export'!$V$14)","v":65.797500000000014}]
[null,"7,5 kg",null,{"$f":"IF('Sconti Export'!R$80>'Sconti Export'!R95-('Sconti Export'!R95*'Sconti Export'!C95),'Sconti Export'!R$80*'Zone Export'!$V$14,('Sconti Export'!R95-('Sconti Export'!R95*'Sconti Export'!C95))*'Zone Export'!$V$14)","v":17.059999999999999},{"$f":"IF('Sconti Export'!S$80>'Sconti Export'!S95-('Sconti Export'!S95*'Sconti Export'!D95),'Sconti Export'!S$80*'Zone Export'!$V$14,('Sconti Export'!S95-('Sconti Export'!S95*'Sconti Export'!D95))*'Zone Export'!$V$14)","v":46.70450000000001},{"$f":"IF('Sconti Export'!T$80>'Sconti Export'!T95-('Sconti Export'!T95*'Sconti Export'!E95),'Sconti Export'!T$80*'Zone Export'!$V$14,('Sconti Export'!T95-('Sconti Export'!T95*'Sconti Export'!E95))*'Zone Export'!$V$14)","v":47.734000000000009},{"$f":"IF('Sconti Export'!U$80>'Sconti Export'!U95-('Sconti Export'!U95*'Sconti Export'!F95),'Sconti Export'!U$80*'Zone Export'!$V$14,('Sconti Export'!U95-('Sconti Export'!U95*'Sconti Export'!F95))*'Zone Export'!$V$14)","v":49.865499999999997},{"$f":"IF('Sconti Export'!V$80>'Sconti Export'!V95-('Sconti Export'!V95*'Sconti Export'!G95),'Sconti Export'!V$80*'Zone Export'!$V$14,('Sconti Export'!V95-('Sconti Export'!V95*'Sconti Export'!G95))*'Zone Export'!$V$14)","v":105.03800000000001},{"$f":"IF('Sconti Export'!W$80>'Sconti Export'!W95-('Sconti Export'!W95*'Sconti Export'!H95),'Sconti Export'!W$80*'Zone Export'!$V$14,('Sconti Export'!W95-('Sconti Export'!W95*'Sconti Export'!H95))*'Zone Export'!$V$14)","v":106.517},{"$f":"IF('Sconti Export'!X$80>'Sconti Export'!X95-('Sconti Export'!X95*'Sconti Export'!I95),'Sconti Export'!X$80*'Zone Export'!$V$14,('Sconti Export'!X95-('Sconti Export'!X95*'Sconti Export'!I95))*'Zone Export'!$V$14)","v":51.088000000000008},{"$f":"IF('Sconti Export'!Y$80>'Sconti Export'!Y95-('Sconti Export'!Y95*'Sconti Export'!J95),'Sconti Export'!Y$80*'Zone Export'!$V$14,('Sconti Export'!Y95-('Sconti Export'!Y95*'Sconti Export'!J95))*'Zone Export'!$V$14)","v":120.96199999999999},{"$f":"IF('Sconti Export'!Z$80>'Sconti Export'!Z95-('Sconti Export'!Z95*'Sconti Export'!K95),'Sconti Export'!Z$80*'Zone Export'!$V$14,('Sconti Export'!Z95-('Sconti Export'!Z95*'Sconti Export'!K95))*'Zone Export'!$V$14)","v":62.821500000000015},{"$f":"IF('Sconti Export'!AA$80>'Sconti Export'!AA95-('Sconti Export'!AA95*'Sconti Export'!L95),'Sconti Export'!AA$80*'Zone Export'!$V$14,('Sconti Export'!AA95-('Sconti Export'!AA95*'Sconti Export'!L95))*'Zone Export'!$V$14)","v":107.12050000000002},{"$f":"IF('Sconti Export'!AB$80>'Sconti Export'!AB95-('Sconti Export'!AB95*'Sconti Export'!M95),'Sconti Export'!AB$80*'Zone Export'!$V$14,('Sconti Export'!AB95-('Sconti Export'!AB95*'Sconti Export'!M95))*'Zone Export'!$V$14)","v":113.46000000000001},{"$f":"IF('Sconti Export'!AC$80>'Sconti Export'!AC95-('Sconti Export'!AC95*'Sconti Export'!N95),'Sconti Export'!AC$80*'Zone Export'!$V$14,('Sconti Export'!AC95-('Sconti Export'!AC95*'Sconti Export'!N95))*'Zone Export'!$V$14)","v":129.14600000000002},{"$f":"IF('Sconti Export'!AD$80>'Sconti Export'!AD95-('Sconti Export'!AD95*'Sconti Export'!O95),'Sconti Export'!AD$80*'Zone Export'!$V$14,('Sconti Export'!AD95-('Sconti Export'!AD95*'Sconti Export'!O95))*'Zone Export'!$V$14)","v":68.572000000000003}]
[null,"8,0 kg",null,{"$f":"IF('Sconti Export'!R$80>'Sconti Export'!R96-('Sconti Export'!R96*'Sconti Export'!C96),'Sconti Export'!R$80*'Zone Export'!$V$14,('Sconti Export'!R96-('Sconti Export'!R96*'Sconti Export'!C96))*'Zone Export'!$V$14)","v":17.059999999999999},{"$f":"IF('Sconti Export'!S$80>'Sconti Export'!S96-('Sconti Export'!S96*'Sconti Export'!D96),'Sconti Export'!S$80*'Zone Export'!$V$14,('Sconti Export'!S96-('Sconti Export'!S96*'Sconti Export'!D96))*'Zone Export'!$V$14)","v":48.546000000000006},{"$f":"IF('Sconti Export'!T$80>'Sconti Export'!T96-('Sconti Export'!T96*'Sconti Export'!E96),'Sconti Export'!T$80*'Zone Export'!$V$14,('Sconti Export'!T96-('Sconti Export'!T96*'Sconti Export'!E96))*'Zone Export'!$V$14)","v":49.633500000000012},{"$f":"IF('Sconti Export'!U$80>'Sconti Export'!U96-('Sconti Export'!U96*'Sconti Export'!F96),'Sconti Export'!U$80*'Zone Export'!$V$14,('Sconti Export'!U96-('Sconti Export'!U96*'Sconti Export'!F96))*'Zone Export'!$V$14)","v":51.837500000000006},{"$f":"IF('Sconti Export'!V$80>'Sconti Export'!V96-('Sconti Export'!V96*'Sconti Export'!G96),'Sconti Export'!V$80*'Zone Export'!$V$14,('Sconti Export'!V96-('Sconti Export'!V96*'Sconti Export'!G96))*'Zone Export'!$V$14)","v":109.25749999999999},{"$f":"IF('Sconti Export'!W$80>'Sconti Export'!W96-('Sconti Export'!W96*'Sconti Export'!H96),'Sconti Export'!W$80*'Zone Export'!$V$14,('Sconti Export'!W96-('Sconti Export'!W96*'Sconti Export'!H96))*'Zone Export'!$V$14)","v":110.983},{"$f":"IF('Sconti Export'!X$80>'Sconti Export'!X96-('Sconti Export'!X96*'Sconti Export'!I96),'Sconti Export'!X$80*'Zone Export'!$V$14,('Sconti Export'!X96-('Sconti Export'!X96*'Sconti Export'!I96))*'Zone Export'!$V$14)","v":53.010000000000005},{"$f":"IF('Sconti Export'!Y$80>'Sconti Export'!Y96-('Sconti Export'!Y96*'Sconti Export'!J96),'Sconti Export'!Y$80*'Zone Export'!$V$14,('Sconti Export'!Y96-('Sconti Export'!Y96*'Sconti Export'!J96))*'Zone Export'!$V$14)","v":126.18550000000005},{"$f":"IF('Sconti Export'!Z$80>'Sconti Export'!Z96-('Sconti Export'!Z96*'Sconti Export'!K96),'Sconti Export'!Z$80*'Zone Export'!$V$14,('Sconti Export'!Z96-('Sconti Export'!Z96*'Sconti Export'!K96))*'Zone Export'!$V$14)","v":65.549499999999995},{"$f":"IF('Sconti Export'!AA$80>'Sconti Export'!AA96-('Sconti Export'!AA96*'Sconti Export'!L96),'Sconti Export'!AA$80*'Zone Export'!$V$14,('Sconti Export'!AA96-('Sconti Export'!AA96*'Sconti Export'!L96))*'Zone Export'!$V$14)","v":112.17350000000002},{"$f":"IF('Sconti Export'!AB$80>'Sconti Export'!AB96-('Sconti Export'!AB96*'Sconti Export'!M96),'Sconti Export'!AB$80*'Zone Export'!$V$14,('Sconti Export'!AB96-('Sconti Export'!AB96*'Sconti Export'!M96))*'Zone Export'!$V$14)","v":118.83850000000001},{"$f":"IF('Sconti Export'!AC$80>'Sconti Export'!AC96-('Sconti Export'!AC96*'Sconti Export'!N96),'Sconti Export'!AC$80*'Zone Export'!$V$14,('Sconti Export'!AC96-('Sconti Export'!AC96*'Sconti Export'!N96))*'Zone Export'!$V$14)","v":134.91200000000003},{"$f":"IF('Sconti Export'!AD$80>'Sconti Export'!AD96-('Sconti Export'!AD96*'Sconti Export'!O96),'Sconti Export'!AD$80*'Zone Export'!$V$14,('Sconti Export'!AD96-('Sconti Export'!AD96*'Sconti Export'!O96))*'Zone Export'!$V$14)","v":71.300000000000011}]
[null,"8,5 kg",null,{"$f":"IF('Sconti Export'!R$80>'Sconti Export'!R97-('Sconti Export'!R97*'Sconti Export'!C97),'Sconti Export'!R$80*'Zone Export'!$V$14,('Sconti Export'!R97-('Sconti Export'!R97*'Sconti Export'!C97))*'Zone Export'!$V$14)","v":17.680000000000003},{"$f":"IF('Sconti Export'!S$80>'Sconti Export'!S97-('Sconti Export'!S97*'Sconti Export'!D97),'Sconti Export'!S$80*'Zone Export'!$V$14,('Sconti Export'!S97-('Sconti Export'!S97*'Sconti Export'!D97))*'Zone Export'!$V$14)","v":50.358500000000006},{"$f":"IF('Sconti Export'!T$80>'Sconti Export'!T97-('Sconti Export'!T97*'Sconti Export'!E97),'Sconti Export'!T$80*'Zone Export'!$V$14,('Sconti Export'!T97-('Sconti Export'!T97*'Sconti Export'!E97))*'Zone Export'!$V$14)","v":51.504000000000005},{"$f":"IF('Sconti Export'!U$80>'Sconti Export'!U97-('Sconti Export'!U97*'Sconti Export'!F97),'Sconti Export'!U$80*'Zone Export'!$V$14,('Sconti Export'!U97-('Sconti Export'!U97*'Sconti Export'!F97))*'Zone Export'!$V$14)","v":53.780499999999989},{"$f":"IF('Sconti Export'!V$80>'Sconti Export'!V97-('Sconti Export'!V97*'Sconti Export'!G97),'Sconti Export'!V$80*'Zone Export'!$V$14,('Sconti Export'!V97-('Sconti Export'!V97*'Sconti Export'!G97))*'Zone Export'!$V$14)","v":113.47700000000003},{"$f":"IF('Sconti Export'!W$80>'Sconti Export'!W97-('Sconti Export'!W97*'Sconti Export'!H97),'Sconti Export'!W$80*'Zone Export'!$V$14,('Sconti Export'!W97-('Sconti Export'!W97*'Sconti Export'!H97))*'Zone Export'!$V$14)","v":115.42000000000002},{"$f":"IF('Sconti Export'!X$80>'Sconti Export'!X97-('Sconti Export'!X97*'Sconti Export'!I97),'Sconti Export'!X$80*'Zone Export'!$V$14,('Sconti Export'!X97-('Sconti Export'!X97*'Sconti Export'!I97))*'Zone Export'!$V$14)","v":54.916500000000013},{"$f":"IF('Sconti Export'!Y$80>'Sconti Export'!Y97-('Sconti Export'!Y97*'Sconti Export'!J97),'Sconti Export'!Y$80*'Zone Export'!$V$14,('Sconti Export'!Y97-('Sconti Export'!Y97*'Sconti Export'!J97))*'Zone Export'!$V$14)","v":131.34700000000004},{"$f":"IF('Sconti Export'!Z$80>'Sconti Export'!Z97-('Sconti Export'!Z97*'Sconti Export'!K97),'Sconti Export'!Z$80*'Zone Export'!$V$14,('Sconti Export'!Z97-('Sconti Export'!Z97*'Sconti Export'!K97))*'Zone Export'!$V$14)","v":68.277500000000003},{"$f":"IF('Sconti Export'!AA$80>'Sconti Export'!AA97-('Sconti Export'!AA97*'Sconti Export'!L97),'Sconti Export'!AA$80*'Zone Export'!$V$14,('Sconti Export'!AA97-('Sconti Export'!AA97*'Sconti Export'!L97))*'Zone Export'!$V$14)","v":117.21100000000001},{"$f":"IF('Sconti Export'!AB$80>'Sconti Export'!AB97-('Sconti Export'!AB97*'Sconti Export'!M97),'Sconti Export'!AB$80*'Zone Export'!$V$14,('Sconti Export'!AB97-('Sconti Export'!AB97*'Sconti Export'!M97))*'Zone Export'!$V$14)","v":124.20150000000001},{"$f":"IF('Sconti Export'!AC$80>'Sconti Export'!AC97-('Sconti Export'!AC97*'Sconti Export'!N97),'Sconti Export'!AC$80*'Zone Export'!$V$14,('Sconti Export'!AC97-('Sconti Export'!AC97*'Sconti Export'!N97))*'Zone Export'!$V$14)","v":140.64700000000005},{"$f":"IF('Sconti Export'!AD$80>'Sconti Export'!AD97-('Sconti Export'!AD97*'Sconti Export'!O97),'Sconti Export'!AD$80*'Zone Export'!$V$14,('Sconti Export'!AD97-('Sconti Export'!AD97*'Sconti Export'!O97))*'Zone Export'!$V$14)","v":74.012500000000017}]
[null,"9,0 kg",null,{"$f":"IF('Sconti Export'!R$80>'Sconti Export'!R98-('Sconti Export'!R98*'Sconti Export'!C98),'Sconti Export'!R$80*'Zone Export'!$V$14,('Sconti Export'!R98-('Sconti Export'!R98*'Sconti Export'!C98))*'Zone Export'!$V$14)","v":17.680000000000003},{"$f":"IF('Sconti Export'!S$80>'Sconti Export'!S98-('Sconti Export'!S98*'Sconti Export'!D98),'Sconti Export'!S$80*'Zone Export'!$V$14,('Sconti Export'!S98-('Sconti Export'!S98*'Sconti Export'!D98))*'Zone Export'!$V$14)","v":52.2},{"$f":"IF('Sconti Export'!T$80>'Sconti Export'!T98-('Sconti Export'!T98*'Sconti Export'!E98),'Sconti Export'!T$80*'Zone Export'!$V$14,('Sconti Export'!T98-('Sconti Export'!T98*'Sconti Export'!E98))*'Zone Export'!$V$14)","v":53.374500000000012},{"$f":"IF('Sconti Export'!U$80>'Sconti Export'!U98-('Sconti Export'!U98*'Sconti Export'!F98),'Sconti Export'!U$80*'Zone Export'!$V$14,('Sconti Export'!U98-('Sconti Export'!U98*'Sconti Export'!F98))*'Zone Export'!$V$14)","v":55.738},{"$f":"IF('Sconti Export'!V$80>'Sconti Export'!V98-('Sconti Export'!V98*'Sconti Export'!G98),'Sconti Export'!V$80*'Zone Export'!$V$14,('Sconti Export'!V98-('Sconti Export'!V98*'Sconti Export'!G98))*'Zone Export'!$V$14)","v":117.66750000000002},{"$f":"IF('Sconti Export'!W$80>'Sconti Export'!W98-('Sconti Export'!W98*'Sconti Export'!H98),'Sconti Export'!W$80*'Zone Export'!$V$14,('Sconti Export'!W98-('Sconti Export'!W98*'Sconti Export'!H98))*'Zone Export'!$V$14)","v":119.85700000000003},{"$f":"IF('Sconti Export'!X$80>'Sconti Export'!X98-('Sconti Export'!X98*'Sconti Export'!I98),'Sconti Export'!X$80*'Zone Export'!$V$14,('Sconti Export'!X98-('Sconti Export'!X98*'Sconti Export'!I98))*'Zone Export'!$V$14)","v":56.83850000000001},{"$f":"IF('Sconti Export'!Y$80>'Sconti Export'!Y98-('Sconti Export'!Y98*'Sconti Export'!J98),'Sconti Export'!Y$80*'Zone Export'!$V$14,('Sconti Export'!Y98-('Sconti Export'!Y98*'Sconti Export'!J98))*'Zone Export'!$V$14)","v":136.55500000000001},{"$f":"IF('Sconti Export'!Z$80>'Sconti Export'!Z98-('Sconti Export'!Z98*'Sconti Export'!K98),'Sconti Export'!Z$80*'Zone Export'!$V$14,('Sconti Export'!Z98-('Sconti Export'!Z98*'Sconti Export'!K98))*'Zone Export'!$V$14)","v":71.021000000000015},{"$f":"IF('Sconti Export'!AA$80>'Sconti Export'!AA98-('Sconti Export'!AA98*'Sconti Export'!L98),'Sconti Export'!AA$80*'Zone Export'!$V$14,('Sconti Export'!AA98-('Sconti Export'!AA98*'Sconti Export'!L98))*'Zone Export'!$V$14)","v":122.24850000000004},{"$f":"IF('Sconti Export'!AB$80>'Sconti Export'!AB98-('Sconti Export'!AB98*'Sconti Export'!M98),'Sconti Export'!AB$80*'Zone Export'!$V$14,('Sconti Export'!AB98-('Sconti Export'!AB98*'Sconti Export'!M98))*'Zone Export'!$V$14)","v":129.61100000000005},{"$f":"IF('Sconti Export'!AC$80>'Sconti Export'!AC98-('Sconti Export'!AC98*'Sconti Export'!N98),'Sconti Export'!AC$80*'Zone Export'!$V$14,('Sconti Export'!AC98-('Sconti Export'!AC98*'Sconti Export'!N98))*'Zone Export'!$V$14)","v":146.42850000000004},{"$f":"IF('Sconti Export'!AD$80>'Sconti Export'!AD98-('Sconti Export'!AD98*'Sconti Export'!O98),'Sconti Export'!AD$80*'Zone Export'!$V$14,('Sconti Export'!AD98-('Sconti Export'!AD98*'Sconti Export'!O98))*'Zone Export'!$V$14)","v":76.70950000000002}]
[null,"9,5 kg",null,{"$f":"IF('Sconti Export'!R$80>'Sconti Export'!R99-('Sconti Export'!R99*'Sconti Export'!C99),'Sconti Export'!R$80*'Zone Export'!$V$14,('Sconti Export'!R99-('Sconti Export'!R99*'Sconti Export'!C99))*'Zone Export'!$V$14)","v":18.32},{"$f":"IF('Sconti Export'!S$80>'Sconti Export'!S99-('Sconti Export'!S99*'Sconti Export'!D99),'Sconti Export'!S$80*'Zone Export'!$V$14,('Sconti Export'!S99-('Sconti Export'!S99*'Sconti Export'!D99))*'Zone Export'!$V$14)","v":54.012500000000017},{"$f":"IF('Sconti Export'!T$80>'Sconti Export'!T99-('Sconti Export'!T99*'Sconti Export'!E99),'Sconti Export'!T$80*'Zone Export'!$V$14,('Sconti Export'!T99-('Sconti Export'!T99*'Sconti Export'!E99))*'Zone Export'!$V$14)","v":55.361000000000018},{"$f":"IF('Sconti Export'!U$80>'Sconti Export'!U99-('Sconti Export'!U99*'Sconti Export'!F99),'Sconti Export'!U$80*'Zone Export'!$V$14,('Sconti Export'!U99-('Sconti Export'!U99*'Sconti Export'!F99))*'Zone Export'!$V$14)","v":57.69550000000001},{"$f":"IF('Sconti Export'!V$80>'Sconti Export'!V99-('Sconti Export'!V99*'Sconti Export'!G99),'Sconti Export'!V$80*'Zone Export'!$V$14,('Sconti Export'!V99-('Sconti Export'!V99*'Sconti Export'!G99))*'Zone Export'!$V$14)","v":121.858},{"$f":"IF('Sconti Export'!W$80>'Sconti Export'!W99-('Sconti Export'!W99*'Sconti Export'!H99),'Sconti Export'!W$80*'Zone Export'!$V$14,('Sconti Export'!W99-('Sconti Export'!W99*'Sconti Export'!H99))*'Zone Export'!$V$14)","v":124.30849999999998},{"$f":"IF('Sconti Export'!X$80>'Sconti Export'!X99-('Sconti Export'!X99*'Sconti Export'!I99),'Sconti Export'!X$80*'Zone Export'!$V$14,('Sconti Export'!X99-('Sconti Export'!X99*'Sconti Export'!I99))*'Zone Export'!$V$14)","v":58.713999999999999},{"$f":"IF('Sconti Export'!Y$80>'Sconti Export'!Y99-('Sconti Export'!Y99*'Sconti Export'!J99),'Sconti Export'!Y$80*'Zone Export'!$V$14,('Sconti Export'!Y99-('Sconti Export'!Y99*'Sconti Export'!J99))*'Zone Export'!$V$14)","v":141.7165},{"$f":"IF('Sconti Export'!Z$80>'Sconti Export'!Z99-('Sconti Export'!Z99*'Sconti Export'!K99),'Sconti Export'!Z$80*'Zone Export'!$V$14,('Sconti Export'!Z99-('Sconti Export'!Z99*'Sconti Export'!K99))*'Zone Export'!$V$14)","v":73.811000000000007},{"$f":"IF('Sconti Export'!AA$80>'Sconti Export'!AA99-('Sconti Export'!AA99*'Sconti Export'!L99),'Sconti Export'!AA$80*'Zone Export'!$V$14,('Sconti Export'!AA99-('Sconti Export'!AA99*'Sconti Export'!L99))*'Zone Export'!$V$14)","v":127.255},{"$f":"IF('Sconti Export'!AB$80>'Sconti Export'!AB99-('Sconti Export'!AB99*'Sconti Export'!M99),'Sconti Export'!AB$80*'Zone Export'!$V$14,('Sconti Export'!AB99-('Sconti Export'!AB99*'Sconti Export'!M99))*'Zone Export'!$V$14)","v":134.97399999999999},{"$f":"IF('Sconti Export'!AC$80>'Sconti Export'!AC99-('Sconti Export'!AC99*'Sconti Export'!N99),'Sconti Export'!AC$80*'Zone Export'!$V$14,('Sconti Export'!AC99-('Sconti Export'!AC99*'Sconti Export'!N99))*'Zone Export'!$V$14)","v":152.19450000000001},{"$f":"IF('Sconti Export'!AD$80>'Sconti Export'!AD99-('Sconti Export'!AD99*'Sconti Export'!O99),'Sconti Export'!AD$80*'Zone Export'!$V$14,('Sconti Export'!AD99-('Sconti Export'!AD99*'Sconti Export'!O99))*'Zone Export'!$V$14)","v":79.484000000000009}]
[null,"10 kg",null,{"$f":"IF('Sconti Export'!R$80>'Sconti Export'!R100-('Sconti Export'!R100*'Sconti Export'!C100),'Sconti Export'!R$80*'Zone Export'!$V$14,('Sconti Export'!R100-('Sconti Export'!R100*'Sconti Export'!C100))*'Zone Export'!$V$14)","v":18.32},{"$f":"IF('Sconti Export'!S$80>'Sconti Export'!S100-('Sconti Export'!S100*'Sconti Export'!D100),'Sconti Export'!S$80*'Zone Export'!$V$14,('Sconti Export'!S100-('Sconti Export'!S100*'Sconti Export'!D100))*'Zone Export'!$V$14)","v":55.868500000000012},{"$f":"IF('Sconti Export'!T$80>'Sconti Export'!T100-('Sconti Export'!T100*'Sconti Export'!E100),'Sconti Export'!T$80*'Zone Export'!$V$14,('Sconti Export'!T100-('Sconti Export'!T100*'Sconti Export'!E100))*'Zone Export'!$V$14)","v":56.883499999999998},{"$f":"IF('Sconti Export'!U$80>'Sconti Export'!U100-('Sconti Export'!U100*'Sconti Export'!F100),'Sconti Export'!U$80*'Zone Export'!$V$14,('Sconti Export'!U100-('Sconti Export'!U100*'Sconti Export'!F100))*'Zone Export'!$V$14)","v":59.652999999999992},{"$f":"IF('Sconti Export'!V$80>'Sconti Export'!V100-('Sconti Export'!V100*'Sconti Export'!G100),'Sconti Export'!V$80*'Zone Export'!$V$14,('Sconti Export'!V100-('Sconti Export'!V100*'Sconti Export'!G100))*'Zone Export'!$V$14)","v":126.09200000000004},{"$f":"IF('Sconti Export'!W$80>'Sconti Export'!W100-('Sconti Export'!W100*'Sconti Export'!H100),'Sconti Export'!W$80*'Zone Export'!$V$14,('Sconti Export'!W100-('Sconti Export'!W100*'Sconti Export'!H100))*'Zone Export'!$V$14)","v":128.76},{"$f":"IF('Sconti Export'!X$80>'Sconti Export'!X100-('Sconti Export'!X100*'Sconti Export'!I100),'Sconti Export'!X$80*'Zone Export'!$V$14,('Sconti Export'!X100-('Sconti Export'!X100*'Sconti Export'!I100))*'Zone Export'!$V$14)","v":60.667000000000002},{"$f":"IF('Sconti Export'!Y$80>'Sconti Export'!Y100-('Sconti Export'!Y100*'Sconti Export'!J100),'Sconti Export'!Y$80*'Zone Export'!$V$14,('Sconti Export'!Y100-('Sconti Export'!Y100*'Sconti Export'!J100))*'Zone Export'!$V$14)","v":146.97100000000006},{"$f":"IF('Sconti Export'!Z$80>'Sconti Export'!Z100-('Sconti Export'!Z100*'Sconti Export'!K100),'Sconti Export'!Z$80*'Zone Export'!$V$14,('Sconti Export'!Z100-('Sconti Export'!Z100*'Sconti Export'!K100))*'Zone Export'!$V$14)","v":76.570000000000022},{"$f":"IF('Sconti Export'!AA$80>'Sconti Export'!AA100-('Sconti Export'!AA100*'Sconti Export'!L100),'Sconti Export'!AA$80*'Zone Export'!$V$14,('Sconti Export'!AA100-('Sconti Export'!AA100*'Sconti Export'!L100))*'Zone Export'!$V$14)","v":132.32350000000002},{"$f":"IF('Sconti Export'!AB$80>'Sconti Export'!AB100-('Sconti Export'!AB100*'Sconti Export'!M100),'Sconti Export'!AB$80*'Zone Export'!$V$14,('Sconti Export'!AB100-('Sconti Export'!AB100*'Sconti Export'!M100))*'Zone Export'!$V$14)","v":140.33700000000005},{"$f":"IF('Sconti Export'!AC$80>'Sconti Export'!AC100-('Sconti Export'!AC100*'Sconti Export'!N100),'Sconti Export'!AC$80*'Zone Export'!$V$14,('Sconti Export'!AC100-('Sconti Export'!AC100*'Sconti Export'!N100))*'Zone Export'!$V$14)","v":157.96050000000002},{"$f":"IF('Sconti Export'!AD$80>'Sconti Export'!AD100-('Sconti Export'!AD100*'Sconti Export'!O100),'Sconti Export'!AD$80*'Zone Export'!$V$14,('Sconti Export'!AD100-('Sconti Export'!AD100*'Sconti Export'!O100))*'Zone Export'!$V$14)","v":82.196500000000015}]
[null,"11 kg",null,{"$f":"IF('Sconti Export'!R$80>'Sconti Export'!R101-('Sconti Export'!R101*'Sconti Export'!C101),'Sconti Export'!R$80*'Zone Export'!$V$14,('Sconti Export'!R101-('Sconti Export'!R101*'Sconti Export'!C101))*'Zone Export'!$V$14)","v":24.660000000000004},{"$f":"IF('Sconti Export'!S$80>'Sconti Export'!S101-('Sconti Export'!S101*'Sconti Export'!D101),'Sconti Export'!S$80*'Zone Export'!$V$14,('Sconti Export'!S101-('Sconti Export'!S101*'Sconti Export'!D101))*'Zone Export'!$V$14)","v":57.637500000000017},{"$f":"IF('Sconti Export'!T$80>'Sconti Export'!T101-('Sconti Export'!T101*'Sconti Export'!E101),'Sconti Export'!T$80*'Zone Export'!$V$14,('Sconti Export'!T101-('Sconti Export'!T101*'Sconti Export'!E101))*'Zone Export'!$V$14)","v":57.739000000000004},{"$f":"IF('Sconti Export'!U$80>'Sconti Export'!U101-('Sconti Export'!U101*'Sconti Export'!F101),'Sconti Export'!U$80*'Zone Export'!$V$14,('Sconti Export'!U101-('Sconti Export'!U101*'Sconti Export'!F101))*'Zone Export'!$V$14)","v":61.277000000000015},{"$f":"IF('Sconti Export'!V$80>'Sconti Export'!V101-('Sconti Export'!V101*'Sconti Export'!G101),'Sconti Export'!V$80*'Zone Export'!$V$14,('Sconti Export'!V101-('Sconti Export'!V101*'Sconti Export'!G101))*'Zone Export'!$V$14)","v":135.69100000000003},{"$f":"IF('Sconti Export'!W$80>'Sconti Export'!W101-('Sconti Export'!W101*'Sconti Export'!H101),'Sconti Export'!W$80*'Zone Export'!$V$14,('Sconti Export'!W101-('Sconti Export'!W101*'Sconti Export'!H101))*'Zone Export'!$V$14)","v":137.21350000000001},{"$f":"IF('Sconti Export'!X$80>'Sconti Export'!X101-('Sconti Export'!X101*'Sconti Export'!I101),'Sconti Export'!X$80*'Zone Export'!$V$14,('Sconti Export'!X101-('Sconti Export'!X101*'Sconti Export'!I101))*'Zone Export'!$V$14)","v":63.953000000000003},{"$f":"IF('Sconti Export'!Y$80>'Sconti Export'!Y101-('Sconti Export'!Y101*'Sconti Export'!J101),'Sconti Export'!Y$80*'Zone Export'!$V$14,('Sconti Export'!Y101-('Sconti Export'!Y101*'Sconti Export'!J101))*'Zone Export'!$V$14)","v":156.03850000000006},{"$f":"IF('Sconti Export'!Z$80>'Sconti Export'!Z101-('Sconti Export'!Z101*'Sconti Export'!K101),'Sconti Export'!Z$80*'Zone Export'!$V$14,('Sconti Export'!Z101-('Sconti Export'!Z101*'Sconti Export'!K101))*'Zone Export'!$V$14)","v":82.367000000000019},{"$f":"IF('Sconti Export'!AA$80>'Sconti Export'!AA101-('Sconti Export'!AA101*'Sconti Export'!L101),'Sconti Export'!AA$80*'Zone Export'!$V$14,('Sconti Export'!AA101-('Sconti Export'!AA101*'Sconti Export'!L101))*'Zone Export'!$V$14)","v":139.87200000000001},{"$f":"IF('Sconti Export'!AB$80>'Sconti Export'!AB101-('Sconti Export'!AB101*'Sconti Export'!M101),'Sconti Export'!AB$80*'Zone Export'!$V$14,('Sconti Export'!AB101-('Sconti Export'!AB101*'Sconti Export'!M101))*'Zone Export'!$V$14)","v":147.87},{"$f":"IF('Sconti Export'!AC$80>'Sconti Export'!AC101-('Sconti Export'!AC101*'Sconti Export'!N101),'Sconti Export'!AC$80*'Zone Export'!$V$14,('Sconti Export'!AC101-('Sconti Export'!AC101*'Sconti Export'!N101))*'Zone Export'!$V$14)","v":166.82650000000001},{"$f":"IF('Sconti Export'!AD$80>'Sconti Export'!AD101-('Sconti Export'!AD101*'Sconti Export'!O101),'Sconti Export'!AD$80*'Zone Export'!$V$14,('Sconti Export'!AD101-('Sconti Export'!AD101*'Sconti Export'!O101))*'Zone Export'!$V$14)","v":85.978500000000025}]
[null,"12 kg",null,{"$f":"IF('Sconti Export'!R$80>'Sconti Export'!R102-('Sconti Export'!R102*'Sconti Export'!C102),'Sconti Export'!R$80*'Zone Export'!$V$14,('Sconti Export'!R102-('Sconti Export'!R102*'Sconti Export'!C102))*'Zone Export'!$V$14)","v":24.660000000000004},{"$f":"IF('Sconti Export'!S$80>'Sconti Export'!S102-('Sconti Export'!S102*'Sconti Export'!D102),'Sconti Export'!S$80*'Zone Export'!$V$14,('Sconti Export'!S102-('Sconti Export'!S102*'Sconti Export'!D102))*'Zone Export'!$V$14)","v":60.450500000000005},{"$f":"IF('Sconti Export'!T$80>'Sconti Export'!T102-('Sconti Export'!T102*'Sconti Export'!E102),'Sconti Export'!T$80*'Zone Export'!$V$14,('Sconti Export'!T102-('Sconti Export'!T102*'Sconti Export'!E102))*'Zone Export'!$V$14)","v":60.769500000000022},{"$f":"IF('Sconti Export'!U$80>'Sconti Export'!U102-('Sconti Export'!U102*'Sconti Export'!F102),'Sconti Export'!U$80*'Zone Export'!$V$14,('Sconti Export'!U102-('Sconti Export'!U102*'Sconti Export'!F102))*'Zone Export'!$V$14)","v":64.5685},{"$f":"IF('Sconti Export'!V$80>'Sconti Export'!V102-('Sconti Export'!V102*'Sconti Export'!G102),'Sconti Export'!V$80*'Zone Export'!$V$14,('Sconti Export'!V102-('Sconti Export'!V102*'Sconti Export'!G102))*'Zone Export'!$V$14)","v":143.608},{"$f":"IF('Sconti Export'!W$80>'Sconti Export'!W102-('Sconti Export'!W102*'Sconti Export'!H102),'Sconti Export'!W$80*'Zone Export'!$V$14,('Sconti Export'!W102-('Sconti Export'!W102*'Sconti Export'!H102))*'Zone Export'!$V$14)","v":145.40600000000001},{"$f":"IF('Sconti Export'!X$80>'Sconti Export'!X102-('Sconti Export'!X102*'Sconti Export'!I102),'Sconti Export'!X$80*'Zone Export'!$V$14,('Sconti Export'!X102-('Sconti Export'!X102*'Sconti Export'!I102))*'Zone Export'!$V$14)","v":67.239000000000004},{"$f":"IF('Sconti Export'!Y$80>'Sconti Export'!Y102-('Sconti Export'!Y102*'Sconti Export'!J102),'Sconti Export'!Y$80*'Zone Export'!$V$14,('Sconti Export'!Y102-('Sconti Export'!Y102*'Sconti Export'!J102))*'Zone Export'!$V$14)","v":165.41600000000005},{"$f":"IF('Sconti Export'!Z$80>'Sconti Export'!Z102-('Sconti Export'!Z102*'Sconti Export'!K102),'Sconti Export'!Z$80*'Zone Export'!$V$14,('Sconti Export'!Z102-('Sconti Export'!Z102*'Sconti Export'!K102))*'Zone Export'!$V$14)","v":88.071000000000026},{"$f":"IF('Sconti Export'!AA$80>'Sconti Export'!AA102-('Sconti Export'!AA102*'Sconti Export'!L102),'Sconti Export'!AA$80*'Zone Export'!$V$14,('Sconti Export'!AA102-('Sconti Export'!AA102*'Sconti Export'!L102))*'Zone Export'!$V$14)","v":147.31200000000001},{"$f":"IF('Sconti Export'!AB$80>'Sconti Export'!AB102-('Sconti Export'!AB102*'Sconti Export'!M102),'Sconti Export'!AB$80*'Zone Export'!$V$14,('Sconti Export'!AB102-('Sconti Export'!AB102*'Sconti Export'!M102))*'Zone Export'!$V$14)","v":155.32550000000003},{"$f":"IF('Sconti Export'!AC$80>'Sconti Export'!AC102-('Sconti Export'!AC102*'Sconti Export'!N102),'Sconti Export'!AC$80*'Zone Export'!$V$14,('Sconti Export'!AC102-('Sconti Export'!AC102*'Sconti Export'!N102))*'Zone Export'!$V$14)","v":175.98700000000002},{"$f":"IF('Sconti Export'!AD$80>'Sconti Export'!AD102-('Sconti Export'!AD102*'Sconti Export'!O102),'Sconti Export'!AD$80*'Zone Export'!$V$14,('Sconti Export'!AD102-('Sconti Export'!AD102*'Sconti Export'!O102))*'Zone Export'!$V$14)","v":89.791500000000013}]
[null,"13 kg",null,{"$f":"IF('Sconti Export'!R$80>'Sconti Export'!R103-('Sconti Export'!R103*'Sconti Export'!C103),'Sconti Export'!R$80*'Zone Export'!$V$14,('Sconti Export'!R103-('Sconti Export'!R103*'Sconti Export'!C103))*'Zone Export'!$V$14)","v":24.660000000000004},{"$f":"IF('Sconti Export'!S$80>'Sconti Export'!S103-('Sconti Export'!S103*'Sconti Export'!D103),'Sconti Export'!S$80*'Zone Export'!$V$14,('Sconti Export'!S103-('Sconti Export'!S103*'Sconti Export'!D103))*'Zone Export'!$V$14)","v":63.205500000000001},{"$f":"IF('Sconti Export'!T$80>'Sconti Export'!T103-('Sconti Export'!T103*'Sconti Export'!E103),'Sconti Export'!T$80*'Zone Export'!$V$14,('Sconti Export'!T103-('Sconti Export'!T103*'Sconti Export'!E103))*'Zone Export'!$V$14)","v":63.829000000000008},{"$f":"IF('Sconti Export'!U$80>'Sconti Export'!U103-('Sconti Export'!U103*'Sconti Export'!F103),'Sconti Export'!U$80*'Zone Export'!$V$14,('Sconti Export'!U103-('Sconti Export'!U103*'Sconti Export'!F103))*'Zone Export'!$V$14)","v":67.831000000000017},{"$f":"IF('Sconti Export'!V$80>'Sconti Export'!V103-('Sconti Export'!V103*'Sconti Export'!G103),'Sconti Export'!V$80*'Zone Export'!$V$14,('Sconti Export'!V103-('Sconti Export'!V103*'Sconti Export'!G103))*'Zone Export'!$V$14)","v":151.48150000000004},{"$f":"IF('Sconti Export'!W$80>'Sconti Export'!W103-('Sconti Export'!W103*'Sconti Export'!H103),'Sconti Export'!W$80*'Zone Export'!$V$14,('Sconti Export'!W103-('Sconti Export'!W103*'Sconti Export'!H103))*'Zone Export'!$V$14)","v":153.56950000000001},{"$f":"IF('Sconti Export'!X$80>'Sconti Export'!X103-('Sconti Export'!X103*'Sconti Export'!I103),'Sconti Export'!X$80*'Zone Export'!$V$14,('Sconti Export'!X103-('Sconti Export'!X103*'Sconti Export'!I103))*'Zone Export'!$V$14)","v":70.587000000000018},{"$f":"IF('Sconti Export'!Y$80>'Sconti Export'!Y103-('Sconti Export'!Y103*'Sconti Export'!J103),'Sconti Export'!Y$80*'Zone Export'!$V$14,('Sconti Export'!Y103-('Sconti Export'!Y103*'Sconti Export'!J103))*'Zone Export'!$V$14)","v":174.66950000000003},{"$f":"IF('Sconti Export'!Z$80>'Sconti Export'!Z103-('Sconti Export'!Z103*'Sconti Export'!K103),'Sconti Export'!Z$80*'Zone Export'!$V$14,('Sconti Export'!Z103-('Sconti Export'!Z103*'Sconti Export'!K103))*'Zone Export'!$V$14)","v":93.728500000000025},{"$f":"IF('Sconti Export'!AA$80>'Sconti Export'!AA103-('Sconti Export'!AA103*'Sconti Export'!L103),'Sconti Export'!AA$80*'Zone Export'!$V$14,('Sconti Export'!AA103-('Sconti Export'!AA103*'Sconti Export'!L103))*'Zone Export'!$V$14)","v":154.76750000000004},{"$f":"IF('Sconti Export'!AB$80>'Sconti Export'!AB103-('Sconti Export'!AB103*'Sconti Export'!M103),'Sconti Export'!AB$80*'Zone Export'!$V$14,('Sconti Export'!AB103-('Sconti Export'!AB103*'Sconti Export'!M103))*'Zone Export'!$V$14)","v":162.76550000000003},{"$f":"IF('Sconti Export'!AC$80>'Sconti Export'!AC103-('Sconti Export'!AC103*'Sconti Export'!N103),'Sconti Export'!AC$80*'Zone Export'!$V$14,('Sconti Export'!AC103-('Sconti Export'!AC103*'Sconti Export'!N103))*'Zone Export'!$V$14)","v":185.16300000000001},{"$f":"IF('Sconti Export'!AD$80>'Sconti Export'!AD103-('Sconti Export'!AD103*'Sconti Export'!O103),'Sconti Export'!AD$80*'Zone Export'!$V$14,('Sconti Export'!AD103-('Sconti Export'!AD103*'Sconti Export'!O103))*'Zone Export'!$V$14)","v":93.588999999999999}]
[null,"14 kg",null,{"$f":"IF('Sconti Export'!R$80>'Sconti Export'!R104-('Sconti Export'!R104*'Sconti Export'!C104),'Sconti Export'!R$80*'Zone Export'!$V$14,('Sconti Export'!R104-('Sconti Export'!R104*'Sconti Export'!C104))*'Zone Export'!$V$14)","v":24.660000000000004},{"$f":"IF('Sconti Export'!S$80>'Sconti Export'!S104-('Sconti Export'!S104*'Sconti Export'!D104),'Sconti Export'!S$80*'Zone Export'!$V$14,('Sconti Export'!S104-('Sconti Export'!S104*'Sconti Export'!D104))*'Zone Export'!$V$14)","v":65.974999999999994},{"$f":"IF('Sconti Export'!T$80>'Sconti Export'!T104-('Sconti Export'!T104*'Sconti Export'!E104),'Sconti Export'!T$80*'Zone Export'!$V$14,('Sconti Export'!T104-('Sconti Export'!T104*'Sconti Export'!E104))*'Zone Export'!$V$14)","v":66.844999999999999},{"$f":"IF('Sconti Export'!U$80>'Sconti Export'!U104-('Sconti Export'!U104*'Sconti Export'!F104),'Sconti Export'!U$80*'Zone Export'!$V$14,('Sconti Export'!U104-('Sconti Export'!U104*'Sconti Export'!F104))*'Zone Export'!$V$14)","v":71.137},{"$f":"IF('Sconti Export'!V$80>'Sconti Export'!V104-('Sconti Export'!V104*'Sconti Export'!G104),'Sconti Export'!V$80*'Zone Export'!$V$14,('Sconti Export'!V104-('Sconti Export'!V104*'Sconti Export'!G104))*'Zone Export'!$V$14)","v":159.32600000000002},{"$f":"IF('Sconti Export'!W$80>'Sconti Export'!W104-('Sconti Export'!W104*'Sconti Export'!H104),'Sconti Export'!W$80*'Zone Export'!$V$14,('Sconti Export'!W104-('Sconti Export'!W104*'Sconti Export'!H104))*'Zone Export'!$V$14)","v":161.762},{"$f":"IF('Sconti Export'!X$80>'Sconti Export'!X104-('Sconti Export'!X104*'Sconti Export'!I104),'Sconti Export'!X$80*'Zone Export'!$V$14,('Sconti Export'!X104-('Sconti Export'!X104*'Sconti Export'!I104))*'Zone Export'!$V$14)","v":73.888500000000022},{"$f":"IF('Sconti Export'!Y$80>'Sconti Export'!Y104-('Sconti Export'!Y104*'Sconti Export'!J104),'Sconti Export'!Y$80*'Zone Export'!$V$14,('Sconti Export'!Y104-('Sconti Export'!Y104*'Sconti Export'!J104))*'Zone Export'!$V$14)","v":184.04700000000003},{"$f":"IF('Sconti Export'!Z$80>'Sconti Export'!Z104-('Sconti Export'!Z104*'Sconti Export'!K104),'Sconti Export'!Z$80*'Zone Export'!$V$14,('Sconti Export'!Z104-('Sconti Export'!Z104*'Sconti Export'!K104))*'Zone Export'!$V$14)","v":99.401499999999999},{"$f":"IF('Sconti Export'!AA$80>'Sconti Export'!AA104-('Sconti Export'!AA104*'Sconti Export'!L104),'Sconti Export'!AA$80*'Zone Export'!$V$14,('Sconti Export'!AA104-('Sconti Export'!AA104*'Sconti Export'!L104))*'Zone Export'!$V$14)","v":162.26950000000005},{"$f":"IF('Sconti Export'!AB$80>'Sconti Export'!AB104-('Sconti Export'!AB104*'Sconti Export'!M104),'Sconti Export'!AB$80*'Zone Export'!$V$14,('Sconti Export'!AB104-('Sconti Export'!AB104*'Sconti Export'!M104))*'Zone Export'!$V$14)","v":170.22100000000006},{"$f":"IF('Sconti Export'!AC$80>'Sconti Export'!AC104-('Sconti Export'!AC104*'Sconti Export'!N104),'Sconti Export'!AC$80*'Zone Export'!$V$14,('Sconti Export'!AC104-('Sconti Export'!AC104*'Sconti Export'!N104))*'Zone Export'!$V$14)","v":194.29250000000002},{"$f":"IF('Sconti Export'!AD$80>'Sconti Export'!AD104-('Sconti Export'!AD104*'Sconti Export'!O104),'Sconti Export'!AD$80*'Zone Export'!$V$14,('Sconti Export'!AD104-('Sconti Export'!AD104*'Sconti Export'!O104))*'Zone Export'!$V$14)","v":97.402000000000015}]
[null,"15 kg",null,{"$f":"IF('Sconti Export'!R$80>'Sconti Export'!R105-('Sconti Export'!R105*'Sconti Export'!C105),'Sconti Export'!R$80*'Zone Export'!$V$14,('Sconti Export'!R105-('Sconti Export'!R105*'Sconti Export'!C105))*'Zone Export'!$V$14)","v":24.660000000000004},{"$f":"IF('Sconti Export'!S$80>'Sconti Export'!S105-('Sconti Export'!S105*'Sconti Export'!D105),'Sconti Export'!S$80*'Zone Export'!$V$14,('Sconti Export'!S105-('Sconti Export'!S105*'Sconti Export'!D105))*'Zone Export'!$V$14)","v":68.788000000000011},{"$f":"IF('Sconti Export'!T$80>'Sconti Export'!T105-('Sconti Export'!T105*'Sconti Export'!E105),'Sconti Export'!T$80*'Zone Export'!$V$14,('Sconti Export'!T105-('Sconti Export'!T105*'Sconti Export'!E105))*'Zone Export'!$V$14)","v":69.875500000000017},{"$f":"IF('Sconti Export'!U$80>'Sconti Export'!U105-('Sconti Export'!U105*'Sconti Export'!F105),'Sconti Export'!U$80*'Zone Export'!$V$14,('Sconti Export'!U105-('Sconti Export'!U105*'Sconti Export'!F105))*'Zone Export'!$V$14)","v":74.45750000000001},{"$f":"IF('Sconti Export'!V$80>'Sconti Export'!V105-('Sconti Export'!V105*'Sconti Export'!G105),'Sconti Export'!V$80*'Zone Export'!$V$14,('Sconti Export'!V105-('Sconti Export'!V105*'Sconti Export'!G105))*'Zone Export'!$V$14)","v":167.21400000000006},{"$f":"IF('Sconti Export'!W$80>'Sconti Export'!W105-('Sconti Export'!W105*'Sconti Export'!H105),'Sconti Export'!W$80*'Zone Export'!$V$14,('Sconti Export'!W105-('Sconti Export'!W105*'Sconti Export'!H105))*'Zone Export'!$V$14)","v":169.911},{"$f":"IF('Sconti Export'!X$80>'Sconti Export'!X105-('Sconti Export'!X105*'Sconti Export'!I105),'Sconti Export'!X$80*'Zone Export'!$V$14,('Sconti Export'!X105-('Sconti Export'!X105*'Sconti Export'!I105))*'Zone Export'!$V$14)","v":77.205500000000029},{"$f":"IF('Sconti Export'!Y$80>'Sconti Export'!Y105-('Sconti Export'!Y105*'Sconti Export'!J105),'Sconti Export'!Y$80*'Zone Export'!$V$14,('Sconti Export'!Y105-('Sconti Export'!Y105*'Sconti Export'!J105))*'Zone Export'!$V$14)","v":193.36250000000001},{"$f":"IF('Sconti Export'!Z$80>'Sconti Export'!Z105-('Sconti Export'!Z105*'Sconti Export'!K105),'Sconti Export'!Z$80*'Zone Export'!$V$14,('Sconti Export'!Z105-('Sconti Export'!Z105*'Sconti Export'!K105))*'Zone Export'!$V$14)","v":105.059},{"$f":"IF('Sconti Export'!AA$80>'Sconti Export'!AA105-('Sconti Export'!AA105*'Sconti Export'!L105),'Sconti Export'!AA$80*'Zone Export'!$V$14,('Sconti Export'!AA105-('Sconti Export'!AA105*'Sconti Export'!L105))*'Zone Export'!$V$14)","v":169.7405},{"$f":"IF('Sconti Export'!AB$80>'Sconti Export'!AB105-('Sconti Export'!AB105*'Sconti Export'!M105),'Sconti Export'!AB$80*'Zone Export'!$V$14,('Sconti Export'!AB105-('Sconti Export'!AB105*'Sconti Export'!M105))*'Zone Export'!$V$14)","v":177.69200000000006},{"$f":"IF('Sconti Export'!AC$80>'Sconti Export'!AC105-('Sconti Export'!AC105*'Sconti Export'!N105),'Sconti Export'!AC$80*'Zone Export'!$V$14,('Sconti Export'!AC105-('Sconti Export'!AC105*'Sconti Export'!N105))*'Zone Export'!$V$14)","v":203.45300000000003},{"$f":"IF('Sconti Export'!AD$80>'Sconti Export'!AD105-('Sconti Export'!AD105*'Sconti Export'!O105),'Sconti Export'!AD$80*'Zone Export'!$V$14,('Sconti Export'!AD105-('Sconti Export'!AD105*'Sconti Export'!O105))*'Zone Export'!$V$14)","v":101.184}]
[null,"16 kg",null,{"$f":"IF('Sconti Export'!R$80>'Sconti Export'!R106-('Sconti Export'!R106*'Sconti Export'!C106),'Sconti Export'!R$80*'Zone Export'!$V$14,('Sconti Export'!R106-('Sconti Export'!R106*'Sconti Export'!C106))*'Zone Export'!$V$14)","v":24.660000000000004},{"$f":"IF('Sconti Export'!S$80>'Sconti Export'!S106-('Sconti Export'!S106*'Sconti Export'!D106),'Sconti Export'!S$80*'Zone Export'!$V$14,('Sconti Export'!S106-('Sconti Export'!S106*'Sconti Export'!D106))*'Zone Export'!$V$14)","v":71.557500000000005},{"$f":"IF('Sconti Export'!T$80>'Sconti Export'!T106-('Sconti Export'!T106*'Sconti Export'!E106),'Sconti Export'!T$80*'Zone Export'!$V$14,('Sconti Export'!T106-('Sconti Export'!T106*'Sconti Export'!E106))*'Zone Export'!$V$14)","v":72.920500000000004},{"$f":"IF('Sconti Export'!U$80>'Sconti Export'!U106-('Sconti Export'!U106*'Sconti Export'!F106),'Sconti Export'!U$80*'Zone Export'!$V$14,('Sconti Export'!U106-('Sconti Export'!U106*'Sconti Export'!F106))*'Zone Export'!$V$14)","v":77.72},{"$f":"IF('Sconti Export'!V$80>'Sconti Export'!V106-('Sconti Export'!V106*'Sconti Export'!G106),'Sconti Export'!V$80*'Zone Export'!$V$14,('Sconti Export'!V106-('Sconti Export'!V106*'Sconti Export'!G106))*'Zone Export'!$V$14)","v":175.10200000000003},{"$f":"IF('Sconti Export'!W$80>'Sconti Export'!W106-('Sconti Export'!W106*'Sconti Export'!H106),'Sconti Export'!W$80*'Zone Export'!$V$14,('Sconti Export'!W106-('Sconti Export'!W106*'Sconti Export'!H106))*'Zone Export'!$V$14)","v":178.11800000000005},{"$f":"IF('Sconti Export'!X$80>'Sconti Export'!X106-('Sconti Export'!X106*'Sconti Export'!I106),'Sconti Export'!X$80*'Zone Export'!$V$14,('Sconti Export'!X106-('Sconti Export'!X106*'Sconti Export'!I106))*'Zone Export'!$V$14)","v":80.522500000000008},{"$f":"IF('Sconti Export'!Y$80>'Sconti Export'!Y106-('Sconti Export'!Y106*'Sconti Export'!J106),'Sconti Export'!Y$80*'Zone Export'!$V$14,('Sconti Export'!Y106-('Sconti Export'!Y106*'Sconti Export'!J106))*'Zone Export'!$V$14)","v":202.66250000000002},{"$f":"IF('Sconti Export'!Z$80>'Sconti Export'!Z106-('Sconti Export'!Z106*'Sconti Export'!K106),'Sconti Export'!Z$80*'Zone Export'!$V$14,('Sconti Export'!Z106-('Sconti Export'!Z106*'Sconti Export'!K106))*'Zone Export'!$V$14)","v":110.71650000000002},{"$f":"IF('Sconti Export'!AA$80>'Sconti Export'!AA106-('Sconti Export'!AA106*'Sconti Export'!L106),'Sconti Export'!AA$80*'Zone Export'!$V$14,('Sconti Export'!AA106-('Sconti Export'!AA106*'Sconti Export'!L106))*'Zone Export'!$V$14)","v":177.16500000000002},{"$f":"IF('Sconti Export'!AB$80>'Sconti Export'!AB106-('Sconti Export'!AB106*'Sconti Export'!M106),'Sconti Export'!AB$80*'Zone Export'!$V$14,('Sconti Export'!AB106-('Sconti Export'!AB106*'Sconti Export'!M106))*'Zone Export'!$V$14)","v":185.13200000000006},{"$f":"IF('Sconti Export'!AC$80>'Sconti Export'!AC106-('Sconti Export'!AC106*'Sconti Export'!N106),'Sconti Export'!AC$80*'Zone Export'!$V$14,('Sconti Export'!AC106-('Sconti Export'!AC106*'Sconti Export'!N106))*'Zone Export'!$V$14)","v":212.58250000000004},{"$f":"IF('Sconti Export'!AD$80>'Sconti Export'!AD106-('Sconti Export'!AD106*'Sconti Export'!O106),'Sconti Export'!AD$80*'Zone Export'!$V$14,('Sconti Export'!AD106-('Sconti Export'!AD106*'Sconti Export'!O106))*'Zone Export'!$V$14)","v":104.98150000000001}]
[null,"17 kg",null,{"$f":"IF('Sconti Export'!R$80>'Sconti Export'!R107-('Sconti Export'!R107*'Sconti Export'!C107),'Sconti Export'!R$80*'Zone Export'!$V$14,('Sconti Export'!R107-('Sconti Export'!R107*'Sconti Export'!C107))*'Zone Export'!$V$14)","v":24.660000000000004},{"$f":"IF('Sconti Export'!S$80>'Sconti Export'!S107-('Sconti Export'!S107*'Sconti Export'!D107),'Sconti Export'!S$80*'Zone Export'!$V$14,('Sconti Export'!S107-('Sconti Export'!S107*'Sconti Export'!D107))*'Zone Export'!$V$14)","v":74.385000000000019},{"$f":"IF('Sconti Export'!T$80>'Sconti Export'!T107-('Sconti Export'!T107*'Sconti Export'!E107),'Sconti Export'!T$80*'Zone Export'!$V$14,('Sconti Export'!T107-('Sconti Export'!T107*'Sconti Export'!E107))*'Zone Export'!$V$14)","v":75.936500000000024},{"$f":"IF('Sconti Export'!U$80>'Sconti Export'!U107-('Sconti Export'!U107*'Sconti Export'!F107),'Sconti Export'!U$80*'Zone Export'!$V$14,('Sconti Export'!U107-('Sconti Export'!U107*'Sconti Export'!F107))*'Zone Export'!$V$14)","v":81.02600000000001},{"$f":"IF('Sconti Export'!V$80>'Sconti Export'!V107-('Sconti Export'!V107*'Sconti Export'!G107),'Sconti Export'!V$80*'Zone Export'!$V$14,('Sconti Export'!V107-('Sconti Export'!V107*'Sconti Export'!G107))*'Zone Export'!$V$14)","v":182.94650000000001},{"$f":"IF('Sconti Export'!W$80>'Sconti Export'!W107-('Sconti Export'!W107*'Sconti Export'!H107),'Sconti Export'!W$80*'Zone Export'!$V$14,('Sconti Export'!W107-('Sconti Export'!W107*'Sconti Export'!H107))*'Zone Export'!$V$14)","v":186.31050000000005},{"$f":"IF('Sconti Export'!X$80>'Sconti Export'!X107-('Sconti Export'!X107*'Sconti Export'!I107),'Sconti Export'!X$80*'Zone Export'!$V$14,('Sconti Export'!X107-('Sconti Export'!X107*'Sconti Export'!I107))*'Zone Export'!$V$14)","v":83.824000000000012},{"$f":"IF('Sconti Export'!Y$80>'Sconti Export'!Y107-('Sconti Export'!Y107*'Sconti Export'!J107),'Sconti Export'!Y$80*'Zone Export'!$V$14,('Sconti Export'!Y107-('Sconti Export'!Y107*'Sconti Export'!J107))*'Zone Export'!$V$14)","v":212.00900000000001},{"$f":"IF('Sconti Export'!Z$80>'Sconti Export'!Z107-('Sconti Export'!Z107*'Sconti Export'!K107),'Sconti Export'!Z$80*'Zone Export'!$V$14,('Sconti Export'!Z107-('Sconti Export'!Z107*'Sconti Export'!K107))*'Zone Export'!$V$14)","v":116.3895},{"$f":"IF('Sconti Export'!AA$80>'Sconti Export'!AA107-('Sconti Export'!AA107*'Sconti Export'!L107),'Sconti Export'!AA$80*'Zone Export'!$V$14,('Sconti Export'!AA107-('Sconti Export'!AA107*'Sconti Export'!L107))*'Zone Export'!$V$14)","v":184.6825},{"$f":"IF('Sconti Export'!AB$80>'Sconti Export'!AB107-('Sconti Export'!AB107*'Sconti Export'!M107),'Sconti Export'!AB$80*'Zone Export'!$V$14,('Sconti Export'!AB107-('Sconti Export'!AB107*'Sconti Export'!M107))*'Zone Export'!$V$14)","v":192.54100000000005},{"$f":"IF('Sconti Export'!AC$80>'Sconti Export'!AC107-('Sconti Export'!AC107*'Sconti Export'!N107),'Sconti Export'!AC$80*'Zone Export'!$V$14,('Sconti Export'!AC107-('Sconti Export'!AC107*'Sconti Export'!N107))*'Zone Export'!$V$14)","v":221.74300000000005},{"$f":"IF('Sconti Export'!AD$80>'Sconti Export'!AD107-('Sconti Export'!AD107*'Sconti Export'!O107),'Sconti Export'!AD$80*'Zone Export'!$V$14,('Sconti Export'!AD107-('Sconti Export'!AD107*'Sconti Export'!O107))*'Zone Export'!$V$14)","v":108.76350000000002}]
[null,"18 kg",null,{"$f":"IF('Sconti Export'!R$80>'Sconti Export'!R108-('Sconti Export'!R108*'Sconti Export'!C108),'Sconti Export'!R$80*'Zone Export'!$V$14,('Sconti Export'!R108-('Sconti Export'!R108*'Sconti Export'!C108))*'Zone Export'!$V$14)","v":24.660000000000004},{"$f":"IF('Sconti Export'!S$80>'Sconti Export'!S108-('Sconti Export'!S108*'Sconti Export'!D108),'Sconti Export'!S$80*'Zone Export'!$V$14,('Sconti Export'!S108-('Sconti Export'!S108*'Sconti Export'!D108))*'Zone Export'!$V$14)","v":77.11099999999999},{"$f":"IF('Sconti Export'!T$80>'Sconti Export'!T108-('Sconti Export'!T108*'Sconti Export'!E108),'Sconti Export'!T$80*'Zone Export'!$V$14,('Sconti Export'!T108-('Sconti Export'!T108*'Sconti Export'!E108))*'Zone Export'!$V$14)","v":78.981500000000011},{"$f":"IF('Sconti Export'!U$80>'Sconti Export'!U108-('Sconti Export'!U108*'Sconti Export'!F108),'Sconti Export'!U$80*'Zone Export'!$V$14,('Sconti Export'!U108-('Sconti Export'!U108*'Sconti Export'!F108))*'Zone Export'!$V$14)","v":84.302999999999997},{"$f":"IF('Sconti Export'!V$80>'Sconti Export'!V108-('Sconti Export'!V108*'Sconti Export'!G108),'Sconti Export'!V$80*'Zone Export'!$V$14,('Sconti Export'!V108-('Sconti Export'!V108*'Sconti Export'!G108))*'Zone Export'!$V$14)","v":190.83449999999999},{"$f":"IF('Sconti Export'!W$80>'Sconti Export'!W108-('Sconti Export'!W108*'Sconti Export'!H108),'Sconti Export'!W$80*'Zone Export'!$V$14,('Sconti Export'!W108-('Sconti Export'!W108*'Sconti Export'!H108))*'Zone Export'!$V$14)","v":194.53199999999998},{"$f":"IF('Sconti Export'!X$80>'Sconti Export'!X108-('Sconti Export'!X108*'Sconti Export'!I108),'Sconti Export'!X$80*'Zone Export'!$V$14,('Sconti Export'!X108-('Sconti Export'!X108*'Sconti Export'!I108))*'Zone Export'!$V$14)","v":87.125500000000017},{"$f":"IF('Sconti Export'!Y$80>'Sconti Export'!Y108-('Sconti Export'!Y108*'Sconti Export'!J108),'Sconti Export'!Y$80*'Zone Export'!$V$14,('Sconti Export'!Y108-('Sconti Export'!Y108*'Sconti Export'!J108))*'Zone Export'!$V$14)","v":221.34000000000003},{"$f":"IF('Sconti Export'!Z$80>'Sconti Export'!Z108-('Sconti Export'!Z108*'Sconti Export'!K108),'Sconti Export'!Z$80*'Zone Export'!$V$14,('Sconti Export'!Z108-('Sconti Export'!Z108*'Sconti Export'!K108))*'Zone Export'!$V$14)","v":122.04700000000003},{"$f":"IF('Sconti Export'!AA$80>'Sconti Export'!AA108-('Sconti Export'!AA108*'Sconti Export'!L108),'Sconti Export'!AA$80*'Zone Export'!$V$14,('Sconti Export'!AA108-('Sconti Export'!AA108*'Sconti Export'!L108))*'Zone Export'!$V$14)","v":192.10700000000003},{"$f":"IF('Sconti Export'!AB$80>'Sconti Export'!AB108-('Sconti Export'!AB108*'Sconti Export'!M108),'Sconti Export'!AB$80*'Zone Export'!$V$14,('Sconti Export'!AB108-('Sconti Export'!AB108*'Sconti Export'!M108))*'Zone Export'!$V$14)","v":199.99650000000003},{"$f":"IF('Sconti Export'!AC$80>'Sconti Export'!AC108-('Sconti Export'!AC108*'Sconti Export'!N108),'Sconti Export'!AC$80*'Zone Export'!$V$14,('Sconti Export'!AC108-('Sconti Export'!AC108*'Sconti Export'!N108))*'Zone Export'!$V$14)","v":230.90350000000001},{"$f":"IF('Sconti Export'!AD$80>'Sconti Export'!AD108-('Sconti Export'!AD108*'Sconti Export'!O108),'Sconti Export'!AD$80*'Zone Export'!$V$14,('Sconti Export'!AD108-('Sconti Export'!AD108*'Sconti Export'!O108))*'Zone Export'!$V$14)","v":112.59200000000001}]
[null,"19 kg",null,{"$f":"IF('Sconti Export'!R$80>'Sconti Export'!R109-('Sconti Export'!R109*'Sconti Export'!C109),'Sconti Export'!R$80*'Zone Export'!$V$14,('Sconti Export'!R109-('Sconti Export'!R109*'Sconti Export'!C109))*'Zone Export'!$V$14)","v":24.660000000000004},{"$f":"IF('Sconti Export'!S$80>'Sconti Export'!S109-('Sconti Export'!S109*'Sconti Export'!D109),'Sconti Export'!S$80*'Zone Export'!$V$14,('Sconti Export'!S109-('Sconti Export'!S109*'Sconti Export'!D109))*'Zone Export'!$V$14)","v":79.89500000000001},{"$f":"IF('Sconti Export'!T$80>'Sconti Export'!T109-('Sconti Export'!T109*'Sconti Export'!E109),'Sconti Export'!T$80*'Zone Export'!$V$14,('Sconti Export'!T109-('Sconti Export'!T109*'Sconti Export'!E109))*'Zone Export'!$V$14)","v":82.026500000000027},{"$f":"IF('Sconti Export'!U$80>'Sconti Export'!U109-('Sconti Export'!U109*'Sconti Export'!F109),'Sconti Export'!U$80*'Zone Export'!$V$14,('Sconti Export'!U109-('Sconti Export'!U109*'Sconti Export'!F109))*'Zone Export'!$V$14)","v":87.609000000000009},{"$f":"IF('Sconti Export'!V$80>'Sconti Export'!V109-('Sconti Export'!V109*'Sconti Export'!G109),'Sconti Export'!V$80*'Zone Export'!$V$14,('Sconti Export'!V109-('Sconti Export'!V109*'Sconti Export'!G109))*'Zone Export'!$V$14)","v":198.70800000000003},{"$f":"IF('Sconti Export'!W$80>'Sconti Export'!W109-('Sconti Export'!W109*'Sconti Export'!H109),'Sconti Export'!W$80*'Zone Export'!$V$14,('Sconti Export'!W109-('Sconti Export'!W109*'Sconti Export'!H109))*'Zone Export'!$V$14)","v":202.66650000000004},{"$f":"IF('Sconti Export'!X$80>'Sconti Export'!X109-('Sconti Export'!X109*'Sconti Export'!I109),'Sconti Export'!X$80*'Zone Export'!$V$14,('Sconti Export'!X109-('Sconti Export'!X109*'Sconti Export'!I109))*'Zone Export'!$V$14)","v":90.442500000000024},{"$f":"IF('Sconti Export'!Y$80>'Sconti Export'!Y109-('Sconti Export'!Y109*'Sconti Export'!J109),'Sconti Export'!Y$80*'Zone Export'!$V$14,('Sconti Export'!Y109-('Sconti Export'!Y109*'Sconti Export'!J109))*'Zone Export'!$V$14)","v":230.67100000000005},{"$f":"IF('Sconti Export'!Z$80>'Sconti Export'!Z109-('Sconti Export'!Z109*'Sconti Export'!K109),'Sconti Export'!Z$80*'Zone Export'!$V$14,('Sconti Export'!Z109-('Sconti Export'!Z109*'Sconti Export'!K109))*'Zone Export'!$V$14)","v":127.72000000000003},{"$f":"IF('Sconti Export'!AA$80>'Sconti Export'!AA109-('Sconti Export'!AA109*'Sconti Export'!L109),'Sconti Export'!AA$80*'Zone Export'!$V$14,('Sconti Export'!AA109-('Sconti Export'!AA109*'Sconti Export'!L109))*'Zone Export'!$V$14)","v":199.53150000000005},{"$f":"IF('Sconti Export'!AB$80>'Sconti Export'!AB109-('Sconti Export'!AB109*'Sconti Export'!M109),'Sconti Export'!AB$80*'Zone Export'!$V$14,('Sconti Export'!AB109-('Sconti Export'!AB109*'Sconti Export'!M109))*'Zone Export'!$V$14)","v":207.483},{"$f":"IF('Sconti Export'!AC$80>'Sconti Export'!AC109-('Sconti Export'!AC109*'Sconti Export'!N109),'Sconti Export'!AC$80*'Zone Export'!$V$14,('Sconti Export'!AC109-('Sconti Export'!AC109*'Sconti Export'!N109))*'Zone Export'!$V$14)","v":240.0485000000001},{"$f":"IF('Sconti Export'!AD$80>'Sconti Export'!AD109-('Sconti Export'!AD109*'Sconti Export'!O109),'Sconti Export'!AD$80*'Zone Export'!$V$14,('Sconti Export'!AD109-('Sconti Export'!AD109*'Sconti Export'!O109))*'Zone Export'!$V$14)","v":116.32750000000004}]
[null,"20 kg",null,{"$f":"IF('Sconti Export'!R$80>'Sconti Export'!R110-('Sconti Export'!R110*'Sconti Export'!C110),'Sconti Export'!R$80*'Zone Export'!$V$14,('Sconti Export'!R110-('Sconti Export'!R110*'Sconti Export'!C110))*'Zone Export'!$V$14)","v":24.660000000000004},{"$f":"IF('Sconti Export'!S$80>'Sconti Export'!S110-('Sconti Export'!S110*'Sconti Export'!D110),'Sconti Export'!S$80*'Zone Export'!$V$14,('Sconti Export'!S110-('Sconti Export'!S110*'Sconti Export'!D110))*'Zone Export'!$V$14)","v":82.722499999999997},{"$f":"IF('Sconti Export'!T$80>'Sconti Export'!T110-('Sconti Export'!T110*'Sconti Export'!E110),'Sconti Export'!T$80*'Zone Export'!$V$14,('Sconti Export'!T110-('Sconti Export'!T110*'Sconti Export'!E110))*'Zone Export'!$V$14)","v":85.071500000000015},{"$f":"IF('Sconti Export'!U$80>'Sconti Export'!U110-('Sconti Export'!U110*'Sconti Export'!F110),'Sconti Export'!U$80*'Zone Export'!$V$14,('Sconti Export'!U110-('Sconti Export'!U110*'Sconti Export'!F110))*'Zone Export'!$V$14)","v":90.885999999999996},{"$f":"IF('Sconti Export'!V$80>'Sconti Export'!V110-('Sconti Export'!V110*'Sconti Export'!G110),'Sconti Export'!V$80*'Zone Export'!$V$14,('Sconti Export'!V110-('Sconti Export'!V110*'Sconti Export'!G110))*'Zone Export'!$V$14)","v":206.596},{"$f":"IF('Sconti Export'!W$80>'Sconti Export'!W110-('Sconti Export'!W110*'Sconti Export'!H110),'Sconti Export'!W$80*'Zone Export'!$V$14,('Sconti Export'!W110-('Sconti Export'!W110*'Sconti Export'!H110))*'Zone Export'!$V$14)","v":210.85900000000004},{"$f":"IF('Sconti Export'!X$80>'Sconti Export'!X110-('Sconti Export'!X110*'Sconti Export'!I110),'Sconti Export'!X$80*'Zone Export'!$V$14,('Sconti Export'!X110-('Sconti Export'!X110*'Sconti Export'!I110))*'Zone Export'!$V$14)","v":93.759500000000003},{"$f":"IF('Sconti Export'!Y$80>'Sconti Export'!Y110-('Sconti Export'!Y110*'Sconti Export'!J110),'Sconti Export'!Y$80*'Zone Export'!$V$14,('Sconti Export'!Y110-('Sconti Export'!Y110*'Sconti Export'!J110))*'Zone Export'!$V$14)","v":240.00200000000007},{"$f":"IF('Sconti Export'!Z$80>'Sconti Export'!Z110-('Sconti Export'!Z110*'Sconti Export'!K110),'Sconti Export'!Z$80*'Zone Export'!$V$14,('Sconti Export'!Z110-('Sconti Export'!Z110*'Sconti Export'!K110))*'Zone Export'!$V$14)","v":133.36200000000002},{"$f":"IF('Sconti Export'!AA$80>'Sconti Export'!AA110-('Sconti Export'!AA110*'Sconti Export'!L110),'Sconti Export'!AA$80*'Zone Export'!$V$14,('Sconti Export'!AA110-('Sconti Export'!AA110*'Sconti Export'!L110))*'Zone Export'!$V$14)","v":207.03350000000006},{"$f":"IF('Sconti Export'!AB$80>'Sconti Export'!AB110-('Sconti Export'!AB110*'Sconti Export'!M110),'Sconti Export'!AB$80*'Zone Export'!$V$14,('Sconti Export'!AB110-('Sconti Export'!AB110*'Sconti Export'!M110))*'Zone Export'!$V$14)","v":214.923},{"$f":"IF('Sconti Export'!AC$80>'Sconti Export'!AC110-('Sconti Export'!AC110*'Sconti Export'!N110),'Sconti Export'!AC$80*'Zone Export'!$V$14,('Sconti Export'!AC110-('Sconti Export'!AC110*'Sconti Export'!N110))*'Zone Export'!$V$14)","v":249.19350000000009},{"$f":"IF('Sconti Export'!AD$80>'Sconti Export'!AD110-('Sconti Export'!AD110*'Sconti Export'!O110),'Sconti Export'!AD$80*'Zone Export'!$V$14,('Sconti Export'!AD110-('Sconti Export'!AD110*'Sconti Export'!O110))*'Zone Export'!$V$14)","v":120.15600000000001}]
[null,"22 kg",null,{"$f":"IF('Sconti Export'!R$80>'Sconti Export'!R111-('Sconti Export'!R111*'Sconti Export'!C111),'Sconti Export'!R$80*'Zone Export'!$V$14,('Sconti Export'!R111-('Sconti Export'!R111*'Sconti Export'!C111))*'Zone Export'!$V$14)","v":31.22},{"$f":"IF('Sconti Export'!S$80>'Sconti Export'!S111-('Sconti Export'!S111*'Sconti Export'!D111),'Sconti Export'!S$80*'Zone Export'!$V$14,('Sconti Export'!S111-('Sconti Export'!S111*'Sconti Export'!D111))*'Zone Export'!$V$14)","v":88.044000000000011},{"$f":"IF('Sconti Export'!T$80>'Sconti Export'!T111-('Sconti Export'!T111*'Sconti Export'!E111),'Sconti Export'!T$80*'Zone Export'!$V$14,('Sconti Export'!T111-('Sconti Export'!T111*'Sconti Export'!E111))*'Zone Export'!$V$14)","v":90.480000000000018},{"$f":"IF('Sconti Export'!U$80>'Sconti Export'!U111-('Sconti Export'!U111*'Sconti Export'!F111),'Sconti Export'!U$80*'Zone Export'!$V$14,('Sconti Export'!U111-('Sconti Export'!U111*'Sconti Export'!F111))*'Zone Export'!$V$14)","v":96.468500000000006},{"$f":"IF('Sconti Export'!V$80>'Sconti Export'!V111-('Sconti Export'!V111*'Sconti Export'!G111),'Sconti Export'!V$80*'Zone Export'!$V$14,('Sconti Export'!V111-('Sconti Export'!V111*'Sconti Export'!G111))*'Zone Export'!$V$14)","v":224.01050000000009},{"$f":"IF('Sconti Export'!W$80>'Sconti Export'!W111-('Sconti Export'!W111*'Sconti Export'!H111),'Sconti Export'!W$80*'Zone Export'!$V$14,('Sconti Export'!W111-('Sconti Export'!W111*'Sconti Export'!H111))*'Zone Export'!$V$14)","v":227.86750000000006},{"$f":"IF('Sconti Export'!X$80>'Sconti Export'!X111-('Sconti Export'!X111*'Sconti Export'!I111),'Sconti Export'!X$80*'Zone Export'!$V$14,('Sconti Export'!X111-('Sconti Export'!X111*'Sconti Export'!I111))*'Zone Export'!$V$14)","v":99.804500000000019},{"$f":"IF('Sconti Export'!Y$80>'Sconti Export'!Y111-('Sconti Export'!Y111*'Sconti Export'!J111),'Sconti Export'!Y$80*'Zone Export'!$V$14,('Sconti Export'!Y111-('Sconti Export'!Y111*'Sconti Export'!J111))*'Zone Export'!$V$14)","v":259.99700000000007},{"$f":"IF('Sconti Export'!Z$80>'Sconti Export'!Z111-('Sconti Export'!Z111*'Sconti Export'!K111),'Sconti Export'!Z$80*'Zone Export'!$V$14,('Sconti Export'!Z111-('Sconti Export'!Z111*'Sconti Export'!K111))*'Zone Export'!$V$14)","v":145.15750000000003},{"$f":"IF('Sconti Export'!AA$80>'Sconti Export'!AA111-('Sconti Export'!AA111*'Sconti Export'!L111),'Sconti Export'!AA$80*'Zone Export'!$V$14,('Sconti Export'!AA111-('Sconti Export'!AA111*'Sconti Export'!L111))*'Zone Export'!$V$14)","v":222.48700000000008},{"$f":"IF('Sconti Export'!AB$80>'Sconti Export'!AB111-('Sconti Export'!AB111*'Sconti Export'!M111),'Sconti Export'!AB$80*'Zone Export'!$V$14,('Sconti Export'!AB111-('Sconti Export'!AB111*'Sconti Export'!M111))*'Zone Export'!$V$14)","v":230.93450000000007},{"$f":"IF('Sconti Export'!AC$80>'Sconti Export'!AC111-('Sconti Export'!AC111*'Sconti Export'!N111),'Sconti Export'!AC$80*'Zone Export'!$V$14,('Sconti Export'!AC111-('Sconti Export'!AC111*'Sconti Export'!N111))*'Zone Export'!$V$14)","v":268.16550000000007},{"$f":"IF('Sconti Export'!AD$80>'Sconti Export'!AD111-('Sconti Export'!AD111*'Sconti Export'!O111),'Sconti Export'!AD$80*'Zone Export'!$V$14,('Sconti Export'!AD111-('Sconti Export'!AD111*'Sconti Export'!O111))*'Zone Export'!$V$14)","v":128.44850000000002}]
[null,"24 kg",null,{"$f":"IF('Sconti Export'!R$80>'Sconti Export'!R112-('Sconti Export'!R112*'Sconti Export'!C112),'Sconti Export'!R$80*'Zone Export'!$V$14,('Sconti Export'!R112-('Sconti Export'!R112*'Sconti Export'!C112))*'Zone Export'!$V$14)","v":31.22},{"$f":"IF('Sconti Export'!S$80>'Sconti Export'!S112-('Sconti Export'!S112*'Sconti Export'!D112),'Sconti Export'!S$80*'Zone Export'!$V$14,('Sconti Export'!S112-('Sconti Export'!S112*'Sconti Export'!D112))*'Zone Export'!$V$14)","v":93.003000000000014},{"$f":"IF('Sconti Export'!T$80>'Sconti Export'!T112-('Sconti Export'!T112*'Sconti Export'!E112),'Sconti Export'!T$80*'Zone Export'!$V$14,('Sconti Export'!T112-('Sconti Export'!T112*'Sconti Export'!E112))*'Zone Export'!$V$14)","v":95.468000000000018},{"$f":"IF('Sconti Export'!U$80>'Sconti Export'!U112-('Sconti Export'!U112*'Sconti Export'!F112),'Sconti Export'!U$80*'Zone Export'!$V$14,('Sconti Export'!U112-('Sconti Export'!U112*'Sconti Export'!F112))*'Zone Export'!$V$14)","v":101.55800000000002},{"$f":"IF('Sconti Export'!V$80>'Sconti Export'!V112-('Sconti Export'!V112*'Sconti Export'!G112),'Sconti Export'!V$80*'Zone Export'!$V$14,('Sconti Export'!V112-('Sconti Export'!V112*'Sconti Export'!G112))*'Zone Export'!$V$14)","v":240.38099999999997},{"$f":"IF('Sconti Export'!W$80>'Sconti Export'!W112-('Sconti Export'!W112*'Sconti Export'!H112),'Sconti Export'!W$80*'Zone Export'!$V$14,('Sconti Export'!W112-('Sconti Export'!W112*'Sconti Export'!H112))*'Zone Export'!$V$14)","v":243.84649999999999},{"$f":"IF('Sconti Export'!X$80>'Sconti Export'!X112-('Sconti Export'!X112*'Sconti Export'!I112),'Sconti Export'!X$80*'Zone Export'!$V$14,('Sconti Export'!X112-('Sconti Export'!X112*'Sconti Export'!I112))*'Zone Export'!$V$14)","v":105.41550000000001},{"$f":"IF('Sconti Export'!Y$80>'Sconti Export'!Y112-('Sconti Export'!Y112*'Sconti Export'!J112),'Sconti Export'!Y$80*'Zone Export'!$V$14,('Sconti Export'!Y112-('Sconti Export'!Y112*'Sconti Export'!J112))*'Zone Export'!$V$14)","v":278.7985000000001},{"$f":"IF('Sconti Export'!Z$80>'Sconti Export'!Z112-('Sconti Export'!Z112*'Sconti Export'!K112),'Sconti Export'!Z$80*'Zone Export'!$V$14,('Sconti Export'!Z112-('Sconti Export'!Z112*'Sconti Export'!K112))*'Zone Export'!$V$14)","v":156.30200000000002},{"$f":"IF('Sconti Export'!AA$80>'Sconti Export'!AA112-('Sconti Export'!AA112*'Sconti Export'!L112),'Sconti Export'!AA$80*'Zone Export'!$V$14,('Sconti Export'!AA112-('Sconti Export'!AA112*'Sconti Export'!L112))*'Zone Export'!$V$14)","v":236.93299999999999},{"$f":"IF('Sconti Export'!AB$80>'Sconti Export'!AB112-('Sconti Export'!AB112*'Sconti Export'!M112),'Sconti Export'!AB$80*'Zone Export'!$V$14,('Sconti Export'!AB112-('Sconti Export'!AB112*'Sconti Export'!M112))*'Zone Export'!$V$14)","v":245.95400000000006},{"$f":"IF('Sconti Export'!AC$80>'Sconti Export'!AC112-('Sconti Export'!AC112*'Sconti Export'!N112),'Sconti Export'!AC$80*'Zone Export'!$V$14,('Sconti Export'!AC112-('Sconti Export'!AC112*'Sconti Export'!N112))*'Zone Export'!$V$14)","v":285.88200000000006},{"$f":"IF('Sconti Export'!AD$80>'Sconti Export'!AD112-('Sconti Export'!AD112*'Sconti Export'!O112),'Sconti Export'!AD$80*'Zone Export'!$V$14,('Sconti Export'!AD112-('Sconti Export'!AD112*'Sconti Export'!O112))*'Zone Export'!$V$14)","v":136.15200000000004}]
[null,"26 kg",null,{"$f":"IF('Sconti Export'!R$80>'Sconti Export'!R113-('Sconti Export'!R113*'Sconti Export'!C113),'Sconti Export'!R$80*'Zone Export'!$V$14,('Sconti Export'!R113-('Sconti Export'!R113*'Sconti Export'!C113))*'Zone Export'!$V$14)","v":31.22},{"$f":"IF('Sconti Export'!S$80>'Sconti Export'!S113-('Sconti Export'!S113*'Sconti Export'!D113),'Sconti Export'!S$80*'Zone Export'!$V$14,('Sconti Export'!S113-('Sconti Export'!S113*'Sconti Export'!D113))*'Zone Export'!$V$14)","v":97.976500000000016},{"$f":"IF('Sconti Export'!T$80>'Sconti Export'!T113-('Sconti Export'!T113*'Sconti Export'!E113),'Sconti Export'!T$80*'Zone Export'!$V$14,('Sconti Export'!T113-('Sconti Export'!T113*'Sconti Export'!E113))*'Zone Export'!$V$14)","v":100.45600000000002},{"$f":"IF('Sconti Export'!U$80>'Sconti Export'!U113-('Sconti Export'!U113*'Sconti Export'!F113),'Sconti Export'!U$80*'Zone Export'!$V$14,('Sconti Export'!U113-('Sconti Export'!U113*'Sconti Export'!F113))*'Zone Export'!$V$14)","v":106.66200000000003},{"$f":"IF('Sconti Export'!V$80>'Sconti Export'!V113-('Sconti Export'!V113*'Sconti Export'!G113),'Sconti Export'!V$80*'Zone Export'!$V$14,('Sconti Export'!V113-('Sconti Export'!V113*'Sconti Export'!G113))*'Zone Export'!$V$14)","v":256.75150000000008},{"$f":"IF('Sconti Export'!W$80>'Sconti Export'!W113-('Sconti Export'!W113*'Sconti Export'!H113),'Sconti Export'!W$80*'Zone Export'!$V$14,('Sconti Export'!W113-('Sconti Export'!W113*'Sconti Export'!H113))*'Zone Export'!$V$14)","v":259.78200000000004},{"$f":"IF('Sconti Export'!X$80>'Sconti Export'!X113-('Sconti Export'!X113*'Sconti Export'!I113),'Sconti Export'!X$80*'Zone Export'!$V$14,('Sconti Export'!X113-('Sconti Export'!X113*'Sconti Export'!I113))*'Zone Export'!$V$14)","v":110.94900000000001},{"$f":"IF('Sconti Export'!Y$80>'Sconti Export'!Y113-('Sconti Export'!Y113*'Sconti Export'!J113),'Sconti Export'!Y$80*'Zone Export'!$V$14,('Sconti Export'!Y113-('Sconti Export'!Y113*'Sconti Export'!J113))*'Zone Export'!$V$14)","v":297.6155},{"$f":"IF('Sconti Export'!Z$80>'Sconti Export'!Z113-('Sconti Export'!Z113*'Sconti Export'!K113),'Sconti Export'!Z$80*'Zone Export'!$V$14,('Sconti Export'!Z113-('Sconti Export'!Z113*'Sconti Export'!K113))*'Zone Export'!$V$14)","v":167.44650000000001},{"$f":"IF('Sconti Export'!AA$80>'Sconti Export'!AA113-('Sconti Export'!AA113*'Sconti Export'!L113),'Sconti Export'!AA$80*'Zone Export'!$V$14,('Sconti Export'!AA113-('Sconti Export'!AA113*'Sconti Export'!L113))*'Zone Export'!$V$14)","v":251.37900000000002},{"$f":"IF('Sconti Export'!AB$80>'Sconti Export'!AB113-('Sconti Export'!AB113*'Sconti Export'!M113),'Sconti Export'!AB$80*'Zone Export'!$V$14,('Sconti Export'!AB113-('Sconti Export'!AB113*'Sconti Export'!M113))*'Zone Export'!$V$14)","v":260.88049999999998},{"$f":"IF('Sconti Export'!AC$80>'Sconti Export'!AC113-('Sconti Export'!AC113*'Sconti Export'!N113),'Sconti Export'!AC$80*'Zone Export'!$V$14,('Sconti Export'!AC113-('Sconti Export'!AC113*'Sconti Export'!N113))*'Zone Export'!$V$14)","v":303.58300000000008},{"$f":"IF('Sconti Export'!AD$80>'Sconti Export'!AD113-('Sconti Export'!AD113*'Sconti Export'!O113),'Sconti Export'!AD$80*'Zone Export'!$V$14,('Sconti Export'!AD113-('Sconti Export'!AD113*'Sconti Export'!O113))*'Zone Export'!$V$14)","v":143.93300000000005}]
[null,"28 kg",null,{"$f":"IF('Sconti Export'!R$80>'Sconti Export'!R114-('Sconti Export'!R114*'Sconti Export'!C114),'Sconti Export'!R$80*'Zone Export'!$V$14,('Sconti Export'!R114-('Sconti Export'!R114*'Sconti Export'!C114))*'Zone Export'!$V$14)","v":31.22},{"$f":"IF('Sconti Export'!S$80>'Sconti Export'!S114-('Sconti Export'!S114*'Sconti Export'!D114),'Sconti Export'!S$80*'Zone Export'!$V$14,('Sconti Export'!S114-('Sconti Export'!S114*'Sconti Export'!D114))*'Zone Export'!$V$14)","v":102.93550000000002},{"$f":"IF('Sconti Export'!T$80>'Sconti Export'!T114-('Sconti Export'!T114*'Sconti Export'!E114),'Sconti Export'!T$80*'Zone Export'!$V$14,('Sconti Export'!T114-('Sconti Export'!T114*'Sconti Export'!E114))*'Zone Export'!$V$14)","v":105.50200000000001},{"$f":"IF('Sconti Export'!U$80>'Sconti Export'!U114-('Sconti Export'!U114*'Sconti Export'!F114),'Sconti Export'!U$80*'Zone Export'!$V$14,('Sconti Export'!U114-('Sconti Export'!U114*'Sconti Export'!F114))*'Zone Export'!$V$14)","v":111.76600000000002},{"$f":"IF('Sconti Export'!V$80>'Sconti Export'!V114-('Sconti Export'!V114*'Sconti Export'!G114),'Sconti Export'!V$80*'Zone Export'!$V$14,('Sconti Export'!V114-('Sconti Export'!V114*'Sconti Export'!G114))*'Zone Export'!$V$14)","v":273.13650000000007},{"$f":"IF('Sconti Export'!W$80>'Sconti Export'!W114-('Sconti Export'!W114*'Sconti Export'!H114),'Sconti Export'!W$80*'Zone Export'!$V$14,('Sconti Export'!W114-('Sconti Export'!W114*'Sconti Export'!H114))*'Zone Export'!$V$14)","v":275.76100000000008},{"$f":"IF('Sconti Export'!X$80>'Sconti Export'!X114-('Sconti Export'!X114*'Sconti Export'!I114),'Sconti Export'!X$80*'Zone Export'!$V$14,('Sconti Export'!X114-('Sconti Export'!X114*'Sconti Export'!I114))*'Zone Export'!$V$14)","v":116.51350000000002},{"$f":"IF('Sconti Export'!Y$80>'Sconti Export'!Y114-('Sconti Export'!Y114*'Sconti Export'!J114),'Sconti Export'!Y$80*'Zone Export'!$V$14,('Sconti Export'!Y114-('Sconti Export'!Y114*'Sconti Export'!J114))*'Zone Export'!$V$14)","v":316.41700000000003},{"$f":"IF('Sconti Export'!Z$80>'Sconti Export'!Z114-('Sconti Export'!Z114*'Sconti Export'!K114),'Sconti Export'!Z$80*'Zone Export'!$V$14,('Sconti Export'!Z114-('Sconti Export'!Z114*'Sconti Export'!K114))*'Zone Export'!$V$14)","v":178.57550000000003},{"$f":"IF('Sconti Export'!AA$80>'Sconti Export'!AA114-('Sconti Export'!AA114*'Sconti Export'!L114),'Sconti Export'!AA$80*'Zone Export'!$V$14,('Sconti Export'!AA114-('Sconti Export'!AA114*'Sconti Export'!L114))*'Zone Export'!$V$14)","v":265.82500000000005},{"$f":"IF('Sconti Export'!AB$80>'Sconti Export'!AB114-('Sconti Export'!AB114*'Sconti Export'!M114),'Sconti Export'!AB$80*'Zone Export'!$V$14,('Sconti Export'!AB114-('Sconti Export'!AB114*'Sconti Export'!M114))*'Zone Export'!$V$14)","v":275.83800000000008},{"$f":"IF('Sconti Export'!AC$80>'Sconti Export'!AC114-('Sconti Export'!AC114*'Sconti Export'!N114),'Sconti Export'!AC$80*'Zone Export'!$V$14,('Sconti Export'!AC114-('Sconti Export'!AC114*'Sconti Export'!N114))*'Zone Export'!$V$14)","v":321.33050000000003},{"$f":"IF('Sconti Export'!AD$80>'Sconti Export'!AD114-('Sconti Export'!AD114*'Sconti Export'!O114),'Sconti Export'!AD$80*'Zone Export'!$V$14,('Sconti Export'!AD114-('Sconti Export'!AD114*'Sconti Export'!O114))*'Zone Export'!$V$14)","v":151.5745}]
[null,"30 kg",null,{"$f":"IF('Sconti Export'!R$80>'Sconti Export'!R115-('Sconti Export'!R115*'Sconti Export'!C115),'Sconti Export'!R$80*'Zone Export'!$V$14,('Sconti Export'!R115-('Sconti Export'!R115*'Sconti Export'!C115))*'Zone Export'!$V$14)","v":31.22},{"$f":"IF('Sconti Export'!S$80>'Sconti Export'!S115-('Sconti Export'!S115*'Sconti Export'!D115),'Sconti Export'!S$80*'Zone Export'!$V$14,('Sconti Export'!S115-('Sconti Export'!S115*'Sconti Export'!D115))*'Zone Export'!$V$14)","v":107.92349999999999},{"$f":"IF('Sconti Export'!T$80>'Sconti Export'!T115-('Sconti Export'!T115*'Sconti Export'!E115),'Sconti Export'!T$80*'Zone Export'!$V$14,('Sconti Export'!T115-('Sconti Export'!T115*'Sconti Export'!E115))*'Zone Export'!$V$14)","v":110.46100000000001},{"$f":"IF('Sconti Export'!U$80>'Sconti Export'!U115-('Sconti Export'!U115*'Sconti Export'!F115),'Sconti Export'!U$80*'Zone Export'!$V$14,('Sconti Export'!U115-('Sconti Export'!U115*'Sconti Export'!F115))*'Zone Export'!$V$14)","v":116.87},{"$f":"IF('Sconti Export'!V$80>'Sconti Export'!V115-('Sconti Export'!V115*'Sconti Export'!G115),'Sconti Export'!V$80*'Zone Export'!$V$14,('Sconti Export'!V115-('Sconti Export'!V115*'Sconti Export'!G115))*'Zone Export'!$V$14)","v":289.52150000000006},{"$f":"IF('Sconti Export'!W$80>'Sconti Export'!W115-('Sconti Export'!W115*'Sconti Export'!H115),'Sconti Export'!W$80*'Zone Export'!$V$14,('Sconti Export'!W115-('Sconti Export'!W115*'Sconti Export'!H115))*'Zone Export'!$V$14)","v":291.76900000000001},{"$f":"IF('Sconti Export'!X$80>'Sconti Export'!X115-('Sconti Export'!X115*'Sconti Export'!I115),'Sconti Export'!X$80*'Zone Export'!$V$14,('Sconti Export'!X115-('Sconti Export'!X115*'Sconti Export'!I115))*'Zone Export'!$V$14)","v":122.12450000000001},{"$f":"IF('Sconti Export'!Y$80>'Sconti Export'!Y115-('Sconti Export'!Y115*'Sconti Export'!J115),'Sconti Export'!Y$80*'Zone Export'!$V$14,('Sconti Export'!Y115-('Sconti Export'!Y115*'Sconti Export'!J115))*'Zone Export'!$V$14)","v":335.23400000000004},{"$f":"IF('Sconti Export'!Z$80>'Sconti Export'!Z115-('Sconti Export'!Z115*'Sconti Export'!K115),'Sconti Export'!Z$80*'Zone Export'!$V$14,('Sconti Export'!Z115-('Sconti Export'!Z115*'Sconti Export'!K115))*'Zone Export'!$V$14)","v":189.7355},{"$f":"IF('Sconti Export'!AA$80>'Sconti Export'!AA115-('Sconti Export'!AA115*'Sconti Export'!L115),'Sconti Export'!AA$80*'Zone Export'!$V$14,('Sconti Export'!AA115-('Sconti Export'!AA115*'Sconti Export'!L115))*'Zone Export'!$V$14)","v":280.25549999999998},{"$f":"IF('Sconti Export'!AB$80>'Sconti Export'!AB115-('Sconti Export'!AB115*'Sconti Export'!M115),'Sconti Export'!AB$80*'Zone Export'!$V$14,('Sconti Export'!AB115-('Sconti Export'!AB115*'Sconti Export'!M115))*'Zone Export'!$V$14)","v":290.78000000000009},{"$f":"IF('Sconti Export'!AC$80>'Sconti Export'!AC115-('Sconti Export'!AC115*'Sconti Export'!N115),'Sconti Export'!AC$80*'Zone Export'!$V$14,('Sconti Export'!AC115-('Sconti Export'!AC115*'Sconti Export'!N115))*'Zone Export'!$V$14)","v":339.06250000000011},{"$f":"IF('Sconti Export'!AD$80>'Sconti Export'!AD115-('Sconti Export'!AD115*'Sconti Export'!O115),'Sconti Export'!AD$80*'Zone Export'!$V$14,('Sconti Export'!AD115-('Sconti Export'!AD115*'Sconti Export'!O115))*'Zone Export'!$V$14)","v":159.30900000000003}]
[null,"35 kg",null,{"$f":"IF('Sconti Export'!R$80>'Sconti Export'!R116-('Sconti Export'!R116*'Sconti Export'!C116),'Sconti Export'!R$80*'Zone Export'!$V$14,('Sconti Export'!R116-('Sconti Export'!R116*'Sconti Export'!C116))*'Zone Export'!$V$14)","v":37.619999999999997},{"$f":"IF('Sconti Export'!S$80>'Sconti Export'!S116-('Sconti Export'!S116*'Sconti Export'!D116),'Sconti Export'!S$80*'Zone Export'!$V$14,('Sconti Export'!S116-('Sconti Export'!S116*'Sconti Export'!D116))*'Zone Export'!$V$14)","v":118.13150000000002},{"$f":"IF('Sconti Export'!T$80>'Sconti Export'!T116-('Sconti Export'!T116*'Sconti Export'!E116),'Sconti Export'!T$80*'Zone Export'!$V$14,('Sconti Export'!T116-('Sconti Export'!T116*'Sconti Export'!E116))*'Zone Export'!$V$14)","v":122.62650000000002},{"$f":"IF('Sconti Export'!U$80>'Sconti Export'!U116-('Sconti Export'!U116*'Sconti Export'!F116),'Sconti Export'!U$80*'Zone Export'!$V$14,('Sconti Export'!U116-('Sconti Export'!U116*'Sconti Export'!F116))*'Zone Export'!$V$14)","v":127.89000000000004},{"$f":"IF('Sconti Export'!V$80>'Sconti Export'!V116-('Sconti Export'!V116*'Sconti Export'!G116),'Sconti Export'!V$80*'Zone Export'!$V$14,('Sconti Export'!V116-('Sconti Export'!V116*'Sconti Export'!G116))*'Zone Export'!$V$14)","v":323.75600000000009},{"$f":"IF('Sconti Export'!W$80>'Sconti Export'!W116-('Sconti Export'!W116*'Sconti Export'!H116),'Sconti Export'!W$80*'Zone Export'!$V$14,('Sconti Export'!W116-('Sconti Export'!W116*'Sconti Export'!H116))*'Zone Export'!$V$14)","v":330.68700000000001},{"$f":"IF('Sconti Export'!X$80>'Sconti Export'!X116-('Sconti Export'!X116*'Sconti Export'!I116),'Sconti Export'!X$80*'Zone Export'!$V$14,('Sconti Export'!X116-('Sconti Export'!X116*'Sconti Export'!I116))*'Zone Export'!$V$14)","v":133.45500000000004},{"$f":"IF('Sconti Export'!Y$80>'Sconti Export'!Y116-('Sconti Export'!Y116*'Sconti Export'!J116),'Sconti Export'!Y$80*'Zone Export'!$V$14,('Sconti Export'!Y116-('Sconti Export'!Y116*'Sconti Export'!J116))*'Zone Export'!$V$14)","v":375.20850000000007},{"$f":"IF('Sconti Export'!Z$80>'Sconti Export'!Z116-('Sconti Export'!Z116*'Sconti Export'!K116),'Sconti Export'!Z$80*'Zone Export'!$V$14,('Sconti Export'!Z116-('Sconti Export'!Z116*'Sconti Export'!K116))*'Zone Export'!$V$14)","v":214.83000000000004},{"$f":"IF('Sconti Export'!AA$80>'Sconti Export'!AA116-('Sconti Export'!AA116*'Sconti Export'!L116),'Sconti Export'!AA$80*'Zone Export'!$V$14,('Sconti Export'!AA116-('Sconti Export'!AA116*'Sconti Export'!L116))*'Zone Export'!$V$14)","v":316.7890000000001},{"$f":"IF('Sconti Export'!AB$80>'Sconti Export'!AB116-('Sconti Export'!AB116*'Sconti Export'!M116),'Sconti Export'!AB$80*'Zone Export'!$V$14,('Sconti Export'!AB116-('Sconti Export'!AB116*'Sconti Export'!M116))*'Zone Export'!$V$14)","v":325.8565000000001},{"$f":"IF('Sconti Export'!AC$80>'Sconti Export'!AC116-('Sconti Export'!AC116*'Sconti Export'!N116),'Sconti Export'!AC$80*'Zone Export'!$V$14,('Sconti Export'!AC116-('Sconti Export'!AC116*'Sconti Export'!N116))*'Zone Export'!$V$14)","v":375.17750000000001},{"$f":"IF('Sconti Export'!AD$80>'Sconti Export'!AD116-('Sconti Export'!AD116*'Sconti Export'!O116),'Sconti Export'!AD$80*'Zone Export'!$V$14,('Sconti Export'!AD116-('Sconti Export'!AD116*'Sconti Export'!O116))*'Zone Export'!$V$14)","v":173.95650000000001}]
[null,"40 kg",null,{"$f":"IF('Sconti Export'!R$80>'Sconti Export'!R117-('Sconti Export'!R117*'Sconti Export'!C117),'Sconti Export'!R$80*'Zone Export'!$V$14,('Sconti Export'!R117-('Sconti Export'!R117*'Sconti Export'!C117))*'Zone Export'!$V$14)","v":37.619999999999997},{"$f":"IF('Sconti Export'!S$80>'Sconti Export'!S117-('Sconti Export'!S117*'Sconti Export'!D117),'Sconti Export'!S$80*'Zone Export'!$V$14,('Sconti Export'!S117-('Sconti Export'!S117*'Sconti Export'!D117))*'Zone Export'!$V$14)","v":128.36849999999998},{"$f":"IF('Sconti Export'!T$80>'Sconti Export'!T117-('Sconti Export'!T117*'Sconti Export'!E117),'Sconti Export'!T$80*'Zone Export'!$V$14,('Sconti Export'!T117-('Sconti Export'!T117*'Sconti Export'!E117))*'Zone Export'!$V$14)","v":134.73400000000004},{"$f":"IF('Sconti Export'!U$80>'Sconti Export'!U117-('Sconti Export'!U117*'Sconti Export'!F117),'Sconti Export'!U$80*'Zone Export'!$V$14,('Sconti Export'!U117-('Sconti Export'!U117*'Sconti Export'!F117))*'Zone Export'!$V$14)","v":138.86650000000003},{"$f":"IF('Sconti Export'!V$80>'Sconti Export'!V117-('Sconti Export'!V117*'Sconti Export'!G117),'Sconti Export'!V$80*'Zone Export'!$V$14,('Sconti Export'!V117-('Sconti Export'!V117*'Sconti Export'!G117))*'Zone Export'!$V$14)","v":359.0055000000001},{"$f":"IF('Sconti Export'!W$80>'Sconti Export'!W117-('Sconti Export'!W117*'Sconti Export'!H117),'Sconti Export'!W$80*'Zone Export'!$V$14,('Sconti Export'!W117-('Sconti Export'!W117*'Sconti Export'!H117))*'Zone Export'!$V$14)","v":365.99450000000002},{"$f":"IF('Sconti Export'!X$80>'Sconti Export'!X117-('Sconti Export'!X117*'Sconti Export'!I117),'Sconti Export'!X$80*'Zone Export'!$V$14,('Sconti Export'!X117-('Sconti Export'!X117*'Sconti Export'!I117))*'Zone Export'!$V$14)","v":144.78550000000001},{"$f":"IF('Sconti Export'!Y$80>'Sconti Export'!Y117-('Sconti Export'!Y117*'Sconti Export'!J117),'Sconti Export'!Y$80*'Zone Export'!$V$14,('Sconti Export'!Y117-('Sconti Export'!Y117*'Sconti Export'!J117))*'Zone Export'!$V$14)","v":415.16750000000002},{"$f":"IF('Sconti Export'!Z$80>'Sconti Export'!Z117-('Sconti Export'!Z117*'Sconti Export'!K117),'Sconti Export'!Z$80*'Zone Export'!$V$14,('Sconti Export'!Z117-('Sconti Export'!Z117*'Sconti Export'!K117))*'Zone Export'!$V$14)","v":239.53700000000003},{"$f":"IF('Sconti Export'!AA$80>'Sconti Export'!AA117-('Sconti Export'!AA117*'Sconti Export'!L117),'Sconti Export'!AA$80*'Zone Export'!$V$14,('Sconti Export'!AA117-('Sconti Export'!AA117*'Sconti Export'!L117))*'Zone Export'!$V$14)","v":351.13700000000006},{"$f":"IF('Sconti Export'!AB$80>'Sconti Export'!AB117-('Sconti Export'!AB117*'Sconti Export'!M117),'Sconti Export'!AB$80*'Zone Export'!$V$14,('Sconti Export'!AB117-('Sconti Export'!AB117*'Sconti Export'!M117))*'Zone Export'!$V$14)","v":360.94850000000008},{"$f":"IF('Sconti Export'!AC$80>'Sconti Export'!AC117-('Sconti Export'!AC117*'Sconti Export'!N117),'Sconti Export'!AC$80*'Zone Export'!$V$14,('Sconti Export'!AC117-('Sconti Export'!AC117*'Sconti Export'!N117))*'Zone Export'!$V$14)","v":411.83500000000004},{"$f":"IF('Sconti Export'!AD$80>'Sconti Export'!AD117-('Sconti Export'!AD117*'Sconti Export'!O117),'Sconti Export'!AD$80*'Zone Export'!$V$14,('Sconti Export'!AD117-('Sconti Export'!AD117*'Sconti Export'!O117))*'Zone Export'!$V$14)","v":188.5575}]
[null,"45 kg",null,{"$f":"IF('Sconti Export'!R$80>'Sconti Export'!R118-('Sconti Export'!R118*'Sconti Export'!C118),'Sconti Export'!R$80*'Zone Export'!$V$14,('Sconti Export'!R118-('Sconti Export'!R118*'Sconti Export'!C118))*'Zone Export'!$V$14)","v":44.019999999999996},{"$f":"IF('Sconti Export'!S$80>'Sconti Export'!S118-('Sconti Export'!S118*'Sconti Export'!D118),'Sconti Export'!S$80*'Zone Export'!$V$14,('Sconti Export'!S118-('Sconti Export'!S118*'Sconti Export'!D118))*'Zone Export'!$V$14)","v":138.60550000000001},{"$f":"IF('Sconti Export'!T$80>'Sconti Export'!T118-('Sconti Export'!T118*'Sconti Export'!E118),'Sconti Export'!T$80*'Zone Export'!$V$14,('Sconti Export'!T118-('Sconti Export'!T118*'Sconti Export'!E118))*'Zone Export'!$V$14)","v":146.8125},{"$f":"IF('Sconti Export'!U$80>'Sconti Export'!U118-('Sconti Export'!U118*'Sconti Export'!F118),'Sconti Export'!U$80*'Zone Export'!$V$14,('Sconti Export'!U118-('Sconti Export'!U118*'Sconti Export'!F118))*'Zone Export'!$V$14)","v":152.40949999999998},{"$f":"IF('Sconti Export'!V$80>'Sconti Export'!V118-('Sconti Export'!V118*'Sconti Export'!G118),'Sconti Export'!V$80*'Zone Export'!$V$14,('Sconti Export'!V118-('Sconti Export'!V118*'Sconti Export'!G118))*'Zone Export'!$V$14)","v":394.2115},{"$f":"IF('Sconti Export'!W$80>'Sconti Export'!W118-('Sconti Export'!W118*'Sconti Export'!H118),'Sconti Export'!W$80*'Zone Export'!$V$14,('Sconti Export'!W118-('Sconti Export'!W118*'Sconti Export'!H118))*'Zone Export'!$V$14)","v":401.31650000000002},{"$f":"IF('Sconti Export'!X$80>'Sconti Export'!X118-('Sconti Export'!X118*'Sconti Export'!I118),'Sconti Export'!X$80*'Zone Export'!$V$14,('Sconti Export'!X118-('Sconti Export'!X118*'Sconti Export'!I118))*'Zone Export'!$V$14)","v":156.13150000000002},{"$f":"IF('Sconti Export'!Y$80>'Sconti Export'!Y118-('Sconti Export'!Y118*'Sconti Export'!J118),'Sconti Export'!Y$80*'Zone Export'!$V$14,('Sconti Export'!Y118-('Sconti Export'!Y118*'Sconti Export'!J118))*'Zone Export'!$V$14)","v":455.14200000000005},{"$f":"IF('Sconti Export'!Z$80>'Sconti Export'!Z118-('Sconti Export'!Z118*'Sconti Export'!K118),'Sconti Export'!Z$80*'Zone Export'!$V$14,('Sconti Export'!Z118-('Sconti Export'!Z118*'Sconti Export'!K118))*'Zone Export'!$V$14)","v":264.24400000000003},{"$f":"IF('Sconti Export'!AA$80>'Sconti Export'!AA118-('Sconti Export'!AA118*'Sconti Export'!L118),'Sconti Export'!AA$80*'Zone Export'!$V$14,('Sconti Export'!AA118-('Sconti Export'!AA118*'Sconti Export'!L118))*'Zone Export'!$V$14)","v":385.51600000000008},{"$f":"IF('Sconti Export'!AB$80>'Sconti Export'!AB118-('Sconti Export'!AB118*'Sconti Export'!M118),'Sconti Export'!AB$80*'Zone Export'!$V$14,('Sconti Export'!AB118-('Sconti Export'!AB118*'Sconti Export'!M118))*'Zone Export'!$V$14)","v":396.04050000000007},{"$f":"IF('Sconti Export'!AC$80>'Sconti Export'!AC118-('Sconti Export'!AC118*'Sconti Export'!N118),'Sconti Export'!AC$80*'Zone Export'!$V$14,('Sconti Export'!AC118-('Sconti Export'!AC118*'Sconti Export'!N118))*'Zone Export'!$V$14)","v":448.47700000000009},{"$f":"IF('Sconti Export'!AD$80>'Sconti Export'!AD118-('Sconti Export'!AD118*'Sconti Export'!O118),'Sconti Export'!AD$80*'Zone Export'!$V$14,('Sconti Export'!AD118-('Sconti Export'!AD118*'Sconti Export'!O118))*'Zone Export'!$V$14)","v":203.18950000000007}]
[null,"50 kg",null,{"$f":"IF('Sconti Export'!R$80>'Sconti Export'!R119-('Sconti Export'!R119*'Sconti Export'!C119),'Sconti Export'!R$80*'Zone Export'!$V$14,('Sconti Export'!R119-('Sconti Export'!R119*'Sconti Export'!C119))*'Zone Export'!$V$14)","v":44.019999999999996},{"$f":"IF('Sconti Export'!S$80>'Sconti Export'!S119-('Sconti Export'!S119*'Sconti Export'!D119),'Sconti Export'!S$80*'Zone Export'!$V$14,('Sconti Export'!S119-('Sconti Export'!S119*'Sconti Export'!D119))*'Zone Export'!$V$14)","v":148.87150000000003},{"$f":"IF('Sconti Export'!T$80>'Sconti Export'!T119-('Sconti Export'!T119*'Sconti Export'!E119),'Sconti Export'!T$80*'Zone Export'!$V$14,('Sconti Export'!T119-('Sconti Export'!T119*'Sconti Export'!E119))*'Zone Export'!$V$14)","v":158.93450000000001},{"$f":"IF('Sconti Export'!U$80>'Sconti Export'!U119-('Sconti Export'!U119*'Sconti Export'!F119),'Sconti Export'!U$80*'Zone Export'!$V$14,('Sconti Export'!U119-('Sconti Export'!U119*'Sconti Export'!F119))*'Zone Export'!$V$14)","v":165.99600000000004},{"$f":"IF('Sconti Export'!V$80>'Sconti Export'!V119-('Sconti Export'!V119*'Sconti Export'!G119),'Sconti Export'!V$80*'Zone Export'!$V$14,('Sconti Export'!V119-('Sconti Export'!V119*'Sconti Export'!G119))*'Zone Export'!$V$14)","v":429.47550000000001},{"$f":"IF('Sconti Export'!W$80>'Sconti Export'!W119-('Sconti Export'!W119*'Sconti Export'!H119),'Sconti Export'!W$80*'Zone Export'!$V$14,('Sconti Export'!W119-('Sconti Export'!W119*'Sconti Export'!H119))*'Zone Export'!$V$14)","v":436.63850000000002},{"$f":"IF('Sconti Export'!X$80>'Sconti Export'!X119-('Sconti Export'!X119*'Sconti Export'!I119),'Sconti Export'!X$80*'Zone Export'!$V$14,('Sconti Export'!X119-('Sconti Export'!X119*'Sconti Export'!I119))*'Zone Export'!$V$14)","v":167.49299999999999},{"$f":"IF('Sconti Export'!Y$80>'Sconti Export'!Y119-('Sconti Export'!Y119*'Sconti Export'!J119),'Sconti Export'!Y$80*'Zone Export'!$V$14,('Sconti Export'!Y119-('Sconti Export'!Y119*'Sconti Export'!J119))*'Zone Export'!$V$14)","v":495.13200000000006},{"$f":"IF('Sconti Export'!Z$80>'Sconti Export'!Z119-('Sconti Export'!Z119*'Sconti Export'!K119),'Sconti Export'!Z$80*'Zone Export'!$V$14,('Sconti Export'!Z119-('Sconti Export'!Z119*'Sconti Export'!K119))*'Zone Export'!$V$14)","v":288.9045000000001},{"$f":"IF('Sconti Export'!AA$80>'Sconti Export'!AA119-('Sconti Export'!AA119*'Sconti Export'!L119),'Sconti Export'!AA$80*'Zone Export'!$V$14,('Sconti Export'!AA119-('Sconti Export'!AA119*'Sconti Export'!L119))*'Zone Export'!$V$14)","v":419.84850000000006},{"$f":"IF('Sconti Export'!AB$80>'Sconti Export'!AB119-('Sconti Export'!AB119*'Sconti Export'!M119),'Sconti Export'!AB$80*'Zone Export'!$V$14,('Sconti Export'!AB119-('Sconti Export'!AB119*'Sconti Export'!M119))*'Zone Export'!$V$14)","v":439.71950000000004},{"$f":"IF('Sconti Export'!AC$80>'Sconti Export'!AC119-('Sconti Export'!AC119*'Sconti Export'!N119),'Sconti Export'!AC$80*'Zone Export'!$V$14,('Sconti Export'!AC119-('Sconti Export'!AC119*'Sconti Export'!N119))*'Zone Export'!$V$14)","v":485.15000000000009},{"$f":"IF('Sconti Export'!AD$80>'Sconti Export'!AD119-('Sconti Export'!AD119*'Sconti Export'!O119),'Sconti Export'!AD$80*'Zone Export'!$V$14,('Sconti Export'!AD119-('Sconti Export'!AD119*'Sconti Export'!O119))*'Zone Export'!$V$14)","v":217.86799999999999}]
[null,"55 kg",null,{"$f":"IF('Sconti Export'!R$80>'Sconti Export'!R120-('Sconti Export'!R120*'Sconti Export'!C120),'Sconti Export'!R$80*'Zone Export'!$V$14,('Sconti Export'!R120-('Sconti Export'!R120*'Sconti Export'!C120))*'Zone Export'!$V$14)","v":50.44},{"$f":"IF('Sconti Export'!S$80>'Sconti Export'!S120-('Sconti Export'!S120*'Sconti Export'!D120),'Sconti Export'!S$80*'Zone Export'!$V$14,('Sconti Export'!S120-('Sconti Export'!S120*'Sconti Export'!D120))*'Zone Export'!$V$14)","v":159.09400000000005},{"$f":"IF('Sconti Export'!T$80>'Sconti Export'!T120-('Sconti Export'!T120*'Sconti Export'!E120),'Sconti Export'!T$80*'Zone Export'!$V$14,('Sconti Export'!T120-('Sconti Export'!T120*'Sconti Export'!E120))*'Zone Export'!$V$14)","v":171.05650000000003},{"$f":"IF('Sconti Export'!U$80>'Sconti Export'!U120-('Sconti Export'!U120*'Sconti Export'!F120),'Sconti Export'!U$80*'Zone Export'!$V$14,('Sconti Export'!U120-('Sconti Export'!U120*'Sconti Export'!F120))*'Zone Export'!$V$14)","v":179.51000000000005},{"$f":"IF('Sconti Export'!V$80>'Sconti Export'!V120-('Sconti Export'!V120*'Sconti Export'!G120),'Sconti Export'!V$80*'Zone Export'!$V$14,('Sconti Export'!V120-('Sconti Export'!V120*'Sconti Export'!G120))*'Zone Export'!$V$14)","v":464.71050000000014},{"$f":"IF('Sconti Export'!W$80>'Sconti Export'!W120-('Sconti Export'!W120*'Sconti Export'!H120),'Sconti Export'!W$80*'Zone Export'!$V$14,('Sconti Export'!W120-('Sconti Export'!W120*'Sconti Export'!H120))*'Zone Export'!$V$14)","v":471.91700000000014},{"$f":"IF('Sconti Export'!X$80>'Sconti Export'!X120-('Sconti Export'!X120*'Sconti Export'!I120),'Sconti Export'!X$80*'Zone Export'!$V$14,('Sconti Export'!X120-('Sconti Export'!X120*'Sconti Export'!I120))*'Zone Export'!$V$14)","v":178.85450000000003},{"$f":"IF('Sconti Export'!Y$80>'Sconti Export'!Y120-('Sconti Export'!Y120*'Sconti Export'!J120),'Sconti Export'!Y$80*'Zone Export'!$V$14,('Sconti Export'!Y120-('Sconti Export'!Y120*'Sconti Export'!J120))*'Zone Export'!$V$14)","v":535.09100000000012},{"$f":"IF('Sconti Export'!Z$80>'Sconti Export'!Z120-('Sconti Export'!Z120*'Sconti Export'!K120),'Sconti Export'!Z$80*'Zone Export'!$V$14,('Sconti Export'!Z120-('Sconti Export'!Z120*'Sconti Export'!K120))*'Zone Export'!$V$14)","v":313.58050000000003},{"$f":"IF('Sconti Export'!AA$80>'Sconti Export'!AA120-('Sconti Export'!AA120*'Sconti Export'!L120),'Sconti Export'!AA$80*'Zone Export'!$V$14,('Sconti Export'!AA120-('Sconti Export'!AA120*'Sconti Export'!L120))*'Zone Export'!$V$14)","v":454.22750000000008},{"$f":"IF('Sconti Export'!AB$80>'Sconti Export'!AB120-('Sconti Export'!AB120*'Sconti Export'!M120),'Sconti Export'!AB$80*'Zone Export'!$V$14,('Sconti Export'!AB120-('Sconti Export'!AB120*'Sconti Export'!M120))*'Zone Export'!$V$14)","v":474.81150000000002},{"$f":"IF('Sconti Export'!AC$80>'Sconti Export'!AC120-('Sconti Export'!AC120*'Sconti Export'!N120),'Sconti Export'!AC$80*'Zone Export'!$V$14,('Sconti Export'!AC120-('Sconti Export'!AC120*'Sconti Export'!N120))*'Zone Export'!$V$14)","v":521.80750000000012},{"$f":"IF('Sconti Export'!AD$80>'Sconti Export'!AD120-('Sconti Export'!AD120*'Sconti Export'!O120),'Sconti Export'!AD$80*'Zone Export'!$V$14,('Sconti Export'!AD120-('Sconti Export'!AD120*'Sconti Export'!O120))*'Zone Export'!$V$14)","v":232.45350000000008}]
[null,"60 kg",null,{"$f":"IF('Sconti Export'!R$80>'Sconti Export'!R121-('Sconti Export'!R121*'Sconti Export'!C121),'Sconti Export'!R$80*'Zone Export'!$V$14,('Sconti Export'!R121-('Sconti Export'!R121*'Sconti Export'!C121))*'Zone Export'!$V$14)","v":50.44},{"$f":"IF('Sconti Export'!S$80>'Sconti Export'!S121-('Sconti Export'!S121*'Sconti Export'!D121),'Sconti Export'!S$80*'Zone Export'!$V$14,('Sconti Export'!S121-('Sconti Export'!S121*'Sconti Export'!D121))*'Zone Export'!$V$14)","v":169.34550000000002},{"$f":"IF('Sconti Export'!T$80>'Sconti Export'!T121-('Sconti Export'!T121*'Sconti Export'!E121),'Sconti Export'!T$80*'Zone Export'!$V$14,('Sconti Export'!T121-('Sconti Export'!T121*'Sconti Export'!E121))*'Zone Export'!$V$14)","v":183.14949999999999},{"$f":"IF('Sconti Export'!U$80>'Sconti Export'!U121-('Sconti Export'!U121*'Sconti Export'!F121),'Sconti Export'!U$80*'Zone Export'!$V$14,('Sconti Export'!U121-('Sconti Export'!U121*'Sconti Export'!F121))*'Zone Export'!$V$14)","v":193.0675},{"$f":"IF('Sconti Export'!V$80>'Sconti Export'!V121-('Sconti Export'!V121*'Sconti Export'!G121),'Sconti Export'!V$80*'Zone Export'!$V$14,('Sconti Export'!V121-('Sconti Export'!V121*'Sconti Export'!G121))*'Zone Export'!$V$14)","v":499.91650000000004},{"$f":"IF('Sconti Export'!W$80>'Sconti Export'!W121-('Sconti Export'!W121*'Sconti Export'!H121),'Sconti Export'!W$80*'Zone Export'!$V$14,('Sconti Export'!W121-('Sconti Export'!W121*'Sconti Export'!H121))*'Zone Export'!$V$14)","v":507.25350000000003},{"$f":"IF('Sconti Export'!X$80>'Sconti Export'!X121-('Sconti Export'!X121*'Sconti Export'!I121),'Sconti Export'!X$80*'Zone Export'!$V$14,('Sconti Export'!X121-('Sconti Export'!X121*'Sconti Export'!I121))*'Zone Export'!$V$14)","v":190.18500000000006},{"$f":"IF('Sconti Export'!Y$80>'Sconti Export'!Y121-('Sconti Export'!Y121*'Sconti Export'!J121),'Sconti Export'!Y$80*'Zone Export'!$V$14,('Sconti Export'!Y121-('Sconti Export'!Y121*'Sconti Export'!J121))*'Zone Export'!$V$14)","v":575.06550000000016},{"$f":"IF('Sconti Export'!Z$80>'Sconti Export'!Z121-('Sconti Export'!Z121*'Sconti Export'!K121),'Sconti Export'!Z$80*'Zone Export'!$V$14,('Sconti Export'!Z121-('Sconti Export'!Z121*'Sconti Export'!K121))*'Zone Export'!$V$14)","v":338.303},{"$f":"IF('Sconti Export'!AA$80>'Sconti Export'!AA121-('Sconti Export'!AA121*'Sconti Export'!L121),'Sconti Export'!AA$80*'Zone Export'!$V$14,('Sconti Export'!AA121-('Sconti Export'!AA121*'Sconti Export'!L121))*'Zone Export'!$V$14)","v":488.62200000000007},{"$f":"IF('Sconti Export'!AB$80>'Sconti Export'!AB121-('Sconti Export'!AB121*'Sconti Export'!M121),'Sconti Export'!AB$80*'Zone Export'!$V$14,('Sconti Export'!AB121-('Sconti Export'!AB121*'Sconti Export'!M121))*'Zone Export'!$V$14)","v":509.88800000000015},{"$f":"IF('Sconti Export'!AC$80>'Sconti Export'!AC121-('Sconti Export'!AC121*'Sconti Export'!N121),'Sconti Export'!AC$80*'Zone Export'!$V$14,('Sconti Export'!AC121-('Sconti Export'!AC121*'Sconti Export'!N121))*'Zone Export'!$V$14)","v":558.44950000000017},{"$f":"IF('Sconti Export'!AD$80>'Sconti Export'!AD121-('Sconti Export'!AD121*'Sconti Export'!O121),'Sconti Export'!AD$80*'Zone Export'!$V$14,('Sconti Export'!AD121-('Sconti Export'!AD121*'Sconti Export'!O121))*'Zone Export'!$V$14)","v":247.07000000000005}]
[null,"65 kg",null,{"$f":"IF('Sconti Export'!R$80>'Sconti Export'!R122-('Sconti Export'!R122*'Sconti Export'!C122),'Sconti Export'!R$80*'Zone Export'!$V$14,('Sconti Export'!R122-('Sconti Export'!R122*'Sconti Export'!C122))*'Zone Export'!$V$14)","v":56.900000000000006},{"$f":"IF('Sconti Export'!S$80>'Sconti Export'!S122-('Sconti Export'!S122*'Sconti Export'!D122),'Sconti Export'!S$80*'Zone Export'!$V$14,('Sconti Export'!S122-('Sconti Export'!S122*'Sconti Export'!D122))*'Zone Export'!$V$14)","v":179.56800000000004},{"$f":"IF('Sconti Export'!T$80>'Sconti Export'!T122-('Sconti Export'!T122*'Sconti Export'!E122),'Sconti Export'!T$80*'Zone Export'!$V$14,('Sconti Export'!T122-('Sconti Export'!T122*'Sconti Export'!E122))*'Zone Export'!$V$14)","v":195.2715},{"$f":"IF('Sconti Export'!U$80>'Sconti Export'!U122-('Sconti Export'!U122*'Sconti Export'!F122),'Sconti Export'!U$80*'Zone Export'!$V$14,('Sconti Export'!U122-('Sconti Export'!U122*'Sconti Export'!F122))*'Zone Export'!$V$14)","v":206.6395},{"$f":"IF('Sconti Export'!V$80>'Sconti Export'!V122-('Sconti Export'!V122*'Sconti Export'!G122),'Sconti Export'!V$80*'Zone Export'!$V$14,('Sconti Export'!V122-('Sconti Export'!V122*'Sconti Export'!G122))*'Zone Export'!$V$14)","v":535.19500000000016},{"$f":"IF('Sconti Export'!W$80>'Sconti Export'!W122-('Sconti Export'!W122*'Sconti Export'!H122),'Sconti Export'!W$80*'Zone Export'!$V$14,('Sconti Export'!W122-('Sconti Export'!W122*'Sconti Export'!H122))*'Zone Export'!$V$14)","v":542.56100000000015},{"$f":"IF('Sconti Export'!X$80>'Sconti Export'!X122-('Sconti Export'!X122*'Sconti Export'!I122),'Sconti Export'!X$80*'Zone Export'!$V$14,('Sconti Export'!X122-('Sconti Export'!X122*'Sconti Export'!I122))*'Zone Export'!$V$14)","v":201.50000000000006},{"$f":"IF('Sconti Export'!Y$80>'Sconti Export'!Y122-('Sconti Export'!Y122*'Sconti Export'!J122),'Sconti Export'!Y$80*'Zone Export'!$V$14,('Sconti Export'!Y122-('Sconti Export'!Y122*'Sconti Export'!J122))*'Zone Export'!$V$14)","v":615.04000000000019},{"$f":"IF('Sconti Export'!Z$80>'Sconti Export'!Z122-('Sconti Export'!Z122*'Sconti Export'!K122),'Sconti Export'!Z$80*'Zone Export'!$V$14,('Sconti Export'!Z122-('Sconti Export'!Z122*'Sconti Export'!K122))*'Zone Export'!$V$14)","v":362.97900000000004},{"$f":"IF('Sconti Export'!AA$80>'Sconti Export'!AA122-('Sconti Export'!AA122*'Sconti Export'!L122),'Sconti Export'!AA$80*'Zone Export'!$V$14,('Sconti Export'!AA122-('Sconti Export'!AA122*'Sconti Export'!L122))*'Zone Export'!$V$14)","v":522.9855},{"$f":"IF('Sconti Export'!AB$80>'Sconti Export'!AB122-('Sconti Export'!AB122*'Sconti Export'!M122),'Sconti Export'!AB$80*'Zone Export'!$V$14,('Sconti Export'!AB122-('Sconti Export'!AB122*'Sconti Export'!M122))*'Zone Export'!$V$14)","v":544.99549999999999},{"$f":"IF('Sconti Export'!AC$80>'Sconti Export'!AC122-('Sconti Export'!AC122*'Sconti Export'!N122),'Sconti Export'!AC$80*'Zone Export'!$V$14,('Sconti Export'!AC122-('Sconti Export'!AC122*'Sconti Export'!N122))*'Zone Export'!$V$14)","v":595.12250000000017},{"$f":"IF('Sconti Export'!AD$80>'Sconti Export'!AD122-('Sconti Export'!AD122*'Sconti Export'!O122),'Sconti Export'!AD$80*'Zone Export'!$V$14,('Sconti Export'!AD122-('Sconti Export'!AD122*'Sconti Export'!O122))*'Zone Export'!$V$14)","v":261.68650000000002}]
[null,"70 kg",null,{"$f":"IF('Sconti Export'!R$80>'Sconti Export'!R123-('Sconti Export'!R123*'Sconti Export'!C123),'Sconti Export'!R$80*'Zone Export'!$V$14,('Sconti Export'!R123-('Sconti Export'!R123*'Sconti Export'!C123))*'Zone Export'!$V$14)","v":56.900000000000006},{"$f":"IF('Sconti Export'!S$80>'Sconti Export'!S123-('Sconti Export'!S123*'Sconti Export'!D123),'Sconti Export'!S$80*'Zone Export'!$V$14,('Sconti Export'!S123-('Sconti Export'!S123*'Sconti Export'!D123))*'Zone Export'!$V$14)","v":189.81950000000001},{"$f":"IF('Sconti Export'!T$80>'Sconti Export'!T123-('Sconti Export'!T123*'Sconti Export'!E123),'Sconti Export'!T$80*'Zone Export'!$V$14,('Sconti Export'!T123-('Sconti Export'!T123*'Sconti Export'!E123))*'Zone Export'!$V$14)","v":207.39350000000002},{"$f":"IF('Sconti Export'!U$80>'Sconti Export'!U123-('Sconti Export'!U123*'Sconti Export'!F123),'Sconti Export'!U$80*'Zone Export'!$V$14,('Sconti Export'!U123-('Sconti Export'!U123*'Sconti Export'!F123))*'Zone Export'!$V$14)","v":220.16800000000001},{"$f":"IF('Sconti Export'!V$80>'Sconti Export'!V123-('Sconti Export'!V123*'Sconti Export'!G123),'Sconti Export'!V$80*'Zone Export'!$V$14,('Sconti Export'!V123-('Sconti Export'!V123*'Sconti Export'!G123))*'Zone Export'!$V$14)","v":570.40100000000007},{"$f":"IF('Sconti Export'!W$80>'Sconti Export'!W123-('Sconti Export'!W123*'Sconti Export'!H123),'Sconti Export'!W$80*'Zone Export'!$V$14,('Sconti Export'!W123-('Sconti Export'!W123*'Sconti Export'!H123))*'Zone Export'!$V$14)","v":577.88300000000004},{"$f":"IF('Sconti Export'!X$80>'Sconti Export'!X123-('Sconti Export'!X123*'Sconti Export'!I123),'Sconti Export'!X$80*'Zone Export'!$V$14,('Sconti Export'!X123-('Sconti Export'!X123*'Sconti Export'!I123))*'Zone Export'!$V$14)","v":212.86150000000004},{"$f":"IF('Sconti Export'!Y$80>'Sconti Export'!Y123-('Sconti Export'!Y123*'Sconti Export'!J123),'Sconti Export'!Y$80*'Zone Export'!$V$14,('Sconti Export'!Y123-('Sconti Export'!Y123*'Sconti Export'!J123))*'Zone Export'!$V$14)","v":654.99900000000025},{"$f":"IF('Sconti Export'!Z$80>'Sconti Export'!Z123-('Sconti Export'!Z123*'Sconti Export'!K123),'Sconti Export'!Z$80*'Zone Export'!$V$14,('Sconti Export'!Z123-('Sconti Export'!Z123*'Sconti Export'!K123))*'Zone Export'!$V$14)","v":387.68600000000004},{"$f":"IF('Sconti Export'!AA$80>'Sconti Export'!AA123-('Sconti Export'!AA123*'Sconti Export'!L123),'Sconti Export'!AA$80*'Zone Export'!$V$14,('Sconti Export'!AA123-('Sconti Export'!AA123*'Sconti Export'!L123))*'Zone Export'!$V$14)","v":557.33349999999996},{"$f":"IF('Sconti Export'!AB$80>'Sconti Export'!AB123-('Sconti Export'!AB123*'Sconti Export'!M123),'Sconti Export'!AB$80*'Zone Export'!$V$14,('Sconti Export'!AB123-('Sconti Export'!AB123*'Sconti Export'!M123))*'Zone Export'!$V$14)","v":580.08750000000009},{"$f":"IF('Sconti Export'!AC$80>'Sconti Export'!AC123-('Sconti Export'!AC123*'Sconti Export'!N123),'Sconti Export'!AC$80*'Zone Export'!$V$14,('Sconti Export'!AC123-('Sconti Export'!AC123*'Sconti Export'!N123))*'Zone Export'!$V$14)","v":631.7800000000002},{"$f":"IF('Sconti Export'!AD$80>'Sconti Export'!AD123-('Sconti Export'!AD123*'Sconti Export'!O123),'Sconti Export'!AD$80*'Zone Export'!$V$14,('Sconti Export'!AD123-('Sconti Export'!AD123*'Sconti Export'!O123))*'Zone Export'!$V$14)","v":276.33400000000006}]
[null,"Oltre 70 Kg"]
[null,"Prezzo al Kg",null,{"$f":"('Sconti Export'!R125-('Sconti Export'!R125*'Sconti Export'!C125))*'Zone Export'!$V$14","v":0.81200000000000006},{"$f":"('Sconti Export'!S125-('Sconti Export'!S125*'Sconti Export'!D125))*'Zone Export'!$V$14","v":2.7115},{"$f":"('Sconti Export'!T125-('Sconti Export'!T125*'Sconti Export'!E125))*'Zone Export'!$V$14","v":2.9609000000000005},{"$f":"('Sconti Export'!U125-('Sconti Export'!U125*'Sconti Export'!F125))*'Zone Export'!$V$14","v":3.1436000000000002},{"$f":"('Sconti Export'!V125-('Sconti Export'!V125*'Sconti Export'!G125))*'Zone Export'!$V$14","v":8.1461000000000006},{"$f":"('Sconti Export'!W125-('Sconti Export'!W125*'Sconti Export'!H125))*'Zone Export'!$V$14","v":8.2534000000000027},{"$f":"('Sconti Export'!X125-('Sconti Export'!X125*'Sconti Export'!I125))*'Zone Export'!$V$14","v":3.0380000000000011},{"$f":"('Sconti Export'!Y125-('Sconti Export'!Y125*'Sconti Export'!J125))*'Zone Export'!$V$14","v":9.3558000000000021},{"$f":"('Sconti Export'!Z125-('Sconti Export'!Z125*'Sconti Export'!K125))*'Zone Export'!$V$14","v":5.5366},{"$f":"('Sconti Export'!AA125-('Sconti Export'!AA125*'Sconti Export'!L125))*'Zone Export'!$V$14","v":7.9608000000000025},{"$f":"('Sconti Export'!AB125-('Sconti Export'!AB125*'Sconti Export'!M125))*'Zone Export'!$V$14","v":8.2863000000000007},{"$f":"('Sconti Export'!AC125-('Sconti Export'!AC125*'Sconti Export'!N125))*'Zone Export'!$V$14","v":9.0241000000000007},{"$f":"('Sconti Export'!AD125-('Sconti Export'!AD125*'Sconti Export'!O125))*'Zone Export'!$V$14","v":3.9463000000000008}]
[null,"Tariffa Minima",null,{"$f":"('Sconti Export'!R126-('Sconti Export'!R126*'Sconti Export'!C126))*'Zone Export'!$V$14","v":56.900000000000006},{"$f":"('Sconti Export'!S126-('Sconti Export'!S126*'Sconti Export'!D126))*'Zone Export'!$V$14","v":189.81950000000001},{"$f":"('Sconti Export'!T126-('Sconti Export'!T126*'Sconti Export'!E126))*'Zone Export'!$V$14","v":207.39350000000002},{"$f":"('Sconti Export'!U126-('Sconti Export'!U126*'Sconti Export'!F126))*'Zone Export'!$V$14","v":220.16800000000001},{"$f":"('Sconti Export'!V126-('Sconti Export'!V126*'Sconti Export'!G126))*'Zone Export'!$V$14","v":570.40100000000007},{"$f":"('Sconti Export'!W126-('Sconti Export'!W126*'Sconti Export'!H126))*'Zone Export'!$V$14","v":577.88300000000004},{"$f":"('Sconti Export'!X126-('Sconti Export'!X126*'Sconti Export'!I126))*'Zone Export'!$V$14","v":212.86150000000004},{"$f":"('Sconti Export'!Y126-('Sconti Export'!Y126*'Sconti Export'!J126))*'Zone Export'!$V$14","v":654.99900000000025},{"$f":"('Sconti Export'!Z126-('Sconti Export'!Z126*'Sconti Export'!K126))*'Zone Export'!$V$14","v":387.68600000000004},{"$f":"('Sconti Export'!AA126-('Sconti Export'!AA126*'Sconti Export'!L126))*'Zone Export'!$V$14","v":557.33349999999996},{"$f":"('Sconti Export'!AB126-('Sconti Export'!AB126*'Sconti Export'!M126))*'Zone Export'!$V$14","v":580.08750000000009},{"$f":"('Sconti Export'!AC126-('Sconti Export'!AC126*'Sconti Export'!N126))*'Zone Export'!$V$14","v":631.7800000000002},{"$f":"('Sconti Export'!AD126-('Sconti Export'!AD126*'Sconti Export'!O126))*'Zone Export'!$V$14","v":276.33400000000006}]

{"sheet":"Standard","index":10,"n_rows":77,"n_cols":13,"rows_kept":77,"cut":false,"hidden":false,"merged":[[10,12,10,14],[7,1,7,11],[79,1,80,9],[10,4,10,8],[52,4,52,8],[77,1,78,9]]}
[]
[]
[]
[]
[]
[]
[]
[null,"* Per ulteriori dettagli su Garanzie di Rimborso, Copertura Servizi e Condizioni contattare il Numero 02 30 30 30 39 o visitare il sito www.ups.com"]
[]
[null,null,null,null,null,null,null,null,null,null,null,null,"Spettabile"]
[null,"€","Italia\n(escluso Calabria Sicilia Sardegna)","Calabria Sicilia Sardegna","Unione Europea",null,null,null,null,"Resto Europa",null,null,{"$f":"+Cover!$C$2","v":"GLOCAL WEB"}]
[null,"Zona",1,2,3,4,5,51,52,6]
[null,"Peso"]
[null,"1,0 kg",{"$f":"IF('Sconti Export'!R$134>'Sconti Export'!R135-('Sconti Export'!R135*'Sconti Export'!C135),'Sconti Export'!R$134*'Zone Export'!$V$16,('Sconti Export'!R135-('Sconti Export'!R135*'Sconti Export'!C135))*'Zone Export'!$V$16)","v":7.4400000000000013},{"$f":"IF('Sconti Export'!S$134>'Sconti Export'!S135-('Sconti Export'!S135*'Sconti Export'!D135),'Sconti Export'!S$134*'Zone Export'!$V$16,('Sconti Export'!S135-('Sconti Export'!S135*'Sconti Export'!D135))*'Zone Export'!$V$16)","v":9.5550000000000033},{"$f":"IF('Sconti Export'!T$134>'Sconti Export'!T135-('Sconti Export'!T135*'Sconti Export'!E135),'Sconti Export'!T$134*'Zone Export'!$V$16,('Sconti Export'!T135-('Sconti Export'!T135*'Sconti Export'!E135))*'Zone Export'!$V$16)","v":13.056100000000001},{"$f":"IF('Sconti Export'!U$134>'Sconti Export'!U135-('Sconti Export'!U135*'Sconti Export'!F135),'Sconti Export'!U$134*'Zone Export'!$V$16,('Sconti Export'!U135-('Sconti Export'!U135*'Sconti Export'!F135))*'Zone Export'!$V$16)","v":13.363200000000001},{"$f":"IF('Sconti Export'!V$134>'Sconti Export'!V135-('Sconti Export'!V135*'Sconti Export'!G135),'Sconti Export'!V$134*'Zone Export'!$V$16,('Sconti Export'!V135-('Sconti Export'!V135*'Sconti Export'!G135))*'Zone Export'!$V$16)","v":13.362500000000001},{"$f":"IF('Sconti Export'!W$134>'Sconti Export'!W135-('Sconti Export'!W135*'Sconti Export'!H135),'Sconti Export'!W$134*'Zone Export'!$V$16,('Sconti Export'!W135-('Sconti Export'!W135*'Sconti Export'!H135))*'Zone Export'!$V$16)","v":13.381649999999999},{"$f":"IF('Sconti Export'!X$134>'Sconti Export'!X135-('Sconti Export'!X135*'Sconti Export'!I135),'Sconti Export'!X$134*'Zone Export'!$V$16,('Sconti Export'!X135-('Sconti Export'!X135*'Sconti Export'!I135))*'Zone Export'!$V$16)","v":19.339999999999989},{"$f":"IF('Sconti Export'!Y$134>'Sconti Export'!Y135-('Sconti Export'!Y135*'Sconti Export'!J135),'Sconti Export'!Y$134*'Zone Export'!$V$16,('Sconti Export'!Y135-('Sconti Export'!Y135*'Sconti Export'!J135))*'Zone Export'!$V$16)","v":27.950099999999999}]
[null,"2,0 kg",{"$f":"IF('Sconti Export'!R$134>'Sconti Export'!R136-('Sconti Export'!R136*'Sconti Export'!C136),'Sconti Export'!R$134*'Zone Export'!$V$16,('Sconti Export'!R136-('Sconti Export'!R136*'Sconti Export'!C136))*'Zone Export'!$V$16)","v":7.4400000000000013},{"$f":"IF('Sconti Export'!S$134>'Sconti Export'!S136-('Sconti Export'!S136*'Sconti Export'!D136),'Sconti Export'!S$134*'Zone Export'!$V$16,('Sconti Export'!S136-('Sconti Export'!S136*'Sconti Export'!D136))*'Zone Export'!$V$16)","v":9.9750000000000014},{"$f":"IF('Sconti Export'!T$134>'Sconti Export'!T136-('Sconti Export'!T136*'Sconti Export'!E136),'Sconti Export'!T$134*'Zone Export'!$V$16,('Sconti Export'!T136-('Sconti Export'!T136*'Sconti Export'!E136))*'Zone Export'!$V$16)","v":13.219999999999999},{"$f":"IF('Sconti Export'!U$134>'Sconti Export'!U136-('Sconti Export'!U136*'Sconti Export'!F136),'Sconti Export'!U$134*'Zone Export'!$V$16,('Sconti Export'!U136-('Sconti Export'!U136*'Sconti Export'!F136))*'Zone Export'!$V$16)","v":13.979999999999997},{"$f":"IF('Sconti Export'!V$134>'Sconti Export'!V136-('Sconti Export'!V136*'Sconti Export'!G136),'Sconti Export'!V$134*'Zone Export'!$V$16,('Sconti Export'!V136-('Sconti Export'!V136*'Sconti Export'!G136))*'Zone Export'!$V$16)","v":14.519999999999996},{"$f":"IF('Sconti Export'!W$134>'Sconti Export'!W136-('Sconti Export'!W136*'Sconti Export'!H136),'Sconti Export'!W$134*'Zone Export'!$V$16,('Sconti Export'!W136-('Sconti Export'!W136*'Sconti Export'!H136))*'Zone Export'!$V$16)","v":15.280000000000001},{"$f":"IF('Sconti Export'!X$134>'Sconti Export'!X136-('Sconti Export'!X136*'Sconti Export'!I136),'Sconti Export'!X$134*'Zone Export'!$V$16,('Sconti Export'!X136-('Sconti Export'!X136*'Sconti Export'!I136))*'Zone Export'!$V$16)","v":28.33},{"$f":"IF('Sconti Export'!Y$134>'Sconti Export'!Y136-('Sconti Export'!Y136*'Sconti Export'!J136),'Sconti Export'!Y$134*'Zone Export'!$V$16,('Sconti Export'!Y136-('Sconti Export'!Y136*'Sconti Export'!J136))*'Zone Export'!$V$16)","v":27.950099999999999}]
[null,"3,0 kg",{"$f":"IF('Sconti Export'!R$134>'Sconti Export'!R137-('Sconti Export'!R137*'Sconti Export'!C137),'Sconti Export'!R$134*'Zone Export'!$V$16,('Sconti Export'!R137-('Sconti Export'!R137*'Sconti Export'!C137))*'Zone Export'!$V$16)","v":7.98},{"$f":"IF('Sconti Export'!S$134>'Sconti Export'!S137-('Sconti Export'!S137*'Sconti Export'!D137),'Sconti Export'!S$134*'Zone Export'!$V$16,('Sconti Export'!S137-('Sconti Export'!S137*'Sconti Export'!D137))*'Zone Export'!$V$16)","v":10.485000000000003},{"$f":"IF('Sconti Export'!T$134>'Sconti Export'!T137-('Sconti Export'!T137*'Sconti Export'!E137),'Sconti Export'!T$134*'Zone Export'!$V$16,('Sconti Export'!T137-('Sconti Export'!T137*'Sconti Export'!E137))*'Zone Export'!$V$16)","v":16.560000000000002},{"$f":"IF('Sconti Export'!U$134>'Sconti Export'!U137-('Sconti Export'!U137*'Sconti Export'!F137),'Sconti Export'!U$134*'Zone Export'!$V$16,('Sconti Export'!U137-('Sconti Export'!U137*'Sconti Export'!F137))*'Zone Export'!$V$16)","v":17.539999999999992},{"$f":"IF('Sconti Export'!V$134>'Sconti Export'!V137-('Sconti Export'!V137*'Sconti Export'!G137),'Sconti Export'!V$134*'Zone Export'!$V$16,('Sconti Export'!V137-('Sconti Export'!V137*'Sconti Export'!G137))*'Zone Export'!$V$16)","v":18.329999999999998},{"$f":"IF('Sconti Export'!W$134>'Sconti Export'!W137-('Sconti Export'!W137*'Sconti Export'!H137),'Sconti Export'!W$134*'Zone Export'!$V$16,('Sconti Export'!W137-('Sconti Export'!W137*'Sconti Export'!H137))*'Zone Export'!$V$16)","v":18.75},{"$f":"IF('Sconti Export'!X$134>'Sconti Export'!X137-('Sconti Export'!X137*'Sconti Export'!I137),'Sconti Export'!X$134*'Zone Export'!$V$16,('Sconti Export'!X137-('Sconti Export'!X137*'Sconti Export'!I137))*'Zone Export'!$V$16)","v":34.889999999999986},{"$f":"IF('Sconti Export'!Y$134>'Sconti Export'!Y137-('Sconti Export'!Y137*'Sconti Export'!J137),'Sconti Export'!Y$134*'Zone Export'!$V$16,('Sconti Export'!Y137-('Sconti Export'!Y137*'Sconti Export'!J137))*'Zone Export'!$V$16)","v":27.950099999999999}]
[null,"4,0 kg",{"$f":"IF('Sconti Export'!R$134>'Sconti Export'!R138-('Sconti Export'!R138*'Sconti Export'!C138),'Sconti Export'!R$134*'Zone Export'!$V$16,('Sconti Export'!R138-('Sconti Export'!R138*'Sconti Export'!C138))*'Zone Export'!$V$16)","v":7.98},{"$f":"IF('Sconti Export'!S$134>'Sconti Export'!S138-('Sconti Export'!S138*'Sconti Export'!D138),'Sconti Export'!S$134*'Zone Export'!$V$16,('Sconti Export'!S138-('Sconti Export'!S138*'Sconti Export'!D138))*'Zone Export'!$V$16)","v":10.485000000000003},{"$f":"IF('Sconti Export'!T$134>'Sconti Export'!T138-('Sconti Export'!T138*'Sconti Export'!E138),'Sconti Export'!T$134*'Zone Export'!$V$16,('Sconti Export'!T138-('Sconti Export'!T138*'Sconti Export'!E138))*'Zone Export'!$V$16)","v":19.89},{"$f":"IF('Sconti Export'!U$134>'Sconti Export'!U138-('Sconti Export'!U138*'Sconti Export'!F138),'Sconti Export'!U$134*'Zone Export'!$V$16,('Sconti Export'!U138-('Sconti Export'!U138*'Sconti Export'!F138))*'Zone Export'!$V$16)","v":21.08},{"$f":"IF('Sconti Export'!V$134>'Sconti Export'!V138-('Sconti Export'!V138*'Sconti Export'!G138),'Sconti Export'!V$134*'Zone Export'!$V$16,('Sconti Export'!V138-('Sconti Export'!V138*'Sconti Export'!G138))*'Zone Export'!$V$16)","v":21.75},{"$f":"IF('Sconti Export'!W$134>'Sconti Export'!W138-('Sconti Export'!W138*'Sconti Export'!H138),'Sconti Export'!W$134*'Zone Export'!$V$16,('Sconti Export'!W138-('Sconti Export'!W138*'Sconti Export'!H138))*'Zone Export'!$V$16)","v":22.22999999999999},{"$f":"IF('Sconti Export'!X$134>'Sconti Export'!X138-('Sconti Export'!X138*'Sconti Export'!I138),'Sconti Export'!X$134*'Zone Export'!$V$16,('Sconti Export'!X138-('Sconti Export'!X138*'Sconti Export'!I138))*'Zone Export'!$V$16)","v":41.419999999999987},{"$f":"IF('Sconti Export'!Y$134>'Sconti Export'!Y138-('Sconti Export'!Y138*'Sconti Export'!J138),'Sconti Export'!Y$134*'Zone Export'!$V$16,('Sconti Export'!Y138-('Sconti Export'!Y138*'Sconti Export'!J138))*'Zone Export'!$V$16)","v":28.512500000000003}]
[null,"5,0 kg",{"$f":"IF('Sconti Export'!R$134>'Sconti Export'!R139-('Sconti Export'!R139*'Sconti Export'!C139),'Sconti Export'!R$134*'Zone Export'!$V$16,('Sconti Export'!R139-('Sconti Export'!R139*'Sconti Export'!C139))*'Zone Export'!$V$16)","v":7.98},{"$f":"IF('Sconti Export'!S$134>'Sconti Export'!S139-('Sconti Export'!S139*'Sconti Export'!D139),'Sconti Export'!S$134*'Zone Export'!$V$16,('Sconti Export'!S139-('Sconti Export'!S139*'Sconti Export'!D139))*'Zone Export'!$V$16)","v":10.485000000000003},{"$f":"IF('Sconti Export'!T$134>'Sconti Export'!T139-('Sconti Export'!T139*'Sconti Export'!E139),'Sconti Export'!T$134*'Zone Export'!$V$16,('Sconti Export'!T139-('Sconti Export'!T139*'Sconti Export'!E139))*'Zone Export'!$V$16)","v":23.239999999999995},{"$f":"IF('Sconti Export'!U$134>'Sconti Export'!U139-('Sconti Export'!U139*'Sconti Export'!F139),'Sconti Export'!U$134*'Zone Export'!$V$16,('Sconti Export'!U139-('Sconti Export'!U139*'Sconti Export'!F139))*'Zone Export'!$V$16)","v":23.819999999999993},{"$f":"IF('Sconti Export'!V$134>'Sconti Export'!V139-('Sconti Export'!V139*'Sconti Export'!G139),'Sconti Export'!V$134*'Zone Export'!$V$16,('Sconti Export'!V139-('Sconti Export'!V139*'Sconti Export'!G139))*'Zone Export'!$V$16)","v":25.209999999999994},{"$f":"IF('Sconti Export'!W$134>'Sconti Export'!W139-('Sconti Export'!W139*'Sconti Export'!H139),'Sconti Export'!W$134*'Zone Export'!$V$16,('Sconti Export'!W139-('Sconti Export'!W139*'Sconti Export'!H139))*'Zone Export'!$V$16)","v":25.72},{"$f":"IF('Sconti Export'!X$134>'Sconti Export'!X139-('Sconti Export'!X139*'Sconti Export'!I139),'Sconti Export'!X$134*'Zone Export'!$V$16,('Sconti Export'!X139-('Sconti Export'!X139*'Sconti Export'!I139))*'Zone Export'!$V$16)","v":47.97999999999999},{"$f":"IF('Sconti Export'!Y$134>'Sconti Export'!Y139-('Sconti Export'!Y139*'Sconti Export'!J139),'Sconti Export'!Y$134*'Zone Export'!$V$16,('Sconti Export'!Y139-('Sconti Export'!Y139*'Sconti Export'!J139))*'Zone Export'!$V$16)","v":32.875}]
[null,"6,0 kg",{"$f":"IF('Sconti Export'!R$134>'Sconti Export'!R140-('Sconti Export'!R140*'Sconti Export'!C140),'Sconti Export'!R$134*'Zone Export'!$V$16,('Sconti Export'!R140-('Sconti Export'!R140*'Sconti Export'!C140))*'Zone Export'!$V$16)","v":8.4450000000000003},{"$f":"IF('Sconti Export'!S$134>'Sconti Export'!S140-('Sconti Export'!S140*'Sconti Export'!D140),'Sconti Export'!S$134*'Zone Export'!$V$16,('Sconti Export'!S140-('Sconti Export'!S140*'Sconti Export'!D140))*'Zone Export'!$V$16)","v":11.52},{"$f":"IF('Sconti Export'!T$134>'Sconti Export'!T140-('Sconti Export'!T140*'Sconti Export'!E140),'Sconti Export'!T$134*'Zone Export'!$V$16,('Sconti Export'!T140-('Sconti Export'!T140*'Sconti Export'!E140))*'Zone Export'!$V$16)","v":25.489999999999995},{"$f":"IF('Sconti Export'!U$134>'Sconti Export'!U140-('Sconti Export'!U140*'Sconti Export'!F140),'Sconti Export'!U$134*'Zone Export'!$V$16,('Sconti Export'!U140-('Sconti Export'!U140*'Sconti Export'!F140))*'Zone Export'!$V$16)","v":26.11999999999999},{"$f":"IF('Sconti Export'!V$134>'Sconti Export'!V140-('Sconti Export'!V140*'Sconti Export'!G140),'Sconti Export'!V$134*'Zone Export'!$V$16,('Sconti Export'!V140-('Sconti Export'!V140*'Sconti Export'!G140))*'Zone Export'!$V$16)","v":27.569999999999993},{"$f":"IF('Sconti Export'!W$134>'Sconti Export'!W140-('Sconti Export'!W140*'Sconti Export'!H140),'Sconti Export'!W$134*'Zone Export'!$V$16,('Sconti Export'!W140-('Sconti Export'!W140*'Sconti Export'!H140))*'Zone Export'!$V$16)","v":28.179999999999993},{"$f":"IF('Sconti Export'!X$134>'Sconti Export'!X140-('Sconti Export'!X140*'Sconti Export'!I140),'Sconti Export'!X$134*'Zone Export'!$V$16,('Sconti Export'!X140-('Sconti Export'!X140*'Sconti Export'!I140))*'Zone Export'!$V$16)","v":54.129999999999995},{"$f":"IF('Sconti Export'!Y$134>'Sconti Export'!Y140-('Sconti Export'!Y140*'Sconti Export'!J140),'Sconti Export'!Y$134*'Zone Export'!$V$16,('Sconti Export'!Y140-('Sconti Export'!Y140*'Sconti Export'!J140))*'Zone Export'!$V$16)","v":35.912499999999994}]
[null,"7,0 kg",{"$f":"IF('Sconti Export'!R$134>'Sconti Export'!R141-('Sconti Export'!R141*'Sconti Export'!C141),'Sconti Export'!R$134*'Zone Export'!$V$16,('Sconti Export'!R141-('Sconti Export'!R141*'Sconti Export'!C141))*'Zone Export'!$V$16)","v":8.4450000000000003},{"$f":"IF('Sconti Export'!S$134>'Sconti Export'!S141-('Sconti Export'!S141*'Sconti Export'!D141),'Sconti Export'!S$134*'Zone Export'!$V$16,('Sconti Export'!S141-('Sconti Export'!S141*'Sconti Export'!D141))*'Zone Export'!$V$16)","v":11.52},{"$f":"IF('Sconti Export'!T$134>'Sconti Export'!T141-('Sconti Export'!T141*'Sconti Export'!E141),'Sconti Export'!T$134*'Zone Export'!$V$16,('Sconti Export'!T141-('Sconti Export'!T141*'Sconti Export'!E141))*'Zone Export'!$V$16)","v":27.72999999999999},{"$f":"IF('Sconti Export'!U$134>'Sconti Export'!U141-('Sconti Export'!U141*'Sconti Export'!F141),'Sconti Export'!U$134*'Zone Export'!$V$16,('Sconti Export'!U141-('Sconti Export'!U141*'Sconti Export'!F141))*'Zone Export'!$V$16)","v":28.449999999999989},{"$f":"IF('Sconti Export'!V$134>'Sconti Export'!V141-('Sconti Export'!V141*'Sconti Export'!G141),'Sconti Export'!V$134*'Zone Export'!$V$16,('Sconti Export'!V141-('Sconti Export'!V141*'Sconti Export'!G141))*'Zone Export'!$V$16)","v":29.97},{"$f":"IF('Sconti Export'!W$134>'Sconti Export'!W141-('Sconti Export'!W141*'Sconti Export'!H141),'Sconti Export'!W$134*'Zone Export'!$V$16,('Sconti Export'!W141-('Sconti Export'!W141*'Sconti Export'!H141))*'Zone Export'!$V$16)","v":30.61999999999999},{"$f":"IF('Sconti Export'!X$134>'Sconti Export'!X141-('Sconti Export'!X141*'Sconti Export'!I141),'Sconti Export'!X$134*'Zone Export'!$V$16,('Sconti Export'!X141-('Sconti Export'!X141*'Sconti Export'!I141))*'Zone Export'!$V$16)","v":60.319999999999993},{"$f":"IF('Sconti Export'!Y$134>'Sconti Export'!Y141-('Sconti Export'!Y141*'Sconti Export'!J141),'Sconti Export'!Y$134*'Zone Export'!$V$16,('Sconti Export'!Y141-('Sconti Export'!Y141*'Sconti Export'!J141))*'Zone Export'!$V$16)","v":38.962500000000006}]
[null,"8,0 kg",{"$f":"IF('Sconti Export'!R$134>'Sconti Export'!R142-('Sconti Export'!R142*'Sconti Export'!C142),'Sconti Export'!R$134*'Zone Export'!$V$16,('Sconti Export'!R142-('Sconti Export'!R142*'Sconti Export'!C142))*'Zone Export'!$V$16)","v":8.4450000000000003},{"$f":"IF('Sconti Export'!S$134>'Sconti Export'!S142-('Sconti Export'!S142*'Sconti Export'!D142),'Sconti Export'!S$134*'Zone Export'!$V$16,('Sconti Export'!S142-('Sconti Export'!S142*'Sconti Export'!D142))*'Zone Export'!$V$16)","v":11.52},{"$f":"IF('Sconti Export'!T$134>'Sconti Export'!T142-('Sconti Export'!T142*'Sconti Export'!E142),'Sconti Export'!T$134*'Zone Export'!$V$16,('Sconti Export'!T142-('Sconti Export'!T142*'Sconti Export'!E142))*'Zone Export'!$V$16)","v":29.97},{"$f":"IF('Sconti Export'!U$134>'Sconti Export'!U142-('Sconti Export'!U142*'Sconti Export'!F142),'Sconti Export'!U$134*'Zone Export'!$V$16,('Sconti Export'!U142-('Sconti Export'!U142*'Sconti Export'!F142))*'Zone Export'!$V$16)","v":30.789999999999992},{"$f":"IF('Sconti Export'!V$134>'Sconti Export'!V142-('Sconti Export'!V142*'Sconti Export'!G142),'Sconti Export'!V$134*'Zone Export'!$V$16,('Sconti Export'!V142-('Sconti Export'!V142*'Sconti Export'!G142))*'Zone Export'!$V$16)","v":32.359999999999985},{"$f":"IF('Sconti Export'!W$134>'Sconti Export'!W142-('Sconti Export'!W142*'Sconti Export'!H142),'Sconti Export'!W$134*'Zone Export'!$V$16,('Sconti Export'!W142-('Sconti Export'!W142*'Sconti Export'!H142))*'Zone Export'!$V$16)","v":33.079999999999984},{"$f":"IF('Sconti Export'!X$134>'Sconti Export'!X142-('Sconti Export'!X142*'Sconti Export'!I142),'Sconti Export'!X$134*'Zone Export'!$V$16,('Sconti Export'!X142-('Sconti Export'!X142*'Sconti Export'!I142))*'Zone Export'!$V$16)","v":66.46999999999997},{"$f":"IF('Sconti Export'!Y$134>'Sconti Export'!Y142-('Sconti Export'!Y142*'Sconti Export'!J142),'Sconti Export'!Y$134*'Zone Export'!$V$16,('Sconti Export'!Y142-('Sconti Export'!Y142*'Sconti Export'!J142))*'Zone Export'!$V$16)","v":41.987499999999997}]
[null,"9,0 kg",{"$f":"IF('Sconti Export'!R$134>'Sconti Export'!R143-('Sconti Export'!R143*'Sconti Export'!C143),'Sconti Export'!R$134*'Zone Export'!$V$16,('Sconti Export'!R143-('Sconti Export'!R143*'Sconti Export'!C143))*'Zone Export'!$V$16)","v":8.4450000000000003},{"$f":"IF('Sconti Export'!S$134>'Sconti Export'!S143-('Sconti Export'!S143*'Sconti Export'!D143),'Sconti Export'!S$134*'Zone Export'!$V$16,('Sconti Export'!S143-('Sconti Export'!S143*'Sconti Export'!D143))*'Zone Export'!$V$16)","v":11.52},{"$f":"IF('Sconti Export'!T$134>'Sconti Export'!T143-('Sconti Export'!T143*'Sconti Export'!E143),'Sconti Export'!T$134*'Zone Export'!$V$16,('Sconti Export'!T143-('Sconti Export'!T143*'Sconti Export'!E143))*'Zone Export'!$V$16)","v":32.25},{"$f":"IF('Sconti Export'!U$134>'Sconti Export'!U143-('Sconti Export'!U143*'Sconti Export'!F143),'Sconti Export'!U$134*'Zone Export'!$V$16,('Sconti Export'!U143-('Sconti Export'!U143*'Sconti Export'!F143))*'Zone Export'!$V$16)","v":33.109999999999985},{"$f":"IF('Sconti Export'!V$134>'Sconti Export'!V143-('Sconti Export'!V143*'Sconti Export'!G143),'Sconti Export'!V$134*'Zone Export'!$V$16,('Sconti Export'!V143-('Sconti Export'!V143*'Sconti Export'!G143))*'Zone Export'!$V$16)","v":34.75},{"$f":"IF('Sconti Export'!W$134>'Sconti Export'!W143-('Sconti Export'!W143*'Sconti Export'!H143),'Sconti Export'!W$134*'Zone Export'!$V$16,('Sconti Export'!W143-('Sconti Export'!W143*'Sconti Export'!H143))*'Zone Export'!$V$16)","v":35.539999999999992},{"$f":"IF('Sconti Export'!X$134>'Sconti Export'!X143-('Sconti Export'!X143*'Sconti Export'!I143),'Sconti Export'!X$134*'Zone Export'!$V$16,('Sconti Export'!X143-('Sconti Export'!X143*'Sconti Export'!I143))*'Zone Export'!$V$16)","v":72.63},{"$f":"IF('Sconti Export'!Y$134>'Sconti Export'!Y143-('Sconti Export'!Y143*'Sconti Export'!J143),'Sconti Export'!Y$134*'Zone Export'!$V$16,('Sconti Export'!Y143-('Sconti Export'!Y143*'Sconti Export'!J143))*'Zone Export'!$V$16)","v":45.037499999999994}]
[null,"10 kg",{"$f":"IF('Sconti Export'!R$134>'Sconti Export'!R144-('Sconti Export'!R144*'Sconti Export'!C144),'Sconti Export'!R$134*'Zone Export'!$V$16,('Sconti Export'!R144-('Sconti Export'!R144*'Sconti Export'!C144))*'Zone Export'!$V$16)","v":8.4450000000000003},{"$f":"IF('Sconti Export'!S$134>'Sconti Export'!S144-('Sconti Export'!S144*'Sconti Export'!D144),'Sconti Export'!S$134*'Zone Export'!$V$16,('Sconti Export'!S144-('Sconti Export'!S144*'Sconti Export'!D144))*'Zone Export'!$V$16)","v":11.52},{"$f":"IF('Sconti Export'!T$134>'Sconti Export'!T144-('Sconti Export'!T144*'Sconti Export'!E144),'Sconti Export'!T$134*'Zone Export'!$V$16,('Sconti Export'!T144-('Sconti Export'!T144*'Sconti Export'!E144))*'Zone Export'!$V$16)","v":34.489999999999981},{"$f":"IF('Sconti Export'!U$134>'Sconti Export'!U144-('Sconti Export'!U144*'Sconti Export'!F144),'Sconti Export'!U$134*'Zone Export'!$V$16,('Sconti Export'!U144-('Sconti Export'!U144*'Sconti Export'!F144))*'Zone Export'!$V$16)","v":35.419999999999987},{"$f":"IF('Sconti Export'!V$134>'Sconti Export'!V144-('Sconti Export'!V144*'Sconti Export'!G144),'Sconti Export'!V$134*'Zone Export'!$V$16,('Sconti Export'!V144-('Sconti Export'!V144*'Sconti Export'!G144))*'Zone Export'!$V$16)","v":37.159999999999997},{"$f":"IF('Sconti Export'!W$134>'Sconti Export'!W144-('Sconti Export'!W144*'Sconti Export'!H144),'Sconti Export'!W$134*'Zone Export'!$V$16,('Sconti Export'!W144-('Sconti Export'!W144*'Sconti Export'!H144))*'Zone Export'!$V$16)","v":37.97999999999999},{"$f":"IF('Sconti Export'!X$134>'Sconti Export'!X144-('Sconti Export'!X144*'Sconti Export'!I144),'Sconti Export'!X$134*'Zone Export'!$V$16,('Sconti Export'!X144-('Sconti Export'!X144*'Sconti Export'!I144))*'Zone Export'!$V$16)","v":78.789999999999964},{"$f":"IF('Sconti Export'!Y$134>'Sconti Export'!Y144-('Sconti Export'!Y144*'Sconti Export'!J144),'Sconti Export'!Y$134*'Zone Export'!$V$16,('Sconti Export'!Y144-('Sconti Export'!Y144*'Sconti Export'!J144))*'Zone Export'!$V$16)","v":48.0625}]
[null,"12 kg",{"$f":"IF('Sconti Export'!R$134>'Sconti Export'!R145-('Sconti Export'!R145*'Sconti Export'!C145),'Sconti Export'!R$134*'Zone Export'!$V$16,('Sconti Export'!R145-('Sconti Export'!R145*'Sconti Export'!C145))*'Zone Export'!$V$16)","v":9.48},{"$f":"IF('Sconti Export'!S$134>'Sconti Export'!S145-('Sconti Export'!S145*'Sconti Export'!D145),'Sconti Export'!S$134*'Zone Export'!$V$16,('Sconti Export'!S145-('Sconti Export'!S145*'Sconti Export'!D145))*'Zone Export'!$V$16)","v":13.740000000000002},{"$f":"IF('Sconti Export'!T$134>'Sconti Export'!T145-('Sconti Export'!T145*'Sconti Export'!E145),'Sconti Export'!T$134*'Zone Export'!$V$16,('Sconti Export'!T145-('Sconti Export'!T145*'Sconti Export'!E145))*'Zone Export'!$V$16)","v":35.680000000000007},{"$f":"IF('Sconti Export'!U$134>'Sconti Export'!U145-('Sconti Export'!U145*'Sconti Export'!F145),'Sconti Export'!U$134*'Zone Export'!$V$16,('Sconti Export'!U145-('Sconti Export'!U145*'Sconti Export'!F145))*'Zone Export'!$V$16)","v":37.03},{"$f":"IF('Sconti Export'!V$134>'Sconti Export'!V145-('Sconti Export'!V145*'Sconti Export'!G145),'Sconti Export'!V$134*'Zone Export'!$V$16,('Sconti Export'!V145-('Sconti Export'!V145*'Sconti Export'!G145))*'Zone Export'!$V$16)","v":39.03},{"$f":"IF('Sconti Export'!W$134>'Sconti Export'!W145-('Sconti Export'!W145*'Sconti Export'!H145),'Sconti Export'!W$134*'Zone Export'!$V$16,('Sconti Export'!W145-('Sconti Export'!W145*'Sconti Export'!H145))*'Zone Export'!$V$16)","v":41.899999999999977},{"$f":"IF('Sconti Export'!X$134>'Sconti Export'!X145-('Sconti Export'!X145*'Sconti Export'!I145),'Sconti Export'!X$134*'Zone Export'!$V$16,('Sconti Export'!X145-('Sconti Export'!X145*'Sconti Export'!I145))*'Zone Export'!$V$16)","v":84.669999999999959},{"$f":"IF('Sconti Export'!Y$134>'Sconti Export'!Y145-('Sconti Export'!Y145*'Sconti Export'!J145),'Sconti Export'!Y$134*'Zone Export'!$V$16,('Sconti Export'!Y145-('Sconti Export'!Y145*'Sconti Export'!J145))*'Zone Export'!$V$16)","v":54.012499999999989}]
[null,"14 kg",{"$f":"IF('Sconti Export'!R$134>'Sconti Export'!R146-('Sconti Export'!R146*'Sconti Export'!C146),'Sconti Export'!R$134*'Zone Export'!$V$16,('Sconti Export'!R146-('Sconti Export'!R146*'Sconti Export'!C146))*'Zone Export'!$V$16)","v":9.48},{"$f":"IF('Sconti Export'!S$134>'Sconti Export'!S146-('Sconti Export'!S146*'Sconti Export'!D146),'Sconti Export'!S$134*'Zone Export'!$V$16,('Sconti Export'!S146-('Sconti Export'!S146*'Sconti Export'!D146))*'Zone Export'!$V$16)","v":13.740000000000002},{"$f":"IF('Sconti Export'!T$134>'Sconti Export'!T146-('Sconti Export'!T146*'Sconti Export'!E146),'Sconti Export'!T$134*'Zone Export'!$V$16,('Sconti Export'!T146-('Sconti Export'!T146*'Sconti Export'!E146))*'Zone Export'!$V$16)","v":35.680000000000007},{"$f":"IF('Sconti Export'!U$134>'Sconti Export'!U146-('Sconti Export'!U146*'Sconti Export'!F146),'Sconti Export'!U$134*'Zone Export'!$V$16,('Sconti Export'!U146-('Sconti Export'!U146*'Sconti Export'!F146))*'Zone Export'!$V$16)","v":37.03},{"$f":"IF('Sconti Export'!V$134>'Sconti Export'!V146-('Sconti Export'!V146*'Sconti Export'!G146),'Sconti Export'!V$134*'Zone Export'!$V$16,('Sconti Export'!V146-('Sconti Export'!V146*'Sconti Export'!G146))*'Zone Export'!$V$16)","v":39.03},{"$f":"IF('Sconti Export'!W$134>'Sconti Export'!W146-('Sconti Export'!W146*'Sconti Export'!H146),'Sconti Export'!W$134*'Zone Export'!$V$16,('Sconti Export'!W146-('Sconti Export'!W146*'Sconti Export'!H146))*'Zone Export'!$V$16)","v":41.899999999999977},{"$f":"IF('Sconti Export'!X$134>'Sconti Export'!X146-('Sconti Export'!X146*'Sconti Export'!I146),'Sconti Export'!X$134*'Zone Export'!$V$16,('Sconti Export'!X146-('Sconti Export'!X146*'Sconti Export'!I146))*'Zone Export'!$V$16)","v":84.669999999999959},{"$f":"IF('Sconti Export'!Y$134>'Sconti Export'!Y146-('Sconti Export'!Y146*'Sconti Export'!J146),'Sconti Export'!Y$134*'Zone Export'!$V$16,('Sconti Export'!Y146-('Sconti Export'!Y146*'Sconti Export'!J146))*'Zone Export'!$V$16)","v":54.012499999999989}]
[null,"16 kg",{"$f":"IF('Sconti Export'!R$134>'Sconti Export'!R147-('Sconti Export'!R147*'Sconti Export'!C147),'Sconti Export'!R$134*'Zone Export'!$V$16,('Sconti Export'!R147-('Sconti Export'!R147*'Sconti Export'!C147))*'Zone Export'!$V$16)","v":9.48},{"$f":"IF('Sconti Export'!S$134>'Sconti Export'!S147-('Sconti Export'!S147*'Sconti Export'!D147),'Sconti Export'!S$134*'Zone Export'!$V$16,('Sconti Export'!S147-('Sconti Export'!S147*'Sconti Export'!D147))*'Zone Export'!$V$16)","v":13.740000000000002},{"$f":"IF('Sconti Export'!T$134>'Sconti Export'!T147-('Sconti Export'!T147*'Sconti Export'!E147),'Sconti Export'!T$134*'Zone Export'!$V$16,('Sconti Export'!T147-('Sconti Export'!T147*'Sconti Export'!E147))*'Zone Export'!$V$16)","v":36.03},{"$f":"IF('Sconti Export'!U$134>'Sconti Export'!U147-('Sconti Export'!U147*'Sconti Export'!F147),'Sconti Export'!U$134*'Zone Export'!$V$16,('Sconti Export'!U147-('Sconti Export'!U147*'Sconti Export'!F147))*'Zone Export'!$V$16)","v":37.489999999999981},{"$f":"IF('Sconti Export'!V$134>'Sconti Export'!V147-('Sconti Export'!V147*'Sconti Export'!G147),'Sconti Export'!V$134*'Zone Export'!$V$16,('Sconti Export'!V147-('Sconti Export'!V147*'Sconti Export'!G147))*'Zone Export'!$V$16)","v":39.519999999999982},{"$f":"IF('Sconti Export'!W$134>'Sconti Export'!W147-('Sconti Export'!W147*'Sconti Export'!H147),'Sconti Export'!W$134*'Zone Export'!$V$16,('Sconti Export'!W147-('Sconti Export'!W147*'Sconti Export'!H147))*'Zone Export'!$V$16)","v":44.139999999999986},{"$f":"IF('Sconti Export'!X$134>'Sconti Export'!X147-('Sconti Export'!X147*'Sconti Export'!I147),'Sconti Export'!X$134*'Zone Export'!$V$16,('Sconti Export'!X147-('Sconti Export'!X147*'Sconti Export'!I147))*'Zone Export'!$V$16)","v":88.87},{"$f":"IF('Sconti Export'!Y$134>'Sconti Export'!Y147-('Sconti Export'!Y147*'Sconti Export'!J147),'Sconti Export'!Y$134*'Zone Export'!$V$16,('Sconti Export'!Y147-('Sconti Export'!Y147*'Sconti Export'!J147))*'Zone Export'!$V$16)","v":57.849999999999994}]
[null,"18 kg",{"$f":"IF('Sconti Export'!R$134>'Sconti Export'!R148-('Sconti Export'!R148*'Sconti Export'!C148),'Sconti Export'!R$134*'Zone Export'!$V$16,('Sconti Export'!R148-('Sconti Export'!R148*'Sconti Export'!C148))*'Zone Export'!$V$16)","v":9.48},{"$f":"IF('Sconti Export'!S$134>'Sconti Export'!S148-('Sconti Export'!S148*'Sconti Export'!D148),'Sconti Export'!S$134*'Zone Export'!$V$16,('Sconti Export'!S148-('Sconti Export'!S148*'Sconti Export'!D148))*'Zone Export'!$V$16)","v":13.740000000000002},{"$f":"IF('Sconti Export'!T$134>'Sconti Export'!T148-('Sconti Export'!T148*'Sconti Export'!E148),'Sconti Export'!T$134*'Zone Export'!$V$16,('Sconti Export'!T148-('Sconti Export'!T148*'Sconti Export'!E148))*'Zone Export'!$V$16)","v":36.03},{"$f":"IF('Sconti Export'!U$134>'Sconti Export'!U148-('Sconti Export'!U148*'Sconti Export'!F148),'Sconti Export'!U$134*'Zone Export'!$V$16,('Sconti Export'!U148-('Sconti Export'!U148*'Sconti Export'!F148))*'Zone Export'!$V$16)","v":37.489999999999981},{"$f":"IF('Sconti Export'!V$134>'Sconti Export'!V148-('Sconti Export'!V148*'Sconti Export'!G148),'Sconti Export'!V$134*'Zone Export'!$V$16,('Sconti Export'!V148-('Sconti Export'!V148*'Sconti Export'!G148))*'Zone Export'!$V$16)","v":39.519999999999982},{"$f":"IF('Sconti Export'!W$134>'Sconti Export'!W148-('Sconti Export'!W148*'Sconti Export'!H148),'Sconti Export'!W$134*'Zone Export'!$V$16,('Sconti Export'!W148-('Sconti Export'!W148*'Sconti Export'!H148))*'Zone Export'!$V$16)","v":44.139999999999986},{"$f":"IF('Sconti Export'!X$134>'Sconti Export'!X148-('Sconti Export'!X148*'Sconti Export'!I148),'Sconti Export'!X$134*'Zone Export'!$V$16,('Sconti Export'!X148-('Sconti Export'!X148*'Sconti Export'!I148))*'Zone Export'!$V$16)","v":88.87},{"$f":"IF('Sconti Export'!Y$134>'Sconti Export'!Y148-('Sconti Export'!Y148*'Sconti Export'!J148),'Sconti Export'!Y$134*'Zone Export'!$V$16,('Sconti Export'!Y148-('Sconti Export'!Y148*'Sconti Export'!J148))*'Zone Export'!$V$16)","v":57.849999999999994}]
[null,"20 kg",{"$f":"IF('Sconti Export'!R$134>'Sconti Export'!R149-('Sconti Export'!R149*'Sconti Export'!C149),'Sconti Export'!R$134*'Zone Export'!$V$16,('Sconti Export'!R149-('Sconti Export'!R149*'Sconti Export'!C149))*'Zone Export'!$V$16)","v":9.48},{"$f":"IF('Sconti Export'!S$134>'Sconti Export'!S149-('Sconti Export'!S149*'Sconti Export'!D149),'Sconti Export'!S$134*'Zone Export'!$V$16,('Sconti Export'!S149-('Sconti Export'!S149*'Sconti Export'!D149))*'Zone Export'!$V$16)","v":13.740000000000002},{"$f":"IF('Sconti Export'!T$134>'Sconti Export'!T149-('Sconti Export'!T149*'Sconti Export'!E149),'Sconti Export'!T$134*'Zone Export'!$V$16,('Sconti Export'!T149-('Sconti Export'!T149*'Sconti Export'!E149))*'Zone Export'!$V$16)","v":36.03},{"$f":"IF('Sconti Export'!U$134>'Sconti Export'!U149-('Sconti Export'!U149*'Sconti Export'!F149),'Sconti Export'!U$134*'Zone Export'!$V$16,('Sconti Export'!U149-('Sconti Export'!U149*'Sconti Export'!F149))*'Zone Export'!$V$16)","v":37.489999999999981},{"$f":"IF('Sconti Export'!V$134>'Sconti Export'!V149-('Sconti Export'!V149*'Sconti Export'!G149),'Sconti Export'!V$134*'Zone Export'!$V$16,('Sconti Export'!V149-('Sconti Export'!V149*'Sconti Export'!G149))*'Zone Export'!$V$16)","v":39.519999999999982},{"$f":"IF('Sconti Export'!W$134>'Sconti Export'!W149-('Sconti Export'!W149*'Sconti Export'!H149),'Sconti Export'!W$134*'Zone Export'!$V$16,('Sconti Export'!W149-('Sconti Export'!W149*'Sconti Export'!H149))*'Zone Export'!$V$16)","v":44.139999999999986},{"$f":"IF('Sconti Export'!X$134>'Sconti Export'!X149-('Sconti Export'!X149*'Sconti Export'!I149),'Sconti Export'!X$134*'Zone Export'!$V$16,('Sconti Export'!X149-('Sconti Export'!X149*'Sconti Export'!I149))*'Zone Export'!$V$16)","v":88.87},{"$f":"IF('Sconti Export'!Y$134>'Sconti Export'!Y149-('Sconti Export'!Y149*'Sconti Export'!J149),'Sconti Export'!Y$134*'Zone Export'!$V$16,('Sconti Export'!Y149-('Sconti Export'!Y149*'Sconti Export'!J149))*'Zone Export'!$V$16)","v":57.849999999999994}]
[null,"22 kg",{"$f":"IF('Sconti Export'!R$134>'Sconti Export'!R150-('Sconti Export'!R150*'Sconti Export'!C150),'Sconti Export'!R$134*'Zone Export'!$V$16,('Sconti Export'!R150-('Sconti Export'!R150*'Sconti Export'!C150))*'Zone Export'!$V$16)","v":12.195},{"$f":"IF('Sconti Export'!S$134>'Sconti Export'!S150-('Sconti Export'!S150*'Sconti Export'!D150),'Sconti Export'!S$134*'Zone Export'!$V$16,('Sconti Export'!S150-('Sconti Export'!S150*'Sconti Export'!D150))*'Zone Export'!$V$16)","v":18.735000000000007},{"$f":"IF('Sconti Export'!T$134>'Sconti Export'!T150-('Sconti Export'!T150*'Sconti Export'!E150),'Sconti Export'!T$134*'Zone Export'!$V$16,('Sconti Export'!T150-('Sconti Export'!T150*'Sconti Export'!E150))*'Zone Export'!$V$16)","v":38.239999999999981},{"$f":"IF('Sconti Export'!U$134>'Sconti Export'!U150-('Sconti Export'!U150*'Sconti Export'!F150),'Sconti Export'!U$134*'Zone Export'!$V$16,('Sconti Export'!U150-('Sconti Export'!U150*'Sconti Export'!F150))*'Zone Export'!$V$16)","v":40.47},{"$f":"IF('Sconti Export'!V$134>'Sconti Export'!V150-('Sconti Export'!V150*'Sconti Export'!G150),'Sconti Export'!V$134*'Zone Export'!$V$16,('Sconti Export'!V150-('Sconti Export'!V150*'Sconti Export'!G150))*'Zone Export'!$V$16)","v":43.039999999999992},{"$f":"IF('Sconti Export'!W$134>'Sconti Export'!W150-('Sconti Export'!W150*'Sconti Export'!H150),'Sconti Export'!W$134*'Zone Export'!$V$16,('Sconti Export'!W150-('Sconti Export'!W150*'Sconti Export'!H150))*'Zone Export'!$V$16)","v":49.95999999999998},{"$f":"IF('Sconti Export'!X$134>'Sconti Export'!X150-('Sconti Export'!X150*'Sconti Export'!I150),'Sconti Export'!X$134*'Zone Export'!$V$16,('Sconti Export'!X150-('Sconti Export'!X150*'Sconti Export'!I150))*'Zone Export'!$V$16)","v":101.12},{"$f":"IF('Sconti Export'!Y$134>'Sconti Export'!Y150-('Sconti Export'!Y150*'Sconti Export'!J150),'Sconti Export'!Y$134*'Zone Export'!$V$16,('Sconti Export'!Y150-('Sconti Export'!Y150*'Sconti Export'!J150))*'Zone Export'!$V$16)","v":66.237500000000011}]
[null,"24 kg",{"$f":"IF('Sconti Export'!R$134>'Sconti Export'!R151-('Sconti Export'!R151*'Sconti Export'!C151),'Sconti Export'!R$134*'Zone Export'!$V$16,('Sconti Export'!R151-('Sconti Export'!R151*'Sconti Export'!C151))*'Zone Export'!$V$16)","v":12.195},{"$f":"IF('Sconti Export'!S$134>'Sconti Export'!S151-('Sconti Export'!S151*'Sconti Export'!D151),'Sconti Export'!S$134*'Zone Export'!$V$16,('Sconti Export'!S151-('Sconti Export'!S151*'Sconti Export'!D151))*'Zone Export'!$V$16)","v":18.735000000000007},{"$f":"IF('Sconti Export'!T$134>'Sconti Export'!T151-('Sconti Export'!T151*'Sconti Export'!E151),'Sconti Export'!T$134*'Zone Export'!$V$16,('Sconti Export'!T151-('Sconti Export'!T151*'Sconti Export'!E151))*'Zone Export'!$V$16)","v":38.239999999999981},{"$f":"IF('Sconti Export'!U$134>'Sconti Export'!U151-('Sconti Export'!U151*'Sconti Export'!F151),'Sconti Export'!U$134*'Zone Export'!$V$16,('Sconti Export'!U151-('Sconti Export'!U151*'Sconti Export'!F151))*'Zone Export'!$V$16)","v":40.47},{"$f":"IF('Sconti Export'!V$134>'Sconti Export'!V151-('Sconti Export'!V151*'Sconti Export'!G151),'Sconti Export'!V$134*'Zone Export'!$V$16,('Sconti Export'!V151-('Sconti Export'!V151*'Sconti Export'!G151))*'Zone Export'!$V$16)","v":43.039999999999992},{"$f":"IF('Sconti Export'!W$134>'Sconti Export'!W151-('Sconti Export'!W151*'Sconti Export'!H151),'Sconti Export'!W$134*'Zone Export'!$V$16,('Sconti Export'!W151-('Sconti Export'!W151*'Sconti Export'!H151))*'Zone Export'!$V$16)","v":49.95999999999998},{"$f":"IF('Sconti Export'!X$134>'Sconti Export'!X151-('Sconti Export'!X151*'Sconti Export'!I151),'Sconti Export'!X$134*'Zone Export'!$V$16,('Sconti Export'!X151-('Sconti Export'!X151*'Sconti Export'!I151))*'Zone Export'!$V$16)","v":101.12},{"$f":"IF('Sconti Export'!Y$134>'Sconti Export'!Y151-('Sconti Export'!Y151*'Sconti Export'!J151),'Sconti Export'!Y$134*'Zone Export'!$V$16,('Sconti Export'!Y151-('Sconti Export'!Y151*'Sconti Export'!J151))*'Zone Export'!$V$16)","v":66.237500000000011}]
[null,"26 kg",{"$f":"IF('Sconti Export'!R$134>'Sconti Export'!R152-('Sconti Export'!R152*'Sconti Export'!C152),'Sconti Export'!R$134*'Zone Export'!$V$16,('Sconti Export'!R152-('Sconti Export'!R152*'Sconti Export'!C152))*'Zone Export'!$V$16)","v":12.195},{"$f":"IF('Sconti Export'!S$134>'Sconti Export'!S152-('Sconti Export'!S152*'Sconti Export'!D152),'Sconti Export'!S$134*'Zone Export'!$V$16,('Sconti Export'!S152-('Sconti Export'!S152*'Sconti Export'!D152))*'Zone Export'!$V$16)","v":18.735000000000007},{"$f":"IF('Sconti Export'!T$134>'Sconti Export'!T152-('Sconti Export'!T152*'Sconti Export'!E152),'Sconti Export'!T$134*'Zone Export'!$V$16,('Sconti Export'!T152-('Sconti Export'!T152*'Sconti Export'!E152))*'Zone Export'!$V$16)","v":38.239999999999981},{"$f":"IF('Sconti Export'!U$134>'Sconti Export'!U152-('Sconti Export'!U152*'Sconti Export'!F152),'Sconti Export'!U$134*'Zone Export'!$V$16,('Sconti Export'!U152-('Sconti Export'!U152*'Sconti Export'!F152))*'Zone Export'!$V$16)","v":40.47},{"$f":"IF('Sconti Export'!V$134>'Sconti Export'!V152-('Sconti Export'!V152*'Sconti Export'!G152),'Sconti Export'!V$134*'Zone Export'!$V$16,('Sconti Export'!V152-('Sconti Export'!V152*'Sconti Export'!G152))*'Zone Export'!$V$16)","v":43.039999999999992},{"$f":"IF('Sconti Export'!W$134>'Sconti Export'!W152-('Sconti Export'!W152*'Sconti Export'!H152),'Sconti Export'!W$134*'Zone Export'!$V$16,('Sconti Export'!W152-('Sconti Export'!W152*'Sconti Export'!H152))*'Zone Export'!$V$16)","v":49.95999999999998},{"$f":"IF('Sconti Export'!X$134>'Sconti Export'!X152-('Sconti Export'!X152*'Sconti Export'!I152),'Sconti Export'!X$134*'Zone Export'!$V$16,('Sconti Export'!X152-('Sconti Export'!X152*'Sconti Export'!I152))*'Zone Export'!$V$16)","v":101.12},{"$f":"IF('Sconti Export'!Y$134>'Sconti Export'!Y152-('Sconti Export'!Y152*'Sconti Export'!J152),'Sconti Export'!Y$134*'Zone Export'!$V$16,('Sconti Export'!Y152-('Sconti Export'!Y152*'Sconti Export'!J152))*'Zone Export'!$V$16)","v":66.237500000000011}]
[null,"28 kg",{"$f":"IF('Sconti Export'!R$134>'Sconti Export'!R153-('Sconti Export'!R153*'Sconti Export'!C153),'Sconti Export'!R$134*'Zone Export'!$V$16,('Sconti Export'!R153-('Sconti Export'!R153*'Sconti Export'!C153))*'Zone Export'!$V$16)","v":12.195},{"$f":"IF('Sconti Export'!S$134>'Sconti Export'!S153-('Sconti Export'!S153*'Sconti Export'!D153),'Sconti Export'!S$134*'Zone Export'!$V$16,('Sconti Export'!S153-('Sconti Export'!S153*'Sconti Export'!D153))*'Zone Export'!$V$16)","v":18.735000000000007},{"$f":"IF('Sconti Export'!T$134>'Sconti Export'!T153-('Sconti Export'!T153*'Sconti Export'!E153),'Sconti Export'!T$134*'Zone Export'!$V$16,('Sconti Export'!T153-('Sconti Export'!T153*'Sconti Export'!E153))*'Zone Export'!$V$16)","v":38.239999999999981},{"$f":"IF('Sconti Export'!U$134>'Sconti Export'!U153-('Sconti Export'!U153*'Sconti Export'!F153),'Sconti Export'!U$134*'Zone Export'!$V$16,('Sconti Export'!U153-('Sconti Export'!U153*'Sconti Export'!F153))*'Zone Export'!$V$16)","v":40.47},{"$f":"IF('Sconti Export'!V$134>'Sconti Export'!V153-('Sconti Export'!V153*'Sconti Export'!G153),'Sconti Export'!V$134*'Zone Export'!$V$16,('Sconti Export'!V153-('Sconti Export'!V153*'Sconti Export'!G153))*'Zone Export'!$V$16)","v":43.039999999999992},{"$f":"IF('Sconti Export'!W$134>'Sconti Export'!W153-('Sconti Export'!W153*'Sconti Export'!H153),'Sconti Export'!W$134*'Zone Export'!$V$16,('Sconti Export'!W153-('Sconti Export'!W153*'Sconti Export'!H153))*'Zone Export'!$V$16)","v":49.95999999999998},{"$f":"IF('Sconti Export'!X$134>'Sconti Export'!X153-('Sconti Export'!X153*'Sconti Export'!I153),'Sconti Export'!X$134*'Zone Export'!$V$16,('Sconti Export'!X153-('Sconti Export'!X153*'Sconti Export'!I153))*'Zone Export'!$V$16)","v":101.12},{"$f":"IF('Sconti Export'!Y$134>'Sconti Export'!Y153-('Sconti Export'!Y153*'Sconti Export'!J153),'Sconti Export'!Y$134*'Zone Export'!$V$16,('Sconti Export'!Y153-('Sconti Export'!Y153*'Sconti Export'!J153))*'Zone Export'!$V$16)","v":66.237500000000011}]
[null,"30 kg",{"$f":"IF('Sconti Export'!R$134>'Sconti Export'!R154-('Sconti Export'!R154*'Sconti Export'!C154),'Sconti Export'!R$134*'Zone Export'!$V$16,('Sconti Export'!R154-('Sconti Export'!R154*'Sconti Export'!C154))*'Zone Export'!$V$16)","v":12.195},{"$f":"IF('Sconti Export'!S$134>'Sconti Export'!S154-('Sconti Export'!S154*'Sconti Export'!D154),'Sconti Export'!S$134*'Zone Export'!$V$16,('Sconti Export'!S154-('Sconti Export'!S154*'Sconti Export'!D154))*'Zone Export'!$V$16)","v":18.735000000000007},{"$f":"IF('Sconti Export'!T$134>'Sconti Export'!T154-('Sconti Export'!T154*'Sconti Export'!E154),'Sconti Export'!T$134*'Zone Export'!$V$16,('Sconti Export'!T154-('Sconti Export'!T154*'Sconti Export'!E154))*'Zone Export'!$V$16)","v":38.239999999999981},{"$f":"IF('Sconti Export'!U$134>'Sconti Export'!U154-('Sconti Export'!U154*'Sconti Export'!F154),'Sconti Export'!U$134*'Zone Export'!$V$16,('Sconti Export'!U154-('Sconti Export'!U154*'Sconti Export'!F154))*'Zone Export'!$V$16)","v":40.47},{"$f":"IF('Sconti Export'!V$134>'Sconti Export'!V154-('Sconti Export'!V154*'Sconti Export'!G154),'Sconti Export'!V$134*'Zone Export'!$V$16,('Sconti Export'!V154-('Sconti Export'!V154*'Sconti Export'!G154))*'Zone Export'!$V$16)","v":43.039999999999992},{"$f":"IF('Sconti Export'!W$134>'Sconti Export'!W154-('Sconti Export'!W154*'Sconti Export'!H154),'Sconti Export'!W$134*'Zone Export'!$V$16,('Sconti Export'!W154-('Sconti Export'!W154*'Sconti Export'!H154))*'Zone Export'!$V$16)","v":49.95999999999998},{"$f":"IF('Sconti Export'!X$134>'Sconti Export'!X154-('Sconti Export'!X154*'Sconti Export'!I154),'Sconti Export'!X$134*'Zone Export'!$V$16,('Sconti Export'!X154-('Sconti Export'!X154*'Sconti Export'!I154))*'Zone Export'!$V$16)","v":101.12},{"$f":"IF('Sconti Export'!Y$134>'Sconti Export'!Y154-('Sconti Export'!Y154*'Sconti Export'!J154),'Sconti Export'!Y$134*'Zone Export'!$V$16,('Sconti Export'!Y154-('Sconti Export'!Y154*'Sconti Export'!J154))*'Zone Export'!$V$16)","v":66.237500000000011}]
[null,"32 kg",{"$f":"IF('Sconti Export'!R$134>'Sconti Export'!R155-('Sconti Export'!R155*'Sconti Export'!C155),'Sconti Export'!R$134*'Zone Export'!$V$16,('Sconti Export'!R155-('Sconti Export'!R155*'Sconti Export'!C155))*'Zone Export'!$V$16)","v":14.835000000000001},{"$f":"IF('Sconti Export'!S$134>'Sconti Export'!S155-('Sconti Export'!S155*'Sconti Export'!D155),'Sconti Export'!S$134*'Zone Export'!$V$16,('Sconti Export'!S155-('Sconti Export'!S155*'Sconti Export'!D155))*'Zone Export'!$V$16)","v":23.715000000000003},{"$f":"IF('Sconti Export'!T$134>'Sconti Export'!T155-('Sconti Export'!T155*'Sconti Export'!E155),'Sconti Export'!T$134*'Zone Export'!$V$16,('Sconti Export'!T155-('Sconti Export'!T155*'Sconti Export'!E155))*'Zone Export'!$V$16)","v":39.429999999999978},{"$f":"IF('Sconti Export'!U$134>'Sconti Export'!U155-('Sconti Export'!U155*'Sconti Export'!F155),'Sconti Export'!U$134*'Zone Export'!$V$16,('Sconti Export'!U155-('Sconti Export'!U155*'Sconti Export'!F155))*'Zone Export'!$V$16)","v":42.089999999999975},{"$f":"IF('Sconti Export'!V$134>'Sconti Export'!V155-('Sconti Export'!V155*'Sconti Export'!G155),'Sconti Export'!V$134*'Zone Export'!$V$16,('Sconti Export'!V155-('Sconti Export'!V155*'Sconti Export'!G155))*'Zone Export'!$V$16)","v":44.97},{"$f":"IF('Sconti Export'!W$134>'Sconti Export'!W155-('Sconti Export'!W155*'Sconti Export'!H155),'Sconti Export'!W$134*'Zone Export'!$V$16,('Sconti Export'!W155-('Sconti Export'!W155*'Sconti Export'!H155))*'Zone Export'!$V$16)","v":53.91},{"$f":"IF('Sconti Export'!X$134>'Sconti Export'!X155-('Sconti Export'!X155*'Sconti Export'!I155),'Sconti Export'!X$134*'Zone Export'!$V$16,('Sconti Export'!X155-('Sconti Export'!X155*'Sconti Export'!I155))*'Zone Export'!$V$16)","v":111.25},{"$f":"IF('Sconti Export'!Y$134>'Sconti Export'!Y155-('Sconti Export'!Y155*'Sconti Export'!J155),'Sconti Export'!Y$134*'Zone Export'!$V$16,('Sconti Export'!Y155-('Sconti Export'!Y155*'Sconti Export'!J155))*'Zone Export'!$V$16)","v":72.224999999999994}]
[null,"34 kg",{"$f":"IF('Sconti Export'!R$134>'Sconti Export'!R156-('Sconti Export'!R156*'Sconti Export'!C156),'Sconti Export'!R$134*'Zone Export'!$V$16,('Sconti Export'!R156-('Sconti Export'!R156*'Sconti Export'!C156))*'Zone Export'!$V$16)","v":14.835000000000001},{"$f":"IF('Sconti Export'!S$134>'Sconti Export'!S156-('Sconti Export'!S156*'Sconti Export'!D156),'Sconti Export'!S$134*'Zone Export'!$V$16,('Sconti Export'!S156-('Sconti Export'!S156*'Sconti Export'!D156))*'Zone Export'!$V$16)","v":23.715000000000003},{"$f":"IF('Sconti Export'!T$134>'Sconti Export'!T156-('Sconti Export'!T156*'Sconti Export'!E156),'Sconti Export'!T$134*'Zone Export'!$V$16,('Sconti Export'!T156-('Sconti Export'!T156*'Sconti Export'!E156))*'Zone Export'!$V$16)","v":39.429999999999978},{"$f":"IF('Sconti Export'!U$134>'Sconti Export'!U156-('Sconti Export'!U156*'Sconti Export'!F156),'Sconti Export'!U$134*'Zone Export'!$V$16,('Sconti Export'!U156-('Sconti Export'!U156*'Sconti Export'!F156))*'Zone Export'!$V$16)","v":42.089999999999975},{"$f":"IF('Sconti Export'!V$134>'Sconti Export'!V156-('Sconti Export'!V156*'Sconti Export'!G156),'Sconti Export'!V$134*'Zone Export'!$V$16,('Sconti Export'!V156-('Sconti Export'!V156*'Sconti Export'!G156))*'Zone Export'!$V$16)","v":44.97},{"$f":"IF('Sconti Export'!W$134>'Sconti Export'!W156-('Sconti Export'!W156*'Sconti Export'!H156),'Sconti Export'!W$134*'Zone Export'!$V$16,('Sconti Export'!W156-('Sconti Export'!W156*'Sconti Export'!H156))*'Zone Export'!$V$16)","v":53.91},{"$f":"IF('Sconti Export'!X$134>'Sconti Export'!X156-('Sconti Export'!X156*'Sconti Export'!I156),'Sconti Export'!X$134*'Zone Export'!$V$16,('Sconti Export'!X156-('Sconti Export'!X156*'Sconti Export'!I156))*'Zone Export'!$V$16)","v":111.25},{"$f":"IF('Sconti Export'!Y$134>'Sconti Export'!Y156-('Sconti Export'!Y156*'Sconti Export'!J156),'Sconti Export'!Y$134*'Zone Export'!$V$16,('Sconti Export'!Y156-('Sconti Export'!Y156*'Sconti Export'!J156))*'Zone Export'!$V$16)","v":72.224999999999994}]
[null,"36 kg",{"$f":"IF('Sconti Export'!R$134>'Sconti Export'!R157-('Sconti Export'!R157*'Sconti Export'!C157),'Sconti Export'!R$134*'Zone Export'!$V$16,('Sconti Export'!R157-('Sconti Export'!R157*'Sconti Export'!C157))*'Zone Export'!$V$16)","v":14.835000000000001},{"$f":"IF('Sconti Export'!S$134>'Sconti Export'!S157-('Sconti Export'!S157*'Sconti Export'!D157),'Sconti Export'!S$134*'Zone Export'!$V$16,('Sconti Export'!S157-('Sconti Export'!S157*'Sconti Export'!D157))*'Zone Export'!$V$16)","v":23.715000000000003},{"$f":"IF('Sconti Export'!T$134>'Sconti Export'!T157-('Sconti Export'!T157*'Sconti Export'!E157),'Sconti Export'!T$134*'Zone Export'!$V$16,('Sconti Export'!T157-('Sconti Export'!T157*'Sconti Export'!E157))*'Zone Export'!$V$16)","v":39.429999999999978},{"$f":"IF('Sconti Export'!U$134>'Sconti Export'!U157-('Sconti Export'!U157*'Sconti Export'!F157),'Sconti Export'!U$134*'Zone Export'!$V$16,('Sconti Export'!U157-('Sconti Export'!U157*'Sconti Export'!F157))*'Zone Export'!$V$16)","v":42.089999999999975},{"$f":"IF('Sconti Export'!V$134>'Sconti Export'!V157-('Sconti Export'!V157*'Sconti Export'!G157),'Sconti Export'!V$134*'Zone Export'!$V$16,('Sconti Export'!V157-('Sconti Export'!V157*'Sconti Export'!G157))*'Zone Export'!$V$16)","v":44.97},{"$f":"IF('Sconti Export'!W$134>'Sconti Export'!W157-('Sconti Export'!W157*'Sconti Export'!H157),'Sconti Export'!W$134*'Zone Export'!$V$16,('Sconti Export'!W157-('Sconti Export'!W157*'Sconti Export'!H157))*'Zone Export'!$V$16)","v":53.91},{"$f":"IF('Sconti Export'!X$134>'Sconti Export'!X157-('Sconti Export'!X157*'Sconti Export'!I157),'Sconti Export'!X$134*'Zone Export'!$V$16,('Sconti Export'!X157-('Sconti Export'!X157*'Sconti Export'!I157))*'Zone Export'!$V$16)","v":111.25},{"$f":"IF('Sconti Export'!Y$134>'Sconti Export'!Y157-('Sconti Export'!Y157*'Sconti Export'!J157),'Sconti Export'!Y$134*'Zone Export'!$V$16,('Sconti Export'!Y157-('Sconti Export'!Y157*'Sconti Export'!J157))*'Zone Export'!$V$16)","v":72.224999999999994}]
[null,"38 kg",{"$f":"IF('Sconti Export'!R$134>'Sconti Export'!R158-('Sconti Export'!R158*'Sconti Export'!C158),'Sconti Export'!R$134*'Zone Export'!$V$16,('Sconti Export'!R158-('Sconti Export'!R158*'Sconti Export'!C158))*'Zone Export'!$V$16)","v":14.835000000000001},{"$f":"IF('Sconti Export'!S$134>'Sconti Export'!S158-('Sconti Export'!S158*'Sconti Export'!D158),'Sconti Export'!S$134*'Zone Export'!$V$16,('Sconti Export'!S158-('Sconti Export'!S158*'Sconti Export'!D158))*'Zone Export'!$V$16)","v":23.715000000000003},{"$f":"IF('Sconti Export'!T$134>'Sconti Export'!T158-('Sconti Export'!T158*'Sconti Export'!E158),'Sconti Export'!T$134*'Zone Export'!$V$16,('Sconti Export'!T158-('Sconti Export'!T158*'Sconti Export'!E158))*'Zone Export'!$V$16)","v":39.429999999999978},{"$f":"IF('Sconti Export'!U$134>'Sconti Export'!U158-('Sconti Export'!U158*'Sconti Export'!F158),'Sconti Export'!U$134*'Zone Export'!$V$16,('Sconti Export'!U158-('Sconti Export'!U158*'Sconti Export'!F158))*'Zone Export'!$V$16)","v":42.089999999999975},{"$f":"IF('Sconti Export'!V$134>'Sconti Export'!V158-('Sconti Export'!V158*'Sconti Export'!G158),'Sconti Export'!V$134*'Zone Export'!$V$16,('Sconti Export'!V158-('Sconti Export'!V158*'Sconti Export'!G158))*'Zone Export'!$V$16)","v":44.97},{"$f":"IF('Sconti Export'!W$134>'Sconti Export'!W158-('Sconti Export'!W158*'Sconti Export'!H158),'Sconti Export'!W$134*'Zone Export'!$V$16,('Sconti Export'!W158-('Sconti Export'!W158*'Sconti Export'!H158))*'Zone Export'!$V$16)","v":53.91},{"$f":"IF('Sconti Export'!X$134>'Sconti Export'!X158-('Sconti Export'!X158*'Sconti Export'!I158),'Sconti Export'!X$134*'Zone Export'!$V$16,('Sconti Export'!X158-('Sconti Export'!X158*'Sconti Export'!I158))*'Zone Export'!$V$16)","v":111.25},{"$f":"IF('Sconti Export'!Y$134>'Sconti Export'!Y158-('Sconti Export'!Y158*'Sconti Export'!J158),'Sconti Export'!Y$134*'Zone Export'!$V$16,('Sconti Export'!Y158-('Sconti Export'!Y158*'Sconti Export'!J158))*'Zone Export'!$V$16)","v":72.224999999999994}]
[null,"40 kg",{"$f":"IF('Sconti Export'!R$134>'Sconti Export'!R159-('Sconti Export'!R159*'Sconti Export'!C159),'Sconti Export'!R$134*'Zone Export'!$V$16,('Sconti Export'!R159-('Sconti Export'!R159*'Sconti Export'!C159))*'Zone Export'!$V$16)","v":14.835000000000001},{"$f":"IF('Sconti Export'!S$134>'Sconti Export'!S159-('Sconti Export'!S159*'Sconti Export'!D159),'Sconti Export'!S$134*'Zone Export'!$V$16,('Sconti Export'!S159-('Sconti Export'!S159*'Sconti Export'!D159))*'Zone Export'!$V$16)","v":23.715000000000003},{"$f":"IF('Sconti Export'!T$134>'Sconti Export'!T159-('Sconti Export'!T159*'Sconti Export'!E159),'Sconti Export'!T$134*'Zone Export'!$V$16,('Sconti Export'!T159-('Sconti Export'!T159*'Sconti Export'!E159))*'Zone Export'!$V$16)","v":39.429999999999978},{"$f":"IF('Sconti Export'!U$134>'Sconti Export'!U159-('Sconti Export'!U159*'Sconti Export'!F159),'Sconti Export'!U$134*'Zone Export'!$V$16,('Sconti Export'!U159-('Sconti Export'!U159*'Sconti Export'!F159))*'Zone Export'!$V$16)","v":42.089999999999975},{"$f":"IF('Sconti Export'!V$134>'Sconti Export'!V159-('Sconti Export'!V159*'Sconti Export'!G159),'Sconti Export'!V$134*'Zone Export'!$V$16,('Sconti Export'!V159-('Sconti Export'!V159*'Sconti Export'!G159))*'Zone Export'!$V$16)","v":44.97},{"$f":"IF('Sconti Export'!W$134>'Sconti Export'!W159-('Sconti Export'!W159*'Sconti Export'!H159),'Sconti Export'!W$134*'Zone Export'!$V$16,('Sconti Export'!W159-('Sconti Export'!W159*'Sconti Export'!H159))*'Zone Export'!$V$16)","v":53.91},{"$f":"IF('Sconti Export'!X$134>'Sconti Export'!X159-('Sconti Export'!X159*'Sconti Export'!I159),'Sconti Export'!X$134*'Zone Export'!$V$16,('Sconti Export'!X159-('Sconti Export'!X159*'Sconti Export'!I159))*'Zone Export'!$V$16)","v":111.25},{"$f":"IF('Sconti Export'!Y$134>'Sconti Export'!Y159-('Sconti Export'!Y159*'Sconti Export'!J159),'Sconti Export'!Y$134*'Zone Export'!$V$16,('Sconti Export'!Y159-('Sconti Export'!Y159*'Sconti Export'!J159))*'Zone Export'!$V$16)","v":72.224999999999994}]
[null,"42 kg",{"$f":"IF('Sconti Export'!R$134>'Sconti Export'!R160-('Sconti Export'!R160*'Sconti Export'!C160),'Sconti Export'!R$134*'Zone Export'!$V$16,('Sconti Export'!R160-('Sconti Export'!R160*'Sconti Export'!C160))*'Zone Export'!$V$16)","v":17.46},{"$f":"IF('Sconti Export'!S$134>'Sconti Export'!S160-('Sconti Export'!S160*'Sconti Export'!D160),'Sconti Export'!S$134*'Zone Export'!$V$16,('Sconti Export'!S160-('Sconti Export'!S160*'Sconti Export'!D160))*'Zone Export'!$V$16)","v":28.650000000000006},{"$f":"IF('Sconti Export'!T$134>'Sconti Export'!T160-('Sconti Export'!T160*'Sconti Export'!E160),'Sconti Export'!T$134*'Zone Export'!$V$16,('Sconti Export'!T160-('Sconti Export'!T160*'Sconti Export'!E160))*'Zone Export'!$V$16)","v":44.799999999999983},{"$f":"IF('Sconti Export'!U$134>'Sconti Export'!U160-('Sconti Export'!U160*'Sconti Export'!F160),'Sconti Export'!U$134*'Zone Export'!$V$16,('Sconti Export'!U160-('Sconti Export'!U160*'Sconti Export'!F160))*'Zone Export'!$V$16)","v":47.339999999999975},{"$f":"IF('Sconti Export'!V$134>'Sconti Export'!V160-('Sconti Export'!V160*'Sconti Export'!G160),'Sconti Export'!V$134*'Zone Export'!$V$16,('Sconti Export'!V160-('Sconti Export'!V160*'Sconti Export'!G160))*'Zone Export'!$V$16)","v":50.399999999999977},{"$f":"IF('Sconti Export'!W$134>'Sconti Export'!W160-('Sconti Export'!W160*'Sconti Export'!H160),'Sconti Export'!W$134*'Zone Export'!$V$16,('Sconti Export'!W160-('Sconti Export'!W160*'Sconti Export'!H160))*'Zone Export'!$V$16)","v":58.509999999999991},{"$f":"IF('Sconti Export'!X$134>'Sconti Export'!X160-('Sconti Export'!X160*'Sconti Export'!I160),'Sconti Export'!X$134*'Zone Export'!$V$16,('Sconti Export'!X160-('Sconti Export'!X160*'Sconti Export'!I160))*'Zone Export'!$V$16)","v":121.38999999999999},{"$f":"IF('Sconti Export'!Y$134>'Sconti Export'!Y160-('Sconti Export'!Y160*'Sconti Export'!J160),'Sconti Export'!Y$134*'Zone Export'!$V$16,('Sconti Export'!Y160-('Sconti Export'!Y160*'Sconti Export'!J160))*'Zone Export'!$V$16)","v":78.150000000000006}]
[null,"44 kg",{"$f":"IF('Sconti Export'!R$134>'Sconti Export'!R161-('Sconti Export'!R161*'Sconti Export'!C161),'Sconti Export'!R$134*'Zone Export'!$V$16,('Sconti Export'!R161-('Sconti Export'!R161*'Sconti Export'!C161))*'Zone Export'!$V$16)","v":17.46},{"$f":"IF('Sconti Export'!S$134>'Sconti Export'!S161-('Sconti Export'!S161*'Sconti Export'!D161),'Sconti Export'!S$134*'Zone Export'!$V$16,('Sconti Export'!S161-('Sconti Export'!S161*'Sconti Export'!D161))*'Zone Export'!$V$16)","v":28.650000000000006},{"$f":"IF('Sconti Export'!T$134>'Sconti Export'!T161-('Sconti Export'!T161*'Sconti Export'!E161),'Sconti Export'!T$134*'Zone Export'!$V$16,('Sconti Export'!T161-('Sconti Export'!T161*'Sconti Export'!E161))*'Zone Export'!$V$16)","v":44.799999999999983},{"$f":"IF('Sconti Export'!U$134>'Sconti Export'!U161-('Sconti Export'!U161*'Sconti Export'!F161),'Sconti Export'!U$134*'Zone Export'!$V$16,('Sconti Export'!U161-('Sconti Export'!U161*'Sconti Export'!F161))*'Zone Export'!$V$16)","v":47.339999999999975},{"$f":"IF('Sconti Export'!V$134>'Sconti Export'!V161-('Sconti Export'!V161*'Sconti Export'!G161),'Sconti Export'!V$134*'Zone Export'!$V$16,('Sconti Export'!V161-('Sconti Export'!V161*'Sconti Export'!G161))*'Zone Export'!$V$16)","v":50.399999999999977},{"$f":"IF('Sconti Export'!W$134>'Sconti Export'!W161-('Sconti Export'!W161*'Sconti Export'!H161),'Sconti Export'!W$134*'Zone Export'!$V$16,('Sconti Export'!W161-('Sconti Export'!W161*'Sconti Export'!H161))*'Zone Export'!$V$16)","v":58.509999999999991},{"$f":"IF('Sconti Export'!X$134>'Sconti Export'!X161-('Sconti Export'!X161*'Sconti Export'!I161),'Sconti Export'!X$134*'Zone Export'!$V$16,('Sconti Export'!X161-('Sconti Export'!X161*'Sconti Export'!I161))*'Zone Export'!$V$16)","v":121.38999999999999},{"$f":"IF('Sconti Export'!Y$134>'Sconti Export'!Y161-('Sconti Export'!Y161*'Sconti Export'!J161),'Sconti Export'!Y$134*'Zone Export'!$V$16,('Sconti Export'!Y161-('Sconti Export'!Y161*'Sconti Export'!J161))*'Zone Export'!$V$16)","v":78.150000000000006}]
[null,"46 kg",{"$f":"IF('Sconti Export'!R$134>'Sconti Export'!R162-('Sconti Export'!R162*'Sconti Export'!C162),'Sconti Export'!R$134*'Zone Export'!$V$16,('Sconti Export'!R162-('Sconti Export'!R162*'Sconti Export'!C162))*'Zone Export'!$V$16)","v":17.46},{"$f":"IF('Sconti Export'!S$134>'Sconti Export'!S162-('Sconti Export'!S162*'Sconti Export'!D162),'Sconti Export'!S$134*'Zone Export'!$V$16,('Sconti Export'!S162-('Sconti Export'!S162*'Sconti Export'!D162))*'Zone Export'!$V$16)","v":28.650000000000006},{"$f":"IF('Sconti Export'!T$134>'Sconti Export'!T162-('Sconti Export'!T162*'Sconti Export'!E162),'Sconti Export'!T$134*'Zone Export'!$V$16,('Sconti Export'!T162-('Sconti Export'!T162*'Sconti Export'!E162))*'Zone Export'!$V$16)","v":44.799999999999983},{"$f":"IF('Sconti Export'!U$134>'Sconti Export'!U162-('Sconti Export'!U162*'Sconti Export'!F162),'Sconti Export'!U$134*'Zone Export'!$V$16,('Sconti Export'!U162-('Sconti Export'!U162*'Sconti Export'!F162))*'Zone Export'!$V$16)","v":47.339999999999975},{"$f":"IF('Sconti Export'!V$134>'Sconti Export'!V162-('Sconti Export'!V162*'Sconti Export'!G162),'Sconti Export'!V$134*'Zone Export'!$V$16,('Sconti Export'!V162-('Sconti Export'!V162*'Sconti Export'!G162))*'Zone Export'!$V$16)","v":50.399999999999977},{"$f":"IF('Sconti Export'!W$134>'Sconti Export'!W162-('Sconti Export'!W162*'Sconti Export'!H162),'Sconti Export'!W$134*'Zone Export'!$V$16,('Sconti Export'!W162-('Sconti Export'!W162*'Sconti Export'!H162))*'Zone Export'!$V$16)","v":58.509999999999991},{"$f":"IF('Sconti Export'!X$134>'Sconti Export'!X162-('Sconti Export'!X162*'Sconti Export'!I162),'Sconti Export'!X$134*'Zone Export'!$V$16,('Sconti Export'!X162-('Sconti Export'!X162*'Sconti Export'!I162))*'Zone Export'!$V$16)","v":121.38999999999999},{"$f":"IF('Sconti Export'!Y$134>'Sconti Export'!Y162-('Sconti Export'!Y162*'Sconti Export'!J162),'Sconti Export'!Y$134*'Zone Export'!$V$16,('Sconti Export'!Y162-('Sconti Export'!Y162*'Sconti Export'!J162))*'Zone Export'!$V$16)","v":78.150000000000006}]
[null,"48 kg",{"$f":"IF('Sconti Export'!R$134>'Sconti Export'!R163-('Sconti Export'!R163*'Sconti Export'!C163),'Sconti Export'!R$134*'Zone Export'!$V$16,('Sconti Export'!R163-('Sconti Export'!R163*'Sconti Export'!C163))*'Zone Export'!$V$16)","v":17.46},{"$f":"IF('Sconti Export'!S$134>'Sconti Export'!S163-('Sconti Export'!S163*'Sconti Export'!D163),'Sconti Export'!S$134*'Zone Export'!$V$16,('Sconti Export'!S163-('Sconti Export'!S163*'Sconti Export'!D163))*'Zone Export'!$V$16)","v":28.650000000000006},{"$f":"IF('Sconti Export'!T$134>'Sconti Export'!T163-('Sconti Export'!T163*'Sconti Export'!E163),'Sconti Export'!T$134*'Zone Export'!$V$16,('Sconti Export'!T163-('Sconti Export'!T163*'Sconti Export'!E163))*'Zone Export'!$V$16)","v":44.799999999999983},{"$f":"IF('Sconti Export'!U$134>'Sconti Export'!U163-('Sconti Export'!U163*'Sconti Export'!F163),'Sconti Export'!U$134*'Zone Export'!$V$16,('Sconti Export'!U163-('Sconti Export'!U163*'Sconti Export'!F163))*'Zone Export'!$V$16)","v":47.339999999999975},{"$f":"IF('Sconti Export'!V$134>'Sconti Export'!V163-('Sconti Export'!V163*'Sconti Export'!G163),'Sconti Export'!V$134*'Zone Export'!$V$16,('Sconti Export'!V163-('Sconti Export'!V163*'Sconti Export'!G163))*'Zone Export'!$V$16)","v":50.399999999999977},{"$f":"IF('Sconti Export'!W$134>'Sconti Export'!W163-('Sconti Export'!W163*'Sconti Export'!H163),'Sconti Export'!W$134*'Zone Export'!$V$16,('Sconti Export'!W163-('Sconti Export'!W163*'Sconti Export'!H163))*'Zone Export'!$V$16)","v":58.509999999999991},{"$f":"IF('Sconti Export'!X$134>'Sconti Export'!X163-('Sconti Export'!X163*'Sconti Export'!I163),'Sconti Export'!X$134*'Zone Export'!$V$16,('Sconti Export'!X163-('Sconti Export'!X163*'Sconti Export'!I163))*'Zone Export'!$V$16)","v":121.38999999999999},{"$f":"IF('Sconti Export'!Y$134>'Sconti Export'!Y163-('Sconti Export'!Y163*'Sconti Export'!J163),'Sconti Export'!Y$134*'Zone Export'!$V$16,('Sconti Export'!Y163-('Sconti Export'!Y163*'Sconti Export'!J163))*'Zone Export'!$V$16)","v":78.150000000000006}]
[null,"50 kg",{"$f":"IF('Sconti Export'!R$134>'Sconti Export'!R164-('Sconti Export'!R164*'Sconti Export'!C164),'Sconti Export'!R$134*'Zone Export'!$V$16,('Sconti Export'!R164-('Sconti Export'!R164*'Sconti Export'!C164))*'Zone Export'!$V$16)","v":17.46},{"$f":"IF('Sconti Export'!S$134>'Sconti Export'!S164-('Sconti Export'!S164*'Sconti Export'!D164),'Sconti Export'!S$134*'Zone Export'!$V$16,('Sconti Export'!S164-('Sconti Export'!S164*'Sconti Export'!D164))*'Zone Export'!$V$16)","v":28.650000000000006},{"$f":"IF('Sconti Export'!T$134>'Sconti Export'!T164-('Sconti Export'!T164*'Sconti Export'!E164),'Sconti Export'!T$134*'Zone Export'!$V$16,('Sconti Export'!T164-('Sconti Export'!T164*'Sconti Export'!E164))*'Zone Export'!$V$16)","v":44.799999999999983},{"$f":"IF('Sconti Export'!U$134>'Sconti Export'!U164-('Sconti Export'!U164*'Sconti Export'!F164),'Sconti Export'!U$134*'Zone Export'!$V$16,('Sconti Export'!U164-('Sconti Export'!U164*'Sconti Export'!F164))*'Zone Export'!$V$16)","v":47.339999999999975},{"$f":"IF('Sconti Export'!V$134>'Sconti Export'!V164-('Sconti Export'!V164*'Sconti Export'!G164),'Sconti Export'!V$134*'Zone Export'!$V$16,('Sconti Export'!V164-('Sconti Export'!V164*'Sconti Export'!G164))*'Zone Export'!$V$16)","v":50.399999999999977},{"$f":"IF('Sconti Export'!W$134>'Sconti Export'!W164-('Sconti Export'!W164*'Sconti Export'!H164),'Sconti Export'!W$134*'Zone Export'!$V$16,('Sconti Export'!W164-('Sconti Export'!W164*'Sconti Export'!H164))*'Zone Export'!$V$16)","v":58.509999999999991},{"$f":"IF('Sconti Export'!X$134>'Sconti Export'!X164-('Sconti Export'!X164*'Sconti Export'!I164),'Sconti Export'!X$134*'Zone Export'!$V$16,('Sconti Export'!X164-('Sconti Export'!X164*'Sconti Export'!I164))*'Zone Export'!$V$16)","v":121.38999999999999},{"$f":"IF('Sconti Export'!Y$134>'Sconti Export'!Y164-('Sconti Export'!Y164*'Sconti Export'!J164),'Sconti Export'!Y$134*'Zone Export'!$V$16,('Sconti Export'!Y164-('Sconti Export'!Y164*'Sconti Export'!J164))*'Zone Export'!$V$16)","v":78.150000000000006}]
[null,"55 kg",{"$f":"IF('Sconti Export'!R$134>'Sconti Export'!R165-('Sconti Export'!R165*'Sconti Export'!C165),'Sconti Export'!R$134*'Zone Export'!$V$16,('Sconti Export'!R165-('Sconti Export'!R165*'Sconti Export'!C165))*'Zone Export'!$V$16)","v":23.700000000000003},{"$f":"IF('Sconti Export'!S$134>'Sconti Export'!S165-('Sconti Export'!S165*'Sconti Export'!D165),'Sconti Export'!S$134*'Zone Export'!$V$16,('Sconti Export'!S165-('Sconti Export'!S165*'Sconti Export'!D165))*'Zone Export'!$V$16)","v":37.785000000000011},{"$f":"IF('Sconti Export'!T$134>'Sconti Export'!T165-('Sconti Export'!T165*'Sconti Export'!E165),'Sconti Export'!T$134*'Zone Export'!$V$16,('Sconti Export'!T165-('Sconti Export'!T165*'Sconti Export'!E165))*'Zone Export'!$V$16)","v":50.22},{"$f":"IF('Sconti Export'!U$134>'Sconti Export'!U165-('Sconti Export'!U165*'Sconti Export'!F165),'Sconti Export'!U$134*'Zone Export'!$V$16,('Sconti Export'!U165-('Sconti Export'!U165*'Sconti Export'!F165))*'Zone Export'!$V$16)","v":56.66},{"$f":"IF('Sconti Export'!V$134>'Sconti Export'!V165-('Sconti Export'!V165*'Sconti Export'!G165),'Sconti Export'!V$134*'Zone Export'!$V$16,('Sconti Export'!V165-('Sconti Export'!V165*'Sconti Export'!G165))*'Zone Export'!$V$16)","v":59.789999999999992},{"$f":"IF('Sconti Export'!W$134>'Sconti Export'!W165-('Sconti Export'!W165*'Sconti Export'!H165),'Sconti Export'!W$134*'Zone Export'!$V$16,('Sconti Export'!W165-('Sconti Export'!W165*'Sconti Export'!H165))*'Zone Export'!$V$16)","v":69.279999999999973},{"$f":"IF('Sconti Export'!X$134>'Sconti Export'!X165-('Sconti Export'!X165*'Sconti Export'!I165),'Sconti Export'!X$134*'Zone Export'!$V$16,('Sconti Export'!X165-('Sconti Export'!X165*'Sconti Export'!I165))*'Zone Export'!$V$16)","v":145.55999999999995},{"$f":"IF('Sconti Export'!Y$134>'Sconti Export'!Y165-('Sconti Export'!Y165*'Sconti Export'!J165),'Sconti Export'!Y$134*'Zone Export'!$V$16,('Sconti Export'!Y165-('Sconti Export'!Y165*'Sconti Export'!J165))*'Zone Export'!$V$16)","v":91.324999999999989}]
[null,"60 kg",{"$f":"IF('Sconti Export'!R$134>'Sconti Export'!R166-('Sconti Export'!R166*'Sconti Export'!C166),'Sconti Export'!R$134*'Zone Export'!$V$16,('Sconti Export'!R166-('Sconti Export'!R166*'Sconti Export'!C166))*'Zone Export'!$V$16)","v":23.700000000000003},{"$f":"IF('Sconti Export'!S$134>'Sconti Export'!S166-('Sconti Export'!S166*'Sconti Export'!D166),'Sconti Export'!S$134*'Zone Export'!$V$16,('Sconti Export'!S166-('Sconti Export'!S166*'Sconti Export'!D166))*'Zone Export'!$V$16)","v":37.785000000000011},{"$f":"IF('Sconti Export'!T$134>'Sconti Export'!T166-('Sconti Export'!T166*'Sconti Export'!E166),'Sconti Export'!T$134*'Zone Export'!$V$16,('Sconti Export'!T166-('Sconti Export'!T166*'Sconti Export'!E166))*'Zone Export'!$V$16)","v":50.22},{"$f":"IF('Sconti Export'!U$134>'Sconti Export'!U166-('Sconti Export'!U166*'Sconti Export'!F166),'Sconti Export'!U$134*'Zone Export'!$V$16,('Sconti Export'!U166-('Sconti Export'!U166*'Sconti Export'!F166))*'Zone Export'!$V$16)","v":56.66},{"$f":"IF('Sconti Export'!V$134>'Sconti Export'!V166-('Sconti Export'!V166*'Sconti Export'!G166),'Sconti Export'!V$134*'Zone Export'!$V$16,('Sconti Export'!V166-('Sconti Export'!V166*'Sconti Export'!G166))*'Zone Export'!$V$16)","v":59.789999999999992},{"$f":"IF('Sconti Export'!W$134>'Sconti Export'!W166-('Sconti Export'!W166*'Sconti Export'!H166),'Sconti Export'!W$134*'Zone Export'!$V$16,('Sconti Export'!W166-('Sconti Export'!W166*'Sconti Export'!H166))*'Zone Export'!$V$16)","v":69.279999999999973},{"$f":"IF('Sconti Export'!X$134>'Sconti Export'!X166-('Sconti Export'!X166*'Sconti Export'!I166),'Sconti Export'!X$134*'Zone Export'!$V$16,('Sconti Export'!X166-('Sconti Export'!X166*'Sconti Export'!I166))*'Zone Export'!$V$16)","v":145.55999999999995},{"$f":"IF('Sconti Export'!Y$134>'Sconti Export'!Y166-('Sconti Export'!Y166*'Sconti Export'!J166),'Sconti Export'!Y$134*'Zone Export'!$V$16,('Sconti Export'!Y166-('Sconti Export'!Y166*'Sconti Export'!J166))*'Zone Export'!$V$16)","v":91.324999999999989}]
[null,"65 kg",{"$f":"IF('Sconti Export'!R$134>'Sconti Export'!R167-('Sconti Export'!R167*'Sconti Export'!C167),'Sconti Export'!R$134*'Zone Export'!$V$16,('Sconti Export'!R167-('Sconti Export'!R167*'Sconti Export'!C167))*'Zone Export'!$V$16)","v":23.700000000000003},{"$f":"IF('Sconti Export'!S$134>'Sconti Export'!S167-('Sconti Export'!S167*'Sconti Export'!D167),'Sconti Export'!S$134*'Zone Export'!$V$16,('Sconti Export'!S167-('Sconti Export'!S167*'Sconti Export'!D167))*'Zone Export'!$V$16)","v":37.785000000000011},{"$f":"IF('Sconti Export'!T$134>'Sconti Export'!T167-('Sconti Export'!T167*'Sconti Export'!E167),'Sconti Export'!T$134*'Zone Export'!$V$16,('Sconti Export'!T167-('Sconti Export'!T167*'Sconti Export'!E167))*'Zone Export'!$V$16)","v":50.22},{"$f":"IF('Sconti Export'!U$134>'Sconti Export'!U167-('Sconti Export'!U167*'Sconti Export'!F167),'Sconti Export'!U$134*'Zone Export'!$V$16,('Sconti Export'!U167-('Sconti Export'!U167*'Sconti Export'!F167))*'Zone Export'!$V$16)","v":56.66},{"$f":"IF('Sconti Export'!V$134>'Sconti Export'!V167-('Sconti Export'!V167*'Sconti Export'!G167),'Sconti Export'!V$134*'Zone Export'!$V$16,('Sconti Export'!V167-('Sconti Export'!V167*'Sconti Export'!G167))*'Zone Export'!$V$16)","v":59.789999999999992},{"$f":"IF('Sconti Export'!W$134>'Sconti Export'!W167-('Sconti Export'!W167*'Sconti Export'!H167),'Sconti Export'!W$134*'Zone Export'!$V$16,('Sconti Export'!W167-('Sconti Export'!W167*'Sconti Export'!H167))*'Zone Export'!$V$16)","v":69.279999999999973},{"$f":"IF('Sconti Export'!X$134>'Sconti Export'!X167-('Sconti Export'!X167*'Sconti Export'!I167),'Sconti Export'!X$134*'Zone Export'!$V$16,('Sconti Export'!X167-('Sconti Export'!X167*'Sconti Export'!I167))*'Zone Export'!$V$16)","v":145.55999999999995},{"$f":"IF('Sconti Export'!Y$134>'Sconti Export'!Y167-('Sconti Export'!Y167*'Sconti Export'!J167),'Sconti Export'!Y$134*'Zone Export'!$V$16,('Sconti Export'!Y167-('Sconti Export'!Y167*'Sconti Export'!J167))*'Zone Export'!$V$16)","v":91.324999999999989}]
[null,"70 kg",{"$f":"IF('Sconti Export'!R$134>'Sconti Export'!R168-('Sconti Export'!R168*'Sconti Export'!C168),'Sconti Export'!R$134*'Zone Export'!$V$16,('Sconti Export'!R168-('Sconti Export'!R168*'Sconti Export'!C168))*'Zone Export'!$V$16)","v":23.700000000000003},{"$f":"IF('Sconti Export'!S$134>'Sconti Export'!S168-('Sconti Export'!S168*'Sconti Export'!D168),'Sconti Export'!S$134*'Zone Export'!$V$16,('Sconti Export'!S168-('Sconti Export'!S168*'Sconti Export'!D168))*'Zone Export'!$V$16)","v":37.785000000000011},{"$f":"IF('Sconti Export'!T$134>'Sconti Export'!T168-('Sconti Export'!T168*'Sconti Export'!E168),'Sconti Export'!T$134*'Zone Export'!$V$16,('Sconti Export'!T168-('Sconti Export'!T168*'Sconti Export'!E168))*'Zone Export'!$V$16)","v":50.22},{"$f":"IF('Sconti Export'!U$134>'Sconti Export'!U168-('Sconti Export'!U168*'Sconti Export'!F168),'Sconti Export'!U$134*'Zone Export'!$V$16,('Sconti Export'!U168-('Sconti Export'!U168*'Sconti Export'!F168))*'Zone Export'!$V$16)","v":56.66},{"$f":"IF('Sconti Export'!V$134>'Sconti Export'!V168-('Sconti Export'!V168*'Sconti Export'!G168),'Sconti Export'!V$134*'Zone Export'!$V$16,('Sconti Export'!V168-('Sconti Export'!V168*'Sconti Export'!G168))*'Zone Export'!$V$16)","v":59.789999999999992},{"$f":"IF('Sconti Export'!W$134>'Sconti Export'!W168-('Sconti Export'!W168*'Sconti Export'!H168),'Sconti Export'!W$134*'Zone Export'!$V$16,('Sconti Export'!W168-('Sconti Export'!W168*'Sconti Export'!H168))*'Zone Export'!$V$16)","v":69.279999999999973},{"$f":"IF('Sconti Export'!X$134>'Sconti Export'!X168-('Sconti Export'!X168*'Sconti Export'!I168),'Sconti Export'!X$134*'Zone Export'!$V$16,('Sconti Export'!X168-('Sconti Export'!X168*'Sconti Export'!I168))*'Zone Export'!$V$16)","v":145.55999999999995},{"$f":"IF('Sconti Export'!Y$134>'Sconti Export'!Y168-('Sconti Export'!Y168*'Sconti Export'!J168),'Sconti Export'!Y$134*'Zone Export'!$V$16,('Sconti Export'!Y168-('Sconti Export'!Y168*'Sconti Export'!J168))*'Zone Export'!$V$16)","v":91.324999999999989}]
[]
[]
[]
[]
[]
[null,"€","Italia\n(escluso Calabria Sicilia Sardegna)","Calabria Sicilia Sardegna","Unione Europea",null,null,null,null,"Resto Europa"]
[null,"Zona",1,2,3,4,5,51,52,6]
[null,"COSTO MINIMO      PER PACCO",6.2,6.21,13.92,14.23,14.17,14.16,14.17,30.15]
[null,"Peso"]
[null,"5,0 kg",{"$f":"('Sconti Export'!R173-('Sconti Export'!R173*'Sconti Export'!C173))*'Zone Export'!$V$16","v":8.8639999999999972},{"$f":"('Sconti Export'!S173-('Sconti Export'!S173*'Sconti Export'!D173))*'Zone Export'!$V$16","v":11.615999999999996},{"$f":"('Sconti Export'!T173-('Sconti Export'!T173*'Sconti Export'!E173))*'Zone Export'!$V$16","v":23.39},{"$f":"('Sconti Export'!U173-('Sconti Export'!U173*'Sconti Export'!F173))*'Zone Export'!$V$16","v":23.919999999999987},{"$f":"('Sconti Export'!V173-('Sconti Export'!V173*'Sconti Export'!G173))*'Zone Export'!$V$16","v":25.309999999999988},{"$f":"('Sconti Export'!W173-('Sconti Export'!W173*'Sconti Export'!H173))*'Zone Export'!$V$16","v":25.75},{"$f":"('Sconti Export'!X173-('Sconti Export'!X173*'Sconti Export'!I173))*'Zone Export'!$V$16","v":48.019999999999982},{"$f":"('Sconti Export'!Y173-('Sconti Export'!Y173*'Sconti Export'!J173))*'Zone Export'!$V$16","v":32.912499999999994}]
[null,"10 kg",{"$f":"('Sconti Export'!R174-('Sconti Export'!R174*'Sconti Export'!C174))*'Zone Export'!$V$16","v":10.015999999999998},{"$f":"('Sconti Export'!S174-('Sconti Export'!S174*'Sconti Export'!D174))*'Zone Export'!$V$16","v":13.552},{"$f":"('Sconti Export'!T174-('Sconti Export'!T174*'Sconti Export'!E174))*'Zone Export'!$V$16","v":34.53},{"$f":"('Sconti Export'!U174-('Sconti Export'!U174*'Sconti Export'!F174))*'Zone Export'!$V$16","v":35.549999999999983},{"$f":"('Sconti Export'!V174-('Sconti Export'!V174*'Sconti Export'!G174))*'Zone Export'!$V$16","v":37.199999999999989},{"$f":"('Sconti Export'!W174-('Sconti Export'!W174*'Sconti Export'!H174))*'Zone Export'!$V$16","v":38.009999999999991},{"$f":"('Sconti Export'!X174-('Sconti Export'!X174*'Sconti Export'!I174))*'Zone Export'!$V$16","v":78.829999999999984},{"$f":"('Sconti Export'!Y174-('Sconti Export'!Y174*'Sconti Export'!J174))*'Zone Export'!$V$16","v":48.099999999999994}]
[null,"15 kg",{"$f":"('Sconti Export'!R175-('Sconti Export'!R175*'Sconti Export'!C175))*'Zone Export'!$V$16","v":10.815999999999999},{"$f":"('Sconti Export'!S175-('Sconti Export'!S175*'Sconti Export'!D175))*'Zone Export'!$V$16","v":16.223999999999997},{"$f":"('Sconti Export'!T175-('Sconti Export'!T175*'Sconti Export'!E175))*'Zone Export'!$V$16","v":36.06},{"$f":"('Sconti Export'!U175-('Sconti Export'!U175*'Sconti Export'!F175))*'Zone Export'!$V$16","v":37.519999999999982},{"$f":"('Sconti Export'!V175-('Sconti Export'!V175*'Sconti Export'!G175))*'Zone Export'!$V$16","v":39.569999999999993},{"$f":"('Sconti Export'!W175-('Sconti Export'!W175*'Sconti Export'!H175))*'Zone Export'!$V$16","v":44.199999999999989},{"$f":"('Sconti Export'!X175-('Sconti Export'!X175*'Sconti Export'!I175))*'Zone Export'!$V$16","v":88.909999999999968},{"$f":"('Sconti Export'!Y175-('Sconti Export'!Y175*'Sconti Export'!J175))*'Zone Export'!$V$16","v":57.900000000000006}]
[null,"20 kg",{"$f":"('Sconti Export'!R176-('Sconti Export'!R176*'Sconti Export'!C176))*'Zone Export'!$V$16","v":10.815999999999999},{"$f":"('Sconti Export'!S176-('Sconti Export'!S176*'Sconti Export'!D176))*'Zone Export'!$V$16","v":16.223999999999997},{"$f":"('Sconti Export'!T176-('Sconti Export'!T176*'Sconti Export'!E176))*'Zone Export'!$V$16","v":36.06},{"$f":"('Sconti Export'!U176-('Sconti Export'!U176*'Sconti Export'!F176))*'Zone Export'!$V$16","v":38.78},{"$f":"('Sconti Export'!V176-('Sconti Export'!V176*'Sconti Export'!G176))*'Zone Export'!$V$16","v":41},{"$f":"('Sconti Export'!W176-('Sconti Export'!W176*'Sconti Export'!H176))*'Zone Export'!$V$16","v":45.839999999999975},{"$f":"('Sconti Export'!X176-('Sconti Export'!X176*'Sconti Export'!I176))*'Zone Export'!$V$16","v":90.579999999999984},{"$f":"('Sconti Export'!Y176-('Sconti Export'!Y176*'Sconti Export'!J176))*'Zone Export'!$V$16","v":60}]
[null,"25 kg",{"$f":"('Sconti Export'!R177-('Sconti Export'!R177*'Sconti Export'!C177))*'Zone Export'!$V$16","v":14.271999999999998},{"$f":"('Sconti Export'!S177-('Sconti Export'!S177*'Sconti Export'!D177))*'Zone Export'!$V$16","v":21.599999999999994},{"$f":"('Sconti Export'!T177-('Sconti Export'!T177*'Sconti Export'!E177))*'Zone Export'!$V$16","v":38.28},{"$f":"('Sconti Export'!U177-('Sconti Export'!U177*'Sconti Export'!F177))*'Zone Export'!$V$16","v":40.569999999999993},{"$f":"('Sconti Export'!V177-('Sconti Export'!V177*'Sconti Export'!G177))*'Zone Export'!$V$16","v":43.119999999999976},{"$f":"('Sconti Export'!W177-('Sconti Export'!W177*'Sconti Export'!H177))*'Zone Export'!$V$16","v":49.989999999999981},{"$f":"('Sconti Export'!X177-('Sconti Export'!X177*'Sconti Export'!I177))*'Zone Export'!$V$16","v":101.14999999999998},{"$f":"('Sconti Export'!Y177-('Sconti Export'!Y177*'Sconti Export'!J177))*'Zone Export'!$V$16","v":66.287499999999994}]
[null,"30 kg",{"$f":"('Sconti Export'!R178-('Sconti Export'!R178*'Sconti Export'!C178))*'Zone Export'!$V$16","v":14.271999999999998},{"$f":"('Sconti Export'!S178-('Sconti Export'!S178*'Sconti Export'!D178))*'Zone Export'!$V$16","v":21.599999999999994},{"$f":"('Sconti Export'!T178-('Sconti Export'!T178*'Sconti Export'!E178))*'Zone Export'!$V$16","v":38.28},{"$f":"('Sconti Export'!U178-('Sconti Export'!U178*'Sconti Export'!F178))*'Zone Export'!$V$16","v":40.569999999999993},{"$f":"('Sconti Export'!V178-('Sconti Export'!V178*'Sconti Export'!G178))*'Zone Export'!$V$16","v":43.119999999999976},{"$f":"('Sconti Export'!W178-('Sconti Export'!W178*'Sconti Export'!H178))*'Zone Export'!$V$16","v":49.989999999999981},{"$f":"('Sconti Export'!X178-('Sconti Export'!X178*'Sconti Export'!I178))*'Zone Export'!$V$16","v":101.14999999999998},{"$f":"('Sconti Export'!Y178-('Sconti Export'!Y178*'Sconti Export'!J178))*'Zone Export'!$V$16","v":66.287499999999994}]
[null,"40 kg",{"$f":"('Sconti Export'!R179-('Sconti Export'!R179*'Sconti Export'!C179))*'Zone Export'!$V$16","v":17.711999999999996},{"$f":"('Sconti Export'!S179-('Sconti Export'!S179*'Sconti Export'!D179))*'Zone Export'!$V$16","v":26.959999999999994},{"$f":"('Sconti Export'!T179-('Sconti Export'!T179*'Sconti Export'!E179))*'Zone Export'!$V$16","v":39.47999999999999},{"$f":"('Sconti Export'!U179-('Sconti Export'!U179*'Sconti Export'!F179))*'Zone Export'!$V$16","v":42.69},{"$f":"('Sconti Export'!V179-('Sconti Export'!V179*'Sconti Export'!G179))*'Zone Export'!$V$16","v":45.03},{"$f":"('Sconti Export'!W179-('Sconti Export'!W179*'Sconti Export'!H179))*'Zone Export'!$V$16","v":53.879999999999995},{"$f":"('Sconti Export'!X179-('Sconti Export'!X179*'Sconti Export'!I179))*'Zone Export'!$V$16","v":111.25},{"$f":"('Sconti Export'!Y179-('Sconti Export'!Y179*'Sconti Export'!J179))*'Zone Export'!$V$16","v":72.150000000000006}]
[null,"50 kg",{"$f":"('Sconti Export'!R180-('Sconti Export'!R180*'Sconti Export'!C180))*'Zone Export'!$V$16","v":21.071999999999996},{"$f":"('Sconti Export'!S180-('Sconti Export'!S180*'Sconti Export'!D180))*'Zone Export'!$V$16","v":32.256},{"$f":"('Sconti Export'!T180-('Sconti Export'!T180*'Sconti Export'!E180))*'Zone Export'!$V$16","v":44.859999999999985},{"$f":"('Sconti Export'!U180-('Sconti Export'!U180*'Sconti Export'!F180))*'Zone Export'!$V$16","v":48.079999999999984},{"$f":"('Sconti Export'!V180-('Sconti Export'!V180*'Sconti Export'!G180))*'Zone Export'!$V$16","v":50.449999999999989},{"$f":"('Sconti Export'!W180-('Sconti Export'!W180*'Sconti Export'!H180))*'Zone Export'!$V$16","v":58.489999999999981},{"$f":"('Sconti Export'!X180-('Sconti Export'!X180*'Sconti Export'!I180))*'Zone Export'!$V$16","v":121.42999999999995},{"$f":"('Sconti Export'!Y180-('Sconti Export'!Y180*'Sconti Export'!J180))*'Zone Export'!$V$16","v":78.099999999999994}]
[null,"60 kg",{"$f":"('Sconti Export'!R181-('Sconti Export'!R181*'Sconti Export'!C181))*'Zone Export'!$V$16","v":27.919999999999995},{"$f":"('Sconti Export'!S181-('Sconti Export'!S181*'Sconti Export'!D181))*'Zone Export'!$V$16","v":40.207999999999998},{"$f":"('Sconti Export'!T181-('Sconti Export'!T181*'Sconti Export'!E181))*'Zone Export'!$V$16","v":50.269999999999982},{"$f":"('Sconti Export'!U181-('Sconti Export'!U181*'Sconti Export'!F181))*'Zone Export'!$V$16","v":57.289999999999992},{"$f":"('Sconti Export'!V181-('Sconti Export'!V181*'Sconti Export'!G181))*'Zone Export'!$V$16","v":59.97999999999999},{"$f":"('Sconti Export'!W181-('Sconti Export'!W181*'Sconti Export'!H181))*'Zone Export'!$V$16","v":69.269999999999982},{"$f":"('Sconti Export'!X181-('Sconti Export'!X181*'Sconti Export'!I181))*'Zone Export'!$V$16","v":145.61000000000001},{"$f":"('Sconti Export'!Y181-('Sconti Export'!Y181*'Sconti Export'!J181))*'Zone Export'!$V$16","v":91.262499999999989}]
[null,"70 kg",{"$f":"('Sconti Export'!R182-('Sconti Export'!R182*'Sconti Export'!C182))*'Zone Export'!$V$16","v":27.919999999999995},{"$f":"('Sconti Export'!S182-('Sconti Export'!S182*'Sconti Export'!D182))*'Zone Export'!$V$16","v":40.207999999999998},{"$f":"('Sconti Export'!T182-('Sconti Export'!T182*'Sconti Export'!E182))*'Zone Export'!$V$16","v":50.269999999999982},{"$f":"('Sconti Export'!U182-('Sconti Export'!U182*'Sconti Export'!F182))*'Zone Export'!$V$16","v":58.349999999999994},{"$f":"('Sconti Export'!V182-('Sconti Export'!V182*'Sconti Export'!G182))*'Zone Export'!$V$16","v":61.049999999999983},{"$f":"('Sconti Export'!W182-('Sconti Export'!W182*'Sconti Export'!H182))*'Zone Export'!$V$16","v":69.269999999999982},{"$f":"('Sconti Export'!X182-('Sconti Export'!X182*'Sconti Export'!I182))*'Zone Export'!$V$16","v":150.86000000000001},{"$f":"('Sconti Export'!Y182-('Sconti Export'!Y182*'Sconti Export'!J182))*'Zone Export'!$V$16","v":91.262499999999989}]
[null,"80 kg",{"$f":"('Sconti Export'!R183-('Sconti Export'!R183*'Sconti Export'!C183))*'Zone Export'!$V$16","v":37.311999999999998},{"$f":"('Sconti Export'!S183-('Sconti Export'!S183*'Sconti Export'!D183))*'Zone Export'!$V$16","v":51.711999999999989},{"$f":"('Sconti Export'!T183-('Sconti Export'!T183*'Sconti Export'!E183))*'Zone Export'!$V$16","v":55.629999999999995},{"$f":"('Sconti Export'!U183-('Sconti Export'!U183*'Sconti Export'!F183))*'Zone Export'!$V$16","v":66.229999999999961},{"$f":"('Sconti Export'!V183-('Sconti Export'!V183*'Sconti Export'!G183))*'Zone Export'!$V$16","v":69.37},{"$f":"('Sconti Export'!W183-('Sconti Export'!W183*'Sconti Export'!H183))*'Zone Export'!$V$16","v":89.94},{"$f":"('Sconti Export'!X183-('Sconti Export'!X183*'Sconti Export'!I183))*'Zone Export'!$V$16","v":194.25},{"$f":"('Sconti Export'!Y183-('Sconti Export'!Y183*'Sconti Export'!J183))*'Zone Export'!$V$16","v":121.17500000000001}]
[null,"90 kg",{"$f":"('Sconti Export'!R184-('Sconti Export'!R184*'Sconti Export'!C184))*'Zone Export'!$V$16","v":37.311999999999998},{"$f":"('Sconti Export'!S184-('Sconti Export'!S184*'Sconti Export'!D184))*'Zone Export'!$V$16","v":51.711999999999989},{"$f":"('Sconti Export'!T184-('Sconti Export'!T184*'Sconti Export'!E184))*'Zone Export'!$V$16","v":55.629999999999995},{"$f":"('Sconti Export'!U184-('Sconti Export'!U184*'Sconti Export'!F184))*'Zone Export'!$V$16","v":66.229999999999961},{"$f":"('Sconti Export'!V184-('Sconti Export'!V184*'Sconti Export'!G184))*'Zone Export'!$V$16","v":69.37},{"$f":"('Sconti Export'!W184-('Sconti Export'!W184*'Sconti Export'!H184))*'Zone Export'!$V$16","v":89.94},{"$f":"('Sconti Export'!X184-('Sconti Export'!X184*'Sconti Export'!I184))*'Zone Export'!$V$16","v":194.25},{"$f":"('Sconti Export'!Y184-('Sconti Export'!Y184*'Sconti Export'!J184))*'Zone Export'!$V$16","v":121.17500000000001}]
[null,"100 kg",{"$f":"('Sconti Export'!R185-('Sconti Export'!R185*'Sconti Export'!C185))*'Zone Export'!$V$16","v":37.311999999999998},{"$f":"('Sconti Export'!S185-('Sconti Export'!S185*'Sconti Export'!D185))*'Zone Export'!$V$16","v":51.711999999999989},{"$f":"('Sconti Export'!T185-('Sconti Export'!T185*'Sconti Export'!E185))*'Zone Export'!$V$16","v":55.629999999999995},{"$f":"('Sconti Export'!U185-('Sconti Export'!U185*'Sconti Export'!F185))*'Zone Export'!$V$16","v":66.229999999999961},{"$f":"('Sconti Export'!V185-('Sconti Export'!V185*'Sconti Export'!G185))*'Zone Export'!$V$16","v":69.37},{"$f":"('Sconti Export'!W185-('Sconti Export'!W185*'Sconti Export'!H185))*'Zone Export'!$V$16","v":89.94},{"$f":"('Sconti Export'!X185-('Sconti Export'!X185*'Sconti Export'!I185))*'Zone Export'!$V$16","v":194.25},{"$f":"('Sconti Export'!Y185-('Sconti Export'!Y185*'Sconti Export'!J185))*'Zone Export'!$V$16","v":121.17500000000001}]
[null,"120 kg",{"$f":"('Sconti Export'!R186-('Sconti Export'!R186*'Sconti Export'!C186))*'Zone Export'!$V$16","v":44.671999999999997},{"$f":"('Sconti Export'!S186-('Sconti Export'!S186*'Sconti Export'!D186))*'Zone Export'!$V$16","v":75.871999999999986},{"$f":"('Sconti Export'!T186-('Sconti Export'!T186*'Sconti Export'!E186))*'Zone Export'!$V$16","v":66.740000000000009},{"$f":"('Sconti Export'!U186-('Sconti Export'!U186*'Sconti Export'!F186))*'Zone Export'!$V$16","v":79.449999999999989},{"$f":"('Sconti Export'!V186-('Sconti Export'!V186*'Sconti Export'!G186))*'Zone Export'!$V$16","v":83.20999999999998},{"$f":"('Sconti Export'!W186-('Sconti Export'!W186*'Sconti Export'!H186))*'Zone Export'!$V$16","v":107.84999999999997},{"$f":"('Sconti Export'!X186-('Sconti Export'!X186*'Sconti Export'!I186))*'Zone Export'!$V$16","v":233.07999999999993},{"$f":"('Sconti Export'!Y186-('Sconti Export'!Y186*'Sconti Export'!J186))*'Zone Export'!$V$16","v":145.33749999999998}]
[null,"140 kg",{"$f":"('Sconti Export'!R187-('Sconti Export'!R187*'Sconti Export'!C187))*'Zone Export'!$V$16","v":52.111999999999995},{"$f":"('Sconti Export'!S187-('Sconti Export'!S187*'Sconti Export'!D187))*'Zone Export'!$V$16","v":88.495999999999981},{"$f":"('Sconti Export'!T187-('Sconti Export'!T187*'Sconti Export'!E187))*'Zone Export'!$V$16","v":77.839999999999975},{"$f":"('Sconti Export'!U187-('Sconti Export'!U187*'Sconti Export'!F187))*'Zone Export'!$V$16","v":92.63},{"$f":"('Sconti Export'!V187-('Sconti Export'!V187*'Sconti Export'!G187))*'Zone Export'!$V$16","v":97.039999999999964},{"$f":"('Sconti Export'!W187-('Sconti Export'!W187*'Sconti Export'!H187))*'Zone Export'!$V$16","v":125.80999999999995},{"$f":"('Sconti Export'!X187-('Sconti Export'!X187*'Sconti Export'!I187))*'Zone Export'!$V$16","v":271.91999999999985},{"$f":"('Sconti Export'!Y187-('Sconti Export'!Y187*'Sconti Export'!J187))*'Zone Export'!$V$16","v":169.45}]
[null,"160 kg",{"$f":"('Sconti Export'!R188-('Sconti Export'!R188*'Sconti Export'!C188))*'Zone Export'!$V$16","v":59.551999999999992},{"$f":"('Sconti Export'!S188-('Sconti Export'!S188*'Sconti Export'!D188))*'Zone Export'!$V$16","v":101.11999999999998},{"$f":"('Sconti Export'!T188-('Sconti Export'!T188*'Sconti Export'!E188))*'Zone Export'!$V$16","v":88.92999999999995},{"$f":"('Sconti Export'!U188-('Sconti Export'!U188*'Sconti Export'!F188))*'Zone Export'!$V$16","v":105.84999999999997},{"$f":"('Sconti Export'!V188-('Sconti Export'!V188*'Sconti Export'!G188))*'Zone Export'!$V$16","v":110.82},{"$f":"('Sconti Export'!W188-('Sconti Export'!W188*'Sconti Export'!H188))*'Zone Export'!$V$16","v":143.77999999999997},{"$f":"('Sconti Export'!X188-('Sconti Export'!X188*'Sconti Export'!I188))*'Zone Export'!$V$16","v":310.74},{"$f":"('Sconti Export'!Y188-('Sconti Export'!Y188*'Sconti Export'!J188))*'Zone Export'!$V$16","v":193.58749999999998}]
[null,"180 kg",{"$f":"('Sconti Export'!R189-('Sconti Export'!R189*'Sconti Export'!C189))*'Zone Export'!$V$16","v":66.975999999999999},{"$f":"('Sconti Export'!S189-('Sconti Export'!S189*'Sconti Export'!D189))*'Zone Export'!$V$16","v":113.74399999999997},{"$f":"('Sconti Export'!T189-('Sconti Export'!T189*'Sconti Export'!E189))*'Zone Export'!$V$16","v":100.03999999999996},{"$f":"('Sconti Export'!U189-('Sconti Export'!U189*'Sconti Export'!F189))*'Zone Export'!$V$16","v":119.04999999999995},{"$f":"('Sconti Export'!V189-('Sconti Export'!V189*'Sconti Export'!G189))*'Zone Export'!$V$16","v":124.63999999999999},{"$f":"('Sconti Export'!W189-('Sconti Export'!W189*'Sconti Export'!H189))*'Zone Export'!$V$16","v":161.74},{"$f":"('Sconti Export'!X189-('Sconti Export'!X189*'Sconti Export'!I189))*'Zone Export'!$V$16","v":349.55999999999995},{"$f":"('Sconti Export'!Y189-('Sconti Export'!Y189*'Sconti Export'!J189))*'Zone Export'!$V$16","v":217.72500000000002}]
[null,"200 kg",{"$f":"('Sconti Export'!R190-('Sconti Export'!R190*'Sconti Export'!C190))*'Zone Export'!$V$16","v":74.383999999999986},{"$f":"('Sconti Export'!S190-('Sconti Export'!S190*'Sconti Export'!D190))*'Zone Export'!$V$16","v":126.36799999999999},{"$f":"('Sconti Export'!T190-('Sconti Export'!T190*'Sconti Export'!E190))*'Zone Export'!$V$16","v":111.14999999999998},{"$f":"('Sconti Export'!U190-('Sconti Export'!U190*'Sconti Export'!F190))*'Zone Export'!$V$16","v":132.25},{"$f":"('Sconti Export'!V190-('Sconti Export'!V190*'Sconti Export'!G190))*'Zone Export'!$V$16","v":138.48000000000002},{"$f":"('Sconti Export'!W190-('Sconti Export'!W190*'Sconti Export'!H190))*'Zone Export'!$V$16","v":179.69999999999993},{"$f":"('Sconti Export'!X190-('Sconti Export'!X190*'Sconti Export'!I190))*'Zone Export'!$V$16","v":388.36999999999989},{"$f":"('Sconti Export'!Y190-('Sconti Export'!Y190*'Sconti Export'!J190))*'Zone Export'!$V$16","v":241.82500000000005}]
[null,"Oltre 200 Kg"]
[null,"Prezzo al Kg",{"$f":"('Sconti Export'!R192-('Sconti Export'!R192*'Sconti Export'!C192))*'Zone Export'!$V$16","v":0.37119999999999986},{"$f":"('Sconti Export'!S192-('Sconti Export'!S192*'Sconti Export'!D192))*'Zone Export'!$V$16","v":0.63039999999999985},{"$f":"('Sconti Export'!T192-('Sconti Export'!T192*'Sconti Export'!E192))*'Zone Export'!$V$16","v":0.55399999999999983},{"$f":"('Sconti Export'!U192-('Sconti Export'!U192*'Sconti Export'!F192))*'Zone Export'!$V$16","v":0.6599999999999997},{"$f":"('Sconti Export'!V192-('Sconti Export'!V192*'Sconti Export'!G192))*'Zone Export'!$V$16","v":0.69199999999999973},{"$f":"('Sconti Export'!W192-('Sconti Export'!W192*'Sconti Export'!H192))*'Zone Export'!$V$16","v":0.89799999999999969},{"$f":"('Sconti Export'!X192-('Sconti Export'!X192*'Sconti Export'!I192))*'Zone Export'!$V$16","v":1.9399999999999995},{"$f":"('Sconti Export'!Y192-('Sconti Export'!Y192*'Sconti Export'!J192))*'Zone Export'!$V$16","v":1.2075}]
[null,"Tariffa Minima",{"$f":"('Sconti Export'!R193-('Sconti Export'!R193*'Sconti Export'!C193))*'Zone Export'!$V$16","v":74.383999999999986},{"$f":"('Sconti Export'!S193-('Sconti Export'!S193*'Sconti Export'!D193))*'Zone Export'!$V$16","v":126.36799999999999},{"$f":"('Sconti Export'!T193-('Sconti Export'!T193*'Sconti Export'!E193))*'Zone Export'!$V$16","v":111.14999999999998},{"$f":"('Sconti Export'!U193-('Sconti Export'!U193*'Sconti Export'!F193))*'Zone Export'!$V$16","v":132.25},{"$f":"('Sconti Export'!V193-('Sconti Export'!V193*'Sconti Export'!G193))*'Zone Export'!$V$16","v":138.48000000000002},{"$f":"('Sconti Export'!W193-('Sconti Export'!W193*'Sconti Export'!H193))*'Zone Export'!$V$16","v":179.69999999999993},{"$f":"('Sconti Export'!X193-('Sconti Export'!X193*'Sconti Export'!I193))*'Zone Export'!$V$16","v":388.36999999999989},{"$f":"('Sconti Export'!Y193-('Sconti Export'!Y193*'Sconti Export'!J193))*'Zone Export'!$V$16","v":241.82500000000005}]

{"sheet":"Expedited","index":11,"n_rows":58,"n_cols":10,"rows_kept":58,"cut":false,"hidden":false,"merged":[[55,2,55,7],[48,8,50,10],[52,8,57,10],[23,8,27,10],[29,8,33,10],[40,8,46,10],[35,8,37,10],[7,1,7,8],[19,8,20,10],[10,2,10,7],[10,9,10,12]]}
[]
[]
[]
[]
[]
[]
[]
[null,"Per ulteriori dettagli su Garanzia di Rimborso, Copertura Servizi e Condizioni chiamate il Numero 02 30 30 30 39 o consultate il sito www.ups.com"]
[]
[null,null,null,null,null,null,null,null,null,"Spettabile"]
[null,"€","Resto del Mondo",null,null,null,null,null,null,{"$f":"+Cover!$C$2","v":"GLOCAL WEB"}]
[null,"Zona",101,"2     ","4     ","5     ",6,7]
[null,"Peso"]
[null,"1,0 kg",{"$f":"IF('Sconti Export'!T$201>'Sconti Export'!T202-('Sconti Export'!T202*'Sconti Export'!D202),'Sconti Export'!T$201*'Zone Export'!$V$14,('Sconti Export'!T202-('Sconti Export'!T202*'Sconti Export'!D202))*'Zone Export'!$V$14)","v":59.167500000000004},{"$f":"IF('Sconti Export'!U$201>'Sconti Export'!U202-('Sconti Export'!U202*'Sconti Export'!E202),'Sconti Export'!U$201*'Zone Export'!$V$14,('Sconti Export'!U202-('Sconti Export'!U202*'Sconti Export'!E202))*'Zone Export'!$V$14)","v":27.475000000000001},{"$f":"IF('Sconti Export'!V$201>'Sconti Export'!V202-('Sconti Export'!V202*'Sconti Export'!F202),'Sconti Export'!V$201*'Zone Export'!$V$14,('Sconti Export'!V202-('Sconti Export'!V202*'Sconti Export'!F202))*'Zone Export'!$V$14)","v":43.784999999999997},{"$f":"IF('Sconti Export'!W$201>'Sconti Export'!W202-('Sconti Export'!W202*'Sconti Export'!G202),'Sconti Export'!W$201*'Zone Export'!$V$14,('Sconti Export'!W202-('Sconti Export'!W202*'Sconti Export'!G202))*'Zone Export'!$V$14)","v":44.204999999999998},{"$f":"IF('Sconti Export'!X$201>'Sconti Export'!X202-('Sconti Export'!X202*'Sconti Export'!H202),'Sconti Export'!X$201*'Zone Export'!$V$14,('Sconti Export'!X202-('Sconti Export'!X202*'Sconti Export'!H202))*'Zone Export'!$V$14)","v":59.989999999999995},{"$f":"IF('Sconti Export'!Y$201>'Sconti Export'!Y202-('Sconti Export'!Y202*'Sconti Export'!I202),'Sconti Export'!Y$201*'Zone Export'!$V$14,('Sconti Export'!Y202-('Sconti Export'!Y202*'Sconti Export'!I202))*'Zone Export'!$V$14)","v":86.55}]
[null,"2,0 kg",{"$f":"IF('Sconti Export'!T$201>'Sconti Export'!T203-('Sconti Export'!T203*'Sconti Export'!D203),'Sconti Export'!T$201*'Zone Export'!$V$14,('Sconti Export'!T203-('Sconti Export'!T203*'Sconti Export'!D203))*'Zone Export'!$V$14)","v":70.699999999999989},{"$f":"IF('Sconti Export'!U$201>'Sconti Export'!U203-('Sconti Export'!U203*'Sconti Export'!E203),'Sconti Export'!U$201*'Zone Export'!$V$14,('Sconti Export'!U203-('Sconti Export'!U203*'Sconti Export'!E203))*'Zone Export'!$V$14)","v":34.334999999999994},{"$f":"IF('Sconti Export'!V$201>'Sconti Export'!V203-('Sconti Export'!V203*'Sconti Export'!F203),'Sconti Export'!V$201*'Zone Export'!$V$14,('Sconti Export'!V203-('Sconti Export'!V203*'Sconti Export'!F203))*'Zone Export'!$V$14)","v":56.734999999999999},{"$f":"IF('Sconti Export'!W$201>'Sconti Export'!W203-('Sconti Export'!W203*'Sconti Export'!G203),'Sconti Export'!W$201*'Zone Export'!$V$14,('Sconti Export'!W203-('Sconti Export'!W203*'Sconti Export'!G203))*'Zone Export'!$V$14)","v":57.155000000000001},{"$f":"IF('Sconti Export'!X$201>'Sconti Export'!X203-('Sconti Export'!X203*'Sconti Export'!H203),'Sconti Export'!X$201*'Zone Export'!$V$14,('Sconti Export'!X203-('Sconti Export'!X203*'Sconti Export'!H203))*'Zone Export'!$V$14)","v":72.764999999999986},{"$f":"IF('Sconti Export'!Y$201>'Sconti Export'!Y203-('Sconti Export'!Y203*'Sconti Export'!I203),'Sconti Export'!Y$201*'Zone Export'!$V$14,('Sconti Export'!Y203-('Sconti Export'!Y203*'Sconti Export'!I203))*'Zone Export'!$V$14)","v":111.45}]
[null,"3,0 kg",{"$f":"IF('Sconti Export'!T$201>'Sconti Export'!T204-('Sconti Export'!T204*'Sconti Export'!D204),'Sconti Export'!T$201*'Zone Export'!$V$14,('Sconti Export'!T204-('Sconti Export'!T204*'Sconti Export'!D204))*'Zone Export'!$V$14)","v":83.055000000000007},{"$f":"IF('Sconti Export'!U$201>'Sconti Export'!U204-('Sconti Export'!U204*'Sconti Export'!E204),'Sconti Export'!U$201*'Zone Export'!$V$14,('Sconti Export'!U204-('Sconti Export'!U204*'Sconti Export'!E204))*'Zone Export'!$V$14)","v":41.44},{"$f":"IF('Sconti Export'!V$201>'Sconti Export'!V204-('Sconti Export'!V204*'Sconti Export'!F204),'Sconti Export'!V$201*'Zone Export'!$V$14,('Sconti Export'!V204-('Sconti Export'!V204*'Sconti Export'!F204))*'Zone Export'!$V$14)","v":69.737499999999983},{"$f":"IF('Sconti Export'!W$201>'Sconti Export'!W204-('Sconti Export'!W204*'Sconti Export'!G204),'Sconti Export'!W$201*'Zone Export'!$V$14,('Sconti Export'!W204-('Sconti Export'!W204*'Sconti Export'!G204))*'Zone Export'!$V$14)","v":70.10499999999999},{"$f":"IF('Sconti Export'!X$201>'Sconti Export'!X204-('Sconti Export'!X204*'Sconti Export'!H204),'Sconti Export'!X$201*'Zone Export'!$V$14,('Sconti Export'!X204-('Sconti Export'!X204*'Sconti Export'!H204))*'Zone Export'!$V$14)","v":86.39749999999998},{"$f":"IF('Sconti Export'!Y$201>'Sconti Export'!Y204-('Sconti Export'!Y204*'Sconti Export'!I204),'Sconti Export'!Y$201*'Zone Export'!$V$14,('Sconti Export'!Y204-('Sconti Export'!Y204*'Sconti Export'!I204))*'Zone Export'!$V$14)","v":135}]
[null,"4,0 kg",{"$f":"IF('Sconti Export'!T$201>'Sconti Export'!T205-('Sconti Export'!T205*'Sconti Export'!D205),'Sconti Export'!T$201*'Zone Export'!$V$14,('Sconti Export'!T205-('Sconti Export'!T205*'Sconti Export'!D205))*'Zone Export'!$V$14)","v":94.692499999999995},{"$f":"IF('Sconti Export'!U$201>'Sconti Export'!U205-('Sconti Export'!U205*'Sconti Export'!E205),'Sconti Export'!U$201*'Zone Export'!$V$14,('Sconti Export'!U205-('Sconti Export'!U205*'Sconti Export'!E205))*'Zone Export'!$V$14)","v":48.422499999999999},{"$f":"IF('Sconti Export'!V$201>'Sconti Export'!V205-('Sconti Export'!V205*'Sconti Export'!F205),'Sconti Export'!V$201*'Zone Export'!$V$14,('Sconti Export'!V205-('Sconti Export'!V205*'Sconti Export'!F205))*'Zone Export'!$V$14)","v":82.757499999999993},{"$f":"IF('Sconti Export'!W$201>'Sconti Export'!W205-('Sconti Export'!W205*'Sconti Export'!G205),'Sconti Export'!W$201*'Zone Export'!$V$14,('Sconti Export'!W205-('Sconti Export'!W205*'Sconti Export'!G205))*'Zone Export'!$V$14)","v":83.055000000000007},{"$f":"IF('Sconti Export'!X$201>'Sconti Export'!X205-('Sconti Export'!X205*'Sconti Export'!H205),'Sconti Export'!X$201*'Zone Export'!$V$14,('Sconti Export'!X205-('Sconti Export'!X205*'Sconti Export'!H205))*'Zone Export'!$V$14)","v":99.294999999999987},{"$f":"IF('Sconti Export'!Y$201>'Sconti Export'!Y205-('Sconti Export'!Y205*'Sconti Export'!I205),'Sconti Export'!Y$201*'Zone Export'!$V$14,('Sconti Export'!Y205-('Sconti Export'!Y205*'Sconti Export'!I205))*'Zone Export'!$V$14)","v":155.30000000000001}]
[null,"5,0 kg",{"$f":"IF('Sconti Export'!T$201>'Sconti Export'!T206-('Sconti Export'!T206*'Sconti Export'!D206),'Sconti Export'!T$201*'Zone Export'!$V$14,('Sconti Export'!T206-('Sconti Export'!T206*'Sconti Export'!D206))*'Zone Export'!$V$14)","v":106.27749999999997},{"$f":"IF('Sconti Export'!U$201>'Sconti Export'!U206-('Sconti Export'!U206*'Sconti Export'!E206),'Sconti Export'!U$201*'Zone Export'!$V$14,('Sconti Export'!U206-('Sconti Export'!U206*'Sconti Export'!E206))*'Zone Export'!$V$14)","v":55.3},{"$f":"IF('Sconti Export'!V$201>'Sconti Export'!V206-('Sconti Export'!V206*'Sconti Export'!F206),'Sconti Export'!V$201*'Zone Export'!$V$14,('Sconti Export'!V206-('Sconti Export'!V206*'Sconti Export'!F206))*'Zone Export'!$V$14)","v":95.742500000000007},{"$f":"IF('Sconti Export'!W$201>'Sconti Export'!W206-('Sconti Export'!W206*'Sconti Export'!G206),'Sconti Export'!W$201*'Zone Export'!$V$14,('Sconti Export'!W206-('Sconti Export'!W206*'Sconti Export'!G206))*'Zone Export'!$V$14)","v":96.004999999999995},{"$f":"IF('Sconti Export'!X$201>'Sconti Export'!X206-('Sconti Export'!X206*'Sconti Export'!H206),'Sconti Export'!X$201*'Zone Export'!$V$14,('Sconti Export'!X206-('Sconti Export'!X206*'Sconti Export'!H206))*'Zone Export'!$V$14)","v":112.1925},{"$f":"IF('Sconti Export'!Y$201>'Sconti Export'!Y206-('Sconti Export'!Y206*'Sconti Export'!I206),'Sconti Export'!Y$201*'Zone Export'!$V$14,('Sconti Export'!Y206-('Sconti Export'!Y206*'Sconti Export'!I206))*'Zone Export'!$V$14)","v":175.55}]
[null,"6,0 kg",{"$f":"IF('Sconti Export'!T$201>'Sconti Export'!T207-('Sconti Export'!T207*'Sconti Export'!D207),'Sconti Export'!T$201*'Zone Export'!$V$14,('Sconti Export'!T207-('Sconti Export'!T207*'Sconti Export'!D207))*'Zone Export'!$V$14)","v":117.94999999999999},{"$f":"IF('Sconti Export'!U$201>'Sconti Export'!U207-('Sconti Export'!U207*'Sconti Export'!E207),'Sconti Export'!U$201*'Zone Export'!$V$14,('Sconti Export'!U207-('Sconti Export'!U207*'Sconti Export'!E207))*'Zone Export'!$V$14)","v":60.672499999999999},{"$f":"IF('Sconti Export'!V$201>'Sconti Export'!V207-('Sconti Export'!V207*'Sconti Export'!F207),'Sconti Export'!V$201*'Zone Export'!$V$14,('Sconti Export'!V207-('Sconti Export'!V207*'Sconti Export'!F207))*'Zone Export'!$V$14)","v":103.6},{"$f":"IF('Sconti Export'!W$201>'Sconti Export'!W207-('Sconti Export'!W207*'Sconti Export'!G207),'Sconti Export'!W$201*'Zone Export'!$V$14,('Sconti Export'!W207-('Sconti Export'!W207*'Sconti Export'!G207))*'Zone Export'!$V$14)","v":103.25},{"$f":"IF('Sconti Export'!X$201>'Sconti Export'!X207-('Sconti Export'!X207*'Sconti Export'!H207),'Sconti Export'!X$201*'Zone Export'!$V$14,('Sconti Export'!X207-('Sconti Export'!X207*'Sconti Export'!H207))*'Zone Export'!$V$14)","v":125.10749999999999},{"$f":"IF('Sconti Export'!Y$201>'Sconti Export'!Y207-('Sconti Export'!Y207*'Sconti Export'!I207),'Sconti Export'!Y$201*'Zone Export'!$V$14,('Sconti Export'!Y207-('Sconti Export'!Y207*'Sconti Export'!I207))*'Zone Export'!$V$14)","v":193}]
[null,"7,0 kg",{"$f":"IF('Sconti Export'!T$201>'Sconti Export'!T208-('Sconti Export'!T208*'Sconti Export'!D208),'Sconti Export'!T$201*'Zone Export'!$V$14,('Sconti Export'!T208-('Sconti Export'!T208*'Sconti Export'!D208))*'Zone Export'!$V$14)","v":129.51749999999998},{"$f":"IF('Sconti Export'!U$201>'Sconti Export'!U208-('Sconti Export'!U208*'Sconti Export'!E208),'Sconti Export'!U$201*'Zone Export'!$V$14,('Sconti Export'!U208-('Sconti Export'!U208*'Sconti Export'!E208))*'Zone Export'!$V$14)","v":67.61999999999999},{"$f":"IF('Sconti Export'!V$201>'Sconti Export'!V208-('Sconti Export'!V208*'Sconti Export'!F208),'Sconti Export'!V$201*'Zone Export'!$V$14,('Sconti Export'!V208-('Sconti Export'!V208*'Sconti Export'!F208))*'Zone Export'!$V$14)","v":115.15},{"$f":"IF('Sconti Export'!W$201>'Sconti Export'!W208-('Sconti Export'!W208*'Sconti Export'!G208),'Sconti Export'!W$201*'Zone Export'!$V$14,('Sconti Export'!W208-('Sconti Export'!W208*'Sconti Export'!G208))*'Zone Export'!$V$14)","v":114.79999999999998},{"$f":"IF('Sconti Export'!X$201>'Sconti Export'!X208-('Sconti Export'!X208*'Sconti Export'!H208),'Sconti Export'!X$201*'Zone Export'!$V$14,('Sconti Export'!X208-('Sconti Export'!X208*'Sconti Export'!H208))*'Zone Export'!$V$14)","v":137.98750000000001},{"$f":"IF('Sconti Export'!Y$201>'Sconti Export'!Y208-('Sconti Export'!Y208*'Sconti Export'!I208),'Sconti Export'!Y$201*'Zone Export'!$V$14,('Sconti Export'!Y208-('Sconti Export'!Y208*'Sconti Export'!I208))*'Zone Export'!$V$14)","v":210.4}]
[null,"8,0 kg",{"$f":"IF('Sconti Export'!T$201>'Sconti Export'!T209-('Sconti Export'!T209*'Sconti Export'!D209),'Sconti Export'!T$201*'Zone Export'!$V$14,('Sconti Export'!T209-('Sconti Export'!T209*'Sconti Export'!D209))*'Zone Export'!$V$14)","v":141.15499999999997},{"$f":"IF('Sconti Export'!U$201>'Sconti Export'!U209-('Sconti Export'!U209*'Sconti Export'!E209),'Sconti Export'!U$201*'Zone Export'!$V$14,('Sconti Export'!U209-('Sconti Export'!U209*'Sconti Export'!E209))*'Zone Export'!$V$14)","v":73.919999999999987},{"$f":"IF('Sconti Export'!V$201>'Sconti Export'!V209-('Sconti Export'!V209*'Sconti Export'!F209),'Sconti Export'!V$201*'Zone Export'!$V$14,('Sconti Export'!V209-('Sconti Export'!V209*'Sconti Export'!F209))*'Zone Export'!$V$14)","v":126},{"$f":"IF('Sconti Export'!W$201>'Sconti Export'!W209-('Sconti Export'!W209*'Sconti Export'!G209),'Sconti Export'!W$201*'Zone Export'!$V$14,('Sconti Export'!W209-('Sconti Export'!W209*'Sconti Export'!G209))*'Zone Export'!$V$14)","v":126.35},{"$f":"IF('Sconti Export'!X$201>'Sconti Export'!X209-('Sconti Export'!X209*'Sconti Export'!H209),'Sconti Export'!X$201*'Zone Export'!$V$14,('Sconti Export'!X209-('Sconti Export'!X209*'Sconti Export'!H209))*'Zone Export'!$V$14)","v":150.91999999999996},{"$f":"IF('Sconti Export'!Y$201>'Sconti Export'!Y209-('Sconti Export'!Y209*'Sconti Export'!I209),'Sconti Export'!Y$201*'Zone Export'!$V$14,('Sconti Export'!Y209-('Sconti Export'!Y209*'Sconti Export'!I209))*'Zone Export'!$V$14)","v":227.85}]
[null,"9,0 kg",{"$f":"IF('Sconti Export'!T$201>'Sconti Export'!T210-('Sconti Export'!T210*'Sconti Export'!D210),'Sconti Export'!T$201*'Zone Export'!$V$14,('Sconti Export'!T210-('Sconti Export'!T210*'Sconti Export'!D210))*'Zone Export'!$V$14)","v":152.75749999999999},{"$f":"IF('Sconti Export'!U$201>'Sconti Export'!U210-('Sconti Export'!U210*'Sconti Export'!E210),'Sconti Export'!U$201*'Zone Export'!$V$14,('Sconti Export'!U210-('Sconti Export'!U210*'Sconti Export'!E210))*'Zone Export'!$V$14)","v":80.150000000000006},{"$f":"IF('Sconti Export'!V$201>'Sconti Export'!V210-('Sconti Export'!V210*'Sconti Export'!F210),'Sconti Export'!V$201*'Zone Export'!$V$14,('Sconti Export'!V210-('Sconti Export'!V210*'Sconti Export'!F210))*'Zone Export'!$V$14)","v":137.54999999999998},{"$f":"IF('Sconti Export'!W$201>'Sconti Export'!W210-('Sconti Export'!W210*'Sconti Export'!G210),'Sconti Export'!W$201*'Zone Export'!$V$14,('Sconti Export'!W210-('Sconti Export'!W210*'Sconti Export'!G210))*'Zone Export'!$V$14)","v":137.89999999999998},{"$f":"IF('Sconti Export'!X$201>'Sconti Export'!X210-('Sconti Export'!X210*'Sconti Export'!H210),'Sconti Export'!X$201*'Zone Export'!$V$14,('Sconti Export'!X210-('Sconti Export'!X210*'Sconti Export'!H210))*'Zone Export'!$V$14)","v":163.8175},{"$f":"IF('Sconti Export'!Y$201>'Sconti Export'!Y210-('Sconti Export'!Y210*'Sconti Export'!I210),'Sconti Export'!Y$201*'Zone Export'!$V$14,('Sconti Export'!Y210-('Sconti Export'!Y210*'Sconti Export'!I210))*'Zone Export'!$V$14)","v":245.25}]
[null,"10 kg",{"$f":"IF('Sconti Export'!T$201>'Sconti Export'!T211-('Sconti Export'!T211*'Sconti Export'!D211),'Sconti Export'!T$201*'Zone Export'!$V$14,('Sconti Export'!T211-('Sconti Export'!T211*'Sconti Export'!D211))*'Zone Export'!$V$14)","v":164.39499999999998},{"$f":"IF('Sconti Export'!U$201>'Sconti Export'!U211-('Sconti Export'!U211*'Sconti Export'!E211),'Sconti Export'!U$201*'Zone Export'!$V$14,('Sconti Export'!U211-('Sconti Export'!U211*'Sconti Export'!E211))*'Zone Export'!$V$14)","v":86.432500000000005},{"$f":"IF('Sconti Export'!V$201>'Sconti Export'!V211-('Sconti Export'!V211*'Sconti Export'!F211),'Sconti Export'!V$201*'Zone Export'!$V$14,('Sconti Export'!V211-('Sconti Export'!V211*'Sconti Export'!F211))*'Zone Export'!$V$14)","v":149.09999999999997},{"$f":"IF('Sconti Export'!W$201>'Sconti Export'!W211-('Sconti Export'!W211*'Sconti Export'!G211),'Sconti Export'!W$201*'Zone Export'!$V$14,('Sconti Export'!W211-('Sconti Export'!W211*'Sconti Export'!G211))*'Zone Export'!$V$14)","v":149.09999999999997},{"$f":"IF('Sconti Export'!X$201>'Sconti Export'!X211-('Sconti Export'!X211*'Sconti Export'!H211),'Sconti Export'!X$201*'Zone Export'!$V$14,('Sconti Export'!X211-('Sconti Export'!X211*'Sconti Export'!H211))*'Zone Export'!$V$14)","v":176.71499999999997},{"$f":"IF('Sconti Export'!Y$201>'Sconti Export'!Y211-('Sconti Export'!Y211*'Sconti Export'!I211),'Sconti Export'!Y$201*'Zone Export'!$V$14,('Sconti Export'!Y211-('Sconti Export'!Y211*'Sconti Export'!I211))*'Zone Export'!$V$14)","v":262.7}]
[null,"11 kg",{"$f":"IF('Sconti Export'!T$201>'Sconti Export'!T212-('Sconti Export'!T212*'Sconti Export'!D212),'Sconti Export'!T$201*'Zone Export'!$V$14,('Sconti Export'!T212-('Sconti Export'!T212*'Sconti Export'!D212))*'Zone Export'!$V$14)","v":172.76},{"$f":"IF('Sconti Export'!U$201>'Sconti Export'!U212-('Sconti Export'!U212*'Sconti Export'!E212),'Sconti Export'!U$201*'Zone Export'!$V$14,('Sconti Export'!U212-('Sconti Export'!U212*'Sconti Export'!E212))*'Zone Export'!$V$14)","v":92.41749999999999},{"$f":"IF('Sconti Export'!V$201>'Sconti Export'!V212-('Sconti Export'!V212*'Sconti Export'!F212),'Sconti Export'!V$201*'Zone Export'!$V$14,('Sconti Export'!V212-('Sconti Export'!V212*'Sconti Export'!F212))*'Zone Export'!$V$14)","v":157.5},{"$f":"IF('Sconti Export'!W$201>'Sconti Export'!W212-('Sconti Export'!W212*'Sconti Export'!G212),'Sconti Export'!W$201*'Zone Export'!$V$14,('Sconti Export'!W212-('Sconti Export'!W212*'Sconti Export'!G212))*'Zone Export'!$V$14)","v":157.84999999999997},{"$f":"IF('Sconti Export'!X$201>'Sconti Export'!X212-('Sconti Export'!X212*'Sconti Export'!H212),'Sconti Export'!X$201*'Zone Export'!$V$14,('Sconti Export'!X212-('Sconti Export'!X212*'Sconti Export'!H212))*'Zone Export'!$V$14)","v":184.72999999999996},{"$f":"IF('Sconti Export'!Y$201>'Sconti Export'!Y212-('Sconti Export'!Y212*'Sconti Export'!I212),'Sconti Export'!Y$201*'Zone Export'!$V$14,('Sconti Export'!Y212-('Sconti Export'!Y212*'Sconti Export'!I212))*'Zone Export'!$V$14)","v":272}]
[null,"12 kg",{"$f":"IF('Sconti Export'!T$201>'Sconti Export'!T213-('Sconti Export'!T213*'Sconti Export'!D213),'Sconti Export'!T$201*'Zone Export'!$V$14,('Sconti Export'!T213-('Sconti Export'!T213*'Sconti Export'!D213))*'Zone Export'!$V$14)","v":183.15499999999997},{"$f":"IF('Sconti Export'!U$201>'Sconti Export'!U213-('Sconti Export'!U213*'Sconti Export'!E213),'Sconti Export'!U$201*'Zone Export'!$V$14,('Sconti Export'!U213-('Sconti Export'!U213*'Sconti Export'!E213))*'Zone Export'!$V$14)","v":95.602499999999992},{"$f":"IF('Sconti Export'!V$201>'Sconti Export'!V213-('Sconti Export'!V213*'Sconti Export'!F213),'Sconti Export'!V$201*'Zone Export'!$V$14,('Sconti Export'!V213-('Sconti Export'!V213*'Sconti Export'!F213))*'Zone Export'!$V$14)","v":165.62},{"$f":"IF('Sconti Export'!W$201>'Sconti Export'!W213-('Sconti Export'!W213*'Sconti Export'!G213),'Sconti Export'!W$201*'Zone Export'!$V$14,('Sconti Export'!W213-('Sconti Export'!W213*'Sconti Export'!G213))*'Zone Export'!$V$14)","v":165.67250000000001},{"$f":"IF('Sconti Export'!X$201>'Sconti Export'!X213-('Sconti Export'!X213*'Sconti Export'!H213),'Sconti Export'!X$201*'Zone Export'!$V$14,('Sconti Export'!X213-('Sconti Export'!X213*'Sconti Export'!H213))*'Zone Export'!$V$14)","v":194.86250000000001},{"$f":"IF('Sconti Export'!Y$201>'Sconti Export'!Y213-('Sconti Export'!Y213*'Sconti Export'!I213),'Sconti Export'!Y$201*'Zone Export'!$V$14,('Sconti Export'!Y213-('Sconti Export'!Y213*'Sconti Export'!I213))*'Zone Export'!$V$14)","v":284.05}]
[null,"13 kg",{"$f":"IF('Sconti Export'!T$201>'Sconti Export'!T214-('Sconti Export'!T214*'Sconti Export'!D214),'Sconti Export'!T$201*'Zone Export'!$V$14,('Sconti Export'!T214-('Sconti Export'!T214*'Sconti Export'!D214))*'Zone Export'!$V$14)","v":193.39249999999998},{"$f":"IF('Sconti Export'!U$201>'Sconti Export'!U214-('Sconti Export'!U214*'Sconti Export'!E214),'Sconti Export'!U$201*'Zone Export'!$V$14,('Sconti Export'!U214-('Sconti Export'!U214*'Sconti Export'!E214))*'Zone Export'!$V$14)","v":98.787499999999994},{"$f":"IF('Sconti Export'!V$201>'Sconti Export'!V214-('Sconti Export'!V214*'Sconti Export'!F214),'Sconti Export'!V$201*'Zone Export'!$V$14,('Sconti Export'!V214-('Sconti Export'!V214*'Sconti Export'!F214))*'Zone Export'!$V$14)","v":168.07},{"$f":"IF('Sconti Export'!W$201>'Sconti Export'!W214-('Sconti Export'!W214*'Sconti Export'!G214),'Sconti Export'!W$201*'Zone Export'!$V$14,('Sconti Export'!W214-('Sconti Export'!W214*'Sconti Export'!G214))*'Zone Export'!$V$14)","v":168.15749999999997},{"$f":"IF('Sconti Export'!X$201>'Sconti Export'!X214-('Sconti Export'!X214*'Sconti Export'!H214),'Sconti Export'!X$201*'Zone Export'!$V$14,('Sconti Export'!X214-('Sconti Export'!X214*'Sconti Export'!H214))*'Zone Export'!$V$14)","v":204.995},{"$f":"IF('Sconti Export'!Y$201>'Sconti Export'!Y214-('Sconti Export'!Y214*'Sconti Export'!I214),'Sconti Export'!Y$201*'Zone Export'!$V$14,('Sconti Export'!Y214-('Sconti Export'!Y214*'Sconti Export'!I214))*'Zone Export'!$V$14)","v":296.10000000000002}]
[null,"14 kg",{"$f":"IF('Sconti Export'!T$201>'Sconti Export'!T215-('Sconti Export'!T215*'Sconti Export'!D215),'Sconti Export'!T$201*'Zone Export'!$V$14,('Sconti Export'!T215-('Sconti Export'!T215*'Sconti Export'!D215))*'Zone Export'!$V$14)","v":203.78749999999997},{"$f":"IF('Sconti Export'!U$201>'Sconti Export'!U215-('Sconti Export'!U215*'Sconti Export'!E215),'Sconti Export'!U$201*'Zone Export'!$V$14,('Sconti Export'!U215-('Sconti Export'!U215*'Sconti Export'!E215))*'Zone Export'!$V$14)","v":101.90249999999997},{"$f":"IF('Sconti Export'!V$201>'Sconti Export'!V215-('Sconti Export'!V215*'Sconti Export'!F215),'Sconti Export'!V$201*'Zone Export'!$V$14,('Sconti Export'!V215-('Sconti Export'!V215*'Sconti Export'!F215))*'Zone Export'!$V$14)","v":170.51999999999998},{"$f":"IF('Sconti Export'!W$201>'Sconti Export'!W215-('Sconti Export'!W215*'Sconti Export'!G215),'Sconti Export'!W$201*'Zone Export'!$V$14,('Sconti Export'!W215-('Sconti Export'!W215*'Sconti Export'!G215))*'Zone Export'!$V$14)","v":170.60749999999996},{"$f":"IF('Sconti Export'!X$201>'Sconti Export'!X215-('Sconti Export'!X215*'Sconti Export'!H215),'Sconti Export'!X$201*'Zone Export'!$V$14,('Sconti Export'!X215-('Sconti Export'!X215*'Sconti Export'!H215))*'Zone Export'!$V$14)","v":215.11},{"$f":"IF('Sconti Export'!Y$201>'Sconti Export'!Y215-('Sconti Export'!Y215*'Sconti Export'!I215),'Sconti Export'!Y$201*'Zone Export'!$V$14,('Sconti Export'!Y215-('Sconti Export'!Y215*'Sconti Export'!I215))*'Zone Export'!$V$14)","v":308.10000000000002}]
[null,"15 kg",{"$f":"IF('Sconti Export'!T$201>'Sconti Export'!T216-('Sconti Export'!T216*'Sconti Export'!D216),'Sconti Export'!T$201*'Zone Export'!$V$14,('Sconti Export'!T216-('Sconti Export'!T216*'Sconti Export'!D216))*'Zone Export'!$V$14)","v":214.07749999999999},{"$f":"IF('Sconti Export'!U$201>'Sconti Export'!U216-('Sconti Export'!U216*'Sconti Export'!E216),'Sconti Export'!U$201*'Zone Export'!$V$14,('Sconti Export'!U216-('Sconti Export'!U216*'Sconti Export'!E216))*'Zone Export'!$V$14)","v":105.07},{"$f":"IF('Sconti Export'!V$201>'Sconti Export'!V216-('Sconti Export'!V216*'Sconti Export'!F216),'Sconti Export'!V$201*'Zone Export'!$V$14,('Sconti Export'!V216-('Sconti Export'!V216*'Sconti Export'!F216))*'Zone Export'!$V$14)","v":172.95249999999999},{"$f":"IF('Sconti Export'!W$201>'Sconti Export'!W216-('Sconti Export'!W216*'Sconti Export'!G216),'Sconti Export'!W$201*'Zone Export'!$V$14,('Sconti Export'!W216-('Sconti Export'!W216*'Sconti Export'!G216))*'Zone Export'!$V$14)","v":173.07499999999999},{"$f":"IF('Sconti Export'!X$201>'Sconti Export'!X216-('Sconti Export'!X216*'Sconti Export'!H216),'Sconti Export'!X$201*'Zone Export'!$V$14,('Sconti Export'!X216-('Sconti Export'!X216*'Sconti Export'!H216))*'Zone Export'!$V$14)","v":225.26},{"$f":"IF('Sconti Export'!Y$201>'Sconti Export'!Y216-('Sconti Export'!Y216*'Sconti Export'!I216),'Sconti Export'!Y$201*'Zone Export'!$V$14,('Sconti Export'!Y216-('Sconti Export'!Y216*'Sconti Export'!I216))*'Zone Export'!$V$14)","v":320.05}]
[null,"16 kg",{"$f":"IF('Sconti Export'!T$201>'Sconti Export'!T217-('Sconti Export'!T217*'Sconti Export'!D217),'Sconti Export'!T$201*'Zone Export'!$V$14,('Sconti Export'!T217-('Sconti Export'!T217*'Sconti Export'!D217))*'Zone Export'!$V$14)","v":224.40249999999997},{"$f":"IF('Sconti Export'!U$201>'Sconti Export'!U217-('Sconti Export'!U217*'Sconti Export'!E217),'Sconti Export'!U$201*'Zone Export'!$V$14,('Sconti Export'!U217-('Sconti Export'!U217*'Sconti Export'!E217))*'Zone Export'!$V$14)","v":108.23749999999998},{"$f":"IF('Sconti Export'!V$201>'Sconti Export'!V217-('Sconti Export'!V217*'Sconti Export'!F217),'Sconti Export'!V$201*'Zone Export'!$V$14,('Sconti Export'!V217-('Sconti Export'!V217*'Sconti Export'!F217))*'Zone Export'!$V$14)","v":175.34999999999997},{"$f":"IF('Sconti Export'!W$201>'Sconti Export'!W217-('Sconti Export'!W217*'Sconti Export'!G217),'Sconti Export'!W$201*'Zone Export'!$V$14,('Sconti Export'!W217-('Sconti Export'!W217*'Sconti Export'!G217))*'Zone Export'!$V$14)","v":175.54250000000002},{"$f":"IF('Sconti Export'!X$201>'Sconti Export'!X217-('Sconti Export'!X217*'Sconti Export'!H217),'Sconti Export'!X$201*'Zone Export'!$V$14,('Sconti Export'!X217-('Sconti Export'!X217*'Sconti Export'!H217))*'Zone Export'!$V$14)","v":235.39249999999998},{"$f":"IF('Sconti Export'!Y$201>'Sconti Export'!Y217-('Sconti Export'!Y217*'Sconti Export'!I217),'Sconti Export'!Y$201*'Zone Export'!$V$14,('Sconti Export'!Y217-('Sconti Export'!Y217*'Sconti Export'!I217))*'Zone Export'!$V$14)","v":332.15}]
[null,"17 kg",{"$f":"IF('Sconti Export'!T$201>'Sconti Export'!T218-('Sconti Export'!T218*'Sconti Export'!D218),'Sconti Export'!T$201*'Zone Export'!$V$14,('Sconti Export'!T218-('Sconti Export'!T218*'Sconti Export'!D218))*'Zone Export'!$V$14)","v":234.745},{"$f":"IF('Sconti Export'!U$201>'Sconti Export'!U218-('Sconti Export'!U218*'Sconti Export'!E218),'Sconti Export'!U$201*'Zone Export'!$V$14,('Sconti Export'!U218-('Sconti Export'!U218*'Sconti Export'!E218))*'Zone Export'!$V$14)","v":111.405},{"$f":"IF('Sconti Export'!V$201>'Sconti Export'!V218-('Sconti Export'!V218*'Sconti Export'!F218),'Sconti Export'!V$201*'Zone Export'!$V$14,('Sconti Export'!V218-('Sconti Export'!V218*'Sconti Export'!F218))*'Zone Export'!$V$14)","v":177.8},{"$f":"IF('Sconti Export'!W$201>'Sconti Export'!W218-('Sconti Export'!W218*'Sconti Export'!G218),'Sconti Export'!W$201*'Zone Export'!$V$14,('Sconti Export'!W218-('Sconti Export'!W218*'Sconti Export'!G218))*'Zone Export'!$V$14)","v":177.95749999999998},{"$f":"IF('Sconti Export'!X$201>'Sconti Export'!X218-('Sconti Export'!X218*'Sconti Export'!H218),'Sconti Export'!X$201*'Zone Export'!$V$14,('Sconti Export'!X218-('Sconti Export'!X218*'Sconti Export'!H218))*'Zone Export'!$V$14)","v":245.52499999999998},{"$f":"IF('Sconti Export'!Y$201>'Sconti Export'!Y218-('Sconti Export'!Y218*'Sconti Export'!I218),'Sconti Export'!Y$201*'Zone Export'!$V$14,('Sconti Export'!Y218-('Sconti Export'!Y218*'Sconti Export'!I218))*'Zone Export'!$V$14)","v":344}]
[null,"18 kg",{"$f":"IF('Sconti Export'!T$201>'Sconti Export'!T219-('Sconti Export'!T219*'Sconti Export'!D219),'Sconti Export'!T$201*'Zone Export'!$V$14,('Sconti Export'!T219-('Sconti Export'!T219*'Sconti Export'!D219))*'Zone Export'!$V$14)","v":242.53250000000003},{"$f":"IF('Sconti Export'!U$201>'Sconti Export'!U219-('Sconti Export'!U219*'Sconti Export'!E219),'Sconti Export'!U$201*'Zone Export'!$V$14,('Sconti Export'!U219-('Sconti Export'!U219*'Sconti Export'!E219))*'Zone Export'!$V$14)","v":114.53749999999999},{"$f":"IF('Sconti Export'!V$201>'Sconti Export'!V219-('Sconti Export'!V219*'Sconti Export'!F219),'Sconti Export'!V$201*'Zone Export'!$V$14,('Sconti Export'!V219-('Sconti Export'!V219*'Sconti Export'!F219))*'Zone Export'!$V$14)","v":180.25},{"$f":"IF('Sconti Export'!W$201>'Sconti Export'!W219-('Sconti Export'!W219*'Sconti Export'!G219),'Sconti Export'!W$201*'Zone Export'!$V$14,('Sconti Export'!W219-('Sconti Export'!W219*'Sconti Export'!G219))*'Zone Export'!$V$14)","v":180.4425},{"$f":"IF('Sconti Export'!X$201>'Sconti Export'!X219-('Sconti Export'!X219*'Sconti Export'!H219),'Sconti Export'!X$201*'Zone Export'!$V$14,('Sconti Export'!X219-('Sconti Export'!X219*'Sconti Export'!H219))*'Zone Export'!$V$14)","v":252.9975},{"$f":"IF('Sconti Export'!Y$201>'Sconti Export'!Y219-('Sconti Export'!Y219*'Sconti Export'!I219),'Sconti Export'!Y$201*'Zone Export'!$V$14,('Sconti Export'!Y219-('Sconti Export'!Y219*'Sconti Export'!I219))*'Zone Export'!$V$14)","v":352.45}]
[null,"19 kg",{"$f":"IF('Sconti Export'!T$201>'Sconti Export'!T220-('Sconti Export'!T220*'Sconti Export'!D220),'Sconti Export'!T$201*'Zone Export'!$V$14,('Sconti Export'!T220-('Sconti Export'!T220*'Sconti Export'!D220))*'Zone Export'!$V$14)","v":252.7525},{"$f":"IF('Sconti Export'!U$201>'Sconti Export'!U220-('Sconti Export'!U220*'Sconti Export'!E220),'Sconti Export'!U$201*'Zone Export'!$V$14,('Sconti Export'!U220-('Sconti Export'!U220*'Sconti Export'!E220))*'Zone Export'!$V$14)","v":117.73999999999998},{"$f":"IF('Sconti Export'!V$201>'Sconti Export'!V220-('Sconti Export'!V220*'Sconti Export'!F220),'Sconti Export'!V$201*'Zone Export'!$V$14,('Sconti Export'!V220-('Sconti Export'!V220*'Sconti Export'!F220))*'Zone Export'!$V$14)","v":182.7},{"$f":"IF('Sconti Export'!W$201>'Sconti Export'!W220-('Sconti Export'!W220*'Sconti Export'!G220),'Sconti Export'!W$201*'Zone Export'!$V$14,('Sconti Export'!W220-('Sconti Export'!W220*'Sconti Export'!G220))*'Zone Export'!$V$14)","v":182.89249999999998},{"$f":"IF('Sconti Export'!X$201>'Sconti Export'!X220-('Sconti Export'!X220*'Sconti Export'!H220),'Sconti Export'!X$201*'Zone Export'!$V$14,('Sconti Export'!X220-('Sconti Export'!X220*'Sconti Export'!H220))*'Zone Export'!$V$14)","v":263.02499999999998},{"$f":"IF('Sconti Export'!Y$201>'Sconti Export'!Y220-('Sconti Export'!Y220*'Sconti Export'!I220),'Sconti Export'!Y$201*'Zone Export'!$V$14,('Sconti Export'!Y220-('Sconti Export'!Y220*'Sconti Export'!I220))*'Zone Export'!$V$14)","v":364.15}]
[null,"20 kg",{"$f":"IF('Sconti Export'!T$201>'Sconti Export'!T221-('Sconti Export'!T221*'Sconti Export'!D221),'Sconti Export'!T$201*'Zone Export'!$V$14,('Sconti Export'!T221-('Sconti Export'!T221*'Sconti Export'!D221))*'Zone Export'!$V$14)","v":262.97249999999997},{"$f":"IF('Sconti Export'!U$201>'Sconti Export'!U221-('Sconti Export'!U221*'Sconti Export'!E221),'Sconti Export'!U$201*'Zone Export'!$V$14,('Sconti Export'!U221-('Sconti Export'!U221*'Sconti Export'!E221))*'Zone Export'!$V$14)","v":120.88999999999999},{"$f":"IF('Sconti Export'!V$201>'Sconti Export'!V221-('Sconti Export'!V221*'Sconti Export'!F221),'Sconti Export'!V$201*'Zone Export'!$V$14,('Sconti Export'!V221-('Sconti Export'!V221*'Sconti Export'!F221))*'Zone Export'!$V$14)","v":185.11499999999995},{"$f":"IF('Sconti Export'!W$201>'Sconti Export'!W221-('Sconti Export'!W221*'Sconti Export'!G221),'Sconti Export'!W$201*'Zone Export'!$V$14,('Sconti Export'!W221-('Sconti Export'!W221*'Sconti Export'!G221))*'Zone Export'!$V$14)","v":185.3775},{"$f":"IF('Sconti Export'!X$201>'Sconti Export'!X221-('Sconti Export'!X221*'Sconti Export'!H221),'Sconti Export'!X$201*'Zone Export'!$V$14,('Sconti Export'!X221-('Sconti Export'!X221*'Sconti Export'!H221))*'Zone Export'!$V$14)","v":273.03499999999997},{"$f":"IF('Sconti Export'!Y$201>'Sconti Export'!Y221-('Sconti Export'!Y221*'Sconti Export'!I221),'Sconti Export'!Y$201*'Zone Export'!$V$14,('Sconti Export'!Y221-('Sconti Export'!Y221*'Sconti Export'!I221))*'Zone Export'!$V$14)","v":376.1}]
[null,"21 kg",{"$f":"IF('Sconti Export'!T$201>'Sconti Export'!T222-('Sconti Export'!T222*'Sconti Export'!D222),'Sconti Export'!T$201*'Zone Export'!$V$14,('Sconti Export'!T222-('Sconti Export'!T222*'Sconti Export'!D222))*'Zone Export'!$V$14)","v":274.53999999999996},{"$f":"IF('Sconti Export'!U$201>'Sconti Export'!U222-('Sconti Export'!U222*'Sconti Export'!E222),'Sconti Export'!U$201*'Zone Export'!$V$14,('Sconti Export'!U222-('Sconti Export'!U222*'Sconti Export'!E222))*'Zone Export'!$V$14)","v":123.72499999999999},{"$f":"IF('Sconti Export'!V$201>'Sconti Export'!V222-('Sconti Export'!V222*'Sconti Export'!F222),'Sconti Export'!V$201*'Zone Export'!$V$14,('Sconti Export'!V222-('Sconti Export'!V222*'Sconti Export'!F222))*'Zone Export'!$V$14)","v":188.44},{"$f":"IF('Sconti Export'!W$201>'Sconti Export'!W222-('Sconti Export'!W222*'Sconti Export'!G222),'Sconti Export'!W$201*'Zone Export'!$V$14,('Sconti Export'!W222-('Sconti Export'!W222*'Sconti Export'!G222))*'Zone Export'!$V$14)","v":188.72000000000003},{"$f":"IF('Sconti Export'!X$201>'Sconti Export'!X222-('Sconti Export'!X222*'Sconti Export'!H222),'Sconti Export'!X$201*'Zone Export'!$V$14,('Sconti Export'!X222-('Sconti Export'!X222*'Sconti Export'!H222))*'Zone Export'!$V$14)","v":284.09500000000003},{"$f":"IF('Sconti Export'!Y$201>'Sconti Export'!Y222-('Sconti Export'!Y222*'Sconti Export'!I222),'Sconti Export'!Y$201*'Zone Export'!$V$14,('Sconti Export'!Y222-('Sconti Export'!Y222*'Sconti Export'!I222))*'Zone Export'!$V$14)","v":390}]
[null,"22 kg",{"$f":"IF('Sconti Export'!T$201>'Sconti Export'!T223-('Sconti Export'!T223*'Sconti Export'!D223),'Sconti Export'!T$201*'Zone Export'!$V$14,('Sconti Export'!T223-('Sconti Export'!T223*'Sconti Export'!D223))*'Zone Export'!$V$14)","v":284.84749999999997},{"$f":"IF('Sconti Export'!U$201>'Sconti Export'!U223-('Sconti Export'!U223*'Sconti Export'!E223),'Sconti Export'!U$201*'Zone Export'!$V$14,('Sconti Export'!U223-('Sconti Export'!U223*'Sconti Export'!E223))*'Zone Export'!$V$14)","v":125.98249999999999},{"$f":"IF('Sconti Export'!V$201>'Sconti Export'!V223-('Sconti Export'!V223*'Sconti Export'!F223),'Sconti Export'!V$201*'Zone Export'!$V$14,('Sconti Export'!V223-('Sconti Export'!V223*'Sconti Export'!F223))*'Zone Export'!$V$14)","v":190.90750000000003},{"$f":"IF('Sconti Export'!W$201>'Sconti Export'!W223-('Sconti Export'!W223*'Sconti Export'!G223),'Sconti Export'!W$201*'Zone Export'!$V$14,('Sconti Export'!W223-('Sconti Export'!W223*'Sconti Export'!G223))*'Zone Export'!$V$14)","v":191.20499999999998},{"$f":"IF('Sconti Export'!X$201>'Sconti Export'!X223-('Sconti Export'!X223*'Sconti Export'!H223),'Sconti Export'!X$201*'Zone Export'!$V$14,('Sconti Export'!X223-('Sconti Export'!X223*'Sconti Export'!H223))*'Zone Export'!$V$14)","v":293.8075},{"$f":"IF('Sconti Export'!Y$201>'Sconti Export'!Y223-('Sconti Export'!Y223*'Sconti Export'!I223),'Sconti Export'!Y$201*'Zone Export'!$V$14,('Sconti Export'!Y223-('Sconti Export'!Y223*'Sconti Export'!I223))*'Zone Export'!$V$14)","v":402.05}]
[null,"23 kg",{"$f":"IF('Sconti Export'!T$201>'Sconti Export'!T224-('Sconti Export'!T224*'Sconti Export'!D224),'Sconti Export'!T$201*'Zone Export'!$V$14,('Sconti Export'!T224-('Sconti Export'!T224*'Sconti Export'!D224))*'Zone Export'!$V$14)","v":295.15499999999997},{"$f":"IF('Sconti Export'!U$201>'Sconti Export'!U224-('Sconti Export'!U224*'Sconti Export'!E224),'Sconti Export'!U$201*'Zone Export'!$V$14,('Sconti Export'!U224-('Sconti Export'!U224*'Sconti Export'!E224))*'Zone Export'!$V$14)","v":128.1875},{"$f":"IF('Sconti Export'!V$201>'Sconti Export'!V224-('Sconti Export'!V224*'Sconti Export'!F224),'Sconti Export'!V$201*'Zone Export'!$V$14,('Sconti Export'!V224-('Sconti Export'!V224*'Sconti Export'!F224))*'Zone Export'!$V$14)","v":193.375},{"$f":"IF('Sconti Export'!W$201>'Sconti Export'!W224-('Sconti Export'!W224*'Sconti Export'!G224),'Sconti Export'!W$201*'Zone Export'!$V$14,('Sconti Export'!W224-('Sconti Export'!W224*'Sconti Export'!G224))*'Zone Export'!$V$14)","v":193.69},{"$f":"IF('Sconti Export'!X$201>'Sconti Export'!X224-('Sconti Export'!X224*'Sconti Export'!H224),'Sconti Export'!X$201*'Zone Export'!$V$14,('Sconti Export'!X224-('Sconti Export'!X224*'Sconti Export'!H224))*'Zone Export'!$V$14)","v":303.52},{"$f":"IF('Sconti Export'!Y$201>'Sconti Export'!Y224-('Sconti Export'!Y224*'Sconti Export'!I224),'Sconti Export'!Y$201*'Zone Export'!$V$14,('Sconti Export'!Y224-('Sconti Export'!Y224*'Sconti Export'!I224))*'Zone Export'!$V$14)","v":414.15}]
[null,"24 kg",{"$f":"IF('Sconti Export'!T$201>'Sconti Export'!T225-('Sconti Export'!T225*'Sconti Export'!D225),'Sconti Export'!T$201*'Zone Export'!$V$14,('Sconti Export'!T225-('Sconti Export'!T225*'Sconti Export'!D225))*'Zone Export'!$V$14)","v":305.46249999999998},{"$f":"IF('Sconti Export'!U$201>'Sconti Export'!U225-('Sconti Export'!U225*'Sconti Export'!E225),'Sconti Export'!U$201*'Zone Export'!$V$14,('Sconti Export'!U225-('Sconti Export'!U225*'Sconti Export'!E225))*'Zone Export'!$V$14)","v":130.47999999999999},{"$f":"IF('Sconti Export'!V$201>'Sconti Export'!V225-('Sconti Export'!V225*'Sconti Export'!F225),'Sconti Export'!V$201*'Zone Export'!$V$14,('Sconti Export'!V225-('Sconti Export'!V225*'Sconti Export'!F225))*'Zone Export'!$V$14)","v":195.78999999999996},{"$f":"IF('Sconti Export'!W$201>'Sconti Export'!W225-('Sconti Export'!W225*'Sconti Export'!G225),'Sconti Export'!W$201*'Zone Export'!$V$14,('Sconti Export'!W225-('Sconti Export'!W225*'Sconti Export'!G225))*'Zone Export'!$V$14)","v":196.15750000000003},{"$f":"IF('Sconti Export'!X$201>'Sconti Export'!X225-('Sconti Export'!X225*'Sconti Export'!H225),'Sconti Export'!X$201*'Zone Export'!$V$14,('Sconti Export'!X225-('Sconti Export'!X225*'Sconti Export'!H225))*'Zone Export'!$V$14)","v":313.19749999999999},{"$f":"IF('Sconti Export'!Y$201>'Sconti Export'!Y225-('Sconti Export'!Y225*'Sconti Export'!I225),'Sconti Export'!Y$201*'Zone Export'!$V$14,('Sconti Export'!Y225-('Sconti Export'!Y225*'Sconti Export'!I225))*'Zone Export'!$V$14)","v":426.25}]
[null,"25 kg",{"$f":"IF('Sconti Export'!T$201>'Sconti Export'!T226-('Sconti Export'!T226*'Sconti Export'!D226),'Sconti Export'!T$201*'Zone Export'!$V$14,('Sconti Export'!T226-('Sconti Export'!T226*'Sconti Export'!D226))*'Zone Export'!$V$14)","v":315.75249999999994},{"$f":"IF('Sconti Export'!U$201>'Sconti Export'!U226-('Sconti Export'!U226*'Sconti Export'!E226),'Sconti Export'!U$201*'Zone Export'!$V$14,('Sconti Export'!U226-('Sconti Export'!U226*'Sconti Export'!E226))*'Zone Export'!$V$14)","v":132.70249999999999},{"$f":"IF('Sconti Export'!V$201>'Sconti Export'!V226-('Sconti Export'!V226*'Sconti Export'!F226),'Sconti Export'!V$201*'Zone Export'!$V$14,('Sconti Export'!V226-('Sconti Export'!V226*'Sconti Export'!F226))*'Zone Export'!$V$14)","v":198.27499999999998},{"$f":"IF('Sconti Export'!W$201>'Sconti Export'!W226-('Sconti Export'!W226*'Sconti Export'!G226),'Sconti Export'!W$201*'Zone Export'!$V$14,('Sconti Export'!W226-('Sconti Export'!W226*'Sconti Export'!G226))*'Zone Export'!$V$14)","v":198.625},{"$f":"IF('Sconti Export'!X$201>'Sconti Export'!X226-('Sconti Export'!X226*'Sconti Export'!H226),'Sconti Export'!X$201*'Zone Export'!$V$14,('Sconti Export'!X226-('Sconti Export'!X226*'Sconti Export'!H226))*'Zone Export'!$V$14)","v":322.92750000000001},{"$f":"IF('Sconti Export'!Y$201>'Sconti Export'!Y226-('Sconti Export'!Y226*'Sconti Export'!I226),'Sconti Export'!Y$201*'Zone Export'!$V$14,('Sconti Export'!Y226-('Sconti Export'!Y226*'Sconti Export'!I226))*'Zone Export'!$V$14)","v":438.4}]
[null,"26 kg",{"$f":"IF('Sconti Export'!T$201>'Sconti Export'!T227-('Sconti Export'!T227*'Sconti Export'!D227),'Sconti Export'!T$201*'Zone Export'!$V$14,('Sconti Export'!T227-('Sconti Export'!T227*'Sconti Export'!D227))*'Zone Export'!$V$14)","v":322.64750000000004},{"$f":"IF('Sconti Export'!U$201>'Sconti Export'!U227-('Sconti Export'!U227*'Sconti Export'!E227),'Sconti Export'!U$201*'Zone Export'!$V$14,('Sconti Export'!U227-('Sconti Export'!U227*'Sconti Export'!E227))*'Zone Export'!$V$14)","v":134.9425},{"$f":"IF('Sconti Export'!V$201>'Sconti Export'!V227-('Sconti Export'!V227*'Sconti Export'!F227),'Sconti Export'!V$201*'Zone Export'!$V$14,('Sconti Export'!V227-('Sconti Export'!V227*'Sconti Export'!F227))*'Zone Export'!$V$14)","v":200.70749999999998},{"$f":"IF('Sconti Export'!W$201>'Sconti Export'!W227-('Sconti Export'!W227*'Sconti Export'!G227),'Sconti Export'!W$201*'Zone Export'!$V$14,('Sconti Export'!W227-('Sconti Export'!W227*'Sconti Export'!G227))*'Zone Export'!$V$14)","v":201.09249999999997},{"$f":"IF('Sconti Export'!X$201>'Sconti Export'!X227-('Sconti Export'!X227*'Sconti Export'!H227),'Sconti Export'!X$201*'Zone Export'!$V$14,('Sconti Export'!X227-('Sconti Export'!X227*'Sconti Export'!H227))*'Zone Export'!$V$14)","v":329.12249999999995},{"$f":"IF('Sconti Export'!Y$201>'Sconti Export'!Y227-('Sconti Export'!Y227*'Sconti Export'!I227),'Sconti Export'!Y$201*'Zone Export'!$V$14,('Sconti Export'!Y227-('Sconti Export'!Y227*'Sconti Export'!I227))*'Zone Export'!$V$14)","v":445.8}]
[null,"27 kg",{"$f":"IF('Sconti Export'!T$201>'Sconti Export'!T228-('Sconti Export'!T228*'Sconti Export'!D228),'Sconti Export'!T$201*'Zone Export'!$V$14,('Sconti Export'!T228-('Sconti Export'!T228*'Sconti Export'!D228))*'Zone Export'!$V$14)","v":332.83249999999998},{"$f":"IF('Sconti Export'!U$201>'Sconti Export'!U228-('Sconti Export'!U228*'Sconti Export'!E228),'Sconti Export'!U$201*'Zone Export'!$V$14,('Sconti Export'!U228-('Sconti Export'!U228*'Sconti Export'!E228))*'Zone Export'!$V$14)","v":137.19999999999999},{"$f":"IF('Sconti Export'!V$201>'Sconti Export'!V228-('Sconti Export'!V228*'Sconti Export'!F228),'Sconti Export'!V$201*'Zone Export'!$V$14,('Sconti Export'!V228-('Sconti Export'!V228*'Sconti Export'!F228))*'Zone Export'!$V$14)","v":203.15750000000003},{"$f":"IF('Sconti Export'!W$201>'Sconti Export'!W228-('Sconti Export'!W228*'Sconti Export'!G228),'Sconti Export'!W$201*'Zone Export'!$V$14,('Sconti Export'!W228-('Sconti Export'!W228*'Sconti Export'!G228))*'Zone Export'!$V$14)","v":203.54249999999996},{"$f":"IF('Sconti Export'!X$201>'Sconti Export'!X228-('Sconti Export'!X228*'Sconti Export'!H228),'Sconti Export'!X$201*'Zone Export'!$V$14,('Sconti Export'!X228-('Sconti Export'!X228*'Sconti Export'!H228))*'Zone Export'!$V$14)","v":338.73},{"$f":"IF('Sconti Export'!Y$201>'Sconti Export'!Y228-('Sconti Export'!Y228*'Sconti Export'!I228),'Sconti Export'!Y$201*'Zone Export'!$V$14,('Sconti Export'!Y228-('Sconti Export'!Y228*'Sconti Export'!I228))*'Zone Export'!$V$14)","v":457.65}]
[null,"28 kg",{"$f":"IF('Sconti Export'!T$201>'Sconti Export'!T229-('Sconti Export'!T229*'Sconti Export'!D229),'Sconti Export'!T$201*'Zone Export'!$V$14,('Sconti Export'!T229-('Sconti Export'!T229*'Sconti Export'!D229))*'Zone Export'!$V$14)","v":343.01749999999993},{"$f":"IF('Sconti Export'!U$201>'Sconti Export'!U229-('Sconti Export'!U229*'Sconti Export'!E229),'Sconti Export'!U$201*'Zone Export'!$V$14,('Sconti Export'!U229-('Sconti Export'!U229*'Sconti Export'!E229))*'Zone Export'!$V$14)","v":139.42250000000001},{"$f":"IF('Sconti Export'!V$201>'Sconti Export'!V229-('Sconti Export'!V229*'Sconti Export'!F229),'Sconti Export'!V$201*'Zone Export'!$V$14,('Sconti Export'!V229-('Sconti Export'!V229*'Sconti Export'!F229))*'Zone Export'!$V$14)","v":205.58999999999997},{"$f":"IF('Sconti Export'!W$201>'Sconti Export'!W229-('Sconti Export'!W229*'Sconti Export'!G229),'Sconti Export'!W$201*'Zone Export'!$V$14,('Sconti Export'!W229-('Sconti Export'!W229*'Sconti Export'!G229))*'Zone Export'!$V$14)","v":206.02749999999997},{"$f":"IF('Sconti Export'!X$201>'Sconti Export'!X229-('Sconti Export'!X229*'Sconti Export'!H229),'Sconti Export'!X$201*'Zone Export'!$V$14,('Sconti Export'!X229-('Sconti Export'!X229*'Sconti Export'!H229))*'Zone Export'!$V$14)","v":348.35500000000002},{"$f":"IF('Sconti Export'!Y$201>'Sconti Export'!Y229-('Sconti Export'!Y229*'Sconti Export'!I229),'Sconti Export'!Y$201*'Zone Export'!$V$14,('Sconti Export'!Y229-('Sconti Export'!Y229*'Sconti Export'!I229))*'Zone Export'!$V$14)","v":469.55}]
[null,"29 kg",{"$f":"IF('Sconti Export'!T$201>'Sconti Export'!T230-('Sconti Export'!T230*'Sconti Export'!D230),'Sconti Export'!T$201*'Zone Export'!$V$14,('Sconti Export'!T230-('Sconti Export'!T230*'Sconti Export'!D230))*'Zone Export'!$V$14)","v":353.23749999999995},{"$f":"IF('Sconti Export'!U$201>'Sconti Export'!U230-('Sconti Export'!U230*'Sconti Export'!E230),'Sconti Export'!U$201*'Zone Export'!$V$14,('Sconti Export'!U230-('Sconti Export'!U230*'Sconti Export'!E230))*'Zone Export'!$V$14)","v":141.68},{"$f":"IF('Sconti Export'!V$201>'Sconti Export'!V230-('Sconti Export'!V230*'Sconti Export'!F230),'Sconti Export'!V$201*'Zone Export'!$V$14,('Sconti Export'!V230-('Sconti Export'!V230*'Sconti Export'!F230))*'Zone Export'!$V$14)","v":208.03999999999996},{"$f":"IF('Sconti Export'!W$201>'Sconti Export'!W230-('Sconti Export'!W230*'Sconti Export'!G230),'Sconti Export'!W$201*'Zone Export'!$V$14,('Sconti Export'!W230-('Sconti Export'!W230*'Sconti Export'!G230))*'Zone Export'!$V$14)","v":208.495},{"$f":"IF('Sconti Export'!X$201>'Sconti Export'!X230-('Sconti Export'!X230*'Sconti Export'!H230),'Sconti Export'!X$201*'Zone Export'!$V$14,('Sconti Export'!X230-('Sconti Export'!X230*'Sconti Export'!H230))*'Zone Export'!$V$14)","v":357.98},{"$f":"IF('Sconti Export'!Y$201>'Sconti Export'!Y230-('Sconti Export'!Y230*'Sconti Export'!I230),'Sconti Export'!Y$201*'Zone Export'!$V$14,('Sconti Export'!Y230-('Sconti Export'!Y230*'Sconti Export'!I230))*'Zone Export'!$V$14)","v":481.45}]
[null,"30 kg",{"$f":"IF('Sconti Export'!T$201>'Sconti Export'!T231-('Sconti Export'!T231*'Sconti Export'!D231),'Sconti Export'!T$201*'Zone Export'!$V$14,('Sconti Export'!T231-('Sconti Export'!T231*'Sconti Export'!D231))*'Zone Export'!$V$14)","v":363.44000000000005},{"$f":"IF('Sconti Export'!U$201>'Sconti Export'!U231-('Sconti Export'!U231*'Sconti Export'!E231),'Sconti Export'!U$201*'Zone Export'!$V$14,('Sconti Export'!U231-('Sconti Export'!U231*'Sconti Export'!E231))*'Zone Export'!$V$14)","v":143.88499999999999},{"$f":"IF('Sconti Export'!V$201>'Sconti Export'!V231-('Sconti Export'!V231*'Sconti Export'!F231),'Sconti Export'!V$201*'Zone Export'!$V$14,('Sconti Export'!V231-('Sconti Export'!V231*'Sconti Export'!F231))*'Zone Export'!$V$14)","v":210.48999999999995},{"$f":"IF('Sconti Export'!W$201>'Sconti Export'!W231-('Sconti Export'!W231*'Sconti Export'!G231),'Sconti Export'!W$201*'Zone Export'!$V$14,('Sconti Export'!W231-('Sconti Export'!W231*'Sconti Export'!G231))*'Zone Export'!$V$14)","v":210.96249999999998},{"$f":"IF('Sconti Export'!X$201>'Sconti Export'!X231-('Sconti Export'!X231*'Sconti Export'!H231),'Sconti Export'!X$201*'Zone Export'!$V$14,('Sconti Export'!X231-('Sconti Export'!X231*'Sconti Export'!H231))*'Zone Export'!$V$14)","v":367.55250000000001},{"$f":"IF('Sconti Export'!Y$201>'Sconti Export'!Y231-('Sconti Export'!Y231*'Sconti Export'!I231),'Sconti Export'!Y$201*'Zone Export'!$V$14,('Sconti Export'!Y231-('Sconti Export'!Y231*'Sconti Export'!I231))*'Zone Export'!$V$14)","v":493.45}]
[null,"31 kg",{"$f":"IF('Sconti Export'!T$201>'Sconti Export'!T232-('Sconti Export'!T232*'Sconti Export'!D232),'Sconti Export'!T$201*'Zone Export'!$V$14,('Sconti Export'!T232-('Sconti Export'!T232*'Sconti Export'!D232))*'Zone Export'!$V$14)","v":372.10249999999996},{"$f":"IF('Sconti Export'!U$201>'Sconti Export'!U232-('Sconti Export'!U232*'Sconti Export'!E232),'Sconti Export'!U$201*'Zone Export'!$V$14,('Sconti Export'!U232-('Sconti Export'!U232*'Sconti Export'!E232))*'Zone Export'!$V$14)","v":146.16000000000003},{"$f":"IF('Sconti Export'!V$201>'Sconti Export'!V232-('Sconti Export'!V232*'Sconti Export'!F232),'Sconti Export'!V$201*'Zone Export'!$V$14,('Sconti Export'!V232-('Sconti Export'!V232*'Sconti Export'!F232))*'Zone Export'!$V$14)","v":212.92250000000001},{"$f":"IF('Sconti Export'!W$201>'Sconti Export'!W232-('Sconti Export'!W232*'Sconti Export'!G232),'Sconti Export'!W$201*'Zone Export'!$V$14,('Sconti Export'!W232-('Sconti Export'!W232*'Sconti Export'!G232))*'Zone Export'!$V$14)","v":213.44749999999999},{"$f":"IF('Sconti Export'!X$201>'Sconti Export'!X232-('Sconti Export'!X232*'Sconti Export'!H232),'Sconti Export'!X$201*'Zone Export'!$V$14,('Sconti Export'!X232-('Sconti Export'!X232*'Sconti Export'!H232))*'Zone Export'!$V$14)","v":375.39249999999993},{"$f":"IF('Sconti Export'!Y$201>'Sconti Export'!Y232-('Sconti Export'!Y232*'Sconti Export'!I232),'Sconti Export'!Y$201*'Zone Export'!$V$14,('Sconti Export'!Y232-('Sconti Export'!Y232*'Sconti Export'!I232))*'Zone Export'!$V$14)","v":502.55}]
[null,"32 kg",{"$f":"IF('Sconti Export'!T$201>'Sconti Export'!T233-('Sconti Export'!T233*'Sconti Export'!D233),'Sconti Export'!T$201*'Zone Export'!$V$14,('Sconti Export'!T233-('Sconti Export'!T233*'Sconti Export'!D233))*'Zone Export'!$V$14)","v":380.7299999999999},{"$f":"IF('Sconti Export'!U$201>'Sconti Export'!U233-('Sconti Export'!U233*'Sconti Export'!E233),'Sconti Export'!U$201*'Zone Export'!$V$14,('Sconti Export'!U233-('Sconti Export'!U233*'Sconti Export'!E233))*'Zone Export'!$V$14)","v":148.41750000000002},{"$f":"IF('Sconti Export'!V$201>'Sconti Export'!V233-('Sconti Export'!V233*'Sconti Export'!F233),'Sconti Export'!V$201*'Zone Export'!$V$14,('Sconti Export'!V233-('Sconti Export'!V233*'Sconti Export'!F233))*'Zone Export'!$V$14)","v":215.39},{"$f":"IF('Sconti Export'!W$201>'Sconti Export'!W233-('Sconti Export'!W233*'Sconti Export'!G233),'Sconti Export'!W$201*'Zone Export'!$V$14,('Sconti Export'!W233-('Sconti Export'!W233*'Sconti Export'!G233))*'Zone Export'!$V$14)","v":215.95},{"$f":"IF('Sconti Export'!X$201>'Sconti Export'!X233-('Sconti Export'!X233*'Sconti Export'!H233),'Sconti Export'!X$201*'Zone Export'!$V$14,('Sconti Export'!X233-('Sconti Export'!X233*'Sconti Export'!H233))*'Zone Export'!$V$14)","v":383.23249999999996},{"$f":"IF('Sconti Export'!Y$201>'Sconti Export'!Y233-('Sconti Export'!Y233*'Sconti Export'!I233),'Sconti Export'!Y$201*'Zone Export'!$V$14,('Sconti Export'!Y233-('Sconti Export'!Y233*'Sconti Export'!I233))*'Zone Export'!$V$14)","v":511.6}]
[null,"33 kg",{"$f":"IF('Sconti Export'!T$201>'Sconti Export'!T234-('Sconti Export'!T234*'Sconti Export'!D234),'Sconti Export'!T$201*'Zone Export'!$V$14,('Sconti Export'!T234-('Sconti Export'!T234*'Sconti Export'!D234))*'Zone Export'!$V$14)","v":389.40999999999997},{"$f":"IF('Sconti Export'!U$201>'Sconti Export'!U234-('Sconti Export'!U234*'Sconti Export'!E234),'Sconti Export'!U$201*'Zone Export'!$V$14,('Sconti Export'!U234-('Sconti Export'!U234*'Sconti Export'!E234))*'Zone Export'!$V$14)","v":150.65749999999997},{"$f":"IF('Sconti Export'!V$201>'Sconti Export'!V234-('Sconti Export'!V234*'Sconti Export'!F234),'Sconti Export'!V$201*'Zone Export'!$V$14,('Sconti Export'!V234-('Sconti Export'!V234*'Sconti Export'!F234))*'Zone Export'!$V$14)","v":217.89249999999998},{"$f":"IF('Sconti Export'!W$201>'Sconti Export'!W234-('Sconti Export'!W234*'Sconti Export'!G234),'Sconti Export'!W$201*'Zone Export'!$V$14,('Sconti Export'!W234-('Sconti Export'!W234*'Sconti Export'!G234))*'Zone Export'!$V$14)","v":218.39999999999998},{"$f":"IF('Sconti Export'!X$201>'Sconti Export'!X234-('Sconti Export'!X234*'Sconti Export'!H234),'Sconti Export'!X$201*'Zone Export'!$V$14,('Sconti Export'!X234-('Sconti Export'!X234*'Sconti Export'!H234))*'Zone Export'!$V$14)","v":391.07249999999999},{"$f":"IF('Sconti Export'!Y$201>'Sconti Export'!Y234-('Sconti Export'!Y234*'Sconti Export'!I234),'Sconti Export'!Y$201*'Zone Export'!$V$14,('Sconti Export'!Y234-('Sconti Export'!Y234*'Sconti Export'!I234))*'Zone Export'!$V$14)","v":520.65}]
[null,"34 kg",{"$f":"IF('Sconti Export'!T$201>'Sconti Export'!T235-('Sconti Export'!T235*'Sconti Export'!D235),'Sconti Export'!T$201*'Zone Export'!$V$14,('Sconti Export'!T235-('Sconti Export'!T235*'Sconti Export'!D235))*'Zone Export'!$V$14)","v":398.07249999999999},{"$f":"IF('Sconti Export'!U$201>'Sconti Export'!U235-('Sconti Export'!U235*'Sconti Export'!E235),'Sconti Export'!U$201*'Zone Export'!$V$14,('Sconti Export'!U235-('Sconti Export'!U235*'Sconti Export'!E235))*'Zone Export'!$V$14)","v":152.89749999999998},{"$f":"IF('Sconti Export'!V$201>'Sconti Export'!V235-('Sconti Export'!V235*'Sconti Export'!F235),'Sconti Export'!V$201*'Zone Export'!$V$14,('Sconti Export'!V235-('Sconti Export'!V235*'Sconti Export'!F235))*'Zone Export'!$V$14)","v":220.27249999999998},{"$f":"IF('Sconti Export'!W$201>'Sconti Export'!W235-('Sconti Export'!W235*'Sconti Export'!G235),'Sconti Export'!W$201*'Zone Export'!$V$14,('Sconti Export'!W235-('Sconti Export'!W235*'Sconti Export'!G235))*'Zone Export'!$V$14)","v":220.90249999999997},{"$f":"IF('Sconti Export'!X$201>'Sconti Export'!X235-('Sconti Export'!X235*'Sconti Export'!H235),'Sconti Export'!X$201*'Zone Export'!$V$14,('Sconti Export'!X235-('Sconti Export'!X235*'Sconti Export'!H235))*'Zone Export'!$V$14)","v":398.89499999999998},{"$f":"IF('Sconti Export'!Y$201>'Sconti Export'!Y235-('Sconti Export'!Y235*'Sconti Export'!I235),'Sconti Export'!Y$201*'Zone Export'!$V$14,('Sconti Export'!Y235-('Sconti Export'!Y235*'Sconti Export'!I235))*'Zone Export'!$V$14)","v":529.70000000000005}]
[null,"35 kg",{"$f":"IF('Sconti Export'!T$201>'Sconti Export'!T236-('Sconti Export'!T236*'Sconti Export'!D236),'Sconti Export'!T$201*'Zone Export'!$V$14,('Sconti Export'!T236-('Sconti Export'!T236*'Sconti Export'!D236))*'Zone Export'!$V$14)","v":406.7349999999999},{"$f":"IF('Sconti Export'!U$201>'Sconti Export'!U236-('Sconti Export'!U236*'Sconti Export'!E236),'Sconti Export'!U$201*'Zone Export'!$V$14,('Sconti Export'!U236-('Sconti Export'!U236*'Sconti Export'!E236))*'Zone Export'!$V$14)","v":155.15499999999997},{"$f":"IF('Sconti Export'!V$201>'Sconti Export'!V236-('Sconti Export'!V236*'Sconti Export'!F236),'Sconti Export'!V$201*'Zone Export'!$V$14,('Sconti Export'!V236-('Sconti Export'!V236*'Sconti Export'!F236))*'Zone Export'!$V$14)","v":222.73999999999995},{"$f":"IF('Sconti Export'!W$201>'Sconti Export'!W236-('Sconti Export'!W236*'Sconti Export'!G236),'Sconti Export'!W$201*'Zone Export'!$V$14,('Sconti Export'!W236-('Sconti Export'!W236*'Sconti Export'!G236))*'Zone Export'!$V$14)","v":223.37},{"$f":"IF('Sconti Export'!X$201>'Sconti Export'!X236-('Sconti Export'!X236*'Sconti Export'!H236),'Sconti Export'!X$201*'Zone Export'!$V$14,('Sconti Export'!X236-('Sconti Export'!X236*'Sconti Export'!H236))*'Zone Export'!$V$14)","v":406.7349999999999},{"$f":"IF('Sconti Export'!Y$201>'Sconti Export'!Y236-('Sconti Export'!Y236*'Sconti Export'!I236),'Sconti Export'!Y$201*'Zone Export'!$V$14,('Sconti Export'!Y236-('Sconti Export'!Y236*'Sconti Export'!I236))*'Zone Export'!$V$14)","v":538.79999999999995}]
[null,"40 kg",{"$f":"IF('Sconti Export'!T$201>'Sconti Export'!T237-('Sconti Export'!T237*'Sconti Export'!D237),'Sconti Export'!T$201*'Zone Export'!$V$14,('Sconti Export'!T237-('Sconti Export'!T237*'Sconti Export'!D237))*'Zone Export'!$V$14)","v":445.27},{"$f":"IF('Sconti Export'!U$201>'Sconti Export'!U237-('Sconti Export'!U237*'Sconti Export'!E237),'Sconti Export'!U$201*'Zone Export'!$V$14,('Sconti Export'!U237-('Sconti Export'!U237*'Sconti Export'!E237))*'Zone Export'!$V$14)","v":160.51},{"$f":"IF('Sconti Export'!V$201>'Sconti Export'!V237-('Sconti Export'!V237*'Sconti Export'!F237),'Sconti Export'!V$201*'Zone Export'!$V$14,('Sconti Export'!V237-('Sconti Export'!V237*'Sconti Export'!F237))*'Zone Export'!$V$14)","v":231.38499999999999},{"$f":"IF('Sconti Export'!W$201>'Sconti Export'!W237-('Sconti Export'!W237*'Sconti Export'!G237),'Sconti Export'!W$201*'Zone Export'!$V$14,('Sconti Export'!W237-('Sconti Export'!W237*'Sconti Export'!G237))*'Zone Export'!$V$14)","v":232.08499999999998},{"$f":"IF('Sconti Export'!X$201>'Sconti Export'!X237-('Sconti Export'!X237*'Sconti Export'!H237),'Sconti Export'!X$201*'Zone Export'!$V$14,('Sconti Export'!X237-('Sconti Export'!X237*'Sconti Export'!H237))*'Zone Export'!$V$14)","v":441.71749999999997},{"$f":"IF('Sconti Export'!Y$201>'Sconti Export'!Y237-('Sconti Export'!Y237*'Sconti Export'!I237),'Sconti Export'!Y$201*'Zone Export'!$V$14,('Sconti Export'!Y237-('Sconti Export'!Y237*'Sconti Export'!I237))*'Zone Export'!$V$14)","v":577.85}]
[null,"45 kg",{"$f":"IF('Sconti Export'!T$201>'Sconti Export'!T238-('Sconti Export'!T238*'Sconti Export'!D238),'Sconti Export'!T$201*'Zone Export'!$V$14,('Sconti Export'!T238-('Sconti Export'!T238*'Sconti Export'!D238))*'Zone Export'!$V$14)","v":488.14499999999998},{"$f":"IF('Sconti Export'!U$201>'Sconti Export'!U238-('Sconti Export'!U238*'Sconti Export'!E238),'Sconti Export'!U$201*'Zone Export'!$V$14,('Sconti Export'!U238-('Sconti Export'!U238*'Sconti Export'!E238))*'Zone Export'!$V$14)","v":165.79499999999996},{"$f":"IF('Sconti Export'!V$201>'Sconti Export'!V238-('Sconti Export'!V238*'Sconti Export'!F238),'Sconti Export'!V$201*'Zone Export'!$V$14,('Sconti Export'!V238-('Sconti Export'!V238*'Sconti Export'!F238))*'Zone Export'!$V$14)","v":240.04750000000001},{"$f":"IF('Sconti Export'!W$201>'Sconti Export'!W238-('Sconti Export'!W238*'Sconti Export'!G238),'Sconti Export'!W$201*'Zone Export'!$V$14,('Sconti Export'!W238-('Sconti Export'!W238*'Sconti Export'!G238))*'Zone Export'!$V$14)","v":240.85249999999996},{"$f":"IF('Sconti Export'!X$201>'Sconti Export'!X238-('Sconti Export'!X238*'Sconti Export'!H238),'Sconti Export'!X$201*'Zone Export'!$V$14,('Sconti Export'!X238-('Sconti Export'!X238*'Sconti Export'!H238))*'Zone Export'!$V$14)","v":481.03999999999996},{"$f":"IF('Sconti Export'!Y$201>'Sconti Export'!Y238-('Sconti Export'!Y238*'Sconti Export'!I238),'Sconti Export'!Y$201*'Zone Export'!$V$14,('Sconti Export'!Y238-('Sconti Export'!Y238*'Sconti Export'!I238))*'Zone Export'!$V$14)","v":622.75}]
[null,"50 kg",{"$f":"IF('Sconti Export'!T$201>'Sconti Export'!T239-('Sconti Export'!T239*'Sconti Export'!D239),'Sconti Export'!T$201*'Zone Export'!$V$14,('Sconti Export'!T239-('Sconti Export'!T239*'Sconti Export'!D239))*'Zone Export'!$V$14)","v":531.07249999999999},{"$f":"IF('Sconti Export'!U$201>'Sconti Export'!U239-('Sconti Export'!U239*'Sconti Export'!E239),'Sconti Export'!U$201*'Zone Export'!$V$14,('Sconti Export'!U239-('Sconti Export'!U239*'Sconti Export'!E239))*'Zone Export'!$V$14)","v":171.14999999999998},{"$f":"IF('Sconti Export'!V$201>'Sconti Export'!V239-('Sconti Export'!V239*'Sconti Export'!F239),'Sconti Export'!V$201*'Zone Export'!$V$14,('Sconti Export'!V239-('Sconti Export'!V239*'Sconti Export'!F239))*'Zone Export'!$V$14)","v":248.67500000000001},{"$f":"IF('Sconti Export'!W$201>'Sconti Export'!W239-('Sconti Export'!W239*'Sconti Export'!G239),'Sconti Export'!W$201*'Zone Export'!$V$14,('Sconti Export'!W239-('Sconti Export'!W239*'Sconti Export'!G239))*'Zone Export'!$V$14)","v":249.5675},{"$f":"IF('Sconti Export'!X$201>'Sconti Export'!X239-('Sconti Export'!X239*'Sconti Export'!H239),'Sconti Export'!X$201*'Zone Export'!$V$14,('Sconti Export'!X239-('Sconti Export'!X239*'Sconti Export'!H239))*'Zone Export'!$V$14)","v":520.32749999999999},{"$f":"IF('Sconti Export'!Y$201>'Sconti Export'!Y239-('Sconti Export'!Y239*'Sconti Export'!I239),'Sconti Export'!Y$201*'Zone Export'!$V$14,('Sconti Export'!Y239-('Sconti Export'!Y239*'Sconti Export'!I239))*'Zone Export'!$V$14)","v":667.65}]
[null,"55 kg",{"$f":"IF('Sconti Export'!T$201>'Sconti Export'!T240-('Sconti Export'!T240*'Sconti Export'!D240),'Sconti Export'!T$201*'Zone Export'!$V$14,('Sconti Export'!T240-('Sconti Export'!T240*'Sconti Export'!D240))*'Zone Export'!$V$14)","v":573.91249999999991},{"$f":"IF('Sconti Export'!U$201>'Sconti Export'!U240-('Sconti Export'!U240*'Sconti Export'!E240),'Sconti Export'!U$201*'Zone Export'!$V$14,('Sconti Export'!U240-('Sconti Export'!U240*'Sconti Export'!E240))*'Zone Export'!$V$14)","v":176.45249999999999},{"$f":"IF('Sconti Export'!V$201>'Sconti Export'!V240-('Sconti Export'!V240*'Sconti Export'!F240),'Sconti Export'!V$201*'Zone Export'!$V$14,('Sconti Export'!V240-('Sconti Export'!V240*'Sconti Export'!F240))*'Zone Export'!$V$14)","v":257.32},{"$f":"IF('Sconti Export'!W$201>'Sconti Export'!W240-('Sconti Export'!W240*'Sconti Export'!G240),'Sconti Export'!W$201*'Zone Export'!$V$14,('Sconti Export'!W240-('Sconti Export'!W240*'Sconti Export'!G240))*'Zone Export'!$V$14)","v":258.37},{"$f":"IF('Sconti Export'!X$201>'Sconti Export'!X240-('Sconti Export'!X240*'Sconti Export'!H240),'Sconti Export'!X$201*'Zone Export'!$V$14,('Sconti Export'!X240-('Sconti Export'!X240*'Sconti Export'!H240))*'Zone Export'!$V$14)","v":559.64999999999986},{"$f":"IF('Sconti Export'!Y$201>'Sconti Export'!Y240-('Sconti Export'!Y240*'Sconti Export'!I240),'Sconti Export'!Y$201*'Zone Export'!$V$14,('Sconti Export'!Y240-('Sconti Export'!Y240*'Sconti Export'!I240))*'Zone Export'!$V$14)","v":712.35}]
[null,"60 kg",{"$f":"IF('Sconti Export'!T$201>'Sconti Export'!T241-('Sconti Export'!T241*'Sconti Export'!D241),'Sconti Export'!T$201*'Zone Export'!$V$14,('Sconti Export'!T241-('Sconti Export'!T241*'Sconti Export'!D241))*'Zone Export'!$V$14)","v":616.78749999999991},{"$f":"IF('Sconti Export'!U$201>'Sconti Export'!U241-('Sconti Export'!U241*'Sconti Export'!E241),'Sconti Export'!U$201*'Zone Export'!$V$14,('Sconti Export'!U241-('Sconti Export'!U241*'Sconti Export'!E241))*'Zone Export'!$V$14)","v":181.78999999999996},{"$f":"IF('Sconti Export'!V$201>'Sconti Export'!V241-('Sconti Export'!V241*'Sconti Export'!F241),'Sconti Export'!V$201*'Zone Export'!$V$14,('Sconti Export'!V241-('Sconti Export'!V241*'Sconti Export'!F241))*'Zone Export'!$V$14)","v":265.94749999999999},{"$f":"IF('Sconti Export'!W$201>'Sconti Export'!W241-('Sconti Export'!W241*'Sconti Export'!G241),'Sconti Export'!W$201*'Zone Export'!$V$14,('Sconti Export'!W241-('Sconti Export'!W241*'Sconti Export'!G241))*'Zone Export'!$V$14)","v":267.10249999999996},{"$f":"IF('Sconti Export'!X$201>'Sconti Export'!X241-('Sconti Export'!X241*'Sconti Export'!H241),'Sconti Export'!X$201*'Zone Export'!$V$14,('Sconti Export'!X241-('Sconti Export'!X241*'Sconti Export'!H241))*'Zone Export'!$V$14)","v":598.97249999999985},{"$f":"IF('Sconti Export'!Y$201>'Sconti Export'!Y241-('Sconti Export'!Y241*'Sconti Export'!I241),'Sconti Export'!Y$201*'Zone Export'!$V$14,('Sconti Export'!Y241-('Sconti Export'!Y241*'Sconti Export'!I241))*'Zone Export'!$V$14)","v":757.15}]
[null,"65 kg",{"$f":"IF('Sconti Export'!T$201>'Sconti Export'!T242-('Sconti Export'!T242*'Sconti Export'!D242),'Sconti Export'!T$201*'Zone Export'!$V$14,('Sconti Export'!T242-('Sconti Export'!T242*'Sconti Export'!D242))*'Zone Export'!$V$14)","v":659.66249999999991},{"$f":"IF('Sconti Export'!U$201>'Sconti Export'!U242-('Sconti Export'!U242*'Sconti Export'!E242),'Sconti Export'!U$201*'Zone Export'!$V$14,('Sconti Export'!U242-('Sconti Export'!U242*'Sconti Export'!E242))*'Zone Export'!$V$14)","v":187.1275},{"$f":"IF('Sconti Export'!V$201>'Sconti Export'!V242-('Sconti Export'!V242*'Sconti Export'!F242),'Sconti Export'!V$201*'Zone Export'!$V$14,('Sconti Export'!V242-('Sconti Export'!V242*'Sconti Export'!F242))*'Zone Export'!$V$14)","v":274.57499999999999},{"$f":"IF('Sconti Export'!W$201>'Sconti Export'!W242-('Sconti Export'!W242*'Sconti Export'!G242),'Sconti Export'!W$201*'Zone Export'!$V$14,('Sconti Export'!W242-('Sconti Export'!W242*'Sconti Export'!G242))*'Zone Export'!$V$14)","v":275.8175},{"$f":"IF('Sconti Export'!X$201>'Sconti Export'!X242-('Sconti Export'!X242*'Sconti Export'!H242),'Sconti Export'!X$201*'Zone Export'!$V$14,('Sconti Export'!X242-('Sconti Export'!X242*'Sconti Export'!H242))*'Zone Export'!$V$14)","v":638.29500000000007},{"$f":"IF('Sconti Export'!Y$201>'Sconti Export'!Y242-('Sconti Export'!Y242*'Sconti Export'!I242),'Sconti Export'!Y$201*'Zone Export'!$V$14,('Sconti Export'!Y242-('Sconti Export'!Y242*'Sconti Export'!I242))*'Zone Export'!$V$14)","v":801.95}]
[null,"70 kg",{"$f":"IF('Sconti Export'!T$201>'Sconti Export'!T243-('Sconti Export'!T243*'Sconti Export'!D243),'Sconti Export'!T$201*'Zone Export'!$V$14,('Sconti Export'!T243-('Sconti Export'!T243*'Sconti Export'!D243))*'Zone Export'!$V$14)","v":702.50250000000005},{"$f":"IF('Sconti Export'!U$201>'Sconti Export'!U243-('Sconti Export'!U243*'Sconti Export'!E243),'Sconti Export'!U$201*'Zone Export'!$V$14,('Sconti Export'!U243-('Sconti Export'!U243*'Sconti Export'!E243))*'Zone Export'!$V$14)","v":192.42999999999995},{"$f":"IF('Sconti Export'!V$201>'Sconti Export'!V243-('Sconti Export'!V243*'Sconti Export'!F243),'Sconti Export'!V$201*'Zone Export'!$V$14,('Sconti Export'!V243-('Sconti Export'!V243*'Sconti Export'!F243))*'Zone Export'!$V$14)","v":283.23749999999995},{"$f":"IF('Sconti Export'!W$201>'Sconti Export'!W243-('Sconti Export'!W243*'Sconti Export'!G243),'Sconti Export'!W$201*'Zone Export'!$V$14,('Sconti Export'!W243-('Sconti Export'!W243*'Sconti Export'!G243))*'Zone Export'!$V$14)","v":284.60249999999996},{"$f":"IF('Sconti Export'!X$201>'Sconti Export'!X243-('Sconti Export'!X243*'Sconti Export'!H243),'Sconti Export'!X$201*'Zone Export'!$V$14,('Sconti Export'!X243-('Sconti Export'!X243*'Sconti Export'!H243))*'Zone Export'!$V$14)","v":677.61749999999984},{"$f":"IF('Sconti Export'!Y$201>'Sconti Export'!Y243-('Sconti Export'!Y243*'Sconti Export'!I243),'Sconti Export'!Y$201*'Zone Export'!$V$14,('Sconti Export'!Y243-('Sconti Export'!Y243*'Sconti Export'!I243))*'Zone Export'!$V$14)","v":846.8}]
[null,"Oltre 70 Kg"]
[null,"Prezzo al Kg",{"$f":"('Sconti Export'!T245-('Sconti Export'!T245*'Sconti Export'!D245))*'Zone Export'!$V$14","v":10.034500000000001},{"$f":"('Sconti Export'!U245-('Sconti Export'!U245*'Sconti Export'!E245))*'Zone Export'!$V$14","v":2.7474999999999996},{"$f":"('Sconti Export'!V245-('Sconti Export'!V245*'Sconti Export'!F245))*'Zone Export'!$V$14","v":4.0460000000000003},{"$f":"('Sconti Export'!W245-('Sconti Export'!W245*'Sconti Export'!G245))*'Zone Export'!$V$14","v":4.0634999999999994},{"$f":"('Sconti Export'!X245-('Sconti Export'!X245*'Sconti Export'!H245))*'Zone Export'!$V$14","v":9.6774999999999984},{"$f":"('Sconti Export'!Y245-('Sconti Export'!Y245*'Sconti Export'!I245))*'Zone Export'!$V$14","v":12.09}]
[null,"Tariffa Minima",{"$f":"('Sconti Export'!T246-('Sconti Export'!T246*'Sconti Export'!D246))*'Zone Export'!$V$14","v":702.50250000000005},{"$f":"('Sconti Export'!U246-('Sconti Export'!U246*'Sconti Export'!E246))*'Zone Export'!$V$14","v":192.42999999999995},{"$f":"('Sconti Export'!V246-('Sconti Export'!V246*'Sconti Export'!F246))*'Zone Export'!$V$14","v":283.23749999999995},{"$f":"('Sconti Export'!W246-('Sconti Export'!W246*'Sconti Export'!G246))*'Zone Export'!$V$14","v":284.60249999999996},{"$f":"('Sconti Export'!X246-('Sconti Export'!X246*'Sconti Export'!H246))*'Zone Export'!$V$14","v":677.61749999999984},{"$f":"('Sconti Export'!Y246-('Sconti Export'!Y246*'Sconti Export'!I246))*'Zone Export'!$V$14","v":846.8}]

{"sheet":"Express Freight","index":12,"n_rows":19,"n_cols":14,"rows_kept":19,"cut":false,"hidden":false,"merged":[[8,13,8,16],[5,1,6,17],[7,1,7,17],[11,1,11,2],[10,3,10,6],[10,1,10,2],[10,13,10,17],[10,7,10,12],[17,1,17,2],[18,1,18,2],[13,1,13,2],[14,1,14,2],[15,1,15,2],[16,1,16,2]]}
[]
[]
[]
[]
[]
[]
[]
[null,"* Per ulteriori dettagli su Garanzie di Rimborso, Copertura Servizi e Condizioni contattare il Numero 02 30 30 30 39 o consultare il sito www.ups.com"]
[null,null,null,null,null,null,null,null,null,"Spettabile",null,null,null,{"$f":"+Cover!$C$2","v":"GLOCAL WEB"}]
[]
[null,"€",null,"Unione Europea",null,null,null,"Resto del Mondo"]
[null,"Zona",null,2,3,4,41,5,8,9,10,11,12]
[null,"Peso"]
[null,"Fino a 70 kg",null,{"$f":"('Sconti Export'!R329-('Sconti Export'!R329*'Sconti Export'!C329))*'Zone Export'!$V$14","v":663.15},{"$f":"('Sconti Export'!S329-('Sconti Export'!S329*'Sconti Export'!D329))*'Zone Export'!$V$14","v":724.2},{"$f":"('Sconti Export'!T329-('Sconti Export'!T329*'Sconti Export'!E329))*'Zone Export'!$V$14","v":768.95},{"$f":"('Sconti Export'!U329-('Sconti Export'!U329*'Sconti Export'!F329))*'Zone Export'!$V$14","v":1994.4},{"$f":"('Sconti Export'!V329-('Sconti Export'!V329*'Sconti Export'!G329))*'Zone Export'!$V$14","v":695.8},{"$f":"('Sconti Export'!W329-('Sconti Export'!W329*'Sconti Export'!H329))*'Zone Export'!$V$14","v":1268.0999999999999},{"$f":"('Sconti Export'!X329-('Sconti Export'!X329*'Sconti Export'!I329))*'Zone Export'!$V$14","v":1822.6},{"$f":"('Sconti Export'!Y329-('Sconti Export'!Y329*'Sconti Export'!J329))*'Zone Export'!$V$14","v":1897.85},{"$f":"('Sconti Export'!Z329-('Sconti Export'!Z329*'Sconti Export'!K329))*'Zone Export'!$V$14","v":2066.85},{"$f":"('Sconti Export'!AA329-('Sconti Export'!AA329*'Sconti Export'!L329))*'Zone Export'!$V$14","v":903.85}]
[null,"Prezzo al Kg fino a 99.0",null,{"$f":"('Sconti Export'!R330-('Sconti Export'!R330*'Sconti Export'!C330))*'Zone Export'!$V$14","v":9.35},{"$f":"('Sconti Export'!S330-('Sconti Export'!S330*'Sconti Export'!D330))*'Zone Export'!$V$14","v":10.210000000000001},{"$f":"('Sconti Export'!T330-('Sconti Export'!T330*'Sconti Export'!E330))*'Zone Export'!$V$14","v":10.84},{"$f":"('Sconti Export'!U330-('Sconti Export'!U330*'Sconti Export'!F330))*'Zone Export'!$V$14","v":28.09},{"$f":"('Sconti Export'!V330-('Sconti Export'!V330*'Sconti Export'!G330))*'Zone Export'!$V$14","v":9.8000000000000007},{"$f":"('Sconti Export'!W330-('Sconti Export'!W330*'Sconti Export'!H330))*'Zone Export'!$V$14","v":17.86},{"$f":"('Sconti Export'!X330-('Sconti Export'!X330*'Sconti Export'!I330))*'Zone Export'!$V$14","v":25.68},{"$f":"('Sconti Export'!Y330-('Sconti Export'!Y330*'Sconti Export'!J330))*'Zone Export'!$V$14","v":26.73},{"$f":"('Sconti Export'!Z330-('Sconti Export'!Z330*'Sconti Export'!K330))*'Zone Export'!$V$14","v":29.11},{"$f":"('Sconti Export'!AA330-('Sconti Export'!AA330*'Sconti Export'!L330))*'Zone Export'!$V$14","v":12.73}]
[null,"Prezzo al Kg fino a 299.0",null,{"$f":"('Sconti Export'!R331-('Sconti Export'!R331*'Sconti Export'!C331))*'Zone Export'!$V$14","v":7.24},{"$f":"('Sconti Export'!S331-('Sconti Export'!S331*'Sconti Export'!D331))*'Zone Export'!$V$14","v":7.88},{"$f":"('Sconti Export'!T331-('Sconti Export'!T331*'Sconti Export'!E331))*'Zone Export'!$V$14","v":9.19},{"$f":"('Sconti Export'!U331-('Sconti Export'!U331*'Sconti Export'!F331))*'Zone Export'!$V$14","v":26.95},{"$f":"('Sconti Export'!V331-('Sconti Export'!V331*'Sconti Export'!G331))*'Zone Export'!$V$14","v":9.16},{"$f":"('Sconti Export'!W331-('Sconti Export'!W331*'Sconti Export'!H331))*'Zone Export'!$V$14","v":16.95},{"$f":"('Sconti Export'!X331-('Sconti Export'!X331*'Sconti Export'!I331))*'Zone Export'!$V$14","v":23.63},{"$f":"('Sconti Export'!Y331-('Sconti Export'!Y331*'Sconti Export'!J331))*'Zone Export'!$V$14","v":26.19},{"$f":"('Sconti Export'!Z331-('Sconti Export'!Z331*'Sconti Export'!K331))*'Zone Export'!$V$14","v":28.52},{"$f":"('Sconti Export'!AA331-('Sconti Export'!AA331*'Sconti Export'!L331))*'Zone Export'!$V$14","v":12.47}]
[null,"Prezzo al Kg fino a 499.0",null,{"$f":"('Sconti Export'!R332-('Sconti Export'!R332*'Sconti Export'!C332))*'Zone Export'!$V$14","v":6.5},{"$f":"('Sconti Export'!S332-('Sconti Export'!S332*'Sconti Export'!D332))*'Zone Export'!$V$14","v":7.09},{"$f":"('Sconti Export'!T332-('Sconti Export'!T332*'Sconti Export'!E332))*'Zone Export'!$V$14","v":8.34},{"$f":"('Sconti Export'!U332-('Sconti Export'!U332*'Sconti Export'!F332))*'Zone Export'!$V$14","v":25.84},{"$f":"('Sconti Export'!V332-('Sconti Export'!V332*'Sconti Export'!G332))*'Zone Export'!$V$14","v":7.73},{"$f":"('Sconti Export'!W332-('Sconti Export'!W332*'Sconti Export'!H332))*'Zone Export'!$V$14","v":16.100000000000001},{"$f":"('Sconti Export'!X332-('Sconti Export'!X332*'Sconti Export'!I332))*'Zone Export'!$V$14","v":21.39},{"$f":"('Sconti Export'!Y332-('Sconti Export'!Y332*'Sconti Export'!J332))*'Zone Export'!$V$14","v":25.66},{"$f":"('Sconti Export'!Z332-('Sconti Export'!Z332*'Sconti Export'!K332))*'Zone Export'!$V$14","v":27.94},{"$f":"('Sconti Export'!AA332-('Sconti Export'!AA332*'Sconti Export'!L332))*'Zone Export'!$V$14","v":12.22}]
[null,"Prezzo al Kg fino a 999.0",null,{"$f":"('Sconti Export'!R333-('Sconti Export'!R333*'Sconti Export'!C333))*'Zone Export'!$V$14","v":5.86},{"$f":"('Sconti Export'!S333-('Sconti Export'!S333*'Sconti Export'!D333))*'Zone Export'!$V$14","v":6.4},{"$f":"('Sconti Export'!T333-('Sconti Export'!T333*'Sconti Export'!E333))*'Zone Export'!$V$14","v":7.3},{"$f":"('Sconti Export'!U333-('Sconti Export'!U333*'Sconti Export'!F333))*'Zone Export'!$V$14","v":25.72},{"$f":"('Sconti Export'!V333-('Sconti Export'!V333*'Sconti Export'!G333))*'Zone Export'!$V$14","v":7.35},{"$f":"('Sconti Export'!W333-('Sconti Export'!W333*'Sconti Export'!H333))*'Zone Export'!$V$14","v":15.7},{"$f":"('Sconti Export'!X333-('Sconti Export'!X333*'Sconti Export'!I333))*'Zone Export'!$V$14","v":20.95},{"$f":"('Sconti Export'!Y333-('Sconti Export'!Y333*'Sconti Export'!J333))*'Zone Export'!$V$14","v":25.14},{"$f":"('Sconti Export'!Z333-('Sconti Export'!Z333*'Sconti Export'!K333))*'Zone Export'!$V$14","v":27.38},{"$f":"('Sconti Export'!AA333-('Sconti Export'!AA333*'Sconti Export'!L333))*'Zone Export'!$V$14","v":11.97}]
[null,"Prezzo al Kg oltre i 999.0",null,{"$f":"('Sconti Export'!R334-('Sconti Export'!R334*'Sconti Export'!C334))*'Zone Export'!$V$14","v":5.4},{"$f":"('Sconti Export'!S334-('Sconti Export'!S334*'Sconti Export'!D334))*'Zone Export'!$V$14","v":5.89},{"$f":"('Sconti Export'!T334-('Sconti Export'!T334*'Sconti Export'!E334))*'Zone Export'!$V$14","v":6.94},{"$f":"('Sconti Export'!U334-('Sconti Export'!U334*'Sconti Export'!F334))*'Zone Export'!$V$14","v":25.09},{"$f":"('Sconti Export'!V334-('Sconti Export'!V334*'Sconti Export'!G334))*'Zone Export'!$V$14","v":7.09},{"$f":"('Sconti Export'!W334-('Sconti Export'!W334*'Sconti Export'!H334))*'Zone Export'!$V$14","v":15.33},{"$f":"('Sconti Export'!X334-('Sconti Export'!X334*'Sconti Export'!I334))*'Zone Export'!$V$14","v":19.920000000000002},{"$f":"('Sconti Export'!Y334-('Sconti Export'!Y334*'Sconti Export'!J334))*'Zone Export'!$V$14","v":24.63},{"$f":"('Sconti Export'!Z334-('Sconti Export'!Z334*'Sconti Export'!K334))*'Zone Export'!$V$14","v":26.83},{"$f":"('Sconti Export'!AA334-('Sconti Export'!AA334*'Sconti Export'!L334))*'Zone Export'!$V$14","v":11.73}]

{"sheet":"Express Plus Import","index":13,"n_rows":76,"n_cols":17,"rows_kept":76,"cut":false,"hidden":false,"merged":[[11,16,11,18],[7,1,7,13],[11,3,11,6],[11,1,11,2],[27,3,27,6],[11,9,11,14],[27,9,27,14],[12,1,12,2],[5,1,5,13],[6,1,6,13],[28,1,28,2],[14,1,19,1],[27,1,27,2],[67,37,75,53],[12,37,17,53],[60,37,64,53],[51,37,57,53],[43,37,43,40],[42,42,43,52],[32,37,38,53]]}
[]
[]
[]
[]
[]
[]
[]
[null,"Per ulteriori dettagli su Garanzie di Rimborso, Copertura Servizi e Condizioni contattare il Numero 02 30 30 30 39 o visitare il sito www.ups.com"]
[]
[null,null,null,null,null,null,null,null,null,null,null,null,null,null,null,"Spettabile"]
[]
[null,"€",null,"Unione Europea",null,null,null,null,"Resto dell'Europa","Resto del Mondo",null,null,null,null,null,null,{"$f":"+Cover!$C$2","v":"GLOCAL WEB"}]
[null,"Zona",null,2,3,4,41,42,5,6,7,8,81,9,10]
[null,"Envelope",null,{"$f":"('Sconti Import'!S307-('Sconti Import'!S307*'Sconti Import'!D307))*'Zone Export'!$V$14","v":102.9},{"$f":"('Sconti Import'!T307-('Sconti Import'!T307*'Sconti Import'!E307))*'Zone Export'!$V$14","v":111.65},{"$f":"('Sconti Import'!U307-('Sconti Import'!U307*'Sconti Import'!F307))*'Zone Export'!$V$14","v":127.75},{"$f":"('Sconti Import'!V307-('Sconti Import'!V307*'Sconti Import'!G307))*'Zone Export'!$V$14","v":101},{"$f":"('Sconti Import'!W307-('Sconti Import'!W307*'Sconti Import'!H307))*'Zone Export'!$V$14","v":101.05},{"$f":"('Sconti Import'!X307-('Sconti Import'!X307*'Sconti Import'!I307))*'Zone Export'!$V$14","v":111.25},{"$f":"('Sconti Import'!Y307-('Sconti Import'!Y307*'Sconti Import'!J307))*'Zone Export'!$V$14","v":121.05},{"$f":"('Sconti Import'!Z307-('Sconti Import'!Z307*'Sconti Import'!K307))*'Zone Export'!$V$14","v":98.9},{"$f":"('Sconti Import'!AA307-('Sconti Import'!AA307*'Sconti Import'!L307))*'Zone Export'!$V$14","v":107.15},{"$f":"('Sconti Import'!AB307-('Sconti Import'!AB307*'Sconti Import'!M307))*'Zone Export'!$V$14","v":107.1},{"$f":"('Sconti Import'!AC307-('Sconti Import'!AC307*'Sconti Import'!N307))*'Zone Export'!$V$14","v":109.45},{"$f":"('Sconti Import'!AD307-('Sconti Import'!AD307*'Sconti Import'!O307))*'Zone Export'!$V$14","v":115.6}]
[null,"Documenti","Peso"]
[null,null,"0,5 kg",{"$f":"('Sconti Import'!S309-('Sconti Import'!S309*'Sconti Import'!D309))*'Zone Export'!$V$14","v":127.25},{"$f":"('Sconti Import'!T309-('Sconti Import'!T309*'Sconti Import'!E309))*'Zone Export'!$V$14","v":127.8},{"$f":"('Sconti Import'!U309-('Sconti Import'!U309*'Sconti Import'!F309))*'Zone Export'!$V$14","v":157.80000000000001},{"$f":"('Sconti Import'!V309-('Sconti Import'!V309*'Sconti Import'!G309))*'Zone Export'!$V$14","v":147.9},{"$f":"('Sconti Import'!W309-('Sconti Import'!W309*'Sconti Import'!H309))*'Zone Export'!$V$14","v":147.94999999999999},{"$f":"('Sconti Import'!X309-('Sconti Import'!X309*'Sconti Import'!I309))*'Zone Export'!$V$14","v":148},{"$f":"('Sconti Import'!Y309-('Sconti Import'!Y309*'Sconti Import'!J309))*'Zone Export'!$V$14","v":148.05000000000001},{"$f":"('Sconti Import'!Z309-('Sconti Import'!Z309*'Sconti Import'!K309))*'Zone Export'!$V$14","v":115.6},{"$f":"('Sconti Import'!AA309-('Sconti Import'!AA309*'Sconti Import'!L309))*'Zone Export'!$V$14","v":123.7},{"$f":"('Sconti Import'!AB309-('Sconti Import'!AB309*'Sconti Import'!M309))*'Zone Export'!$V$14","v":123.65},{"$f":"('Sconti Import'!AC309-('Sconti Import'!AC309*'Sconti Import'!N309))*'Zone Export'!$V$14","v":147.25},{"$f":"('Sconti Import'!AD309-('Sconti Import'!AD309*'Sconti Import'!O309))*'Zone Export'!$V$14","v":153.6}]
[null,null,"1,0 kg",{"$f":"'Sconti Import'!S310-('Sconti Import'!S310*'Sconti Import'!D310)","v":136.5},{"$f":"'Sconti Import'!T310-('Sconti Import'!T310*'Sconti Import'!E310)","v":139.55000000000001},{"$f":"'Sconti Import'!U310-('Sconti Import'!U310*'Sconti Import'!F310)","v":174},{"$f":"'Sconti Import'!V310-('Sconti Import'!V310*'Sconti Import'!G310)","v":158.80000000000001},{"$f":"'Sconti Import'!W310-('Sconti Import'!W310*'Sconti Import'!H310)","v":158.85},{"$f":"'Sconti Import'!X310-('Sconti Import'!X310*'Sconti Import'!I310)","v":158.9},{"$f":"'Sconti Import'!Y310-('Sconti Import'!Y310*'Sconti Import'!J310)","v":158.94999999999999},{"$f":"'Sconti Import'!Z310-('Sconti Import'!Z310*'Sconti Import'!K310)","v":127.45},{"$f":"'Sconti Import'!AA310-('Sconti Import'!AA310*'Sconti Import'!L310)","v":136.69999999999999},{"$f":"'Sconti Import'!AB310-('Sconti Import'!AB310*'Sconti Import'!M310)","v":136.65},{"$f":"'Sconti Import'!AC310-('Sconti Import'!AC310*'Sconti Import'!N310)","v":162.05000000000001},{"$f":"'Sconti Import'!AD310-('Sconti Import'!AD310*'Sconti Import'!O310)","v":169.05}]
[null,null,"1,5 kg",{"$f":"'Sconti Import'!S311-('Sconti Import'!S311*'Sconti Import'!D311)","v":145.80000000000001},{"$f":"'Sconti Import'!T311-('Sconti Import'!T311*'Sconti Import'!E311)","v":151.19999999999999},{"$f":"'Sconti Import'!U311-('Sconti Import'!U311*'Sconti Import'!F311)","v":190.2},{"$f":"'Sconti Import'!V311-('Sconti Import'!V311*'Sconti Import'!G311)","v":169.7},{"$f":"'Sconti Import'!W311-('Sconti Import'!W311*'Sconti Import'!H311)","v":169.75},{"$f":"'Sconti Import'!X311-('Sconti Import'!X311*'Sconti Import'!I311)","v":169.8},{"$f":"'Sconti Import'!Y311-('Sconti Import'!Y311*'Sconti Import'!J311)","v":170.5},{"$f":"'Sconti Import'!Z311-('Sconti Import'!Z311*'Sconti Import'!K311)","v":139.15},{"$f":"'Sconti Import'!AA311-('Sconti Import'!AA311*'Sconti Import'!L311)","v":149.80000000000001},{"$f":"'Sconti Import'!AB311-('Sconti Import'!AB311*'Sconti Import'!M311)","v":149.75},{"$f":"'Sconti Import'!AC311-('Sconti Import'!AC311*'Sconti Import'!N311)","v":176.95},{"$f":"'Sconti Import'!AD311-('Sconti Import'!AD311*'Sconti Import'!O311)","v":184.65}]
[null,null,"2,0 kg",{"$f":"'Sconti Import'!S312-('Sconti Import'!S312*'Sconti Import'!D312)","v":155.05000000000001},{"$f":"'Sconti Import'!T312-('Sconti Import'!T312*'Sconti Import'!E312)","v":162.9},{"$f":"'Sconti Import'!U312-('Sconti Import'!U312*'Sconti Import'!F312)","v":206.45},{"$f":"'Sconti Import'!V312-('Sconti Import'!V312*'Sconti Import'!G312)","v":180.6},{"$f":"'Sconti Import'!W312-('Sconti Import'!W312*'Sconti Import'!H312)","v":180.65},{"$f":"'Sconti Import'!X312-('Sconti Import'!X312*'Sconti Import'!I312)","v":180.7},{"$f":"'Sconti Import'!Y312-('Sconti Import'!Y312*'Sconti Import'!J312)","v":187},{"$f":"'Sconti Import'!Z312-('Sconti Import'!Z312*'Sconti Import'!K312)","v":150.94999999999999},{"$f":"'Sconti Import'!AA312-('Sconti Import'!AA312*'Sconti Import'!L312)","v":163},{"$f":"'Sconti Import'!AB312-('Sconti Import'!AB312*'Sconti Import'!M312)","v":162.35},{"$f":"'Sconti Import'!AC312-('Sconti Import'!AC312*'Sconti Import'!N312)","v":191.6},{"$f":"'Sconti Import'!AD312-('Sconti Import'!AD312*'Sconti Import'!O312)","v":200}]
[null,null,"2,5 kg",{"$f":"'Sconti Import'!S313-('Sconti Import'!S313*'Sconti Import'!D313)","v":164.4},{"$f":"'Sconti Import'!T313-('Sconti Import'!T313*'Sconti Import'!E313)","v":174.65},{"$f":"'Sconti Import'!U313-('Sconti Import'!U313*'Sconti Import'!F313)","v":222.5},{"$f":"'Sconti Import'!V313-('Sconti Import'!V313*'Sconti Import'!G313)","v":191.55},{"$f":"'Sconti Import'!W313-('Sconti Import'!W313*'Sconti Import'!H313)","v":191.6},{"$f":"'Sconti Import'!X313-('Sconti Import'!X313*'Sconti Import'!I313)","v":191.65},{"$f":"'Sconti Import'!Y313-('Sconti Import'!Y313*'Sconti Import'!J313)","v":203.65},{"$f":"'Sconti Import'!Z313-('Sconti Import'!Z313*'Sconti Import'!K313)","v":162.75},{"$f":"'Sconti Import'!AA313-('Sconti Import'!AA313*'Sconti Import'!L313)","v":176.25},{"$f":"'Sconti Import'!AB313-('Sconti Import'!AB313*'Sconti Import'!M313)","v":175.4},{"$f":"'Sconti Import'!AC313-('Sconti Import'!AC313*'Sconti Import'!N313)","v":206.4},{"$f":"'Sconti Import'!AD313-('Sconti Import'!AD313*'Sconti Import'!O313)","v":215.55}]
[]
[]
[]
[]
[]
[]
[]
[null,"€",null,"Unione Europea",null,null,null,null,"Resto dell'Europa","Resto del Mondo"]
[null,"Zona",null,2,3,4,41,42,5,6,7,8,81,9,10]
[null,"Peso"]
[null,"0,5 kg",null,{"$f":"('Sconti Import'!S256-('Sconti Import'!S256*'Sconti Import'!D256))*'Zone Export'!$V$14","v":127.25},{"$f":"('Sconti Import'!T256-('Sconti Import'!T256*'Sconti Import'!E256))*'Zone Export'!$V$14","v":127.8},{"$f":"('Sconti Import'!U256-('Sconti Import'!U256*'Sconti Import'!F256))*'Zone Export'!$V$14","v":157.80000000000001},{"$f":"('Sconti Import'!V256-('Sconti Import'!V256*'Sconti Import'!G256))*'Zone Export'!$V$14","v":147.9},{"$f":"('Sconti Import'!W256-('Sconti Import'!W256*'Sconti Import'!H256))*'Zone Export'!$V$14","v":147.94999999999999},{"$f":"('Sconti Import'!X256-('Sconti Import'!X256*'Sconti Import'!I256))*'Zone Export'!$V$14","v":179.2},{"$f":"('Sconti Import'!Y256-('Sconti Import'!Y256*'Sconti Import'!J256))*'Zone Export'!$V$14","v":179.25},{"$f":"('Sconti Import'!Z256-('Sconti Import'!Z256*'Sconti Import'!K256))*'Zone Export'!$V$14","v":120.45},{"$f":"('Sconti Import'!AA256-('Sconti Import'!AA256*'Sconti Import'!L256))*'Zone Export'!$V$14","v":131.85},{"$f":"('Sconti Import'!AB256-('Sconti Import'!AB256*'Sconti Import'!M256))*'Zone Export'!$V$14","v":131.55000000000001},{"$f":"('Sconti Import'!AC256-('Sconti Import'!AC256*'Sconti Import'!N256))*'Zone Export'!$V$14","v":166.7},{"$f":"('Sconti Import'!AD256-('Sconti Import'!AD256*'Sconti Import'!O256))*'Zone Export'!$V$14","v":172.6}]
[null,"1,0 kg",null,{"$f":"('Sconti Import'!S257-('Sconti Import'!S257*'Sconti Import'!D257))*'Zone Export'!$V$14","v":136.5},{"$f":"('Sconti Import'!T257-('Sconti Import'!T257*'Sconti Import'!E257))*'Zone Export'!$V$14","v":139.55000000000001},{"$f":"('Sconti Import'!U257-('Sconti Import'!U257*'Sconti Import'!F257))*'Zone Export'!$V$14","v":174},{"$f":"('Sconti Import'!V257-('Sconti Import'!V257*'Sconti Import'!G257))*'Zone Export'!$V$14","v":158.80000000000001},{"$f":"('Sconti Import'!W257-('Sconti Import'!W257*'Sconti Import'!H257))*'Zone Export'!$V$14","v":158.85},{"$f":"('Sconti Import'!X257-('Sconti Import'!X257*'Sconti Import'!I257))*'Zone Export'!$V$14","v":190.2},{"$f":"('Sconti Import'!Y257-('Sconti Import'!Y257*'Sconti Import'!J257))*'Zone Export'!$V$14","v":190.25},{"$f":"('Sconti Import'!Z257-('Sconti Import'!Z257*'Sconti Import'!K257))*'Zone Export'!$V$14","v":132.25},{"$f":"('Sconti Import'!AA257-('Sconti Import'!AA257*'Sconti Import'!L257))*'Zone Export'!$V$14","v":145},{"$f":"('Sconti Import'!AB257-('Sconti Import'!AB257*'Sconti Import'!M257))*'Zone Export'!$V$14","v":144.75},{"$f":"('Sconti Import'!AC257-('Sconti Import'!AC257*'Sconti Import'!N257))*'Zone Export'!$V$14","v":181.05},{"$f":"('Sconti Import'!AD257-('Sconti Import'!AD257*'Sconti Import'!O257))*'Zone Export'!$V$14","v":188}]
[null,"1,5 kg",null,{"$f":"('Sconti Import'!S258-('Sconti Import'!S258*'Sconti Import'!D258))*'Zone Export'!$V$14","v":145.80000000000001},{"$f":"('Sconti Import'!T258-('Sconti Import'!T258*'Sconti Import'!E258))*'Zone Export'!$V$14","v":151.19999999999999},{"$f":"('Sconti Import'!U258-('Sconti Import'!U258*'Sconti Import'!F258))*'Zone Export'!$V$14","v":190.2},{"$f":"('Sconti Import'!V258-('Sconti Import'!V258*'Sconti Import'!G258))*'Zone Export'!$V$14","v":169.7},{"$f":"('Sconti Import'!W258-('Sconti Import'!W258*'Sconti Import'!H258))*'Zone Export'!$V$14","v":169.75},{"$f":"('Sconti Import'!X258-('Sconti Import'!X258*'Sconti Import'!I258))*'Zone Export'!$V$14","v":200.8},{"$f":"('Sconti Import'!Y258-('Sconti Import'!Y258*'Sconti Import'!J258))*'Zone Export'!$V$14","v":200.85},{"$f":"('Sconti Import'!Z258-('Sconti Import'!Z258*'Sconti Import'!K258))*'Zone Export'!$V$14","v":144},{"$f":"('Sconti Import'!AA258-('Sconti Import'!AA258*'Sconti Import'!L258))*'Zone Export'!$V$14","v":158.30000000000001},{"$f":"('Sconti Import'!AB258-('Sconti Import'!AB258*'Sconti Import'!M258))*'Zone Export'!$V$14","v":157.85},{"$f":"('Sconti Import'!AC258-('Sconti Import'!AC258*'Sconti Import'!N258))*'Zone Export'!$V$14","v":195.65},{"$f":"('Sconti Import'!AD258-('Sconti Import'!AD258*'Sconti Import'!O258))*'Zone Export'!$V$14","v":203.4}]
[null,"2,0 kg",null,{"$f":"('Sconti Import'!S259-('Sconti Import'!S259*'Sconti Import'!D259))*'Zone Export'!$V$14","v":155.05000000000001},{"$f":"('Sconti Import'!T259-('Sconti Import'!T259*'Sconti Import'!E259))*'Zone Export'!$V$14","v":162.9},{"$f":"('Sconti Import'!U259-('Sconti Import'!U259*'Sconti Import'!F259))*'Zone Export'!$V$14","v":206.45},{"$f":"('Sconti Import'!V259-('Sconti Import'!V259*'Sconti Import'!G259))*'Zone Export'!$V$14","v":180.6},{"$f":"('Sconti Import'!W259-('Sconti Import'!W259*'Sconti Import'!H259))*'Zone Export'!$V$14","v":180.65},{"$f":"('Sconti Import'!X259-('Sconti Import'!X259*'Sconti Import'!I259))*'Zone Export'!$V$14","v":212.9},{"$f":"('Sconti Import'!Y259-('Sconti Import'!Y259*'Sconti Import'!J259))*'Zone Export'!$V$14","v":215.25},{"$f":"('Sconti Import'!Z259-('Sconti Import'!Z259*'Sconti Import'!K259))*'Zone Export'!$V$14","v":155.75},{"$f":"('Sconti Import'!AA259-('Sconti Import'!AA259*'Sconti Import'!L259))*'Zone Export'!$V$14","v":171.55},{"$f":"('Sconti Import'!AB259-('Sconti Import'!AB259*'Sconti Import'!M259))*'Zone Export'!$V$14","v":170.5},{"$f":"('Sconti Import'!AC259-('Sconti Import'!AC259*'Sconti Import'!N259))*'Zone Export'!$V$14","v":210.15},{"$f":"('Sconti Import'!AD259-('Sconti Import'!AD259*'Sconti Import'!O259))*'Zone Export'!$V$14","v":218.55}]
[null,"2,5 kg",null,{"$f":"('Sconti Import'!S260-('Sconti Import'!S260*'Sconti Import'!D260))*'Zone Export'!$V$14","v":164.4},{"$f":"('Sconti Import'!T260-('Sconti Import'!T260*'Sconti Import'!E260))*'Zone Export'!$V$14","v":174.65},{"$f":"('Sconti Import'!U260-('Sconti Import'!U260*'Sconti Import'!F260))*'Zone Export'!$V$14","v":222.5},{"$f":"('Sconti Import'!V260-('Sconti Import'!V260*'Sconti Import'!G260))*'Zone Export'!$V$14","v":191.55},{"$f":"('Sconti Import'!W260-('Sconti Import'!W260*'Sconti Import'!H260))*'Zone Export'!$V$14","v":191.6},{"$f":"('Sconti Import'!X260-('Sconti Import'!X260*'Sconti Import'!I260))*'Zone Export'!$V$14","v":224},{"$f":"('Sconti Import'!Y260-('Sconti Import'!Y260*'Sconti Import'!J260))*'Zone Export'!$V$14","v":232},{"$f":"('Sconti Import'!Z260-('Sconti Import'!Z260*'Sconti Import'!K260))*'Zone Export'!$V$14","v":167.6},{"$f":"('Sconti Import'!AA260-('Sconti Import'!AA260*'Sconti Import'!L260))*'Zone Export'!$V$14","v":184.9},{"$f":"('Sconti Import'!AB260-('Sconti Import'!AB260*'Sconti Import'!M260))*'Zone Export'!$V$14","v":183.7},{"$f":"('Sconti Import'!AC260-('Sconti Import'!AC260*'Sconti Import'!N260))*'Zone Export'!$V$14","v":224.6},{"$f":"('Sconti Import'!AD260-('Sconti Import'!AD260*'Sconti Import'!O260))*'Zone Export'!$V$14","v":233.8}]
[null,"3,0 kg",null,{"$f":"('Sconti Import'!S261-('Sconti Import'!S261*'Sconti Import'!D261))*'Zone Export'!$V$14","v":169.2},{"$f":"('Sconti Import'!T261-('Sconti Import'!T261*'Sconti Import'!E261))*'Zone Export'!$V$14","v":183.15},{"$f":"('Sconti Import'!U261-('Sconti Import'!U261*'Sconti Import'!F261))*'Zone Export'!$V$14","v":234.15},{"$f":"('Sconti Import'!V261-('Sconti Import'!V261*'Sconti Import'!G261))*'Zone Export'!$V$14","v":199.1},{"$f":"('Sconti Import'!W261-('Sconti Import'!W261*'Sconti Import'!H261))*'Zone Export'!$V$14","v":199.15},{"$f":"('Sconti Import'!X261-('Sconti Import'!X261*'Sconti Import'!I261))*'Zone Export'!$V$14","v":224.85},{"$f":"('Sconti Import'!Y261-('Sconti Import'!Y261*'Sconti Import'!J261))*'Zone Export'!$V$14","v":243.9},{"$f":"('Sconti Import'!Z261-('Sconti Import'!Z261*'Sconti Import'!K261))*'Zone Export'!$V$14","v":175.15},{"$f":"('Sconti Import'!AA261-('Sconti Import'!AA261*'Sconti Import'!L261))*'Zone Export'!$V$14","v":195},{"$f":"('Sconti Import'!AB261-('Sconti Import'!AB261*'Sconti Import'!M261))*'Zone Export'!$V$14","v":193.75},{"$f":"('Sconti Import'!AC261-('Sconti Import'!AC261*'Sconti Import'!N261))*'Zone Export'!$V$14","v":238.95},{"$f":"('Sconti Import'!AD261-('Sconti Import'!AD261*'Sconti Import'!O261))*'Zone Export'!$V$14","v":249.5}]
[null,"3,5 kg",null,{"$f":"('Sconti Import'!S262-('Sconti Import'!S262*'Sconti Import'!D262))*'Zone Export'!$V$14","v":174.1},{"$f":"('Sconti Import'!T262-('Sconti Import'!T262*'Sconti Import'!E262))*'Zone Export'!$V$14","v":191.65},{"$f":"('Sconti Import'!U262-('Sconti Import'!U262*'Sconti Import'!F262))*'Zone Export'!$V$14","v":245.65},{"$f":"('Sconti Import'!V262-('Sconti Import'!V262*'Sconti Import'!G262))*'Zone Export'!$V$14","v":206.75},{"$f":"('Sconti Import'!W262-('Sconti Import'!W262*'Sconti Import'!H262))*'Zone Export'!$V$14","v":206.8},{"$f":"('Sconti Import'!X262-('Sconti Import'!X262*'Sconti Import'!I262))*'Zone Export'!$V$14","v":233.35},{"$f":"('Sconti Import'!Y262-('Sconti Import'!Y262*'Sconti Import'!J262))*'Zone Export'!$V$14","v":256.10000000000002},{"$f":"('Sconti Import'!Z262-('Sconti Import'!Z262*'Sconti Import'!K262))*'Zone Export'!$V$14","v":182.6},{"$f":"('Sconti Import'!AA262-('Sconti Import'!AA262*'Sconti Import'!L262))*'Zone Export'!$V$14","v":205.45},{"$f":"('Sconti Import'!AB262-('Sconti Import'!AB262*'Sconti Import'!M262))*'Zone Export'!$V$14","v":204.05},{"$f":"('Sconti Import'!AC262-('Sconti Import'!AC262*'Sconti Import'!N262))*'Zone Export'!$V$14","v":253.35},{"$f":"('Sconti Import'!AD262-('Sconti Import'!AD262*'Sconti Import'!O262))*'Zone Export'!$V$14","v":264.75}]
[null,"4,0 kg",null,{"$f":"('Sconti Import'!S263-('Sconti Import'!S263*'Sconti Import'!D263))*'Zone Export'!$V$14","v":179.05},{"$f":"('Sconti Import'!T263-('Sconti Import'!T263*'Sconti Import'!E263))*'Zone Export'!$V$14","v":200.15},{"$f":"('Sconti Import'!U263-('Sconti Import'!U263*'Sconti Import'!F263))*'Zone Export'!$V$14","v":257.2},{"$f":"('Sconti Import'!V263-('Sconti Import'!V263*'Sconti Import'!G263))*'Zone Export'!$V$14","v":214.45},{"$f":"('Sconti Import'!W263-('Sconti Import'!W263*'Sconti Import'!H263))*'Zone Export'!$V$14","v":214.5},{"$f":"('Sconti Import'!X263-('Sconti Import'!X263*'Sconti Import'!I263))*'Zone Export'!$V$14","v":242.05},{"$f":"('Sconti Import'!Y263-('Sconti Import'!Y263*'Sconti Import'!J263))*'Zone Export'!$V$14","v":268.3},{"$f":"('Sconti Import'!Z263-('Sconti Import'!Z263*'Sconti Import'!K263))*'Zone Export'!$V$14","v":190.15},{"$f":"('Sconti Import'!AA263-('Sconti Import'!AA263*'Sconti Import'!L263))*'Zone Export'!$V$14","v":215.65},{"$f":"('Sconti Import'!AB263-('Sconti Import'!AB263*'Sconti Import'!M263))*'Zone Export'!$V$14","v":214.3},{"$f":"('Sconti Import'!AC263-('Sconti Import'!AC263*'Sconti Import'!N263))*'Zone Export'!$V$14","v":267.89999999999998},{"$f":"('Sconti Import'!AD263-('Sconti Import'!AD263*'Sconti Import'!O263))*'Zone Export'!$V$14","v":280.05}]
[null,"4,5 kg",null,{"$f":"('Sconti Import'!S264-('Sconti Import'!S264*'Sconti Import'!D264))*'Zone Export'!$V$14","v":183.85},{"$f":"('Sconti Import'!T264-('Sconti Import'!T264*'Sconti Import'!E264))*'Zone Export'!$V$14","v":208.6},{"$f":"('Sconti Import'!U264-('Sconti Import'!U264*'Sconti Import'!F264))*'Zone Export'!$V$14","v":268.7},{"$f":"('Sconti Import'!V264-('Sconti Import'!V264*'Sconti Import'!G264))*'Zone Export'!$V$14","v":221.9},{"$f":"('Sconti Import'!W264-('Sconti Import'!W264*'Sconti Import'!H264))*'Zone Export'!$V$14","v":221.95},{"$f":"('Sconti Import'!X264-('Sconti Import'!X264*'Sconti Import'!I264))*'Zone Export'!$V$14","v":250.6},{"$f":"('Sconti Import'!Y264-('Sconti Import'!Y264*'Sconti Import'!J264))*'Zone Export'!$V$14","v":280.55},{"$f":"('Sconti Import'!Z264-('Sconti Import'!Z264*'Sconti Import'!K264))*'Zone Export'!$V$14","v":197.7},{"$f":"('Sconti Import'!AA264-('Sconti Import'!AA264*'Sconti Import'!L264))*'Zone Export'!$V$14","v":226.1},{"$f":"('Sconti Import'!AB264-('Sconti Import'!AB264*'Sconti Import'!M264))*'Zone Export'!$V$14","v":224.65},{"$f":"('Sconti Import'!AC264-('Sconti Import'!AC264*'Sconti Import'!N264))*'Zone Export'!$V$14","v":282.39999999999998},{"$f":"('Sconti Import'!AD264-('Sconti Import'!AD264*'Sconti Import'!O264))*'Zone Export'!$V$14","v":295.2}]
[null,"5,0 kg",null,{"$f":"('Sconti Import'!S265-('Sconti Import'!S265*'Sconti Import'!D265))*'Zone Export'!$V$14","v":188.85},{"$f":"('Sconti Import'!T265-('Sconti Import'!T265*'Sconti Import'!E265))*'Zone Export'!$V$14","v":217.2},{"$f":"('Sconti Import'!U265-('Sconti Import'!U265*'Sconti Import'!F265))*'Zone Export'!$V$14","v":280.25},{"$f":"('Sconti Import'!V265-('Sconti Import'!V265*'Sconti Import'!G265))*'Zone Export'!$V$14","v":229.6},{"$f":"('Sconti Import'!W265-('Sconti Import'!W265*'Sconti Import'!H265))*'Zone Export'!$V$14","v":229.7},{"$f":"('Sconti Import'!X265-('Sconti Import'!X265*'Sconti Import'!I265))*'Zone Export'!$V$14","v":259.10000000000002},{"$f":"('Sconti Import'!Y265-('Sconti Import'!Y265*'Sconti Import'!J265))*'Zone Export'!$V$14","v":292.7},{"$f":"('Sconti Import'!Z265-('Sconti Import'!Z265*'Sconti Import'!K265))*'Zone Export'!$V$14","v":205.35},{"$f":"('Sconti Import'!AA265-('Sconti Import'!AA265*'Sconti Import'!L265))*'Zone Export'!$V$14","v":236.4},{"$f":"('Sconti Import'!AB265-('Sconti Import'!AB265*'Sconti Import'!M265))*'Zone Export'!$V$14","v":234.85},{"$f":"('Sconti Import'!AC265-('Sconti Import'!AC265*'Sconti Import'!N265))*'Zone Export'!$V$14","v":296.85000000000002},{"$f":"('Sconti Import'!AD265-('Sconti Import'!AD265*'Sconti Import'!O265))*'Zone Export'!$V$14","v":310.45}]
[null,"5,5 kg",null,{"$f":"('Sconti Import'!S266-('Sconti Import'!S266*'Sconti Import'!D266))*'Zone Export'!$V$14","v":193.15},{"$f":"('Sconti Import'!T266-('Sconti Import'!T266*'Sconti Import'!E266))*'Zone Export'!$V$14","v":222.1},{"$f":"('Sconti Import'!U266-('Sconti Import'!U266*'Sconti Import'!F266))*'Zone Export'!$V$14","v":288.64999999999998},{"$f":"('Sconti Import'!V266-('Sconti Import'!V266*'Sconti Import'!G266))*'Zone Export'!$V$14","v":234.3},{"$f":"('Sconti Import'!W266-('Sconti Import'!W266*'Sconti Import'!H266))*'Zone Export'!$V$14","v":234.35},{"$f":"('Sconti Import'!X266-('Sconti Import'!X266*'Sconti Import'!I266))*'Zone Export'!$V$14","v":264.35000000000002},{"$f":"('Sconti Import'!Y266-('Sconti Import'!Y266*'Sconti Import'!J266))*'Zone Export'!$V$14","v":302.3},{"$f":"('Sconti Import'!Z266-('Sconti Import'!Z266*'Sconti Import'!K266))*'Zone Export'!$V$14","v":211.85},{"$f":"('Sconti Import'!AA266-('Sconti Import'!AA266*'Sconti Import'!L266))*'Zone Export'!$V$14","v":244.55},{"$f":"('Sconti Import'!AB266-('Sconti Import'!AB266*'Sconti Import'!M266))*'Zone Export'!$V$14","v":242.65},{"$f":"('Sconti Import'!AC266-('Sconti Import'!AC266*'Sconti Import'!N266))*'Zone Export'!$V$14","v":310.5},{"$f":"('Sconti Import'!AD266-('Sconti Import'!AD266*'Sconti Import'!O266))*'Zone Export'!$V$14","v":325.64999999999998}]
[null,"6,0 kg",null,{"$f":"('Sconti Import'!S267-('Sconti Import'!S267*'Sconti Import'!D267))*'Zone Export'!$V$14","v":197.5},{"$f":"('Sconti Import'!T267-('Sconti Import'!T267*'Sconti Import'!E267))*'Zone Export'!$V$14","v":227.1},{"$f":"('Sconti Import'!U267-('Sconti Import'!U267*'Sconti Import'!F267))*'Zone Export'!$V$14","v":297.10000000000002},{"$f":"('Sconti Import'!V267-('Sconti Import'!V267*'Sconti Import'!G267))*'Zone Export'!$V$14","v":238.95},{"$f":"('Sconti Import'!W267-('Sconti Import'!W267*'Sconti Import'!H267))*'Zone Export'!$V$14","v":239},{"$f":"('Sconti Import'!X267-('Sconti Import'!X267*'Sconti Import'!I267))*'Zone Export'!$V$14","v":269.64999999999998},{"$f":"('Sconti Import'!Y267-('Sconti Import'!Y267*'Sconti Import'!J267))*'Zone Export'!$V$14","v":311.85000000000002},{"$f":"('Sconti Import'!Z267-('Sconti Import'!Z267*'Sconti Import'!K267))*'Zone Export'!$V$14","v":218.15},{"$f":"('Sconti Import'!AA267-('Sconti Import'!AA267*'Sconti Import'!L267))*'Zone Export'!$V$14","v":252.6},{"$f":"('Sconti Import'!AB267-('Sconti Import'!AB267*'Sconti Import'!M267))*'Zone Export'!$V$14","v":250.45},{"$f":"('Sconti Import'!AC267-('Sconti Import'!AC267*'Sconti Import'!N267))*'Zone Export'!$V$14","v":324.3},{"$f":"('Sconti Import'!AD267-('Sconti Import'!AD267*'Sconti Import'!O267))*'Zone Export'!$V$14","v":340.8}]
[null,"6,5 kg",null,{"$f":"('Sconti Import'!S268-('Sconti Import'!S268*'Sconti Import'!D268))*'Zone Export'!$V$14","v":201.8},{"$f":"('Sconti Import'!T268-('Sconti Import'!T268*'Sconti Import'!E268))*'Zone Export'!$V$14","v":232.1},{"$f":"('Sconti Import'!U268-('Sconti Import'!U268*'Sconti Import'!F268))*'Zone Export'!$V$14","v":305.60000000000002},{"$f":"('Sconti Import'!V268-('Sconti Import'!V268*'Sconti Import'!G268))*'Zone Export'!$V$14","v":243.7},{"$f":"('Sconti Import'!W268-('Sconti Import'!W268*'Sconti Import'!H268))*'Zone Export'!$V$14","v":243.75},{"$f":"('Sconti Import'!X268-('Sconti Import'!X268*'Sconti Import'!I268))*'Zone Export'!$V$14","v":274.95},{"$f":"('Sconti Import'!Y268-('Sconti Import'!Y268*'Sconti Import'!J268))*'Zone Export'!$V$14","v":321.39999999999998},{"$f":"('Sconti Import'!Z268-('Sconti Import'!Z268*'Sconti Import'!K268))*'Zone Export'!$V$14","v":224.7},{"$f":"('Sconti Import'!AA268-('Sconti Import'!AA268*'Sconti Import'!L268))*'Zone Export'!$V$14","v":260.8},{"$f":"('Sconti Import'!AB268-('Sconti Import'!AB268*'Sconti Import'!M268))*'Zone Export'!$V$14","v":258.25},{"$f":"('Sconti Import'!AC268-('Sconti Import'!AC268*'Sconti Import'!N268))*'Zone Export'!$V$14","v":337.8},{"$f":"('Sconti Import'!AD268-('Sconti Import'!AD268*'Sconti Import'!O268))*'Zone Export'!$V$14","v":355.9}]
[null,"7,0 kg",null,{"$f":"('Sconti Import'!S269-('Sconti Import'!S269*'Sconti Import'!D269))*'Zone Export'!$V$14","v":206.25},{"$f":"('Sconti Import'!T269-('Sconti Import'!T269*'Sconti Import'!E269))*'Zone Export'!$V$14","v":236.95},{"$f":"('Sconti Import'!U269-('Sconti Import'!U269*'Sconti Import'!F269))*'Zone Export'!$V$14","v":313.95},{"$f":"('Sconti Import'!V269-('Sconti Import'!V269*'Sconti Import'!G269))*'Zone Export'!$V$14","v":248.4},{"$f":"('Sconti Import'!W269-('Sconti Import'!W269*'Sconti Import'!H269))*'Zone Export'!$V$14","v":248.45},{"$f":"('Sconti Import'!X269-('Sconti Import'!X269*'Sconti Import'!I269))*'Zone Export'!$V$14","v":280.35000000000002},{"$f":"('Sconti Import'!Y269-('Sconti Import'!Y269*'Sconti Import'!J269))*'Zone Export'!$V$14","v":331.05},{"$f":"('Sconti Import'!Z269-('Sconti Import'!Z269*'Sconti Import'!K269))*'Zone Export'!$V$14","v":231.2},{"$f":"('Sconti Import'!AA269-('Sconti Import'!AA269*'Sconti Import'!L269))*'Zone Export'!$V$14","v":269},{"$f":"('Sconti Import'!AB269-('Sconti Import'!AB269*'Sconti Import'!M269))*'Zone Export'!$V$14","v":265.95},{"$f":"('Sconti Import'!AC269-('Sconti Import'!AC269*'Sconti Import'!N269))*'Zone Export'!$V$14","v":351.45},{"$f":"('Sconti Import'!AD269-('Sconti Import'!AD269*'Sconti Import'!O269))*'Zone Export'!$V$14","v":371.2}]
[null,"7,5 kg",null,{"$f":"('Sconti Import'!S270-('Sconti Import'!S270*'Sconti Import'!D270))*'Zone Export'!$V$14","v":210.55},{"$f":"('Sconti Import'!T270-('Sconti Import'!T270*'Sconti Import'!E270))*'Zone Export'!$V$14","v":242.15},{"$f":"('Sconti Import'!U270-('Sconti Import'!U270*'Sconti Import'!F270))*'Zone Export'!$V$14","v":322.39999999999998},{"$f":"('Sconti Import'!V270-('Sconti Import'!V270*'Sconti Import'!G270))*'Zone Export'!$V$14","v":253.05},{"$f":"('Sconti Import'!W270-('Sconti Import'!W270*'Sconti Import'!H270))*'Zone Export'!$V$14","v":253.1},{"$f":"('Sconti Import'!X270-('Sconti Import'!X270*'Sconti Import'!I270))*'Zone Export'!$V$14","v":285.60000000000002},{"$f":"('Sconti Import'!Y270-('Sconti Import'!Y270*'Sconti Import'!J270))*'Zone Export'!$V$14","v":340.55},{"$f":"('Sconti Import'!Z270-('Sconti Import'!Z270*'Sconti Import'!K270))*'Zone Export'!$V$14","v":237.7},{"$f":"('Sconti Import'!AA270-('Sconti Import'!AA270*'Sconti Import'!L270))*'Zone Export'!$V$14","v":276.95},{"$f":"('Sconti Import'!AB270-('Sconti Import'!AB270*'Sconti Import'!M270))*'Zone Export'!$V$14","v":273.8},{"$f":"('Sconti Import'!AC270-('Sconti Import'!AC270*'Sconti Import'!N270))*'Zone Export'!$V$14","v":365.2},{"$f":"('Sconti Import'!AD270-('Sconti Import'!AD270*'Sconti Import'!O270))*'Zone Export'!$V$14","v":386.35}]
[null,"8,0 kg",null,{"$f":"('Sconti Import'!S271-('Sconti Import'!S271*'Sconti Import'!D271))*'Zone Export'!$V$14","v":214.9},{"$f":"('Sconti Import'!T271-('Sconti Import'!T271*'Sconti Import'!E271))*'Zone Export'!$V$14","v":246.95},{"$f":"('Sconti Import'!U271-('Sconti Import'!U271*'Sconti Import'!F271))*'Zone Export'!$V$14","v":330.95},{"$f":"('Sconti Import'!V271-('Sconti Import'!V271*'Sconti Import'!G271))*'Zone Export'!$V$14","v":257.8},{"$f":"('Sconti Import'!W271-('Sconti Import'!W271*'Sconti Import'!H271))*'Zone Export'!$V$14","v":257.85000000000002},{"$f":"('Sconti Import'!X271-('Sconti Import'!X271*'Sconti Import'!I271))*'Zone Export'!$V$14","v":290.8},{"$f":"('Sconti Import'!Y271-('Sconti Import'!Y271*'Sconti Import'!J271))*'Zone Export'!$V$14","v":349},{"$f":"('Sconti Import'!Z271-('Sconti Import'!Z271*'Sconti Import'!K271))*'Zone Export'!$V$14","v":244.15},{"$f":"('Sconti Import'!AA271-('Sconti Import'!AA271*'Sconti Import'!L271))*'Zone Export'!$V$14","v":285.05},{"$f":"('Sconti Import'!AB271-('Sconti Import'!AB271*'Sconti Import'!M271))*'Zone Export'!$V$14","v":281.55},{"$f":"('Sconti Import'!AC271-('Sconti Import'!AC271*'Sconti Import'!N271))*'Zone Export'!$V$14","v":378.8},{"$f":"('Sconti Import'!AD271-('Sconti Import'!AD271*'Sconti Import'!O271))*'Zone Export'!$V$14","v":401.55}]
[null,"8,5 kg",null,{"$f":"('Sconti Import'!S272-('Sconti Import'!S272*'Sconti Import'!D272))*'Zone Export'!$V$14","v":219.25},{"$f":"('Sconti Import'!T272-('Sconti Import'!T272*'Sconti Import'!E272))*'Zone Export'!$V$14","v":252.05},{"$f":"('Sconti Import'!U272-('Sconti Import'!U272*'Sconti Import'!F272))*'Zone Export'!$V$14","v":339.45},{"$f":"('Sconti Import'!V272-('Sconti Import'!V272*'Sconti Import'!G272))*'Zone Export'!$V$14","v":262.55},{"$f":"('Sconti Import'!W272-('Sconti Import'!W272*'Sconti Import'!H272))*'Zone Export'!$V$14","v":262.60000000000002},{"$f":"('Sconti Import'!X272-('Sconti Import'!X272*'Sconti Import'!I272))*'Zone Export'!$V$14","v":296.14999999999998},{"$f":"('Sconti Import'!Y272-('Sconti Import'!Y272*'Sconti Import'!J272))*'Zone Export'!$V$14","v":357.45},{"$f":"('Sconti Import'!Z272-('Sconti Import'!Z272*'Sconti Import'!K272))*'Zone Export'!$V$14","v":250.7},{"$f":"('Sconti Import'!AA272-('Sconti Import'!AA272*'Sconti Import'!L272))*'Zone Export'!$V$14","v":293},{"$f":"('Sconti Import'!AB272-('Sconti Import'!AB272*'Sconti Import'!M272))*'Zone Export'!$V$14","v":289.35000000000002},{"$f":"('Sconti Import'!AC272-('Sconti Import'!AC272*'Sconti Import'!N272))*'Zone Export'!$V$14","v":392.45},{"$f":"('Sconti Import'!AD272-('Sconti Import'!AD272*'Sconti Import'!O272))*'Zone Export'!$V$14","v":416.85}]
[null,"9,0 kg",null,{"$f":"('Sconti Import'!S273-('Sconti Import'!S273*'Sconti Import'!D273))*'Zone Export'!$V$14","v":223.6},{"$f":"('Sconti Import'!T273-('Sconti Import'!T273*'Sconti Import'!E273))*'Zone Export'!$V$14","v":257.10000000000002},{"$f":"('Sconti Import'!U273-('Sconti Import'!U273*'Sconti Import'!F273))*'Zone Export'!$V$14","v":347.85},{"$f":"('Sconti Import'!V273-('Sconti Import'!V273*'Sconti Import'!G273))*'Zone Export'!$V$14","v":267.25},{"$f":"('Sconti Import'!W273-('Sconti Import'!W273*'Sconti Import'!H273))*'Zone Export'!$V$14","v":267.3},{"$f":"('Sconti Import'!X273-('Sconti Import'!X273*'Sconti Import'!I273))*'Zone Export'!$V$14","v":301.45},{"$f":"('Sconti Import'!Y273-('Sconti Import'!Y273*'Sconti Import'!J273))*'Zone Export'!$V$14","v":366},{"$f":"('Sconti Import'!Z273-('Sconti Import'!Z273*'Sconti Import'!K273))*'Zone Export'!$V$14","v":257.2},{"$f":"('Sconti Import'!AA273-('Sconti Import'!AA273*'Sconti Import'!L273))*'Zone Export'!$V$14","v":301.14999999999998},{"$f":"('Sconti Import'!AB273-('Sconti Import'!AB273*'Sconti Import'!M273))*'Zone Export'!$V$14","v":297.10000000000002},{"$f":"('Sconti Import'!AC273-('Sconti Import'!AC273*'Sconti Import'!N273))*'Zone Export'!$V$14","v":406.1},{"$f":"('Sconti Import'!AD273-('Sconti Import'!AD273*'Sconti Import'!O273))*'Zone Export'!$V$14","v":431.9}]
[null,"9,5 kg",null,{"$f":"('Sconti Import'!S274-('Sconti Import'!S274*'Sconti Import'!D274))*'Zone Export'!$V$14","v":227.9},{"$f":"('Sconti Import'!T274-('Sconti Import'!T274*'Sconti Import'!E274))*'Zone Export'!$V$14","v":262.10000000000002},{"$f":"('Sconti Import'!U274-('Sconti Import'!U274*'Sconti Import'!F274))*'Zone Export'!$V$14","v":356.25},{"$f":"('Sconti Import'!V274-('Sconti Import'!V274*'Sconti Import'!G274))*'Zone Export'!$V$14","v":271.95},{"$f":"('Sconti Import'!W274-('Sconti Import'!W274*'Sconti Import'!H274))*'Zone Export'!$V$14","v":272},{"$f":"('Sconti Import'!X274-('Sconti Import'!X274*'Sconti Import'!I274))*'Zone Export'!$V$14","v":306.7},{"$f":"('Sconti Import'!Y274-('Sconti Import'!Y274*'Sconti Import'!J274))*'Zone Export'!$V$14","v":374.4},{"$f":"('Sconti Import'!Z274-('Sconti Import'!Z274*'Sconti Import'!K274))*'Zone Export'!$V$14","v":263.64999999999998},{"$f":"('Sconti Import'!AA274-('Sconti Import'!AA274*'Sconti Import'!L274))*'Zone Export'!$V$14","v":309.2},{"$f":"('Sconti Import'!AB274-('Sconti Import'!AB274*'Sconti Import'!M274))*'Zone Export'!$V$14","v":305},{"$f":"('Sconti Import'!AC274-('Sconti Import'!AC274*'Sconti Import'!N274))*'Zone Export'!$V$14","v":419.65},{"$f":"('Sconti Import'!AD274-('Sconti Import'!AD274*'Sconti Import'!O274))*'Zone Export'!$V$14","v":447.1}]
[null,"10 kg",null,{"$f":"('Sconti Import'!S275-('Sconti Import'!S275*'Sconti Import'!D275))*'Zone Export'!$V$14","v":232.4},{"$f":"('Sconti Import'!T275-('Sconti Import'!T275*'Sconti Import'!E275))*'Zone Export'!$V$14","v":267.14999999999998},{"$f":"('Sconti Import'!U275-('Sconti Import'!U275*'Sconti Import'!F275))*'Zone Export'!$V$14","v":364.75},{"$f":"('Sconti Import'!V275-('Sconti Import'!V275*'Sconti Import'!G275))*'Zone Export'!$V$14","v":276.64999999999998},{"$f":"('Sconti Import'!W275-('Sconti Import'!W275*'Sconti Import'!H275))*'Zone Export'!$V$14","v":276.7},{"$f":"('Sconti Import'!X275-('Sconti Import'!X275*'Sconti Import'!I275))*'Zone Export'!$V$14","v":312.10000000000002},{"$f":"('Sconti Import'!Y275-('Sconti Import'!Y275*'Sconti Import'!J275))*'Zone Export'!$V$14","v":382.9},{"$f":"('Sconti Import'!Z275-('Sconti Import'!Z275*'Sconti Import'!K275))*'Zone Export'!$V$14","v":270.05},{"$f":"('Sconti Import'!AA275-('Sconti Import'!AA275*'Sconti Import'!L275))*'Zone Export'!$V$14","v":317.35000000000002},{"$f":"('Sconti Import'!AB275-('Sconti Import'!AB275*'Sconti Import'!M275))*'Zone Export'!$V$14","v":312.75},{"$f":"('Sconti Import'!AC275-('Sconti Import'!AC275*'Sconti Import'!N275))*'Zone Export'!$V$14","v":433.35},{"$f":"('Sconti Import'!AD275-('Sconti Import'!AD275*'Sconti Import'!O275))*'Zone Export'!$V$14","v":462.25}]
[null,"11 kg",null,{"$f":"('Sconti Import'!S276-('Sconti Import'!S276*'Sconti Import'!D276))*'Zone Export'!$V$14","v":237.3},{"$f":"('Sconti Import'!T276-('Sconti Import'!T276*'Sconti Import'!E276))*'Zone Export'!$V$14","v":275.55},{"$f":"('Sconti Import'!U276-('Sconti Import'!U276*'Sconti Import'!F276))*'Zone Export'!$V$14","v":374.35},{"$f":"('Sconti Import'!V276-('Sconti Import'!V276*'Sconti Import'!G276))*'Zone Export'!$V$14","v":284.64999999999998},{"$f":"('Sconti Import'!W276-('Sconti Import'!W276*'Sconti Import'!H276))*'Zone Export'!$V$14","v":284.7},{"$f":"('Sconti Import'!X276-('Sconti Import'!X276*'Sconti Import'!I276))*'Zone Export'!$V$14","v":320.95},{"$f":"('Sconti Import'!Y276-('Sconti Import'!Y276*'Sconti Import'!J276))*'Zone Export'!$V$14","v":394.35},{"$f":"('Sconti Import'!Z276-('Sconti Import'!Z276*'Sconti Import'!K276))*'Zone Export'!$V$14","v":281.85000000000002},{"$f":"('Sconti Import'!AA276-('Sconti Import'!AA276*'Sconti Import'!L276))*'Zone Export'!$V$14","v":332.2},{"$f":"('Sconti Import'!AB276-('Sconti Import'!AB276*'Sconti Import'!M276))*'Zone Export'!$V$14","v":327.39999999999998},{"$f":"('Sconti Import'!AC276-('Sconti Import'!AC276*'Sconti Import'!N276))*'Zone Export'!$V$14","v":453.9},{"$f":"('Sconti Import'!AD276-('Sconti Import'!AD276*'Sconti Import'!O276))*'Zone Export'!$V$14","v":490.35}]
[null,"12 kg",null,{"$f":"('Sconti Import'!S277-('Sconti Import'!S277*'Sconti Import'!D277))*'Zone Export'!$V$14","v":242.3},{"$f":"('Sconti Import'!T277-('Sconti Import'!T277*'Sconti Import'!E277))*'Zone Export'!$V$14","v":283.89999999999998},{"$f":"('Sconti Import'!U277-('Sconti Import'!U277*'Sconti Import'!F277))*'Zone Export'!$V$14","v":384.1},{"$f":"('Sconti Import'!V277-('Sconti Import'!V277*'Sconti Import'!G277))*'Zone Export'!$V$14","v":292.60000000000002},{"$f":"('Sconti Import'!W277-('Sconti Import'!W277*'Sconti Import'!H277))*'Zone Export'!$V$14","v":292.64999999999998},{"$f":"('Sconti Import'!X277-('Sconti Import'!X277*'Sconti Import'!I277))*'Zone Export'!$V$14","v":329.6},{"$f":"('Sconti Import'!Y277-('Sconti Import'!Y277*'Sconti Import'!J277))*'Zone Export'!$V$14","v":405.9},{"$f":"('Sconti Import'!Z277-('Sconti Import'!Z277*'Sconti Import'!K277))*'Zone Export'!$V$14","v":293.64999999999998},{"$f":"('Sconti Import'!AA277-('Sconti Import'!AA277*'Sconti Import'!L277))*'Zone Export'!$V$14","v":347.05},{"$f":"('Sconti Import'!AB277-('Sconti Import'!AB277*'Sconti Import'!M277))*'Zone Export'!$V$14","v":342.05},{"$f":"('Sconti Import'!AC277-('Sconti Import'!AC277*'Sconti Import'!N277))*'Zone Export'!$V$14","v":474.5},{"$f":"('Sconti Import'!AD277-('Sconti Import'!AD277*'Sconti Import'!O277))*'Zone Export'!$V$14","v":518.15}]
[null,"13 kg",null,{"$f":"('Sconti Import'!S278-('Sconti Import'!S278*'Sconti Import'!D278))*'Zone Export'!$V$14","v":247.05},{"$f":"('Sconti Import'!T278-('Sconti Import'!T278*'Sconti Import'!E278))*'Zone Export'!$V$14","v":292.45},{"$f":"('Sconti Import'!U278-('Sconti Import'!U278*'Sconti Import'!F278))*'Zone Export'!$V$14","v":393.75},{"$f":"('Sconti Import'!V278-('Sconti Import'!V278*'Sconti Import'!G278))*'Zone Export'!$V$14","v":300.60000000000002},{"$f":"('Sconti Import'!W278-('Sconti Import'!W278*'Sconti Import'!H278))*'Zone Export'!$V$14","v":300.64999999999998},{"$f":"('Sconti Import'!X278-('Sconti Import'!X278*'Sconti Import'!I278))*'Zone Export'!$V$14","v":338.4},{"$f":"('Sconti Import'!Y278-('Sconti Import'!Y278*'Sconti Import'!J278))*'Zone Export'!$V$14","v":417.35},{"$f":"('Sconti Import'!Z278-('Sconti Import'!Z278*'Sconti Import'!K278))*'Zone Export'!$V$14","v":305.3},{"$f":"('Sconti Import'!AA278-('Sconti Import'!AA278*'Sconti Import'!L278))*'Zone Export'!$V$14","v":361.8},{"$f":"('Sconti Import'!AB278-('Sconti Import'!AB278*'Sconti Import'!M278))*'Zone Export'!$V$14","v":356.7},{"$f":"('Sconti Import'!AC278-('Sconti Import'!AC278*'Sconti Import'!N278))*'Zone Export'!$V$14","v":494.95},{"$f":"('Sconti Import'!AD278-('Sconti Import'!AD278*'Sconti Import'!O278))*'Zone Export'!$V$14","v":546}]
[null,"14 kg",null,{"$f":"('Sconti Import'!S279-('Sconti Import'!S279*'Sconti Import'!D279))*'Zone Export'!$V$14","v":252.1},{"$f":"('Sconti Import'!T279-('Sconti Import'!T279*'Sconti Import'!E279))*'Zone Export'!$V$14","v":300.89999999999998},{"$f":"('Sconti Import'!U279-('Sconti Import'!U279*'Sconti Import'!F279))*'Zone Export'!$V$14","v":403.45},{"$f":"('Sconti Import'!V279-('Sconti Import'!V279*'Sconti Import'!G279))*'Zone Export'!$V$14","v":308.45},{"$f":"('Sconti Import'!W279-('Sconti Import'!W279*'Sconti Import'!H279))*'Zone Export'!$V$14","v":308.5},{"$f":"('Sconti Import'!X279-('Sconti Import'!X279*'Sconti Import'!I279))*'Zone Export'!$V$14","v":347.25},{"$f":"('Sconti Import'!Y279-('Sconti Import'!Y279*'Sconti Import'!J279))*'Zone Export'!$V$14","v":429},{"$f":"('Sconti Import'!Z279-('Sconti Import'!Z279*'Sconti Import'!K279))*'Zone Export'!$V$14","v":317.05},{"$f":"('Sconti Import'!AA279-('Sconti Import'!AA279*'Sconti Import'!L279))*'Zone Export'!$V$14","v":376.55},{"$f":"('Sconti Import'!AB279-('Sconti Import'!AB279*'Sconti Import'!M279))*'Zone Export'!$V$14","v":371.4},{"$f":"('Sconti Import'!AC279-('Sconti Import'!AC279*'Sconti Import'!N279))*'Zone Export'!$V$14","v":515.6},{"$f":"('Sconti Import'!AD279-('Sconti Import'!AD279*'Sconti Import'!O279))*'Zone Export'!$V$14","v":573.95000000000005}]
[null,"15 kg",null,{"$f":"('Sconti Import'!S280-('Sconti Import'!S280*'Sconti Import'!D280))*'Zone Export'!$V$14","v":257.10000000000002},{"$f":"('Sconti Import'!T280-('Sconti Import'!T280*'Sconti Import'!E280))*'Zone Export'!$V$14","v":309.75},{"$f":"('Sconti Import'!U280-('Sconti Import'!U280*'Sconti Import'!F280))*'Zone Export'!$V$14","v":413.05},{"$f":"('Sconti Import'!V280-('Sconti Import'!V280*'Sconti Import'!G280))*'Zone Export'!$V$14","v":316.45},{"$f":"('Sconti Import'!W280-('Sconti Import'!W280*'Sconti Import'!H280))*'Zone Export'!$V$14","v":316.5},{"$f":"('Sconti Import'!X280-('Sconti Import'!X280*'Sconti Import'!I280))*'Zone Export'!$V$14","v":356.2},{"$f":"('Sconti Import'!Y280-('Sconti Import'!Y280*'Sconti Import'!J280))*'Zone Export'!$V$14","v":440.35},{"$f":"('Sconti Import'!Z280-('Sconti Import'!Z280*'Sconti Import'!K280))*'Zone Export'!$V$14","v":328.7},{"$f":"('Sconti Import'!AA280-('Sconti Import'!AA280*'Sconti Import'!L280))*'Zone Export'!$V$14","v":391.35},{"$f":"('Sconti Import'!AB280-('Sconti Import'!AB280*'Sconti Import'!M280))*'Zone Export'!$V$14","v":386.05},{"$f":"('Sconti Import'!AC280-('Sconti Import'!AC280*'Sconti Import'!N280))*'Zone Export'!$V$14","v":536.04999999999995},{"$f":"('Sconti Import'!AD280-('Sconti Import'!AD280*'Sconti Import'!O280))*'Zone Export'!$V$14","v":601.9}]
[null,"16 kg",null,{"$f":"('Sconti Import'!S281-('Sconti Import'!S281*'Sconti Import'!D281))*'Zone Export'!$V$14","v":262},{"$f":"('Sconti Import'!T281-('Sconti Import'!T281*'Sconti Import'!E281))*'Zone Export'!$V$14","v":318.64999999999998},{"$f":"('Sconti Import'!U281-('Sconti Import'!U281*'Sconti Import'!F281))*'Zone Export'!$V$14","v":422.6},{"$f":"('Sconti Import'!V281-('Sconti Import'!V281*'Sconti Import'!G281))*'Zone Export'!$V$14","v":323.14999999999998},{"$f":"('Sconti Import'!W281-('Sconti Import'!W281*'Sconti Import'!H281))*'Zone Export'!$V$14","v":323.2},{"$f":"('Sconti Import'!X281-('Sconti Import'!X281*'Sconti Import'!I281))*'Zone Export'!$V$14","v":365.2},{"$f":"('Sconti Import'!Y281-('Sconti Import'!Y281*'Sconti Import'!J281))*'Zone Export'!$V$14","v":451.9},{"$f":"('Sconti Import'!Z281-('Sconti Import'!Z281*'Sconti Import'!K281))*'Zone Export'!$V$14","v":340.5},{"$f":"('Sconti Import'!AA281-('Sconti Import'!AA281*'Sconti Import'!L281))*'Zone Export'!$V$14","v":406.4},{"$f":"('Sconti Import'!AB281-('Sconti Import'!AB281*'Sconti Import'!M281))*'Zone Export'!$V$14","v":400.75},{"$f":"('Sconti Import'!AC281-('Sconti Import'!AC281*'Sconti Import'!N281))*'Zone Export'!$V$14","v":553.95000000000005},{"$f":"('Sconti Import'!AD281-('Sconti Import'!AD281*'Sconti Import'!O281))*'Zone Export'!$V$14","v":629.9}]
[null,"17 kg",null,{"$f":"('Sconti Import'!S282-('Sconti Import'!S282*'Sconti Import'!D282))*'Zone Export'!$V$14","v":266.95},{"$f":"('Sconti Import'!T282-('Sconti Import'!T282*'Sconti Import'!E282))*'Zone Export'!$V$14","v":327.5},{"$f":"('Sconti Import'!U282-('Sconti Import'!U282*'Sconti Import'!F282))*'Zone Export'!$V$14","v":432.3},{"$f":"('Sconti Import'!V282-('Sconti Import'!V282*'Sconti Import'!G282))*'Zone Export'!$V$14","v":329.7},{"$f":"('Sconti Import'!W282-('Sconti Import'!W282*'Sconti Import'!H282))*'Zone Export'!$V$14","v":329.75},{"$f":"('Sconti Import'!X282-('Sconti Import'!X282*'Sconti Import'!I282))*'Zone Export'!$V$14","v":373.95},{"$f":"('Sconti Import'!Y282-('Sconti Import'!Y282*'Sconti Import'!J282))*'Zone Export'!$V$14","v":463.3},{"$f":"('Sconti Import'!Z282-('Sconti Import'!Z282*'Sconti Import'!K282))*'Zone Export'!$V$14","v":352.1},{"$f":"('Sconti Import'!AA282-('Sconti Import'!AA282*'Sconti Import'!L282))*'Zone Export'!$V$14","v":421.25},{"$f":"('Sconti Import'!AB282-('Sconti Import'!AB282*'Sconti Import'!M282))*'Zone Export'!$V$14","v":415.45},{"$f":"('Sconti Import'!AC282-('Sconti Import'!AC282*'Sconti Import'!N282))*'Zone Export'!$V$14","v":571.79999999999995},{"$f":"('Sconti Import'!AD282-('Sconti Import'!AD282*'Sconti Import'!O282))*'Zone Export'!$V$14","v":657.75}]
[null,"18 kg",null,{"$f":"('Sconti Import'!S283-('Sconti Import'!S283*'Sconti Import'!D283))*'Zone Export'!$V$14","v":271.95},{"$f":"('Sconti Import'!T283-('Sconti Import'!T283*'Sconti Import'!E283))*'Zone Export'!$V$14","v":336.3},{"$f":"('Sconti Import'!U283-('Sconti Import'!U283*'Sconti Import'!F283))*'Zone Export'!$V$14","v":441.95},{"$f":"('Sconti Import'!V283-('Sconti Import'!V283*'Sconti Import'!G283))*'Zone Export'!$V$14","v":336.15},{"$f":"('Sconti Import'!W283-('Sconti Import'!W283*'Sconti Import'!H283))*'Zone Export'!$V$14","v":336.2},{"$f":"('Sconti Import'!X283-('Sconti Import'!X283*'Sconti Import'!I283))*'Zone Export'!$V$14","v":382.95},{"$f":"('Sconti Import'!Y283-('Sconti Import'!Y283*'Sconti Import'!J283))*'Zone Export'!$V$14","v":474.75},{"$f":"('Sconti Import'!Z283-('Sconti Import'!Z283*'Sconti Import'!K283))*'Zone Export'!$V$14","v":363.9},{"$f":"('Sconti Import'!AA283-('Sconti Import'!AA283*'Sconti Import'!L283))*'Zone Export'!$V$14","v":436.2},{"$f":"('Sconti Import'!AB283-('Sconti Import'!AB283*'Sconti Import'!M283))*'Zone Export'!$V$14","v":430.05},{"$f":"('Sconti Import'!AC283-('Sconti Import'!AC283*'Sconti Import'!N283))*'Zone Export'!$V$14","v":589.75},{"$f":"('Sconti Import'!AD283-('Sconti Import'!AD283*'Sconti Import'!O283))*'Zone Export'!$V$14","v":685.75}]
[null,"19 kg",null,{"$f":"('Sconti Import'!S284-('Sconti Import'!S284*'Sconti Import'!D284))*'Zone Export'!$V$14","v":276.85000000000002},{"$f":"('Sconti Import'!T284-('Sconti Import'!T284*'Sconti Import'!E284))*'Zone Export'!$V$14","v":345.15},{"$f":"('Sconti Import'!U284-('Sconti Import'!U284*'Sconti Import'!F284))*'Zone Export'!$V$14","v":451.65},{"$f":"('Sconti Import'!V284-('Sconti Import'!V284*'Sconti Import'!G284))*'Zone Export'!$V$14","v":342.8},{"$f":"('Sconti Import'!W284-('Sconti Import'!W284*'Sconti Import'!H284))*'Zone Export'!$V$14","v":342.85},{"$f":"('Sconti Import'!X284-('Sconti Import'!X284*'Sconti Import'!I284))*'Zone Export'!$V$14","v":392},{"$f":"('Sconti Import'!Y284-('Sconti Import'!Y284*'Sconti Import'!J284))*'Zone Export'!$V$14","v":486.25},{"$f":"('Sconti Import'!Z284-('Sconti Import'!Z284*'Sconti Import'!K284))*'Zone Export'!$V$14","v":375.6},{"$f":"('Sconti Import'!AA284-('Sconti Import'!AA284*'Sconti Import'!L284))*'Zone Export'!$V$14","v":451},{"$f":"('Sconti Import'!AB284-('Sconti Import'!AB284*'Sconti Import'!M284))*'Zone Export'!$V$14","v":444.65},{"$f":"('Sconti Import'!AC284-('Sconti Import'!AC284*'Sconti Import'!N284))*'Zone Export'!$V$14","v":607.79999999999995},{"$f":"('Sconti Import'!AD284-('Sconti Import'!AD284*'Sconti Import'!O284))*'Zone Export'!$V$14","v":713.7}]
[null,"20 kg",null,{"$f":"('Sconti Import'!S285-('Sconti Import'!S285*'Sconti Import'!D285))*'Zone Export'!$V$14","v":281.75},{"$f":"('Sconti Import'!T285-('Sconti Import'!T285*'Sconti Import'!E285))*'Zone Export'!$V$14","v":354.15},{"$f":"('Sconti Import'!U285-('Sconti Import'!U285*'Sconti Import'!F285))*'Zone Export'!$V$14","v":461.35},{"$f":"('Sconti Import'!V285-('Sconti Import'!V285*'Sconti Import'!G285))*'Zone Export'!$V$14","v":349.35},{"$f":"('Sconti Import'!W285-('Sconti Import'!W285*'Sconti Import'!H285))*'Zone Export'!$V$14","v":349.4},{"$f":"('Sconti Import'!X285-('Sconti Import'!X285*'Sconti Import'!I285))*'Zone Export'!$V$14","v":400.8},{"$f":"('Sconti Import'!Y285-('Sconti Import'!Y285*'Sconti Import'!J285))*'Zone Export'!$V$14","v":497.7},{"$f":"('Sconti Import'!Z285-('Sconti Import'!Z285*'Sconti Import'!K285))*'Zone Export'!$V$14","v":387.25},{"$f":"('Sconti Import'!AA285-('Sconti Import'!AA285*'Sconti Import'!L285))*'Zone Export'!$V$14","v":465.95},{"$f":"('Sconti Import'!AB285-('Sconti Import'!AB285*'Sconti Import'!M285))*'Zone Export'!$V$14","v":459.4},{"$f":"('Sconti Import'!AC285-('Sconti Import'!AC285*'Sconti Import'!N285))*'Zone Export'!$V$14","v":625.70000000000005},{"$f":"('Sconti Import'!AD285-('Sconti Import'!AD285*'Sconti Import'!O285))*'Zone Export'!$V$14","v":741.6}]
[null,"22 kg",null,{"$f":"('Sconti Import'!S286-('Sconti Import'!S286*'Sconti Import'!D286))*'Zone Export'!$V$14","v":292.60000000000002},{"$f":"('Sconti Import'!T286-('Sconti Import'!T286*'Sconti Import'!E286))*'Zone Export'!$V$14","v":372.4},{"$f":"('Sconti Import'!U286-('Sconti Import'!U286*'Sconti Import'!F286))*'Zone Export'!$V$14","v":477.95},{"$f":"('Sconti Import'!V286-('Sconti Import'!V286*'Sconti Import'!G286))*'Zone Export'!$V$14","v":364.6},{"$f":"('Sconti Import'!W286-('Sconti Import'!W286*'Sconti Import'!H286))*'Zone Export'!$V$14","v":364.65},{"$f":"('Sconti Import'!X286-('Sconti Import'!X286*'Sconti Import'!I286))*'Zone Export'!$V$14","v":417.75},{"$f":"('Sconti Import'!Y286-('Sconti Import'!Y286*'Sconti Import'!J286))*'Zone Export'!$V$14","v":522.95000000000005},{"$f":"('Sconti Import'!Z286-('Sconti Import'!Z286*'Sconti Import'!K286))*'Zone Export'!$V$14","v":415.55},{"$f":"('Sconti Import'!AA286-('Sconti Import'!AA286*'Sconti Import'!L286))*'Zone Export'!$V$14","v":498.2},{"$f":"('Sconti Import'!AB286-('Sconti Import'!AB286*'Sconti Import'!M286))*'Zone Export'!$V$14","v":491.1},{"$f":"('Sconti Import'!AC286-('Sconti Import'!AC286*'Sconti Import'!N286))*'Zone Export'!$V$14","v":662.8},{"$f":"('Sconti Import'!AD286-('Sconti Import'!AD286*'Sconti Import'!O286))*'Zone Export'!$V$14","v":804.55}]
[null,"24 kg",null,{"$f":"('Sconti Import'!S287-('Sconti Import'!S287*'Sconti Import'!D287))*'Zone Export'!$V$14","v":302.10000000000002},{"$f":"('Sconti Import'!T287-('Sconti Import'!T287*'Sconti Import'!E287))*'Zone Export'!$V$14","v":388.95},{"$f":"('Sconti Import'!U287-('Sconti Import'!U287*'Sconti Import'!F287))*'Zone Export'!$V$14","v":492.35},{"$f":"('Sconti Import'!V287-('Sconti Import'!V287*'Sconti Import'!G287))*'Zone Export'!$V$14","v":378.1},{"$f":"('Sconti Import'!W287-('Sconti Import'!W287*'Sconti Import'!H287))*'Zone Export'!$V$14","v":378.15},{"$f":"('Sconti Import'!X287-('Sconti Import'!X287*'Sconti Import'!I287))*'Zone Export'!$V$14","v":432.8},{"$f":"('Sconti Import'!Y287-('Sconti Import'!Y287*'Sconti Import'!J287))*'Zone Export'!$V$14","v":545.70000000000005},{"$f":"('Sconti Import'!Z287-('Sconti Import'!Z287*'Sconti Import'!K287))*'Zone Export'!$V$14","v":442.05},{"$f":"('Sconti Import'!AA287-('Sconti Import'!AA287*'Sconti Import'!L287))*'Zone Export'!$V$14","v":528.1},{"$f":"('Sconti Import'!AB287-('Sconti Import'!AB287*'Sconti Import'!M287))*'Zone Export'!$V$14","v":520.5},{"$f":"('Sconti Import'!AC287-('Sconti Import'!AC287*'Sconti Import'!N287))*'Zone Export'!$V$14","v":696.65},{"$f":"('Sconti Import'!AD287-('Sconti Import'!AD287*'Sconti Import'!O287))*'Zone Export'!$V$14","v":863.8}]
[null,"26 kg",null,{"$f":"('Sconti Import'!S288-('Sconti Import'!S288*'Sconti Import'!D288))*'Zone Export'!$V$14","v":311.60000000000002},{"$f":"('Sconti Import'!T288-('Sconti Import'!T288*'Sconti Import'!E288))*'Zone Export'!$V$14","v":405.55},{"$f":"('Sconti Import'!U288-('Sconti Import'!U288*'Sconti Import'!F288))*'Zone Export'!$V$14","v":506.8},{"$f":"('Sconti Import'!V288-('Sconti Import'!V288*'Sconti Import'!G288))*'Zone Export'!$V$14","v":391.5},{"$f":"('Sconti Import'!W288-('Sconti Import'!W288*'Sconti Import'!H288))*'Zone Export'!$V$14","v":391.55},{"$f":"('Sconti Import'!X288-('Sconti Import'!X288*'Sconti Import'!I288))*'Zone Export'!$V$14","v":447.85},{"$f":"('Sconti Import'!Y288-('Sconti Import'!Y288*'Sconti Import'!J288))*'Zone Export'!$V$14","v":568.45000000000005},{"$f":"('Sconti Import'!Z288-('Sconti Import'!Z288*'Sconti Import'!K288))*'Zone Export'!$V$14","v":468.4},{"$f":"('Sconti Import'!AA288-('Sconti Import'!AA288*'Sconti Import'!L288))*'Zone Export'!$V$14","v":558.1},{"$f":"('Sconti Import'!AB288-('Sconti Import'!AB288*'Sconti Import'!M288))*'Zone Export'!$V$14","v":549.9},{"$f":"('Sconti Import'!AC288-('Sconti Import'!AC288*'Sconti Import'!N288))*'Zone Export'!$V$14","v":730.85},{"$f":"('Sconti Import'!AD288-('Sconti Import'!AD288*'Sconti Import'!O288))*'Zone Export'!$V$14","v":923.15}]
[null,"28 kg",null,{"$f":"('Sconti Import'!S289-('Sconti Import'!S289*'Sconti Import'!D289))*'Zone Export'!$V$14","v":320.95},{"$f":"('Sconti Import'!T289-('Sconti Import'!T289*'Sconti Import'!E289))*'Zone Export'!$V$14","v":422},{"$f":"('Sconti Import'!U289-('Sconti Import'!U289*'Sconti Import'!F289))*'Zone Export'!$V$14","v":521.29999999999995},{"$f":"('Sconti Import'!V289-('Sconti Import'!V289*'Sconti Import'!G289))*'Zone Export'!$V$14","v":404.9},{"$f":"('Sconti Import'!W289-('Sconti Import'!W289*'Sconti Import'!H289))*'Zone Export'!$V$14","v":404.95},{"$f":"('Sconti Import'!X289-('Sconti Import'!X289*'Sconti Import'!I289))*'Zone Export'!$V$14","v":462.85},{"$f":"('Sconti Import'!Y289-('Sconti Import'!Y289*'Sconti Import'!J289))*'Zone Export'!$V$14","v":591.15},{"$f":"('Sconti Import'!Z289-('Sconti Import'!Z289*'Sconti Import'!K289))*'Zone Export'!$V$14","v":494.85},{"$f":"('Sconti Import'!AA289-('Sconti Import'!AA289*'Sconti Import'!L289))*'Zone Export'!$V$14","v":587.95000000000005},{"$f":"('Sconti Import'!AB289-('Sconti Import'!AB289*'Sconti Import'!M289))*'Zone Export'!$V$14","v":579.29999999999995},{"$f":"('Sconti Import'!AC289-('Sconti Import'!AC289*'Sconti Import'!N289))*'Zone Export'!$V$14","v":764.9},{"$f":"('Sconti Import'!AD289-('Sconti Import'!AD289*'Sconti Import'!O289))*'Zone Export'!$V$14","v":982.45}]
[null,"30 kg",null,{"$f":"('Sconti Import'!S290-('Sconti Import'!S290*'Sconti Import'!D290))*'Zone Export'!$V$14","v":330.55},{"$f":"('Sconti Import'!T290-('Sconti Import'!T290*'Sconti Import'!E290))*'Zone Export'!$V$14","v":438.6},{"$f":"('Sconti Import'!U290-('Sconti Import'!U290*'Sconti Import'!F290))*'Zone Export'!$V$14","v":535.70000000000005},{"$f":"('Sconti Import'!V290-('Sconti Import'!V290*'Sconti Import'!G290))*'Zone Export'!$V$14","v":418.4},{"$f":"('Sconti Import'!W290-('Sconti Import'!W290*'Sconti Import'!H290))*'Zone Export'!$V$14","v":418.45},{"$f":"('Sconti Import'!X290-('Sconti Import'!X290*'Sconti Import'!I290))*'Zone Export'!$V$14","v":477.8},{"$f":"('Sconti Import'!Y290-('Sconti Import'!Y290*'Sconti Import'!J290))*'Zone Export'!$V$14","v":613.95000000000005},{"$f":"('Sconti Import'!Z290-('Sconti Import'!Z290*'Sconti Import'!K290))*'Zone Export'!$V$14","v":521.25},{"$f":"('Sconti Import'!AA290-('Sconti Import'!AA290*'Sconti Import'!L290))*'Zone Export'!$V$14","v":617.79999999999995},{"$f":"('Sconti Import'!AB290-('Sconti Import'!AB290*'Sconti Import'!M290))*'Zone Export'!$V$14","v":608.79999999999995},{"$f":"('Sconti Import'!AC290-('Sconti Import'!AC290*'Sconti Import'!N290))*'Zone Export'!$V$14","v":798.9},{"$f":"('Sconti Import'!AD290-('Sconti Import'!AD290*'Sconti Import'!O290))*'Zone Export'!$V$14","v":1041.6500000000001}]
[null,"35 kg",null,{"$f":"('Sconti Import'!S291-('Sconti Import'!S291*'Sconti Import'!D291))*'Zone Export'!$V$14","v":351.05},{"$f":"('Sconti Import'!T291-('Sconti Import'!T291*'Sconti Import'!E291))*'Zone Export'!$V$14","v":476.7},{"$f":"('Sconti Import'!U291-('Sconti Import'!U291*'Sconti Import'!F291))*'Zone Export'!$V$14","v":569.1},{"$f":"('Sconti Import'!V291-('Sconti Import'!V291*'Sconti Import'!G291))*'Zone Export'!$V$14","v":448.9},{"$f":"('Sconti Import'!W291-('Sconti Import'!W291*'Sconti Import'!H291))*'Zone Export'!$V$14","v":448.95},{"$f":"('Sconti Import'!X291-('Sconti Import'!X291*'Sconti Import'!I291))*'Zone Export'!$V$14","v":513.65},{"$f":"('Sconti Import'!Y291-('Sconti Import'!Y291*'Sconti Import'!J291))*'Zone Export'!$V$14","v":675.25},{"$f":"('Sconti Import'!Z291-('Sconti Import'!Z291*'Sconti Import'!K291))*'Zone Export'!$V$14","v":587.25},{"$f":"('Sconti Import'!AA291-('Sconti Import'!AA291*'Sconti Import'!L291))*'Zone Export'!$V$14","v":692.65},{"$f":"('Sconti Import'!AB291-('Sconti Import'!AB291*'Sconti Import'!M291))*'Zone Export'!$V$14","v":682.25},{"$f":"('Sconti Import'!AC291-('Sconti Import'!AC291*'Sconti Import'!N291))*'Zone Export'!$V$14","v":884.2},{"$f":"('Sconti Import'!AD291-('Sconti Import'!AD291*'Sconti Import'!O291))*'Zone Export'!$V$14","v":1187.45}]
[null,"40 kg",null,{"$f":"('Sconti Import'!S292-('Sconti Import'!S292*'Sconti Import'!D292))*'Zone Export'!$V$14","v":371.5},{"$f":"('Sconti Import'!T292-('Sconti Import'!T292*'Sconti Import'!E292))*'Zone Export'!$V$14","v":514.75},{"$f":"('Sconti Import'!U292-('Sconti Import'!U292*'Sconti Import'!F292))*'Zone Export'!$V$14","v":602.4},{"$f":"('Sconti Import'!V292-('Sconti Import'!V292*'Sconti Import'!G292))*'Zone Export'!$V$14","v":479.45},{"$f":"('Sconti Import'!W292-('Sconti Import'!W292*'Sconti Import'!H292))*'Zone Export'!$V$14","v":479.5},{"$f":"('Sconti Import'!X292-('Sconti Import'!X292*'Sconti Import'!I292))*'Zone Export'!$V$14","v":549.54999999999995},{"$f":"('Sconti Import'!Y292-('Sconti Import'!Y292*'Sconti Import'!J292))*'Zone Export'!$V$14","v":736.3},{"$f":"('Sconti Import'!Z292-('Sconti Import'!Z292*'Sconti Import'!K292))*'Zone Export'!$V$14","v":653.20000000000005},{"$f":"('Sconti Import'!AA292-('Sconti Import'!AA292*'Sconti Import'!L292))*'Zone Export'!$V$14","v":767.5},{"$f":"('Sconti Import'!AB292-('Sconti Import'!AB292*'Sconti Import'!M292))*'Zone Export'!$V$14","v":755.65},{"$f":"('Sconti Import'!AC292-('Sconti Import'!AC292*'Sconti Import'!N292))*'Zone Export'!$V$14","v":969.5},{"$f":"('Sconti Import'!AD292-('Sconti Import'!AD292*'Sconti Import'!O292))*'Zone Export'!$V$14","v":1333.45}]
[null,"45 kg",null,{"$f":"('Sconti Import'!S293-('Sconti Import'!S293*'Sconti Import'!D293))*'Zone Export'!$V$14","v":392.05},{"$f":"('Sconti Import'!T293-('Sconti Import'!T293*'Sconti Import'!E293))*'Zone Export'!$V$14","v":552.70000000000005},{"$f":"('Sconti Import'!U293-('Sconti Import'!U293*'Sconti Import'!F293))*'Zone Export'!$V$14","v":635.79999999999995},{"$f":"('Sconti Import'!V293-('Sconti Import'!V293*'Sconti Import'!G293))*'Zone Export'!$V$14","v":509.95},{"$f":"('Sconti Import'!W293-('Sconti Import'!W293*'Sconti Import'!H293))*'Zone Export'!$V$14","v":510},{"$f":"('Sconti Import'!X293-('Sconti Import'!X293*'Sconti Import'!I293))*'Zone Export'!$V$14","v":585.29999999999995},{"$f":"('Sconti Import'!Y293-('Sconti Import'!Y293*'Sconti Import'!J293))*'Zone Export'!$V$14","v":797.65},{"$f":"('Sconti Import'!Z293-('Sconti Import'!Z293*'Sconti Import'!K293))*'Zone Export'!$V$14","v":719.05},{"$f":"('Sconti Import'!AA293-('Sconti Import'!AA293*'Sconti Import'!L293))*'Zone Export'!$V$14","v":842.15},{"$f":"('Sconti Import'!AB293-('Sconti Import'!AB293*'Sconti Import'!M293))*'Zone Export'!$V$14","v":829.05},{"$f":"('Sconti Import'!AC293-('Sconti Import'!AC293*'Sconti Import'!N293))*'Zone Export'!$V$14","v":1054.8},{"$f":"('Sconti Import'!AD293-('Sconti Import'!AD293*'Sconti Import'!O293))*'Zone Export'!$V$14","v":1479.35}]
[null,"50 kg",null,{"$f":"('Sconti Import'!S294-('Sconti Import'!S294*'Sconti Import'!D294))*'Zone Export'!$V$14","v":412.6},{"$f":"('Sconti Import'!T294-('Sconti Import'!T294*'Sconti Import'!E294))*'Zone Export'!$V$14","v":590.79999999999995},{"$f":"('Sconti Import'!U294-('Sconti Import'!U294*'Sconti Import'!F294))*'Zone Export'!$V$14","v":669.15},{"$f":"('Sconti Import'!V294-('Sconti Import'!V294*'Sconti Import'!G294))*'Zone Export'!$V$14","v":540.4},{"$f":"('Sconti Import'!W294-('Sconti Import'!W294*'Sconti Import'!H294))*'Zone Export'!$V$14","v":540.45000000000005},{"$f":"('Sconti Import'!X294-('Sconti Import'!X294*'Sconti Import'!I294))*'Zone Export'!$V$14","v":621.1},{"$f":"('Sconti Import'!Y294-('Sconti Import'!Y294*'Sconti Import'!J294))*'Zone Export'!$V$14","v":858.9},{"$f":"('Sconti Import'!Z294-('Sconti Import'!Z294*'Sconti Import'!K294))*'Zone Export'!$V$14","v":785},{"$f":"('Sconti Import'!AA294-('Sconti Import'!AA294*'Sconti Import'!L294))*'Zone Export'!$V$14","v":917},{"$f":"('Sconti Import'!AB294-('Sconti Import'!AB294*'Sconti Import'!M294))*'Zone Export'!$V$14","v":902.6},{"$f":"('Sconti Import'!AC294-('Sconti Import'!AC294*'Sconti Import'!N294))*'Zone Export'!$V$14","v":1140.25},{"$f":"('Sconti Import'!AD294-('Sconti Import'!AD294*'Sconti Import'!O294))*'Zone Export'!$V$14","v":1625.4}]
[null,"55 kg",null,{"$f":"('Sconti Import'!S295-('Sconti Import'!S295*'Sconti Import'!D295))*'Zone Export'!$V$14","v":433.1},{"$f":"('Sconti Import'!T295-('Sconti Import'!T295*'Sconti Import'!E295))*'Zone Export'!$V$14","v":628.79999999999995},{"$f":"('Sconti Import'!U295-('Sconti Import'!U295*'Sconti Import'!F295))*'Zone Export'!$V$14","v":702.6},{"$f":"('Sconti Import'!V295-('Sconti Import'!V295*'Sconti Import'!G295))*'Zone Export'!$V$14","v":571},{"$f":"('Sconti Import'!W295-('Sconti Import'!W295*'Sconti Import'!H295))*'Zone Export'!$V$14","v":571.04999999999995},{"$f":"('Sconti Import'!X295-('Sconti Import'!X295*'Sconti Import'!I295))*'Zone Export'!$V$14","v":656.85},{"$f":"('Sconti Import'!Y295-('Sconti Import'!Y295*'Sconti Import'!J295))*'Zone Export'!$V$14","v":920},{"$f":"('Sconti Import'!Z295-('Sconti Import'!Z295*'Sconti Import'!K295))*'Zone Export'!$V$14","v":850.85},{"$f":"('Sconti Import'!AA295-('Sconti Import'!AA295*'Sconti Import'!L295))*'Zone Export'!$V$14","v":991.75},{"$f":"('Sconti Import'!AB295-('Sconti Import'!AB295*'Sconti Import'!M295))*'Zone Export'!$V$14","v":976.05},{"$f":"('Sconti Import'!AC295-('Sconti Import'!AC295*'Sconti Import'!N295))*'Zone Export'!$V$14","v":1225.55},{"$f":"('Sconti Import'!AD295-('Sconti Import'!AD295*'Sconti Import'!O295))*'Zone Export'!$V$14","v":1771.4}]
[null,"60 kg",null,{"$f":"('Sconti Import'!S296-('Sconti Import'!S296*'Sconti Import'!D296))*'Zone Export'!$V$14","v":453.7},{"$f":"('Sconti Import'!T296-('Sconti Import'!T296*'Sconti Import'!E296))*'Zone Export'!$V$14","v":666.75},{"$f":"('Sconti Import'!U296-('Sconti Import'!U296*'Sconti Import'!F296))*'Zone Export'!$V$14","v":735.95},{"$f":"('Sconti Import'!V296-('Sconti Import'!V296*'Sconti Import'!G296))*'Zone Export'!$V$14","v":601.45000000000005},{"$f":"('Sconti Import'!W296-('Sconti Import'!W296*'Sconti Import'!H296))*'Zone Export'!$V$14","v":601.5},{"$f":"('Sconti Import'!X296-('Sconti Import'!X296*'Sconti Import'!I296))*'Zone Export'!$V$14","v":692.75},{"$f":"('Sconti Import'!Y296-('Sconti Import'!Y296*'Sconti Import'!J296))*'Zone Export'!$V$14","v":981.25},{"$f":"('Sconti Import'!Z296-('Sconti Import'!Z296*'Sconti Import'!K296))*'Zone Export'!$V$14","v":916.8},{"$f":"('Sconti Import'!AA296-('Sconti Import'!AA296*'Sconti Import'!L296))*'Zone Export'!$V$14","v":1066.5},{"$f":"('Sconti Import'!AB296-('Sconti Import'!AB296*'Sconti Import'!M296))*'Zone Export'!$V$14","v":1049.45},{"$f":"('Sconti Import'!AC296-('Sconti Import'!AC296*'Sconti Import'!N296))*'Zone Export'!$V$14","v":1310.95},{"$f":"('Sconti Import'!AD296-('Sconti Import'!AD296*'Sconti Import'!O296))*'Zone Export'!$V$14","v":1917.4}]
[null,"65 kg",null,{"$f":"('Sconti Import'!S297-('Sconti Import'!S297*'Sconti Import'!D297))*'Zone Export'!$V$14","v":474.2},{"$f":"('Sconti Import'!T297-('Sconti Import'!T297*'Sconti Import'!E297))*'Zone Export'!$V$14","v":704.8},{"$f":"('Sconti Import'!U297-('Sconti Import'!U297*'Sconti Import'!F297))*'Zone Export'!$V$14","v":769.25},{"$f":"('Sconti Import'!V297-('Sconti Import'!V297*'Sconti Import'!G297))*'Zone Export'!$V$14","v":632.04999999999995},{"$f":"('Sconti Import'!W297-('Sconti Import'!W297*'Sconti Import'!H297))*'Zone Export'!$V$14","v":632.1},{"$f":"('Sconti Import'!X297-('Sconti Import'!X297*'Sconti Import'!I297))*'Zone Export'!$V$14","v":728.55},{"$f":"('Sconti Import'!Y297-('Sconti Import'!Y297*'Sconti Import'!J297))*'Zone Export'!$V$14","v":1042.45},{"$f":"('Sconti Import'!Z297-('Sconti Import'!Z297*'Sconti Import'!K297))*'Zone Export'!$V$14","v":982.75},{"$f":"('Sconti Import'!AA297-('Sconti Import'!AA297*'Sconti Import'!L297))*'Zone Export'!$V$14","v":1141.3},{"$f":"('Sconti Import'!AB297-('Sconti Import'!AB297*'Sconti Import'!M297))*'Zone Export'!$V$14","v":1122.95},{"$f":"('Sconti Import'!AC297-('Sconti Import'!AC297*'Sconti Import'!N297))*'Zone Export'!$V$14","v":1396.35},{"$f":"('Sconti Import'!AD297-('Sconti Import'!AD297*'Sconti Import'!O297))*'Zone Export'!$V$14","v":2063.4}]
[null,"70 kg",null,{"$f":"('Sconti Import'!S298-('Sconti Import'!S298*'Sconti Import'!D298))*'Zone Export'!$V$14","v":494.95},{"$f":"('Sconti Import'!T298-('Sconti Import'!T298*'Sconti Import'!E298))*'Zone Export'!$V$14","v":742.85},{"$f":"('Sconti Import'!U298-('Sconti Import'!U298*'Sconti Import'!F298))*'Zone Export'!$V$14","v":802.55},{"$f":"('Sconti Import'!V298-('Sconti Import'!V298*'Sconti Import'!G298))*'Zone Export'!$V$14","v":662.45},{"$f":"('Sconti Import'!W298-('Sconti Import'!W298*'Sconti Import'!H298))*'Zone Export'!$V$14","v":662.5},{"$f":"('Sconti Import'!X298-('Sconti Import'!X298*'Sconti Import'!I298))*'Zone Export'!$V$14","v":764.5},{"$f":"('Sconti Import'!Y298-('Sconti Import'!Y298*'Sconti Import'!J298))*'Zone Export'!$V$14","v":1103.55},{"$f":"('Sconti Import'!Z298-('Sconti Import'!Z298*'Sconti Import'!K298))*'Zone Export'!$V$14","v":1048.75},{"$f":"('Sconti Import'!AA298-('Sconti Import'!AA298*'Sconti Import'!L298))*'Zone Export'!$V$14","v":1216.2},{"$f":"('Sconti Import'!AB298-('Sconti Import'!AB298*'Sconti Import'!M298))*'Zone Export'!$V$14","v":1196.3499999999999},{"$f":"('Sconti Import'!AC298-('Sconti Import'!AC298*'Sconti Import'!N298))*'Zone Export'!$V$14","v":1481.75},{"$f":"('Sconti Import'!AD298-('Sconti Import'!AD298*'Sconti Import'!O298))*'Zone Export'!$V$14","v":2209.5}]
[null,"Oltre 70 Kg"]
[null,"Prezzo al Kg",null,{"$f":"('Sconti Import'!S300-('Sconti Import'!S300*'Sconti Import'!D300))*'Zone Export'!$V$14","v":7.07},{"$f":"('Sconti Import'!T300-('Sconti Import'!T300*'Sconti Import'!E300))*'Zone Export'!$V$14","v":10.61},{"$f":"('Sconti Import'!U300-('Sconti Import'!U300*'Sconti Import'!F300))*'Zone Export'!$V$14","v":11.46},{"$f":"('Sconti Import'!V300-('Sconti Import'!V300*'Sconti Import'!G300))*'Zone Export'!$V$14","v":9.4600000000000009},{"$f":"('Sconti Import'!W300-('Sconti Import'!W300*'Sconti Import'!H300))*'Zone Export'!$V$14","v":9.4700000000000006},{"$f":"('Sconti Import'!X300-('Sconti Import'!X300*'Sconti Import'!I300))*'Zone Export'!$V$14","v":10.92},{"$f":"('Sconti Import'!Y300-('Sconti Import'!Y300*'Sconti Import'!J300))*'Zone Export'!$V$14","v":15.76},{"$f":"('Sconti Import'!Z300-('Sconti Import'!Z300*'Sconti Import'!K300))*'Zone Export'!$V$14","v":14.98},{"$f":"('Sconti Import'!AA300-('Sconti Import'!AA300*'Sconti Import'!L300))*'Zone Export'!$V$14","v":17.37},{"$f":"('Sconti Import'!AB300-('Sconti Import'!AB300*'Sconti Import'!M300))*'Zone Export'!$V$14","v":17.09},{"$f":"('Sconti Import'!AC300-('Sconti Import'!AC300*'Sconti Import'!N300))*'Zone Export'!$V$14","v":21.16},{"$f":"('Sconti Import'!AD300-('Sconti Import'!AD300*'Sconti Import'!O300))*'Zone Export'!$V$14","v":31.56}]
[null,"Tariffa Minima",null,{"$f":"('Sconti Import'!S301-('Sconti Import'!S301*'Sconti Import'!D301))*'Zone Export'!$V$14","v":494.95},{"$f":"('Sconti Import'!T301-('Sconti Import'!T301*'Sconti Import'!E301))*'Zone Export'!$V$14","v":742.85},{"$f":"('Sconti Import'!U301-('Sconti Import'!U301*'Sconti Import'!F301))*'Zone Export'!$V$14","v":802.55},{"$f":"('Sconti Import'!V301-('Sconti Import'!V301*'Sconti Import'!G301))*'Zone Export'!$V$14","v":662.45},{"$f":"('Sconti Import'!W301-('Sconti Import'!W301*'Sconti Import'!H301))*'Zone Export'!$V$14","v":662.5},{"$f":"('Sconti Import'!X301-('Sconti Import'!X301*'Sconti Import'!I301))*'Zone Export'!$V$14","v":764.5},{"$f":"('Sconti Import'!Y301-('Sconti Import'!Y301*'Sconti Import'!J301))*'Zone Export'!$V$14","v":1103.55},{"$f":"('Sconti Import'!Z301-('Sconti Import'!Z301*'Sconti Import'!K301))*'Zone Export'!$V$14","v":1048.75},{"$f":"('Sconti Import'!AA301-('Sconti Import'!AA301*'Sconti Import'!L301))*'Zone Export'!$V$14","v":1216.2},{"$f":"('Sconti Import'!AB301-('Sconti Import'!AB301*'Sconti Import'!M301))*'Zone Export'!$V$14","v":1196.3499999999999},{"$f":"('Sconti Import'!AC301-('Sconti Import'!AC301*'Sconti Import'!N301))*'Zone Export'!$V$14","v":1481.75},{"$f":"('Sconti Import'!AD301-('Sconti Import'!AD301*'Sconti Import'!O301))*'Zone Export'!$V$14","v":2209.5}]

{"sheet":"Express Import","index":14,"n_rows":71,"n_cols":15,"rows_kept":71,"cut":false,"hidden":false,"merged":[[23,1,23,2],[5,1,6,14],[7,1,7,14],[22,3,22,7],[22,1,22,2],[10,9,10,14],[22,9,22,14],[10,3,10,7],[10,1,10,2],[11,1,11,2],[8,11,8,14],[13,1,18,1]]}
[]
[]
[]
[]
[]
[]
[]
[null,"* Per ulteriori dettagli su Garanzie di Rimborso, Copertura Servizi e Condizioni contattare il Numero 02 30 30 30 39 o consultare il sito www.ups.com"]
[null,null,null,null,null,null,null,null,null,null,"Spettabile",{"$f":"+Cover!$C$2","v":"GLOCAL WEB"}]
[]
[null,"€",null,"Unione Europea",null,null,null,null,"Resto d'Europa"," Resto del Mondo"]
[null,"Zona",null,2,3,4,41,42,5,6,7,8,81,9,10]
[null,"Envelope",null,{"$f":"('Sconti Import'!R6-('Sconti Import'!R6*'Sconti Import'!C6))*'Zone Export'!$V$14","v":22.95},{"$f":"('Sconti Import'!S6-('Sconti Import'!S6*'Sconti Import'!D6))*'Zone Export'!$V$14","v":26.662499999999994},{"$f":"('Sconti Import'!T6-('Sconti Import'!T6*'Sconti Import'!E6))*'Zone Export'!$V$14","v":33.974999999999994},{"$f":"('Sconti Import'!U6-('Sconti Import'!U6*'Sconti Import'!F6))*'Zone Export'!$V$14","v":22.342499999999998},{"$f":"('Sconti Import'!V6-('Sconti Import'!V6*'Sconti Import'!G6))*'Zone Export'!$V$14","v":23.174999999999997},{"$f":"('Sconti Import'!W6-('Sconti Import'!W6*'Sconti Import'!H6))*'Zone Export'!$V$14","v":24.749999999999996},{"$f":"('Sconti Import'!X6-('Sconti Import'!X6*'Sconti Import'!I6))*'Zone Export'!$V$14","v":28.237499999999997},{"$f":"('Sconti Import'!Y6-('Sconti Import'!Y6*'Sconti Import'!J6))*'Zone Export'!$V$14","v":20.857499999999998},{"$f":"('Sconti Import'!Z6-('Sconti Import'!Z6*'Sconti Import'!K6))*'Zone Export'!$V$14","v":24.434999999999995},{"$f":"('Sconti Import'!AA6-('Sconti Import'!AA6*'Sconti Import'!L6))*'Zone Export'!$V$14","v":22.297499999999996},{"$f":"('Sconti Import'!AB6-('Sconti Import'!AB6*'Sconti Import'!M6))*'Zone Export'!$V$14","v":24.884999999999998},{"$f":"('Sconti Import'!AC6-('Sconti Import'!AC6*'Sconti Import'!N6))*'Zone Export'!$V$14","v":27.674999999999997}]
[null,"Documenti","Peso"]
[null,null,"0,5 kg",{"$f":"('Sconti Import'!R8-('Sconti Import'!R8*'Sconti Import'!C8))*'Zone Export'!$V$14","v":33.637499999999996},{"$f":"('Sconti Import'!S8-('Sconti Import'!S8*'Sconti Import'!D8))*'Zone Export'!$V$14","v":33.727499999999999},{"$f":"('Sconti Import'!T8-('Sconti Import'!T8*'Sconti Import'!E8))*'Zone Export'!$V$14","v":47.002499999999998},{"$f":"('Sconti Import'!U8-('Sconti Import'!U8*'Sconti Import'!F8))*'Zone Export'!$V$14","v":43.762499999999996},{"$f":"('Sconti Import'!V8-('Sconti Import'!V8*'Sconti Import'!G8))*'Zone Export'!$V$14","v":44.93249999999999},{"$f":"('Sconti Import'!W8-('Sconti Import'!W8*'Sconti Import'!H8))*'Zone Export'!$V$14","v":44.954999999999998},{"$f":"('Sconti Import'!X8-('Sconti Import'!X8*'Sconti Import'!I8))*'Zone Export'!$V$14","v":44.977499999999999},{"$f":"('Sconti Import'!Y8-('Sconti Import'!Y8*'Sconti Import'!J8))*'Zone Export'!$V$14","v":28.417499999999997},{"$f":"('Sconti Import'!Z8-('Sconti Import'!Z8*'Sconti Import'!K8))*'Zone Export'!$V$14","v":32.354999999999997},{"$f":"('Sconti Import'!AA8-('Sconti Import'!AA8*'Sconti Import'!L8))*'Zone Export'!$V$14","v":29.339999999999996},{"$f":"('Sconti Import'!AB8-('Sconti Import'!AB8*'Sconti Import'!M8))*'Zone Export'!$V$14","v":42.007499999999993},{"$f":"('Sconti Import'!AC8-('Sconti Import'!AC8*'Sconti Import'!N8))*'Zone Export'!$V$14","v":44.887499999999996}]
[null,null,"1,0 kg",{"$f":"('Sconti Import'!R9-('Sconti Import'!R9*'Sconti Import'!C9))*'Zone Export'!$V$14","v":37.934999999999995},{"$f":"('Sconti Import'!S9-('Sconti Import'!S9*'Sconti Import'!D9))*'Zone Export'!$V$14","v":39.239999999999995},{"$f":"('Sconti Import'!T9-('Sconti Import'!T9*'Sconti Import'!E9))*'Zone Export'!$V$14","v":54.674999999999997},{"$f":"('Sconti Import'!U9-('Sconti Import'!U9*'Sconti Import'!F9))*'Zone Export'!$V$14","v":48.757499999999993},{"$f":"('Sconti Import'!V9-('Sconti Import'!V9*'Sconti Import'!G9))*'Zone Export'!$V$14","v":50.04},{"$f":"('Sconti Import'!W9-('Sconti Import'!W9*'Sconti Import'!H9))*'Zone Export'!$V$14","v":50.062499999999993},{"$f":"('Sconti Import'!X9-('Sconti Import'!X9*'Sconti Import'!I9))*'Zone Export'!$V$14","v":50.084999999999994},{"$f":"('Sconti Import'!Y9-('Sconti Import'!Y9*'Sconti Import'!J9))*'Zone Export'!$V$14","v":33.75},{"$f":"('Sconti Import'!Z9-('Sconti Import'!Z9*'Sconti Import'!K9))*'Zone Export'!$V$14","v":38.407499999999992},{"$f":"('Sconti Import'!AA9-('Sconti Import'!AA9*'Sconti Import'!L9))*'Zone Export'!$V$14","v":34.852499999999999},{"$f":"('Sconti Import'!AB9-('Sconti Import'!AB9*'Sconti Import'!M9))*'Zone Export'!$V$14","v":48.712499999999999},{"$f":"('Sconti Import'!AC9-('Sconti Import'!AC9*'Sconti Import'!N9))*'Zone Export'!$V$14","v":51.907499999999992}]
[null,null,"1,5 kg",{"$f":"('Sconti Import'!R10-('Sconti Import'!R10*'Sconti Import'!C10))*'Zone Export'!$V$14","v":42.164999999999999},{"$f":"('Sconti Import'!S10-('Sconti Import'!S10*'Sconti Import'!D10))*'Zone Export'!$V$14","v":44.707499999999996},{"$f":"('Sconti Import'!T10-('Sconti Import'!T10*'Sconti Import'!E10))*'Zone Export'!$V$14","v":62.28},{"$f":"('Sconti Import'!U10-('Sconti Import'!U10*'Sconti Import'!F10))*'Zone Export'!$V$14","v":53.752499999999998},{"$f":"('Sconti Import'!V10-('Sconti Import'!V10*'Sconti Import'!G10))*'Zone Export'!$V$14","v":55.192499999999995},{"$f":"('Sconti Import'!W10-('Sconti Import'!W10*'Sconti Import'!H10))*'Zone Export'!$V$14","v":55.214999999999989},{"$f":"('Sconti Import'!X10-('Sconti Import'!X10*'Sconti Import'!I10))*'Zone Export'!$V$14","v":55.237499999999997},{"$f":"('Sconti Import'!Y10-('Sconti Import'!Y10*'Sconti Import'!J10))*'Zone Export'!$V$14","v":39.127499999999998},{"$f":"('Sconti Import'!Z10-('Sconti Import'!Z10*'Sconti Import'!K10))*'Zone Export'!$V$14","v":44.302499999999995},{"$f":"('Sconti Import'!AA10-('Sconti Import'!AA10*'Sconti Import'!L10))*'Zone Export'!$V$14","v":40.342500000000001},{"$f":"('Sconti Import'!AB10-('Sconti Import'!AB10*'Sconti Import'!M10))*'Zone Export'!$V$14","v":55.44},{"$f":"('Sconti Import'!AC10-('Sconti Import'!AC10*'Sconti Import'!N10))*'Zone Export'!$V$14","v":58.905000000000001}]
[null,null,"2,0 kg",{"$f":"('Sconti Import'!R11-('Sconti Import'!R11*'Sconti Import'!C11))*'Zone Export'!$V$14","v":46.462499999999999},{"$f":"('Sconti Import'!S11-('Sconti Import'!S11*'Sconti Import'!D11))*'Zone Export'!$V$14","v":50.174999999999997},{"$f":"('Sconti Import'!T11-('Sconti Import'!T11*'Sconti Import'!E11))*'Zone Export'!$V$14","v":69.929999999999993},{"$f":"('Sconti Import'!U11-('Sconti Import'!U11*'Sconti Import'!F11))*'Zone Export'!$V$14","v":58.702499999999986},{"$f":"('Sconti Import'!V11-('Sconti Import'!V11*'Sconti Import'!G11))*'Zone Export'!$V$14","v":60.367499999999993},{"$f":"('Sconti Import'!W11-('Sconti Import'!W11*'Sconti Import'!H11))*'Zone Export'!$V$14","v":60.389999999999986},{"$f":"('Sconti Import'!X11-('Sconti Import'!X11*'Sconti Import'!I11))*'Zone Export'!$V$14","v":60.412499999999994},{"$f":"('Sconti Import'!Y11-('Sconti Import'!Y11*'Sconti Import'!J11))*'Zone Export'!$V$14","v":44.437499999999993},{"$f":"('Sconti Import'!Z11-('Sconti Import'!Z11*'Sconti Import'!K11))*'Zone Export'!$V$14","v":50.354999999999997},{"$f":"('Sconti Import'!AA11-('Sconti Import'!AA11*'Sconti Import'!L11))*'Zone Export'!$V$14","v":45.9},{"$f":"('Sconti Import'!AB11-('Sconti Import'!AB11*'Sconti Import'!M11))*'Zone Export'!$V$14","v":62.099999999999994},{"$f":"('Sconti Import'!AC11-('Sconti Import'!AC11*'Sconti Import'!N11))*'Zone Export'!$V$14","v":65.947500000000005}]
[null,null,"2,5 kg",{"$f":"('Sconti Import'!R12-('Sconti Import'!R12*'Sconti Import'!C12))*'Zone Export'!$V$14","v":50.737499999999997},{"$f":"('Sconti Import'!S12-('Sconti Import'!S12*'Sconti Import'!D12))*'Zone Export'!$V$14","v":55.61999999999999},{"$f":"('Sconti Import'!T12-('Sconti Import'!T12*'Sconti Import'!E12))*'Zone Export'!$V$14","v":77.58},{"$f":"('Sconti Import'!U12-('Sconti Import'!U12*'Sconti Import'!F12))*'Zone Export'!$V$14","v":63.742499999999993},{"$f":"('Sconti Import'!V12-('Sconti Import'!V12*'Sconti Import'!G12))*'Zone Export'!$V$14","v":65.52},{"$f":"('Sconti Import'!W12-('Sconti Import'!W12*'Sconti Import'!H12))*'Zone Export'!$V$14","v":65.54249999999999},{"$f":"('Sconti Import'!X12-('Sconti Import'!X12*'Sconti Import'!I12))*'Zone Export'!$V$14","v":65.564999999999984},{"$f":"('Sconti Import'!Y12-('Sconti Import'!Y12*'Sconti Import'!J12))*'Zone Export'!$V$14","v":49.724999999999994},{"$f":"('Sconti Import'!Z12-('Sconti Import'!Z12*'Sconti Import'!K12))*'Zone Export'!$V$14","v":56.317499999999995},{"$f":"('Sconti Import'!AA12-('Sconti Import'!AA12*'Sconti Import'!L12))*'Zone Export'!$V$14","v":51.344999999999992},{"$f":"('Sconti Import'!AB12-('Sconti Import'!AB12*'Sconti Import'!M12))*'Zone Export'!$V$14","v":68.737499999999997},{"$f":"('Sconti Import'!AC12-('Sconti Import'!AC12*'Sconti Import'!N12))*'Zone Export'!$V$14","v":72.967500000000001}]
[]
[]
[]
[null,"€",null,"Unione Europea",null,null,null,null,"Resto d'Europa"," Resto del Mondo"]
[null,"Zona",null,2,3,4,41,42,5,6,7,8,81,9,10]
[null,"Peso"]
[null,"0,5 kg",null,{"$f":"('Sconti Import'!R17-('Sconti Import'!R17*'Sconti Import'!C17))*'Zone Export'!$V$14","v":33.637499999999996},{"$f":"('Sconti Import'!S17-('Sconti Import'!S17*'Sconti Import'!D17))*'Zone Export'!$V$14","v":33.727499999999999},{"$f":"('Sconti Import'!T17-('Sconti Import'!T17*'Sconti Import'!E17))*'Zone Export'!$V$14","v":47.002499999999998},{"$f":"('Sconti Import'!U17-('Sconti Import'!U17*'Sconti Import'!F17))*'Zone Export'!$V$14","v":43.762499999999996},{"$f":"('Sconti Import'!V17-('Sconti Import'!V17*'Sconti Import'!G17))*'Zone Export'!$V$14","v":44.93249999999999},{"$f":"('Sconti Import'!W17-('Sconti Import'!W17*'Sconti Import'!H17))*'Zone Export'!$V$14","v":60.75},{"$f":"('Sconti Import'!X17-('Sconti Import'!X17*'Sconti Import'!I17))*'Zone Export'!$V$14","v":60.772499999999994},{"$f":"('Sconti Import'!Y17-('Sconti Import'!Y17*'Sconti Import'!J17))*'Zone Export'!$V$14","v":30.644999999999996},{"$f":"('Sconti Import'!Z17-('Sconti Import'!Z17*'Sconti Import'!K17))*'Zone Export'!$V$14","v":36.022499999999994},{"$f":"('Sconti Import'!AA17-('Sconti Import'!AA17*'Sconti Import'!L17))*'Zone Export'!$V$14","v":32.692500000000003},{"$f":"('Sconti Import'!AB17-('Sconti Import'!AB17*'Sconti Import'!M17))*'Zone Export'!$V$14","v":50.782499999999992},{"$f":"('Sconti Import'!AC17-('Sconti Import'!AC17*'Sconti Import'!N17))*'Zone Export'!$V$14","v":53.752499999999998}]
[null,"1,0 kg",null,{"$f":"('Sconti Import'!R18-('Sconti Import'!R18*'Sconti Import'!C18))*'Zone Export'!$V$14","v":37.934999999999995},{"$f":"('Sconti Import'!S18-('Sconti Import'!S18*'Sconti Import'!D18))*'Zone Export'!$V$14","v":39.239999999999995},{"$f":"('Sconti Import'!T18-('Sconti Import'!T18*'Sconti Import'!E18))*'Zone Export'!$V$14","v":54.674999999999997},{"$f":"('Sconti Import'!U18-('Sconti Import'!U18*'Sconti Import'!F18))*'Zone Export'!$V$14","v":48.757499999999993},{"$f":"('Sconti Import'!V18-('Sconti Import'!V18*'Sconti Import'!G18))*'Zone Export'!$V$14","v":50.04},{"$f":"('Sconti Import'!W18-('Sconti Import'!W18*'Sconti Import'!H18))*'Zone Export'!$V$14","v":65.18249999999999},{"$f":"('Sconti Import'!X18-('Sconti Import'!X18*'Sconti Import'!I18))*'Zone Export'!$V$14","v":65.204999999999998},{"$f":"('Sconti Import'!Y18-('Sconti Import'!Y18*'Sconti Import'!J18))*'Zone Export'!$V$14","v":35.932499999999997},{"$f":"('Sconti Import'!Z18-('Sconti Import'!Z18*'Sconti Import'!K18))*'Zone Export'!$V$14","v":42.164999999999999},{"$f":"('Sconti Import'!AA18-('Sconti Import'!AA18*'Sconti Import'!L18))*'Zone Export'!$V$14","v":38.272499999999994},{"$f":"('Sconti Import'!AB18-('Sconti Import'!AB18*'Sconti Import'!M18))*'Zone Export'!$V$14","v":57.352499999999992},{"$f":"('Sconti Import'!AC18-('Sconti Import'!AC18*'Sconti Import'!N18))*'Zone Export'!$V$14","v":60.727499999999992}]
[null,"1,5 kg",null,{"$f":"('Sconti Import'!R19-('Sconti Import'!R19*'Sconti Import'!C19))*'Zone Export'!$V$14","v":42.164999999999999},{"$f":"('Sconti Import'!S19-('Sconti Import'!S19*'Sconti Import'!D19))*'Zone Export'!$V$14","v":44.707499999999996},{"$f":"('Sconti Import'!T19-('Sconti Import'!T19*'Sconti Import'!E19))*'Zone Export'!$V$14","v":62.28},{"$f":"('Sconti Import'!U19-('Sconti Import'!U19*'Sconti Import'!F19))*'Zone Export'!$V$14","v":53.752499999999998},{"$f":"('Sconti Import'!V19-('Sconti Import'!V19*'Sconti Import'!G19))*'Zone Export'!$V$14","v":55.192499999999995},{"$f":"('Sconti Import'!W19-('Sconti Import'!W19*'Sconti Import'!H19))*'Zone Export'!$V$14","v":69.637499999999989},{"$f":"('Sconti Import'!X19-('Sconti Import'!X19*'Sconti Import'!I19))*'Zone Export'!$V$14","v":69.66},{"$f":"('Sconti Import'!Y19-('Sconti Import'!Y19*'Sconti Import'!J19))*'Zone Export'!$V$14","v":41.309999999999995},{"$f":"('Sconti Import'!Z19-('Sconti Import'!Z19*'Sconti Import'!K19))*'Zone Export'!$V$14","v":48.127499999999998},{"$f":"('Sconti Import'!AA19-('Sconti Import'!AA19*'Sconti Import'!L19))*'Zone Export'!$V$14","v":43.784999999999997},{"$f":"('Sconti Import'!AB19-('Sconti Import'!AB19*'Sconti Import'!M19))*'Zone Export'!$V$14","v":63.899999999999991},{"$f":"('Sconti Import'!AC19-('Sconti Import'!AC19*'Sconti Import'!N19))*'Zone Export'!$V$14","v":67.657499999999985}]
[null,"2,0 kg",null,{"$f":"('Sconti Import'!R20-('Sconti Import'!R20*'Sconti Import'!C20))*'Zone Export'!$V$14","v":46.462499999999999},{"$f":"('Sconti Import'!S20-('Sconti Import'!S20*'Sconti Import'!D20))*'Zone Export'!$V$14","v":50.174999999999997},{"$f":"('Sconti Import'!T20-('Sconti Import'!T20*'Sconti Import'!E20))*'Zone Export'!$V$14","v":69.929999999999993},{"$f":"('Sconti Import'!U20-('Sconti Import'!U20*'Sconti Import'!F20))*'Zone Export'!$V$14","v":58.702499999999986},{"$f":"('Sconti Import'!V20-('Sconti Import'!V20*'Sconti Import'!G20))*'Zone Export'!$V$14","v":60.367499999999993},{"$f":"('Sconti Import'!W20-('Sconti Import'!W20*'Sconti Import'!H20))*'Zone Export'!$V$14","v":73.664999999999992},{"$f":"('Sconti Import'!X20-('Sconti Import'!X20*'Sconti Import'!I20))*'Zone Export'!$V$14","v":73.687499999999986},{"$f":"('Sconti Import'!Y20-('Sconti Import'!Y20*'Sconti Import'!J20))*'Zone Export'!$V$14","v":46.61999999999999},{"$f":"('Sconti Import'!Z20-('Sconti Import'!Z20*'Sconti Import'!K20))*'Zone Export'!$V$14","v":54.224999999999994},{"$f":"('Sconti Import'!AA20-('Sconti Import'!AA20*'Sconti Import'!L20))*'Zone Export'!$V$14","v":49.41},{"$f":"('Sconti Import'!AB20-('Sconti Import'!AB20*'Sconti Import'!M20))*'Zone Export'!$V$14","v":70.492499999999993},{"$f":"('Sconti Import'!AC20-('Sconti Import'!AC20*'Sconti Import'!N20))*'Zone Export'!$V$14","v":74.587499999999991}]
[null,"2,5 kg",null,{"$f":"('Sconti Import'!R21-('Sconti Import'!R21*'Sconti Import'!C21))*'Zone Export'!$V$14","v":50.737499999999997},{"$f":"('Sconti Import'!S21-('Sconti Import'!S21*'Sconti Import'!D21))*'Zone Export'!$V$14","v":55.61999999999999},{"$f":"('Sconti Import'!T21-('Sconti Import'!T21*'Sconti Import'!E21))*'Zone Export'!$V$14","v":77.58},{"$f":"('Sconti Import'!U21-('Sconti Import'!U21*'Sconti Import'!F21))*'Zone Export'!$V$14","v":63.742499999999993},{"$f":"('Sconti Import'!V21-('Sconti Import'!V21*'Sconti Import'!G21))*'Zone Export'!$V$14","v":65.52},{"$f":"('Sconti Import'!W21-('Sconti Import'!W21*'Sconti Import'!H21))*'Zone Export'!$V$14","v":74.047499999999999},{"$f":"('Sconti Import'!X21-('Sconti Import'!X21*'Sconti Import'!I21))*'Zone Export'!$V$14","v":78.007499999999993},{"$f":"('Sconti Import'!Y21-('Sconti Import'!Y21*'Sconti Import'!J21))*'Zone Export'!$V$14","v":51.952499999999993},{"$f":"('Sconti Import'!Z21-('Sconti Import'!Z21*'Sconti Import'!K21))*'Zone Export'!$V$14","v":60.209999999999994},{"$f":"('Sconti Import'!AA21-('Sconti Import'!AA21*'Sconti Import'!L21))*'Zone Export'!$V$14","v":54.855000000000004},{"$f":"('Sconti Import'!AB21-('Sconti Import'!AB21*'Sconti Import'!M21))*'Zone Export'!$V$14","v":76.972499999999997},{"$f":"('Sconti Import'!AC21-('Sconti Import'!AC21*'Sconti Import'!N21))*'Zone Export'!$V$14","v":81.472499999999997}]
[null,"3,0 kg",null,{"$f":"('Sconti Import'!R22-('Sconti Import'!R22*'Sconti Import'!C22))*'Zone Export'!$V$14","v":53.077500000000001},{"$f":"('Sconti Import'!S22-('Sconti Import'!S22*'Sconti Import'!D22))*'Zone Export'!$V$14","v":59.264999999999986},{"$f":"('Sconti Import'!T22-('Sconti Import'!T22*'Sconti Import'!E22))*'Zone Export'!$V$14","v":82.439999999999984},{"$f":"('Sconti Import'!U22-('Sconti Import'!U22*'Sconti Import'!F22))*'Zone Export'!$V$14","v":67.162499999999994},{"$f":"('Sconti Import'!V22-('Sconti Import'!V22*'Sconti Import'!G22))*'Zone Export'!$V$14","v":69.502499999999984},{"$f":"('Sconti Import'!W22-('Sconti Import'!W22*'Sconti Import'!H22))*'Zone Export'!$V$14","v":74.069999999999993},{"$f":"('Sconti Import'!X22-('Sconti Import'!X22*'Sconti Import'!I22))*'Zone Export'!$V$14","v":80.347499999999997},{"$f":"('Sconti Import'!Y22-('Sconti Import'!Y22*'Sconti Import'!J22))*'Zone Export'!$V$14","v":55.349999999999994},{"$f":"('Sconti Import'!Z22-('Sconti Import'!Z22*'Sconti Import'!K22))*'Zone Export'!$V$14","v":64.822500000000005},{"$f":"('Sconti Import'!AA22-('Sconti Import'!AA22*'Sconti Import'!L22))*'Zone Export'!$V$14","v":59.377499999999984},{"$f":"('Sconti Import'!AB22-('Sconti Import'!AB22*'Sconti Import'!M22))*'Zone Export'!$V$14","v":83.54249999999999},{"$f":"('Sconti Import'!AC22-('Sconti Import'!AC22*'Sconti Import'!N22))*'Zone Export'!$V$14","v":88.289999999999992}]
[null,"3,5 kg",null,{"$f":"('Sconti Import'!R23-('Sconti Import'!R23*'Sconti Import'!C23))*'Zone Export'!$V$14","v":55.44},{"$f":"('Sconti Import'!S23-('Sconti Import'!S23*'Sconti Import'!D23))*'Zone Export'!$V$14","v":62.842500000000001},{"$f":"('Sconti Import'!T23-('Sconti Import'!T23*'Sconti Import'!E23))*'Zone Export'!$V$14","v":87.254999999999995},{"$f":"('Sconti Import'!U23-('Sconti Import'!U23*'Sconti Import'!F23))*'Zone Export'!$V$14","v":70.649999999999991},{"$f":"('Sconti Import'!V23-('Sconti Import'!V23*'Sconti Import'!G23))*'Zone Export'!$V$14","v":73.034999999999997},{"$f":"('Sconti Import'!W23-('Sconti Import'!W23*'Sconti Import'!H23))*'Zone Export'!$V$14","v":77.804999999999993},{"$f":"('Sconti Import'!X23-('Sconti Import'!X23*'Sconti Import'!I23))*'Zone Export'!$V$14","v":85.41},{"$f":"('Sconti Import'!Y23-('Sconti Import'!Y23*'Sconti Import'!J23))*'Zone Export'!$V$14","v":58.769999999999996},{"$f":"('Sconti Import'!Z23-('Sconti Import'!Z23*'Sconti Import'!K23))*'Zone Export'!$V$14","v":69.524999999999991},{"$f":"('Sconti Import'!AA23-('Sconti Import'!AA23*'Sconti Import'!L23))*'Zone Export'!$V$14","v":63.719999999999985},{"$f":"('Sconti Import'!AB23-('Sconti Import'!AB23*'Sconti Import'!M23))*'Zone Export'!$V$14","v":90.089999999999989},{"$f":"('Sconti Import'!AC23-('Sconti Import'!AC23*'Sconti Import'!N23))*'Zone Export'!$V$14","v":95.219999999999985}]
[null,"4,0 kg",null,{"$f":"('Sconti Import'!R24-('Sconti Import'!R24*'Sconti Import'!C24))*'Zone Export'!$V$14","v":57.824999999999989},{"$f":"('Sconti Import'!S24-('Sconti Import'!S24*'Sconti Import'!D24))*'Zone Export'!$V$14","v":66.487499999999997},{"$f":"('Sconti Import'!T24-('Sconti Import'!T24*'Sconti Import'!E24))*'Zone Export'!$V$14","v":92.07},{"$f":"('Sconti Import'!U24-('Sconti Import'!U24*'Sconti Import'!F24))*'Zone Export'!$V$14","v":74.16},{"$f":"('Sconti Import'!V24-('Sconti Import'!V24*'Sconti Import'!G24))*'Zone Export'!$V$14","v":76.522499999999994},{"$f":"('Sconti Import'!W24-('Sconti Import'!W24*'Sconti Import'!H24))*'Zone Export'!$V$14","v":81.517499999999998},{"$f":"('Sconti Import'!X24-('Sconti Import'!X24*'Sconti Import'!I24))*'Zone Export'!$V$14","v":90.674999999999997},{"$f":"('Sconti Import'!Y24-('Sconti Import'!Y24*'Sconti Import'!J24))*'Zone Export'!$V$14","v":62.16749999999999},{"$f":"('Sconti Import'!Z24-('Sconti Import'!Z24*'Sconti Import'!K24))*'Zone Export'!$V$14","v":74.16},{"$f":"('Sconti Import'!AA24-('Sconti Import'!AA24*'Sconti Import'!L24))*'Zone Export'!$V$14","v":68.13},{"$f":"('Sconti Import'!AB24-('Sconti Import'!AB24*'Sconti Import'!M24))*'Zone Export'!$V$14","v":96.637499999999989},{"$f":"('Sconti Import'!AC24-('Sconti Import'!AC24*'Sconti Import'!N24))*'Zone Export'!$V$14","v":102.08249999999998}]
[null,"4,5 kg",null,{"$f":"('Sconti Import'!R25-('Sconti Import'!R25*'Sconti Import'!C25))*'Zone Export'!$V$14","v":60.164999999999992},{"$f":"('Sconti Import'!S25-('Sconti Import'!S25*'Sconti Import'!D25))*'Zone Export'!$V$14","v":70.087499999999991},{"$f":"('Sconti Import'!T25-('Sconti Import'!T25*'Sconti Import'!E25))*'Zone Export'!$V$14","v":96.907499999999985},{"$f":"('Sconti Import'!U25-('Sconti Import'!U25*'Sconti Import'!F25))*'Zone Export'!$V$14","v":77.647499999999994},{"$f":"('Sconti Import'!V25-('Sconti Import'!V25*'Sconti Import'!G25))*'Zone Export'!$V$14","v":80.077499999999986},{"$f":"('Sconti Import'!W25-('Sconti Import'!W25*'Sconti Import'!H25))*'Zone Export'!$V$14","v":85.274999999999991},{"$f":"('Sconti Import'!X25-('Sconti Import'!X25*'Sconti Import'!I25))*'Zone Export'!$V$14","v":95.759999999999991},{"$f":"('Sconti Import'!Y25-('Sconti Import'!Y25*'Sconti Import'!J25))*'Zone Export'!$V$14","v":65.587499999999991},{"$f":"('Sconti Import'!Z25-('Sconti Import'!Z25*'Sconti Import'!K25))*'Zone Export'!$V$14","v":78.839999999999989},{"$f":"('Sconti Import'!AA25-('Sconti Import'!AA25*'Sconti Import'!L25))*'Zone Export'!$V$14","v":72.584999999999994},{"$f":"('Sconti Import'!AB25-('Sconti Import'!AB25*'Sconti Import'!M25))*'Zone Export'!$V$14","v":103.13999999999999},{"$f":"('Sconti Import'!AC25-('Sconti Import'!AC25*'Sconti Import'!N25))*'Zone Export'!$V$14","v":108.98999999999998}]
[null,"5,0 kg",null,{"$f":"('Sconti Import'!R26-('Sconti Import'!R26*'Sconti Import'!C26))*'Zone Export'!$V$14","v":62.392499999999998},{"$f":"('Sconti Import'!S26-('Sconti Import'!S26*'Sconti Import'!D26))*'Zone Export'!$V$14","v":73.664999999999992},{"$f":"('Sconti Import'!T26-('Sconti Import'!T26*'Sconti Import'!E26))*'Zone Export'!$V$14","v":101.78999999999998},{"$f":"('Sconti Import'!U26-('Sconti Import'!U26*'Sconti Import'!F26))*'Zone Export'!$V$14","v":81.022499999999994},{"$f":"('Sconti Import'!V26-('Sconti Import'!V26*'Sconti Import'!G26))*'Zone Export'!$V$14","v":83.61},{"$f":"('Sconti Import'!W26-('Sconti Import'!W26*'Sconti Import'!H26))*'Zone Export'!$V$14","v":88.964999999999989},{"$f":"('Sconti Import'!X26-('Sconti Import'!X26*'Sconti Import'!I26))*'Zone Export'!$V$14","v":100.93499999999999},{"$f":"('Sconti Import'!Y26-('Sconti Import'!Y26*'Sconti Import'!J26))*'Zone Export'!$V$14","v":69.03},{"$f":"('Sconti Import'!Z26-('Sconti Import'!Z26*'Sconti Import'!K26))*'Zone Export'!$V$14","v":83.564999999999984},{"$f":"('Sconti Import'!AA26-('Sconti Import'!AA26*'Sconti Import'!L26))*'Zone Export'!$V$14","v":76.905000000000001},{"$f":"('Sconti Import'!AB26-('Sconti Import'!AB26*'Sconti Import'!M26))*'Zone Export'!$V$14","v":109.71000000000001},{"$f":"('Sconti Import'!AC26-('Sconti Import'!AC26*'Sconti Import'!N26))*'Zone Export'!$V$14","v":115.85249999999999}]
[null,"5,5 kg",null,{"$f":"('Sconti Import'!R27-('Sconti Import'!R27*'Sconti Import'!C27))*'Zone Export'!$V$14","v":64.41749999999999},{"$f":"('Sconti Import'!S27-('Sconti Import'!S27*'Sconti Import'!D27))*'Zone Export'!$V$14","v":76.094999999999985},{"$f":"('Sconti Import'!T27-('Sconti Import'!T27*'Sconti Import'!E27))*'Zone Export'!$V$14","v":105.66},{"$f":"('Sconti Import'!U27-('Sconti Import'!U27*'Sconti Import'!F27))*'Zone Export'!$V$14","v":83.227499999999992},{"$f":"('Sconti Import'!V27-('Sconti Import'!V27*'Sconti Import'!G27))*'Zone Export'!$V$14","v":85.86},{"$f":"('Sconti Import'!W27-('Sconti Import'!W27*'Sconti Import'!H27))*'Zone Export'!$V$14","v":91.304999999999993},{"$f":"('Sconti Import'!X27-('Sconti Import'!X27*'Sconti Import'!I27))*'Zone Export'!$V$14","v":105.03},{"$f":"('Sconti Import'!Y27-('Sconti Import'!Y27*'Sconti Import'!J27))*'Zone Export'!$V$14","v":71.954999999999998},{"$f":"('Sconti Import'!Z27-('Sconti Import'!Z27*'Sconti Import'!K27))*'Zone Export'!$V$14","v":87.232499999999987},{"$f":"('Sconti Import'!AA27-('Sconti Import'!AA27*'Sconti Import'!L27))*'Zone Export'!$V$14","v":80.234999999999999},{"$f":"('Sconti Import'!AB27-('Sconti Import'!AB27*'Sconti Import'!M27))*'Zone Export'!$V$14","v":115.89749999999998},{"$f":"('Sconti Import'!AC27-('Sconti Import'!AC27*'Sconti Import'!N27))*'Zone Export'!$V$14","v":122.73749999999998}]
[null,"6,0 kg",null,{"$f":"('Sconti Import'!R28-('Sconti Import'!R28*'Sconti Import'!C28))*'Zone Export'!$V$14","v":66.352499999999992},{"$f":"('Sconti Import'!S28-('Sconti Import'!S28*'Sconti Import'!D28))*'Zone Export'!$V$14","v":78.47999999999999},{"$f":"('Sconti Import'!T28-('Sconti Import'!T28*'Sconti Import'!E28))*'Zone Export'!$V$14","v":109.5975},{"$f":"('Sconti Import'!U28-('Sconti Import'!U28*'Sconti Import'!F28))*'Zone Export'!$V$14","v":85.364999999999981},{"$f":"('Sconti Import'!V28-('Sconti Import'!V28*'Sconti Import'!G28))*'Zone Export'!$V$14","v":88.177499999999981},{"$f":"('Sconti Import'!W28-('Sconti Import'!W28*'Sconti Import'!H28))*'Zone Export'!$V$14","v":93.66749999999999},{"$f":"('Sconti Import'!X28-('Sconti Import'!X28*'Sconti Import'!I28))*'Zone Export'!$V$14","v":109.14750000000001},{"$f":"('Sconti Import'!Y28-('Sconti Import'!Y28*'Sconti Import'!J28))*'Zone Export'!$V$14","v":74.88},{"$f":"('Sconti Import'!Z28-('Sconti Import'!Z28*'Sconti Import'!K28))*'Zone Export'!$V$14","v":90.922499999999999},{"$f":"('Sconti Import'!AA28-('Sconti Import'!AA28*'Sconti Import'!L28))*'Zone Export'!$V$14","v":83.61},{"$f":"('Sconti Import'!AB28-('Sconti Import'!AB28*'Sconti Import'!M28))*'Zone Export'!$V$14","v":122.08499999999998},{"$f":"('Sconti Import'!AC28-('Sconti Import'!AC28*'Sconti Import'!N28))*'Zone Export'!$V$14","v":129.64500000000001}]
[null,"6,5 kg",null,{"$f":"('Sconti Import'!R29-('Sconti Import'!R29*'Sconti Import'!C29))*'Zone Export'!$V$14","v":68.332499999999996},{"$f":"('Sconti Import'!S29-('Sconti Import'!S29*'Sconti Import'!D29))*'Zone Export'!$V$14","v":80.842500000000001},{"$f":"('Sconti Import'!T29-('Sconti Import'!T29*'Sconti Import'!E29))*'Zone Export'!$V$14","v":113.55749999999998},{"$f":"('Sconti Import'!U29-('Sconti Import'!U29*'Sconti Import'!F29))*'Zone Export'!$V$14","v":87.502499999999984},{"$f":"('Sconti Import'!V29-('Sconti Import'!V29*'Sconti Import'!G29))*'Zone Export'!$V$14","v":90.427499999999981},{"$f":"('Sconti Import'!W29-('Sconti Import'!W29*'Sconti Import'!H29))*'Zone Export'!$V$14","v":96.029999999999987},{"$f":"('Sconti Import'!X29-('Sconti Import'!X29*'Sconti Import'!I29))*'Zone Export'!$V$14","v":113.22},{"$f":"('Sconti Import'!Y29-('Sconti Import'!Y29*'Sconti Import'!J29))*'Zone Export'!$V$14","v":77.782499999999985},{"$f":"('Sconti Import'!Z29-('Sconti Import'!Z29*'Sconti Import'!K29))*'Zone Export'!$V$14","v":94.612499999999997},{"$f":"('Sconti Import'!AA29-('Sconti Import'!AA29*'Sconti Import'!L29))*'Zone Export'!$V$14","v":86.984999999999999},{"$f":"('Sconti Import'!AB29-('Sconti Import'!AB29*'Sconti Import'!M29))*'Zone Export'!$V$14","v":128.22749999999999},{"$f":"('Sconti Import'!AC29-('Sconti Import'!AC29*'Sconti Import'!N29))*'Zone Export'!$V$14","v":136.46249999999998}]
[null,"7,0 kg",null,{"$f":"('Sconti Import'!R30-('Sconti Import'!R30*'Sconti Import'!C30))*'Zone Export'!$V$14","v":70.24499999999999},{"$f":"('Sconti Import'!S30-('Sconti Import'!S30*'Sconti Import'!D30))*'Zone Export'!$V$14","v":83.18249999999999},{"$f":"('Sconti Import'!T30-('Sconti Import'!T30*'Sconti Import'!E30))*'Zone Export'!$V$14","v":117.51749999999998},{"$f":"('Sconti Import'!U30-('Sconti Import'!U30*'Sconti Import'!F30))*'Zone Export'!$V$14","v":89.707499999999982},{"$f":"('Sconti Import'!V30-('Sconti Import'!V30*'Sconti Import'!G30))*'Zone Export'!$V$14","v":92.74499999999999},{"$f":"('Sconti Import'!W30-('Sconti Import'!W30*'Sconti Import'!H30))*'Zone Export'!$V$14","v":98.392499999999998},{"$f":"('Sconti Import'!X30-('Sconti Import'!X30*'Sconti Import'!I30))*'Zone Export'!$V$14","v":117.31499999999997},{"$f":"('Sconti Import'!Y30-('Sconti Import'!Y30*'Sconti Import'!J30))*'Zone Export'!$V$14","v":80.752499999999984},{"$f":"('Sconti Import'!Z30-('Sconti Import'!Z30*'Sconti Import'!K30))*'Zone Export'!$V$14","v":98.302499999999981},{"$f":"('Sconti Import'!AA30-('Sconti Import'!AA30*'Sconti Import'!L30))*'Zone Export'!$V$14","v":90.224999999999994},{"$f":"('Sconti Import'!AB30-('Sconti Import'!AB30*'Sconti Import'!M30))*'Zone Export'!$V$14","v":134.41499999999999},{"$f":"('Sconti Import'!AC30-('Sconti Import'!AC30*'Sconti Import'!N30))*'Zone Export'!$V$14","v":143.41499999999999}]
[null,"7,5 kg",null,{"$f":"('Sconti Import'!R31-('Sconti Import'!R31*'Sconti Import'!C31))*'Zone Export'!$V$14","v":72.224999999999994},{"$f":"('Sconti Import'!S31-('Sconti Import'!S31*'Sconti Import'!D31))*'Zone Export'!$V$14","v":85.499999999999986},{"$f":"('Sconti Import'!T31-('Sconti Import'!T31*'Sconti Import'!E31))*'Zone Export'!$V$14","v":121.38749999999999},{"$f":"('Sconti Import'!U31-('Sconti Import'!U31*'Sconti Import'!F31))*'Zone Export'!$V$14","v":91.822499999999991},{"$f":"('Sconti Import'!V31-('Sconti Import'!V31*'Sconti Import'!G31))*'Zone Export'!$V$14","v":95.017499999999998},{"$f":"('Sconti Import'!W31-('Sconti Import'!W31*'Sconti Import'!H31))*'Zone Export'!$V$14","v":100.77749999999999},{"$f":"('Sconti Import'!X31-('Sconti Import'!X31*'Sconti Import'!I31))*'Zone Export'!$V$14","v":121.38749999999999},{"$f":"('Sconti Import'!Y31-('Sconti Import'!Y31*'Sconti Import'!J31))*'Zone Export'!$V$14","v":83.699999999999989},{"$f":"('Sconti Import'!Z31-('Sconti Import'!Z31*'Sconti Import'!K31))*'Zone Export'!$V$14","v":101.92499999999998},{"$f":"('Sconti Import'!AA31-('Sconti Import'!AA31*'Sconti Import'!L31))*'Zone Export'!$V$14","v":93.622500000000002},{"$f":"('Sconti Import'!AB31-('Sconti Import'!AB31*'Sconti Import'!M31))*'Zone Export'!$V$14","v":140.625},{"$f":"('Sconti Import'!AC31-('Sconti Import'!AC31*'Sconti Import'!N31))*'Zone Export'!$V$14","v":150.23249999999999}]
[null,"8,0 kg",null,{"$f":"('Sconti Import'!R32-('Sconti Import'!R32*'Sconti Import'!C32))*'Zone Export'!$V$14","v":74.227499999999992},{"$f":"('Sconti Import'!S32-('Sconti Import'!S32*'Sconti Import'!D32))*'Zone Export'!$V$14","v":87.929999999999993},{"$f":"('Sconti Import'!T32-('Sconti Import'!T32*'Sconti Import'!E32))*'Zone Export'!$V$14","v":125.30249999999998},{"$f":"('Sconti Import'!U32-('Sconti Import'!U32*'Sconti Import'!F32))*'Zone Export'!$V$14","v":93.96},{"$f":"('Sconti Import'!V32-('Sconti Import'!V32*'Sconti Import'!G32))*'Zone Export'!$V$14","v":97.132499999999993},{"$f":"('Sconti Import'!W32-('Sconti Import'!W32*'Sconti Import'!H32))*'Zone Export'!$V$14","v":103.11749999999999},{"$f":"('Sconti Import'!X32-('Sconti Import'!X32*'Sconti Import'!I32))*'Zone Export'!$V$14","v":124.98749999999998},{"$f":"('Sconti Import'!Y32-('Sconti Import'!Y32*'Sconti Import'!J32))*'Zone Export'!$V$14","v":86.602499999999992},{"$f":"('Sconti Import'!Z32-('Sconti Import'!Z32*'Sconti Import'!K32))*'Zone Export'!$V$14","v":105.5925},{"$f":"('Sconti Import'!AA32-('Sconti Import'!AA32*'Sconti Import'!L32))*'Zone Export'!$V$14","v":96.974999999999994},{"$f":"('Sconti Import'!AB32-('Sconti Import'!AB32*'Sconti Import'!M32))*'Zone Export'!$V$14","v":146.79},{"$f":"('Sconti Import'!AC32-('Sconti Import'!AC32*'Sconti Import'!N32))*'Zone Export'!$V$14","v":157.11749999999998}]
[null,"8,5 kg",null,{"$f":"('Sconti Import'!R33-('Sconti Import'!R33*'Sconti Import'!C33))*'Zone Export'!$V$14","v":76.185000000000002},{"$f":"('Sconti Import'!S33-('Sconti Import'!S33*'Sconti Import'!D33))*'Zone Export'!$V$14","v":90.29249999999999},{"$f":"('Sconti Import'!T33-('Sconti Import'!T33*'Sconti Import'!E33))*'Zone Export'!$V$14","v":129.26249999999999},{"$f":"('Sconti Import'!U33-('Sconti Import'!U33*'Sconti Import'!F33))*'Zone Export'!$V$14","v":96.097499999999997},{"$f":"('Sconti Import'!V33-('Sconti Import'!V33*'Sconti Import'!G33))*'Zone Export'!$V$14","v":99.134999999999991},{"$f":"('Sconti Import'!W33-('Sconti Import'!W33*'Sconti Import'!H33))*'Zone Export'!$V$14","v":105.45749999999998},{"$f":"('Sconti Import'!X33-('Sconti Import'!X33*'Sconti Import'!I33))*'Zone Export'!$V$14","v":128.52000000000001},{"$f":"('Sconti Import'!Y33-('Sconti Import'!Y33*'Sconti Import'!J33))*'Zone Export'!$V$14","v":89.572499999999991},{"$f":"('Sconti Import'!Z33-('Sconti Import'!Z33*'Sconti Import'!K33))*'Zone Export'!$V$14","v":109.16999999999999},{"$f":"('Sconti Import'!AA33-('Sconti Import'!AA33*'Sconti Import'!L33))*'Zone Export'!$V$14","v":100.30499999999999},{"$f":"('Sconti Import'!AB33-('Sconti Import'!AB33*'Sconti Import'!M33))*'Zone Export'!$V$14","v":152.95499999999998},{"$f":"('Sconti Import'!AC33-('Sconti Import'!AC33*'Sconti Import'!N33))*'Zone Export'!$V$14","v":163.97999999999996}]
[null,"9,0 kg",null,{"$f":"('Sconti Import'!R34-('Sconti Import'!R34*'Sconti Import'!C34))*'Zone Export'!$V$14","v":78.187499999999986},{"$f":"('Sconti Import'!S34-('Sconti Import'!S34*'Sconti Import'!D34))*'Zone Export'!$V$14","v":92.677499999999981},{"$f":"('Sconti Import'!T34-('Sconti Import'!T34*'Sconti Import'!E34))*'Zone Export'!$V$14","v":133.19999999999999},{"$f":"('Sconti Import'!U34-('Sconti Import'!U34*'Sconti Import'!F34))*'Zone Export'!$V$14","v":98.279999999999987},{"$f":"('Sconti Import'!V34-('Sconti Import'!V34*'Sconti Import'!G34))*'Zone Export'!$V$14","v":101.42999999999999},{"$f":"('Sconti Import'!W34-('Sconti Import'!W34*'Sconti Import'!H34))*'Zone Export'!$V$14","v":107.8425},{"$f":"('Sconti Import'!X34-('Sconti Import'!X34*'Sconti Import'!I34))*'Zone Export'!$V$14","v":132.14249999999998},{"$f":"('Sconti Import'!Y34-('Sconti Import'!Y34*'Sconti Import'!J34))*'Zone Export'!$V$14","v":92.474999999999994},{"$f":"('Sconti Import'!Z34-('Sconti Import'!Z34*'Sconti Import'!K34))*'Zone Export'!$V$14","v":112.85999999999999},{"$f":"('Sconti Import'!AA34-('Sconti Import'!AA34*'Sconti Import'!L34))*'Zone Export'!$V$14","v":103.61249999999998},{"$f":"('Sconti Import'!AB34-('Sconti Import'!AB34*'Sconti Import'!M34))*'Zone Export'!$V$14","v":159.14249999999998},{"$f":"('Sconti Import'!AC34-('Sconti Import'!AC34*'Sconti Import'!N34))*'Zone Export'!$V$14","v":170.86499999999998}]
[null,"9,5 kg",null,{"$f":"('Sconti Import'!R35-('Sconti Import'!R35*'Sconti Import'!C35))*'Zone Export'!$V$14","v":80.189999999999984},{"$f":"('Sconti Import'!S35-('Sconti Import'!S35*'Sconti Import'!D35))*'Zone Export'!$V$14","v":95.062499999999986},{"$f":"('Sconti Import'!T35-('Sconti Import'!T35*'Sconti Import'!E35))*'Zone Export'!$V$14","v":137.11499999999998},{"$f":"('Sconti Import'!U35-('Sconti Import'!U35*'Sconti Import'!F35))*'Zone Export'!$V$14","v":100.41749999999999},{"$f":"('Sconti Import'!V35-('Sconti Import'!V35*'Sconti Import'!G35))*'Zone Export'!$V$14","v":103.52249999999999},{"$f":"('Sconti Import'!W35-('Sconti Import'!W35*'Sconti Import'!H35))*'Zone Export'!$V$14","v":110.20499999999998},{"$f":"('Sconti Import'!X35-('Sconti Import'!X35*'Sconti Import'!I35))*'Zone Export'!$V$14","v":135.69749999999999},{"$f":"('Sconti Import'!Y35-('Sconti Import'!Y35*'Sconti Import'!J35))*'Zone Export'!$V$14","v":95.422499999999999},{"$f":"('Sconti Import'!Z35-('Sconti Import'!Z35*'Sconti Import'!K35))*'Zone Export'!$V$14","v":116.48249999999999},{"$f":"('Sconti Import'!AA35-('Sconti Import'!AA35*'Sconti Import'!L35))*'Zone Export'!$V$14","v":106.9425},{"$f":"('Sconti Import'!AB35-('Sconti Import'!AB35*'Sconti Import'!M35))*'Zone Export'!$V$14","v":165.32999999999998},{"$f":"('Sconti Import'!AC35-('Sconti Import'!AC35*'Sconti Import'!N35))*'Zone Export'!$V$14","v":177.70499999999998}]
[null,"10 kg",null,{"$f":"('Sconti Import'!R36-('Sconti Import'!R36*'Sconti Import'!C36))*'Zone Export'!$V$14","v":82.192499999999995},{"$f":"('Sconti Import'!S36-('Sconti Import'!S36*'Sconti Import'!D36))*'Zone Export'!$V$14","v":97.424999999999997},{"$f":"('Sconti Import'!T36-('Sconti Import'!T36*'Sconti Import'!E36))*'Zone Export'!$V$14","v":141.00749999999999},{"$f":"('Sconti Import'!U36-('Sconti Import'!U36*'Sconti Import'!F36))*'Zone Export'!$V$14","v":102.55499999999999},{"$f":"('Sconti Import'!V36-('Sconti Import'!V36*'Sconti Import'!G36))*'Zone Export'!$V$14","v":105.57},{"$f":"('Sconti Import'!W36-('Sconti Import'!W36*'Sconti Import'!H36))*'Zone Export'!$V$14","v":112.61249999999998},{"$f":"('Sconti Import'!X36-('Sconti Import'!X36*'Sconti Import'!I36))*'Zone Export'!$V$14","v":139.27499999999998},{"$f":"('Sconti Import'!Y36-('Sconti Import'!Y36*'Sconti Import'!J36))*'Zone Export'!$V$14","v":98.36999999999999},{"$f":"('Sconti Import'!Z36-('Sconti Import'!Z36*'Sconti Import'!K36))*'Zone Export'!$V$14","v":120.19499999999999},{"$f":"('Sconti Import'!AA36-('Sconti Import'!AA36*'Sconti Import'!L36))*'Zone Export'!$V$14","v":110.3175},{"$f":"('Sconti Import'!AB36-('Sconti Import'!AB36*'Sconti Import'!M36))*'Zone Export'!$V$14","v":171.495},{"$f":"('Sconti Import'!AC36-('Sconti Import'!AC36*'Sconti Import'!N36))*'Zone Export'!$V$14","v":184.58999999999997}]
[null,"11 kg",null,{"$f":"('Sconti Import'!R37-('Sconti Import'!R37*'Sconti Import'!C37))*'Zone Export'!$V$14","v":84.487499999999997},{"$f":"('Sconti Import'!S37-('Sconti Import'!S37*'Sconti Import'!D37))*'Zone Export'!$V$14","v":101.22749999999998},{"$f":"('Sconti Import'!T37-('Sconti Import'!T37*'Sconti Import'!E37))*'Zone Export'!$V$14","v":145.23749999999998},{"$f":"('Sconti Import'!U37-('Sconti Import'!U37*'Sconti Import'!F37))*'Zone Export'!$V$14","v":106.19999999999999},{"$f":"('Sconti Import'!V37-('Sconti Import'!V37*'Sconti Import'!G37))*'Zone Export'!$V$14","v":109.32749999999999},{"$f":"('Sconti Import'!W37-('Sconti Import'!W37*'Sconti Import'!H37))*'Zone Export'!$V$14","v":116.39249999999998},{"$f":"('Sconti Import'!X37-('Sconti Import'!X37*'Sconti Import'!I37))*'Zone Export'!$V$14","v":144},{"$f":"('Sconti Import'!Y37-('Sconti Import'!Y37*'Sconti Import'!J37))*'Zone Export'!$V$14","v":103.65749999999998},{"$f":"('Sconti Import'!Z37-('Sconti Import'!Z37*'Sconti Import'!K37))*'Zone Export'!$V$14","v":126.89999999999998},{"$f":"('Sconti Import'!AA37-('Sconti Import'!AA37*'Sconti Import'!L37))*'Zone Export'!$V$14","v":116.50499999999997},{"$f":"('Sconti Import'!AB37-('Sconti Import'!AB37*'Sconti Import'!M37))*'Zone Export'!$V$14","v":180.85499999999996},{"$f":"('Sconti Import'!AC37-('Sconti Import'!AC37*'Sconti Import'!N37))*'Zone Export'!$V$14","v":197.25749999999999}]
[null,"12 kg",null,{"$f":"('Sconti Import'!R38-('Sconti Import'!R38*'Sconti Import'!C38))*'Zone Export'!$V$14","v":86.759999999999991},{"$f":"('Sconti Import'!S38-('Sconti Import'!S38*'Sconti Import'!D38))*'Zone Export'!$V$14","v":105.11999999999998},{"$f":"('Sconti Import'!T38-('Sconti Import'!T38*'Sconti Import'!E38))*'Zone Export'!$V$14","v":149.44499999999999},{"$f":"('Sconti Import'!U38-('Sconti Import'!U38*'Sconti Import'!F38))*'Zone Export'!$V$14","v":109.86749999999998},{"$f":"('Sconti Import'!V38-('Sconti Import'!V38*'Sconti Import'!G38))*'Zone Export'!$V$14","v":113.0625},{"$f":"('Sconti Import'!W38-('Sconti Import'!W38*'Sconti Import'!H38))*'Zone Export'!$V$14","v":120.23999999999998},{"$f":"('Sconti Import'!X38-('Sconti Import'!X38*'Sconti Import'!I38))*'Zone Export'!$V$14","v":148.7475},{"$f":"('Sconti Import'!Y38-('Sconti Import'!Y38*'Sconti Import'!J38))*'Zone Export'!$V$14","v":108.98999999999998},{"$f":"('Sconti Import'!Z38-('Sconti Import'!Z38*'Sconti Import'!K38))*'Zone Export'!$V$14","v":133.60499999999999},{"$f":"('Sconti Import'!AA38-('Sconti Import'!AA38*'Sconti Import'!L38))*'Zone Export'!$V$14","v":122.66999999999999},{"$f":"('Sconti Import'!AB38-('Sconti Import'!AB38*'Sconti Import'!M38))*'Zone Export'!$V$14","v":190.10249999999996},{"$f":"('Sconti Import'!AC38-('Sconti Import'!AC38*'Sconti Import'!N38))*'Zone Export'!$V$14","v":209.85750000000002}]
[null,"13 kg",null,{"$f":"('Sconti Import'!R39-('Sconti Import'!R39*'Sconti Import'!C39))*'Zone Export'!$V$14","v":89.032499999999985},{"$f":"('Sconti Import'!S39-('Sconti Import'!S39*'Sconti Import'!D39))*'Zone Export'!$V$14","v":108.94499999999999},{"$f":"('Sconti Import'!T39-('Sconti Import'!T39*'Sconti Import'!E39))*'Zone Export'!$V$14","v":153.65249999999997},{"$f":"('Sconti Import'!U39-('Sconti Import'!U39*'Sconti Import'!F39))*'Zone Export'!$V$14","v":113.51249999999999},{"$f":"('Sconti Import'!V39-('Sconti Import'!V39*'Sconti Import'!G39))*'Zone Export'!$V$14","v":116.79749999999999},{"$f":"('Sconti Import'!W39-('Sconti Import'!W39*'Sconti Import'!H39))*'Zone Export'!$V$14","v":124.04249999999999},{"$f":"('Sconti Import'!X39-('Sconti Import'!X39*'Sconti Import'!I39))*'Zone Export'!$V$14","v":153.44999999999999},{"$f":"('Sconti Import'!Y39-('Sconti Import'!Y39*'Sconti Import'!J39))*'Zone Export'!$V$14","v":114.345},{"$f":"('Sconti Import'!Z39-('Sconti Import'!Z39*'Sconti Import'!K39))*'Zone Export'!$V$14","v":140.535},{"$f":"('Sconti Import'!AA39-('Sconti Import'!AA39*'Sconti Import'!L39))*'Zone Export'!$V$14","v":128.94749999999999},{"$f":"('Sconti Import'!AB39-('Sconti Import'!AB39*'Sconti Import'!M39))*'Zone Export'!$V$14","v":199.41749999999996},{"$f":"('Sconti Import'!AC39-('Sconti Import'!AC39*'Sconti Import'!N39))*'Zone Export'!$V$14","v":222.54749999999996}]
[null,"14 kg",null,{"$f":"('Sconti Import'!R40-('Sconti Import'!R40*'Sconti Import'!C40))*'Zone Export'!$V$14","v":91.304999999999993},{"$f":"('Sconti Import'!S40-('Sconti Import'!S40*'Sconti Import'!D40))*'Zone Export'!$V$14","v":112.76999999999998},{"$f":"('Sconti Import'!T40-('Sconti Import'!T40*'Sconti Import'!E40))*'Zone Export'!$V$14","v":157.85999999999999},{"$f":"('Sconti Import'!U40-('Sconti Import'!U40*'Sconti Import'!F40))*'Zone Export'!$V$14","v":117.11249999999998},{"$f":"('Sconti Import'!V40-('Sconti Import'!V40*'Sconti Import'!G40))*'Zone Export'!$V$14","v":120.57749999999999},{"$f":"('Sconti Import'!W40-('Sconti Import'!W40*'Sconti Import'!H40))*'Zone Export'!$V$14","v":127.82249999999999},{"$f":"('Sconti Import'!X40-('Sconti Import'!X40*'Sconti Import'!I40))*'Zone Export'!$V$14","v":158.17499999999998},{"$f":"('Sconti Import'!Y40-('Sconti Import'!Y40*'Sconti Import'!J40))*'Zone Export'!$V$14","v":119.58749999999998},{"$f":"('Sconti Import'!Z40-('Sconti Import'!Z40*'Sconti Import'!K40))*'Zone Export'!$V$14","v":147.23999999999998},{"$f":"('Sconti Import'!AA40-('Sconti Import'!AA40*'Sconti Import'!L40))*'Zone Export'!$V$14","v":135.11249999999998},{"$f":"('Sconti Import'!AB40-('Sconti Import'!AB40*'Sconti Import'!M40))*'Zone Export'!$V$14","v":208.68749999999997},{"$f":"('Sconti Import'!AC40-('Sconti Import'!AC40*'Sconti Import'!N40))*'Zone Export'!$V$14","v":235.14749999999998}]
[null,"15 kg",null,{"$f":"('Sconti Import'!R41-('Sconti Import'!R41*'Sconti Import'!C41))*'Zone Export'!$V$14","v":93.554999999999993},{"$f":"('Sconti Import'!S41-('Sconti Import'!S41*'Sconti Import'!D41))*'Zone Export'!$V$14","v":116.595},{"$f":"('Sconti Import'!T41-('Sconti Import'!T41*'Sconti Import'!E41))*'Zone Export'!$V$14","v":162.11249999999998},{"$f":"('Sconti Import'!U41-('Sconti Import'!U41*'Sconti Import'!F41))*'Zone Export'!$V$14","v":120.77999999999997},{"$f":"('Sconti Import'!V41-('Sconti Import'!V41*'Sconti Import'!G41))*'Zone Export'!$V$14","v":124.33499999999998},{"$f":"('Sconti Import'!W41-('Sconti Import'!W41*'Sconti Import'!H41))*'Zone Export'!$V$14","v":131.69249999999997},{"$f":"('Sconti Import'!X41-('Sconti Import'!X41*'Sconti Import'!I41))*'Zone Export'!$V$14","v":162.94499999999999},{"$f":"('Sconti Import'!Y41-('Sconti Import'!Y41*'Sconti Import'!J41))*'Zone Export'!$V$14","v":124.89749999999998},{"$f":"('Sconti Import'!Z41-('Sconti Import'!Z41*'Sconti Import'!K41))*'Zone Export'!$V$14","v":153.96749999999997},{"$f":"('Sconti Import'!AA41-('Sconti Import'!AA41*'Sconti Import'!L41))*'Zone Export'!$V$14","v":141.32249999999999},{"$f":"('Sconti Import'!AB41-('Sconti Import'!AB41*'Sconti Import'!M41))*'Zone Export'!$V$14","v":218.0025},{"$f":"('Sconti Import'!AC41-('Sconti Import'!AC41*'Sconti Import'!N41))*'Zone Export'!$V$14","v":247.83749999999998}]
[null,"16 kg",null,{"$f":"('Sconti Import'!R42-('Sconti Import'!R42*'Sconti Import'!C42))*'Zone Export'!$V$14","v":95.827499999999986},{"$f":"('Sconti Import'!S42-('Sconti Import'!S42*'Sconti Import'!D42))*'Zone Export'!$V$14","v":120.39749999999998},{"$f":"('Sconti Import'!T42-('Sconti Import'!T42*'Sconti Import'!E42))*'Zone Export'!$V$14","v":166.27499999999998},{"$f":"('Sconti Import'!U42-('Sconti Import'!U42*'Sconti Import'!F42))*'Zone Export'!$V$14","v":123.77249999999998},{"$f":"('Sconti Import'!V42-('Sconti Import'!V42*'Sconti Import'!G42))*'Zone Export'!$V$14","v":127.43999999999997},{"$f":"('Sconti Import'!W42-('Sconti Import'!W42*'Sconti Import'!H42))*'Zone Export'!$V$14","v":135.495},{"$f":"('Sconti Import'!X42-('Sconti Import'!X42*'Sconti Import'!I42))*'Zone Export'!$V$14","v":167.64749999999998},{"$f":"('Sconti Import'!Y42-('Sconti Import'!Y42*'Sconti Import'!J42))*'Zone Export'!$V$14","v":130.185},{"$f":"('Sconti Import'!Z42-('Sconti Import'!Z42*'Sconti Import'!K42))*'Zone Export'!$V$14","v":160.73999999999998},{"$f":"('Sconti Import'!AA42-('Sconti Import'!AA42*'Sconti Import'!L42))*'Zone Export'!$V$14","v":147.55499999999998},{"$f":"('Sconti Import'!AB42-('Sconti Import'!AB42*'Sconti Import'!M42))*'Zone Export'!$V$14","v":226.07999999999998},{"$f":"('Sconti Import'!AC42-('Sconti Import'!AC42*'Sconti Import'!N42))*'Zone Export'!$V$14","v":260.4375}]
[null,"17 kg",null,{"$f":"('Sconti Import'!R43-('Sconti Import'!R43*'Sconti Import'!C43))*'Zone Export'!$V$14","v":98.122500000000002},{"$f":"('Sconti Import'!S43-('Sconti Import'!S43*'Sconti Import'!D43))*'Zone Export'!$V$14","v":124.245},{"$f":"('Sconti Import'!T43-('Sconti Import'!T43*'Sconti Import'!E43))*'Zone Export'!$V$14","v":170.45999999999998},{"$f":"('Sconti Import'!U43-('Sconti Import'!U43*'Sconti Import'!F43))*'Zone Export'!$V$14","v":126.74249999999998},{"$f":"('Sconti Import'!V43-('Sconti Import'!V43*'Sconti Import'!G43))*'Zone Export'!$V$14","v":130.63499999999999},{"$f":"('Sconti Import'!W43-('Sconti Import'!W43*'Sconti Import'!H43))*'Zone Export'!$V$14","v":139.34249999999997},{"$f":"('Sconti Import'!X43-('Sconti Import'!X43*'Sconti Import'!I43))*'Zone Export'!$V$14","v":172.35},{"$f":"('Sconti Import'!Y43-('Sconti Import'!Y43*'Sconti Import'!J43))*'Zone Export'!$V$14","v":135.495},{"$f":"('Sconti Import'!Z43-('Sconti Import'!Z43*'Sconti Import'!K43))*'Zone Export'!$V$14","v":167.44499999999999},{"$f":"('Sconti Import'!AA43-('Sconti Import'!AA43*'Sconti Import'!L43))*'Zone Export'!$V$14","v":153.78749999999999},{"$f":"('Sconti Import'!AB43-('Sconti Import'!AB43*'Sconti Import'!M43))*'Zone Export'!$V$14","v":234.22499999999997},{"$f":"('Sconti Import'!AC43-('Sconti Import'!AC43*'Sconti Import'!N43))*'Zone Export'!$V$14","v":273.1275}]
[null,"18 kg",null,{"$f":"('Sconti Import'!R44-('Sconti Import'!R44*'Sconti Import'!C44))*'Zone Export'!$V$14","v":100.41749999999999},{"$f":"('Sconti Import'!S44-('Sconti Import'!S44*'Sconti Import'!D44))*'Zone Export'!$V$14","v":128.11499999999998},{"$f":"('Sconti Import'!T44-('Sconti Import'!T44*'Sconti Import'!E44))*'Zone Export'!$V$14","v":174.71249999999998},{"$f":"('Sconti Import'!U44-('Sconti Import'!U44*'Sconti Import'!F44))*'Zone Export'!$V$14","v":129.77999999999997},{"$f":"('Sconti Import'!V44-('Sconti Import'!V44*'Sconti Import'!G44))*'Zone Export'!$V$14","v":133.76249999999999},{"$f":"('Sconti Import'!W44-('Sconti Import'!W44*'Sconti Import'!H44))*'Zone Export'!$V$14","v":143.1},{"$f":"('Sconti Import'!X44-('Sconti Import'!X44*'Sconti Import'!I44))*'Zone Export'!$V$14","v":177.07499999999999},{"$f":"('Sconti Import'!Y44-('Sconti Import'!Y44*'Sconti Import'!J44))*'Zone Export'!$V$14","v":140.7825},{"$f":"('Sconti Import'!Z44-('Sconti Import'!Z44*'Sconti Import'!K44))*'Zone Export'!$V$14","v":174.21749999999997},{"$f":"('Sconti Import'!AA44-('Sconti Import'!AA44*'Sconti Import'!L44))*'Zone Export'!$V$14","v":160.04249999999996},{"$f":"('Sconti Import'!AB44-('Sconti Import'!AB44*'Sconti Import'!M44))*'Zone Export'!$V$14","v":242.32499999999999},{"$f":"('Sconti Import'!AC44-('Sconti Import'!AC44*'Sconti Import'!N44))*'Zone Export'!$V$14","v":285.75}]
[null,"19 kg",null,{"$f":"('Sconti Import'!R45-('Sconti Import'!R45*'Sconti Import'!C45))*'Zone Export'!$V$14","v":102.62249999999999},{"$f":"('Sconti Import'!S45-('Sconti Import'!S45*'Sconti Import'!D45))*'Zone Export'!$V$14","v":131.91749999999999},{"$f":"('Sconti Import'!T45-('Sconti Import'!T45*'Sconti Import'!E45))*'Zone Export'!$V$14","v":178.89749999999998},{"$f":"('Sconti Import'!U45-('Sconti Import'!U45*'Sconti Import'!F45))*'Zone Export'!$V$14","v":132.75},{"$f":"('Sconti Import'!V45-('Sconti Import'!V45*'Sconti Import'!G45))*'Zone Export'!$V$14","v":136.88999999999999},{"$f":"('Sconti Import'!W45-('Sconti Import'!W45*'Sconti Import'!H45))*'Zone Export'!$V$14","v":146.97},{"$f":"('Sconti Import'!X45-('Sconti Import'!X45*'Sconti Import'!I45))*'Zone Export'!$V$14","v":181.89},{"$f":"('Sconti Import'!Y45-('Sconti Import'!Y45*'Sconti Import'!J45))*'Zone Export'!$V$14","v":146.09249999999997},{"$f":"('Sconti Import'!Z45-('Sconti Import'!Z45*'Sconti Import'!K45))*'Zone Export'!$V$14","v":181.17},{"$f":"('Sconti Import'!AA45-('Sconti Import'!AA45*'Sconti Import'!L45))*'Zone Export'!$V$14","v":166.25249999999997},{"$f":"('Sconti Import'!AB45-('Sconti Import'!AB45*'Sconti Import'!M45))*'Zone Export'!$V$14","v":250.44749999999993},{"$f":"('Sconti Import'!AC45-('Sconti Import'!AC45*'Sconti Import'!N45))*'Zone Export'!$V$14","v":298.41749999999996}]
[null,"20 kg",null,{"$f":"('Sconti Import'!R46-('Sconti Import'!R46*'Sconti Import'!C46))*'Zone Export'!$V$14","v":104.89499999999998},{"$f":"('Sconti Import'!S46-('Sconti Import'!S46*'Sconti Import'!D46))*'Zone Export'!$V$14","v":135.76499999999999},{"$f":"('Sconti Import'!T46-('Sconti Import'!T46*'Sconti Import'!E46))*'Zone Export'!$V$14","v":183.12749999999997},{"$f":"('Sconti Import'!U46-('Sconti Import'!U46*'Sconti Import'!F46))*'Zone Export'!$V$14","v":135.78749999999999},{"$f":"('Sconti Import'!V46-('Sconti Import'!V46*'Sconti Import'!G46))*'Zone Export'!$V$14","v":140.0625},{"$f":"('Sconti Import'!W46-('Sconti Import'!W46*'Sconti Import'!H46))*'Zone Export'!$V$14","v":150.77249999999998},{"$f":"('Sconti Import'!X46-('Sconti Import'!X46*'Sconti Import'!I46))*'Zone Export'!$V$14","v":186.59249999999997},{"$f":"('Sconti Import'!Y46-('Sconti Import'!Y46*'Sconti Import'!J46))*'Zone Export'!$V$14","v":151.42499999999998},{"$f":"('Sconti Import'!Z46-('Sconti Import'!Z46*'Sconti Import'!K46))*'Zone Export'!$V$14","v":187.87499999999997},{"$f":"('Sconti Import'!AA46-('Sconti Import'!AA46*'Sconti Import'!L46))*'Zone Export'!$V$14","v":172.41749999999996},{"$f":"('Sconti Import'!AB46-('Sconti Import'!AB46*'Sconti Import'!M46))*'Zone Export'!$V$14","v":258.59249999999997},{"$f":"('Sconti Import'!AC46-('Sconti Import'!AC46*'Sconti Import'!N46))*'Zone Export'!$V$14","v":311.03999999999996}]
[null,"22 kg",null,{"$f":"('Sconti Import'!R47-('Sconti Import'!R47*'Sconti Import'!C47))*'Zone Export'!$V$14","v":109.755},{"$f":"('Sconti Import'!S47-('Sconti Import'!S47*'Sconti Import'!D47))*'Zone Export'!$V$14","v":144.11249999999998},{"$f":"('Sconti Import'!T47-('Sconti Import'!T47*'Sconti Import'!E47))*'Zone Export'!$V$14","v":190.46249999999998},{"$f":"('Sconti Import'!U47-('Sconti Import'!U47*'Sconti Import'!F47))*'Zone Export'!$V$14","v":142.60499999999999},{"$f":"('Sconti Import'!V47-('Sconti Import'!V47*'Sconti Import'!G47))*'Zone Export'!$V$14","v":147.08249999999998},{"$f":"('Sconti Import'!W47-('Sconti Import'!W47*'Sconti Import'!H47))*'Zone Export'!$V$14","v":158.22},{"$f":"('Sconti Import'!X47-('Sconti Import'!X47*'Sconti Import'!I47))*'Zone Export'!$V$14","v":196.98749999999998},{"$f":"('Sconti Import'!Y47-('Sconti Import'!Y47*'Sconti Import'!J47))*'Zone Export'!$V$14","v":164.07},{"$f":"('Sconti Import'!Z47-('Sconti Import'!Z47*'Sconti Import'!K47))*'Zone Export'!$V$14","v":202.38749999999999},{"$f":"('Sconti Import'!AA47-('Sconti Import'!AA47*'Sconti Import'!L47))*'Zone Export'!$V$14","v":185.73749999999998},{"$f":"('Sconti Import'!AB47-('Sconti Import'!AB47*'Sconti Import'!M47))*'Zone Export'!$V$14","v":275.21999999999997},{"$f":"('Sconti Import'!AC47-('Sconti Import'!AC47*'Sconti Import'!N47))*'Zone Export'!$V$14","v":339.43499999999995}]
[null,"24 kg",null,{"$f":"('Sconti Import'!R48-('Sconti Import'!R48*'Sconti Import'!C48))*'Zone Export'!$V$14","v":114.05249999999998},{"$f":"('Sconti Import'!S48-('Sconti Import'!S48*'Sconti Import'!D48))*'Zone Export'!$V$14","v":151.73999999999998},{"$f":"('Sconti Import'!T48-('Sconti Import'!T48*'Sconti Import'!E48))*'Zone Export'!$V$14","v":196.94249999999997},{"$f":"('Sconti Import'!U48-('Sconti Import'!U48*'Sconti Import'!F48))*'Zone Export'!$V$14","v":148.72499999999999},{"$f":"('Sconti Import'!V48-('Sconti Import'!V48*'Sconti Import'!G48))*'Zone Export'!$V$14","v":153.44999999999999},{"$f":"('Sconti Import'!W48-('Sconti Import'!W48*'Sconti Import'!H48))*'Zone Export'!$V$14","v":164.92499999999998},{"$f":"('Sconti Import'!X48-('Sconti Import'!X48*'Sconti Import'!I48))*'Zone Export'!$V$14","v":206.45999999999998},{"$f":"('Sconti Import'!Y48-('Sconti Import'!Y48*'Sconti Import'!J48))*'Zone Export'!$V$14","v":176.08499999999998},{"$f":"('Sconti Import'!Z48-('Sconti Import'!Z48*'Sconti Import'!K48))*'Zone Export'!$V$14","v":215.95499999999998},{"$f":"('Sconti Import'!AA48-('Sconti Import'!AA48*'Sconti Import'!L48))*'Zone Export'!$V$14","v":198.17999999999998},{"$f":"('Sconti Import'!AB48-('Sconti Import'!AB48*'Sconti Import'!M48))*'Zone Export'!$V$14","v":290.65499999999997},{"$f":"('Sconti Import'!AC48-('Sconti Import'!AC48*'Sconti Import'!N48))*'Zone Export'!$V$14","v":366.27749999999997}]
[null,"26 kg",null,{"$f":"('Sconti Import'!R49-('Sconti Import'!R49*'Sconti Import'!C49))*'Zone Export'!$V$14","v":118.39500000000001},{"$f":"('Sconti Import'!S49-('Sconti Import'!S49*'Sconti Import'!D49))*'Zone Export'!$V$14","v":159.47999999999996},{"$f":"('Sconti Import'!T49-('Sconti Import'!T49*'Sconti Import'!E49))*'Zone Export'!$V$14","v":203.35499999999996},{"$f":"('Sconti Import'!U49-('Sconti Import'!U49*'Sconti Import'!F49))*'Zone Export'!$V$14","v":154.91249999999999},{"$f":"('Sconti Import'!V49-('Sconti Import'!V49*'Sconti Import'!G49))*'Zone Export'!$V$14","v":159.83999999999997},{"$f":"('Sconti Import'!W49-('Sconti Import'!W49*'Sconti Import'!H49))*'Zone Export'!$V$14","v":171.65249999999997},{"$f":"('Sconti Import'!X49-('Sconti Import'!X49*'Sconti Import'!I49))*'Zone Export'!$V$14","v":216.02249999999998},{"$f":"('Sconti Import'!Y49-('Sconti Import'!Y49*'Sconti Import'!J49))*'Zone Export'!$V$14","v":188.01},{"$f":"('Sconti Import'!Z49-('Sconti Import'!Z49*'Sconti Import'!K49))*'Zone Export'!$V$14","v":229.47749999999996},{"$f":"('Sconti Import'!AA49-('Sconti Import'!AA49*'Sconti Import'!L49))*'Zone Export'!$V$14","v":210.6225},{"$f":"('Sconti Import'!AB49-('Sconti Import'!AB49*'Sconti Import'!M49))*'Zone Export'!$V$14","v":306.04499999999996},{"$f":"('Sconti Import'!AC49-('Sconti Import'!AC49*'Sconti Import'!N49))*'Zone Export'!$V$14","v":393.09749999999997}]
[null,"28 kg",null,{"$f":"('Sconti Import'!R50-('Sconti Import'!R50*'Sconti Import'!C50))*'Zone Export'!$V$14","v":122.71499999999997},{"$f":"('Sconti Import'!S50-('Sconti Import'!S50*'Sconti Import'!D50))*'Zone Export'!$V$14","v":167.12999999999997},{"$f":"('Sconti Import'!T50-('Sconti Import'!T50*'Sconti Import'!E50))*'Zone Export'!$V$14","v":209.83499999999998},{"$f":"('Sconti Import'!U50-('Sconti Import'!U50*'Sconti Import'!F50))*'Zone Export'!$V$14","v":161.01},{"$f":"('Sconti Import'!V50-('Sconti Import'!V50*'Sconti Import'!G50))*'Zone Export'!$V$14","v":166.20749999999998},{"$f":"('Sconti Import'!W50-('Sconti Import'!W50*'Sconti Import'!H50))*'Zone Export'!$V$14","v":178.37999999999997},{"$f":"('Sconti Import'!X50-('Sconti Import'!X50*'Sconti Import'!I50))*'Zone Export'!$V$14","v":225.495},{"$f":"('Sconti Import'!Y50-('Sconti Import'!Y50*'Sconti Import'!J50))*'Zone Export'!$V$14","v":199.97999999999996},{"$f":"('Sconti Import'!Z50-('Sconti Import'!Z50*'Sconti Import'!K50))*'Zone Export'!$V$14","v":243},{"$f":"('Sconti Import'!AA50-('Sconti Import'!AA50*'Sconti Import'!L50))*'Zone Export'!$V$14","v":223.065},{"$f":"('Sconti Import'!AB50-('Sconti Import'!AB50*'Sconti Import'!M50))*'Zone Export'!$V$14","v":321.41249999999997},{"$f":"('Sconti Import'!AC50-('Sconti Import'!AC50*'Sconti Import'!N50))*'Zone Export'!$V$14","v":419.9174999999999}]
[null,"30 kg",null,{"$f":"('Sconti Import'!R51-('Sconti Import'!R51*'Sconti Import'!C51))*'Zone Export'!$V$14","v":127.07999999999998},{"$f":"('Sconti Import'!S51-('Sconti Import'!S51*'Sconti Import'!D51))*'Zone Export'!$V$14","v":174.8475},{"$f":"('Sconti Import'!T51-('Sconti Import'!T51*'Sconti Import'!E51))*'Zone Export'!$V$14","v":216.29249999999996},{"$f":"('Sconti Import'!U51-('Sconti Import'!U51*'Sconti Import'!F51))*'Zone Export'!$V$14","v":167.17499999999998},{"$f":"('Sconti Import'!V51-('Sconti Import'!V51*'Sconti Import'!G51))*'Zone Export'!$V$14","v":172.57499999999999},{"$f":"('Sconti Import'!W51-('Sconti Import'!W51*'Sconti Import'!H51))*'Zone Export'!$V$14","v":185.10749999999999},{"$f":"('Sconti Import'!X51-('Sconti Import'!X51*'Sconti Import'!I51))*'Zone Export'!$V$14","v":235.0575},{"$f":"('Sconti Import'!Y51-('Sconti Import'!Y51*'Sconti Import'!J51))*'Zone Export'!$V$14","v":211.92749999999995},{"$f":"('Sconti Import'!Z51-('Sconti Import'!Z51*'Sconti Import'!K51))*'Zone Export'!$V$14","v":256.54499999999996},{"$f":"('Sconti Import'!AA51-('Sconti Import'!AA51*'Sconti Import'!L51))*'Zone Export'!$V$14","v":235.52999999999997},{"$f":"('Sconti Import'!AB51-('Sconti Import'!AB51*'Sconti Import'!M51))*'Zone Export'!$V$14","v":336.89249999999998},{"$f":"('Sconti Import'!AC51-('Sconti Import'!AC51*'Sconti Import'!N51))*'Zone Export'!$V$14","v":446.73749999999995}]
[null,"35 kg",null,{"$f":"('Sconti Import'!R52-('Sconti Import'!R52*'Sconti Import'!C52))*'Zone Export'!$V$14","v":136.2825},{"$f":"('Sconti Import'!S52-('Sconti Import'!S52*'Sconti Import'!D52))*'Zone Export'!$V$14","v":191.85749999999999},{"$f":"('Sconti Import'!T52-('Sconti Import'!T52*'Sconti Import'!E52))*'Zone Export'!$V$14","v":231.29999999999995},{"$f":"('Sconti Import'!U52-('Sconti Import'!U52*'Sconti Import'!F52))*'Zone Export'!$V$14","v":181.10249999999996},{"$f":"('Sconti Import'!V52-('Sconti Import'!V52*'Sconti Import'!G52))*'Zone Export'!$V$14","v":186.83999999999997},{"$f":"('Sconti Import'!W52-('Sconti Import'!W52*'Sconti Import'!H52))*'Zone Export'!$V$14","v":200.45249999999999},{"$f":"('Sconti Import'!X52-('Sconti Import'!X52*'Sconti Import'!I52))*'Zone Export'!$V$14","v":260.79749999999996},{"$f":"('Sconti Import'!Y52-('Sconti Import'!Y52*'Sconti Import'!J52))*'Zone Export'!$V$14","v":241.74},{"$f":"('Sconti Import'!Z52-('Sconti Import'!Z52*'Sconti Import'!K52))*'Zone Export'!$V$14","v":290.38499999999993},{"$f":"('Sconti Import'!AA52-('Sconti Import'!AA52*'Sconti Import'!L52))*'Zone Export'!$V$14","v":266.64749999999998},{"$f":"('Sconti Import'!AB52-('Sconti Import'!AB52*'Sconti Import'!M52))*'Zone Export'!$V$14","v":375.43499999999995},{"$f":"('Sconti Import'!AC52-('Sconti Import'!AC52*'Sconti Import'!N52))*'Zone Export'!$V$14","v":512.75249999999994}]
[null,"40 kg",null,{"$f":"('Sconti Import'!R53-('Sconti Import'!R53*'Sconti Import'!C53))*'Zone Export'!$V$14","v":145.16999999999999},{"$f":"('Sconti Import'!S53-('Sconti Import'!S53*'Sconti Import'!D53))*'Zone Export'!$V$14","v":208.91249999999997},{"$f":"('Sconti Import'!T53-('Sconti Import'!T53*'Sconti Import'!E53))*'Zone Export'!$V$14","v":246.26249999999999},{"$f":"('Sconti Import'!U53-('Sconti Import'!U53*'Sconti Import'!F53))*'Zone Export'!$V$14","v":195.05249999999998},{"$f":"('Sconti Import'!V53-('Sconti Import'!V53*'Sconti Import'!G53))*'Zone Export'!$V$14","v":201.12749999999997},{"$f":"('Sconti Import'!W53-('Sconti Import'!W53*'Sconti Import'!H53))*'Zone Export'!$V$14","v":215.9325},{"$f":"('Sconti Import'!X53-('Sconti Import'!X53*'Sconti Import'!I53))*'Zone Export'!$V$14","v":286.58249999999998},{"$f":"('Sconti Import'!Y53-('Sconti Import'!Y53*'Sconti Import'!J53))*'Zone Export'!$V$14","v":271.62},{"$f":"('Sconti Import'!Z53-('Sconti Import'!Z53*'Sconti Import'!K53))*'Zone Export'!$V$14","v":324.22499999999997},{"$f":"('Sconti Import'!AA53-('Sconti Import'!AA53*'Sconti Import'!L53))*'Zone Export'!$V$14","v":297.71999999999997},{"$f":"('Sconti Import'!AB53-('Sconti Import'!AB53*'Sconti Import'!M53))*'Zone Export'!$V$14","v":414.09},{"$f":"('Sconti Import'!AC53-('Sconti Import'!AC53*'Sconti Import'!N53))*'Zone Export'!$V$14","v":578.79}]
[null,"45 kg",null,{"$f":"('Sconti Import'!R54-('Sconti Import'!R54*'Sconti Import'!C54))*'Zone Export'!$V$14","v":154.12499999999997},{"$f":"('Sconti Import'!S54-('Sconti Import'!S54*'Sconti Import'!D54))*'Zone Export'!$V$14","v":225.96749999999997},{"$f":"('Sconti Import'!T54-('Sconti Import'!T54*'Sconti Import'!E54))*'Zone Export'!$V$14","v":261.24749999999995},{"$f":"('Sconti Import'!U54-('Sconti Import'!U54*'Sconti Import'!F54))*'Zone Export'!$V$14","v":208.93499999999997},{"$f":"('Sconti Import'!V54-('Sconti Import'!V54*'Sconti Import'!G54))*'Zone Export'!$V$14","v":215.41499999999996},{"$f":"('Sconti Import'!W54-('Sconti Import'!W54*'Sconti Import'!H54))*'Zone Export'!$V$14","v":231.32249999999993},{"$f":"('Sconti Import'!X54-('Sconti Import'!X54*'Sconti Import'!I54))*'Zone Export'!$V$14","v":312.41249999999997},{"$f":"('Sconti Import'!Y54-('Sconti Import'!Y54*'Sconti Import'!J54))*'Zone Export'!$V$14","v":301.4325},{"$f":"('Sconti Import'!Z54-('Sconti Import'!Z54*'Sconti Import'!K54))*'Zone Export'!$V$14","v":358.08749999999998},{"$f":"('Sconti Import'!AA54-('Sconti Import'!AA54*'Sconti Import'!L54))*'Zone Export'!$V$14","v":329.08499999999992},{"$f":"('Sconti Import'!AB54-('Sconti Import'!AB54*'Sconti Import'!M54))*'Zone Export'!$V$14","v":452.65499999999997},{"$f":"('Sconti Import'!AC54-('Sconti Import'!AC54*'Sconti Import'!N54))*'Zone Export'!$V$14","v":644.80499999999995}]
[null,"50 kg",null,{"$f":"('Sconti Import'!R55-('Sconti Import'!R55*'Sconti Import'!C55))*'Zone Export'!$V$14","v":162.98999999999998},{"$f":"('Sconti Import'!S55-('Sconti Import'!S55*'Sconti Import'!D55))*'Zone Export'!$V$14","v":243},{"$f":"('Sconti Import'!T55-('Sconti Import'!T55*'Sconti Import'!E55))*'Zone Export'!$V$14","v":276.23249999999996},{"$f":"('Sconti Import'!U55-('Sconti Import'!U55*'Sconti Import'!F55))*'Zone Export'!$V$14","v":222.88499999999999},{"$f":"('Sconti Import'!V55-('Sconti Import'!V55*'Sconti Import'!G55))*'Zone Export'!$V$14","v":229.76999999999998},{"$f":"('Sconti Import'!W55-('Sconti Import'!W55*'Sconti Import'!H55))*'Zone Export'!$V$14","v":246.77999999999997},{"$f":"('Sconti Import'!X55-('Sconti Import'!X55*'Sconti Import'!I55))*'Zone Export'!$V$14","v":338.30999999999995},{"$f":"('Sconti Import'!Y55-('Sconti Import'!Y55*'Sconti Import'!J55))*'Zone Export'!$V$14","v":331.245},{"$f":"('Sconti Import'!Z55-('Sconti Import'!Z55*'Sconti Import'!K55))*'Zone Export'!$V$14","v":391.92750000000001},{"$f":"('Sconti Import'!AA55-('Sconti Import'!AA55*'Sconti Import'!L55))*'Zone Export'!$V$14","v":360.20249999999999},{"$f":"('Sconti Import'!AB55-('Sconti Import'!AB55*'Sconti Import'!M55))*'Zone Export'!$V$14","v":491.30999999999995},{"$f":"('Sconti Import'!AC55-('Sconti Import'!AC55*'Sconti Import'!N55))*'Zone Export'!$V$14","v":710.93249999999989}]
[null,"55 kg",null,{"$f":"('Sconti Import'!R56-('Sconti Import'!R56*'Sconti Import'!C56))*'Zone Export'!$V$14","v":171.94499999999999},{"$f":"('Sconti Import'!S56-('Sconti Import'!S56*'Sconti Import'!D56))*'Zone Export'!$V$14","v":260.07749999999999},{"$f":"('Sconti Import'!T56-('Sconti Import'!T56*'Sconti Import'!E56))*'Zone Export'!$V$14","v":291.14999999999998},{"$f":"('Sconti Import'!U56-('Sconti Import'!U56*'Sconti Import'!F56))*'Zone Export'!$V$14","v":236.8125},{"$f":"('Sconti Import'!V56-('Sconti Import'!V56*'Sconti Import'!G56))*'Zone Export'!$V$14","v":244.07999999999998},{"$f":"('Sconti Import'!W56-('Sconti Import'!W56*'Sconti Import'!H56))*'Zone Export'!$V$14","v":262.16999999999996},{"$f":"('Sconti Import'!X56-('Sconti Import'!X56*'Sconti Import'!I56))*'Zone Export'!$V$14","v":364.09499999999997},{"$f":"('Sconti Import'!Y56-('Sconti Import'!Y56*'Sconti Import'!J56))*'Zone Export'!$V$14","v":361.07999999999993},{"$f":"('Sconti Import'!Z56-('Sconti Import'!Z56*'Sconti Import'!K56))*'Zone Export'!$V$14","v":425.76749999999993},{"$f":"('Sconti Import'!AA56-('Sconti Import'!AA56*'Sconti Import'!L56))*'Zone Export'!$V$14","v":391.22999999999996},{"$f":"('Sconti Import'!AB56-('Sconti Import'!AB56*'Sconti Import'!M56))*'Zone Export'!$V$14","v":529.98749999999995},{"$f":"('Sconti Import'!AC56-('Sconti Import'!AC56*'Sconti Import'!N56))*'Zone Export'!$V$14","v":777.01499999999999}]
[null,"60 kg",null,{"$f":"('Sconti Import'!R57-('Sconti Import'!R57*'Sconti Import'!C57))*'Zone Export'!$V$14","v":180.85499999999996},{"$f":"('Sconti Import'!S57-('Sconti Import'!S57*'Sconti Import'!D57))*'Zone Export'!$V$14","v":277.04249999999996},{"$f":"('Sconti Import'!T57-('Sconti Import'!T57*'Sconti Import'!E57))*'Zone Export'!$V$14","v":306.17999999999995},{"$f":"('Sconti Import'!U57-('Sconti Import'!U57*'Sconti Import'!F57))*'Zone Export'!$V$14","v":250.76249999999999},{"$f":"('Sconti Import'!V57-('Sconti Import'!V57*'Sconti Import'!G57))*'Zone Export'!$V$14","v":258.39},{"$f":"('Sconti Import'!W57-('Sconti Import'!W57*'Sconti Import'!H57))*'Zone Export'!$V$14","v":277.60499999999996},{"$f":"('Sconti Import'!X57-('Sconti Import'!X57*'Sconti Import'!I57))*'Zone Export'!$V$14","v":389.92499999999995},{"$f":"('Sconti Import'!Y57-('Sconti Import'!Y57*'Sconti Import'!J57))*'Zone Export'!$V$14","v":389.90249999999997},{"$f":"('Sconti Import'!Z57-('Sconti Import'!Z57*'Sconti Import'!K57))*'Zone Export'!$V$14","v":459.5625},{"$f":"('Sconti Import'!AA57-('Sconti Import'!AA57*'Sconti Import'!L57))*'Zone Export'!$V$14","v":422.30250000000001},{"$f":"('Sconti Import'!AB57-('Sconti Import'!AB57*'Sconti Import'!M57))*'Zone Export'!$V$14","v":568.61999999999989},{"$f":"('Sconti Import'!AC57-('Sconti Import'!AC57*'Sconti Import'!N57))*'Zone Export'!$V$14","v":843.09749999999985}]
[null,"65 kg",null,{"$f":"('Sconti Import'!R58-('Sconti Import'!R58*'Sconti Import'!C58))*'Zone Export'!$V$14","v":189.78749999999999},{"$f":"('Sconti Import'!S58-('Sconti Import'!S58*'Sconti Import'!D58))*'Zone Export'!$V$14","v":294.16499999999996},{"$f":"('Sconti Import'!T58-('Sconti Import'!T58*'Sconti Import'!E58))*'Zone Export'!$V$14","v":321.16499999999996},{"$f":"('Sconti Import'!U58-('Sconti Import'!U58*'Sconti Import'!F58))*'Zone Export'!$V$14","v":264.71249999999998},{"$f":"('Sconti Import'!V58-('Sconti Import'!V58*'Sconti Import'!G58))*'Zone Export'!$V$14","v":272.79000000000002},{"$f":"('Sconti Import'!W58-('Sconti Import'!W58*'Sconti Import'!H58))*'Zone Export'!$V$14","v":293.01749999999998},{"$f":"('Sconti Import'!X58-('Sconti Import'!X58*'Sconti Import'!I58))*'Zone Export'!$V$14","v":415.77749999999997},{"$f":"('Sconti Import'!Y58-('Sconti Import'!Y58*'Sconti Import'!J58))*'Zone Export'!$V$14","v":415.75499999999994},{"$f":"('Sconti Import'!Z58-('Sconti Import'!Z58*'Sconti Import'!K58))*'Zone Export'!$V$14","v":493.44749999999988},{"$f":"('Sconti Import'!AA58-('Sconti Import'!AA58*'Sconti Import'!L58))*'Zone Export'!$V$14","v":453.32999999999993},{"$f":"('Sconti Import'!AB58-('Sconti Import'!AB58*'Sconti Import'!M58))*'Zone Export'!$V$14","v":607.25249999999994},{"$f":"('Sconti Import'!AC58-('Sconti Import'!AC58*'Sconti Import'!N58))*'Zone Export'!$V$14","v":909.18000000000006}]
[null,"70 kg",null,{"$f":"('Sconti Import'!R59-('Sconti Import'!R59*'Sconti Import'!C59))*'Zone Export'!$V$14","v":198.74249999999998},{"$f":"('Sconti Import'!S59-('Sconti Import'!S59*'Sconti Import'!D59))*'Zone Export'!$V$14","v":311.21999999999997},{"$f":"('Sconti Import'!T59-('Sconti Import'!T59*'Sconti Import'!E59))*'Zone Export'!$V$14","v":336.15},{"$f":"('Sconti Import'!U59-('Sconti Import'!U59*'Sconti Import'!F59))*'Zone Export'!$V$14","v":278.64},{"$f":"('Sconti Import'!V59-('Sconti Import'!V59*'Sconti Import'!G59))*'Zone Export'!$V$14","v":287.07749999999999},{"$f":"('Sconti Import'!W59-('Sconti Import'!W59*'Sconti Import'!H59))*'Zone Export'!$V$14","v":308.40749999999997},{"$f":"('Sconti Import'!X59-('Sconti Import'!X59*'Sconti Import'!I59))*'Zone Export'!$V$14","v":441.60749999999996},{"$f":"('Sconti Import'!Y59-('Sconti Import'!Y59*'Sconti Import'!J59))*'Zone Export'!$V$14","v":441.58499999999992},{"$f":"('Sconti Import'!Z59-('Sconti Import'!Z59*'Sconti Import'!K59))*'Zone Export'!$V$14","v":527.35500000000002},{"$f":"('Sconti Import'!AA59-('Sconti Import'!AA59*'Sconti Import'!L59))*'Zone Export'!$V$14","v":484.46999999999991},{"$f":"('Sconti Import'!AB59-('Sconti Import'!AB59*'Sconti Import'!M59))*'Zone Export'!$V$14","v":645.92999999999995},{"$f":"('Sconti Import'!AC59-('Sconti Import'!AC59*'Sconti Import'!N59))*'Zone Export'!$V$14","v":975.28500000000008}]
[null,"Oltre 70 Kg"]
[null,"Prezzo al Kg",null,{"$f":"('Sconti Import'!R61-('Sconti Import'!R61*'Sconti Import'!C61))*'Zone Export'!$V$14","v":2.8349999999999995},{"$f":"('Sconti Import'!S61-('Sconti Import'!S61*'Sconti Import'!D61))*'Zone Export'!$V$14","v":4.4459999999999997},{"$f":"('Sconti Import'!T61-('Sconti Import'!T61*'Sconti Import'!E61))*'Zone Export'!$V$14","v":4.8014999999999999},{"$f":"('Sconti Import'!U61-('Sconti Import'!U61*'Sconti Import'!F61))*'Zone Export'!$V$14","v":3.9779999999999998},{"$f":"('Sconti Import'!V61-('Sconti Import'!V61*'Sconti Import'!G61))*'Zone Export'!$V$14","v":4.0904999999999996},{"$f":"('Sconti Import'!W61-('Sconti Import'!W61*'Sconti Import'!H61))*'Zone Export'!$V$14","v":4.4054999999999991},{"$f":"('Sconti Import'!X61-('Sconti Import'!X61*'Sconti Import'!I61))*'Zone Export'!$V$14","v":6.3044999999999991},{"$f":"('Sconti Import'!Y61-('Sconti Import'!Y61*'Sconti Import'!J61))*'Zone Export'!$V$14","v":6.3044999999999991},{"$f":"('Sconti Import'!Z61-('Sconti Import'!Z61*'Sconti Import'!K61))*'Zone Export'!$V$14","v":7.519499999999999},{"$f":"('Sconti Import'!AA61-('Sconti Import'!AA61*'Sconti Import'!L61))*'Zone Export'!$V$14","v":6.9209999999999994},{"$f":"('Sconti Import'!AB61-('Sconti Import'!AB61*'Sconti Import'!M61))*'Zone Export'!$V$14","v":9.2249999999999996},{"$f":"('Sconti Import'!AC61-('Sconti Import'!AC61*'Sconti Import'!N61))*'Zone Export'!$V$14","v":13.931999999999999}]
[null,"Tariffa Minima",null,{"$f":"('Sconti Import'!R62-('Sconti Import'!R62*'Sconti Import'!C62))*'Zone Export'!$V$14","v":198.74249999999998},{"$f":"('Sconti Import'!S62-('Sconti Import'!S62*'Sconti Import'!D62))*'Zone Export'!$V$14","v":311.21999999999997},{"$f":"('Sconti Import'!T62-('Sconti Import'!T62*'Sconti Import'!E62))*'Zone Export'!$V$14","v":336.15},{"$f":"('Sconti Import'!U62-('Sconti Import'!U62*'Sconti Import'!F62))*'Zone Export'!$V$14","v":278.64},{"$f":"('Sconti Import'!V62-('Sconti Import'!V62*'Sconti Import'!G62))*'Zone Export'!$V$14","v":287.07749999999999},{"$f":"('Sconti Import'!W62-('Sconti Import'!W62*'Sconti Import'!H62))*'Zone Export'!$V$14","v":308.40749999999997},{"$f":"('Sconti Import'!X62-('Sconti Import'!X62*'Sconti Import'!I62))*'Zone Export'!$V$14","v":441.60749999999996},{"$f":"('Sconti Import'!Y62-('Sconti Import'!Y62*'Sconti Import'!J62))*'Zone Export'!$V$14","v":441.58499999999992},{"$f":"('Sconti Import'!Z62-('Sconti Import'!Z62*'Sconti Import'!K62))*'Zone Export'!$V$14","v":527.35500000000002},{"$f":"('Sconti Import'!AA62-('Sconti Import'!AA62*'Sconti Import'!L62))*'Zone Export'!$V$14","v":484.46999999999991},{"$f":"('Sconti Import'!AB62-('Sconti Import'!AB62*'Sconti Import'!M62))*'Zone Export'!$V$14","v":645.92999999999995},{"$f":"('Sconti Import'!AC62-('Sconti Import'!AC62*'Sconti Import'!N62))*'Zone Export'!$V$14","v":975.28500000000008}]

{"sheet":"Saver Import","index":15,"n_rows":71,"n_cols":15,"rows_kept":71,"cut":false,"hidden":false,"merged":[[23,1,23,2],[23,16,26,31],[22,9,22,14],[63,16,65,31],[59,16,60,31],[51,16,57,31],[46,16,48,31],[39,16,43,31],[35,17,35,20],[16,16,16,32],[30,16,30,22],[30,23,31,31],[31,16,31,22],[19,16,21,31],[13,16,13,32],[8,11,8,14],[5,1,6,14],[7,1,7,14],[22,3,22,7],[22,1,22,2],[10,9,10,14],[13,1,18,1],[7,35,10,40],[10,3,10,7],[10,1,10,2],[9,16,12,31],[11,1,11,2]]}
[]
[]
[]
[]
[]
[]
[]
[null,"* Per ulteriori dettagli su Garanzie di Rimborso, Copertura Servizi e Condizioni contattare il Numero 02 30 30 30 39\n o consultare il sito www.ups.com"]
[null,null,null,null,null,null,null,null,null,null,"Spettabile",{"$f":"+Cover!$C$2","v":"GLOCAL WEB"}]
[]
[null,"€",null,"Unione Europea",null,null,null,null,"Resto d'Europa"," Resto del Mondo"]
[null,"Zona",null,2,3,4,41,42,5,6,7,8,81,9,10]
[null,"Envelope",null,{"$f":"('Sconti Import'!R70-('Sconti Import'!R70*'Sconti Import'!C70))*'Zone Export'!$V$14","v":21.262499999999999},{"$f":"('Sconti Import'!S70-('Sconti Import'!S70*'Sconti Import'!D70))*'Zone Export'!$V$14","v":24.682499999999997},{"$f":"('Sconti Import'!T70-('Sconti Import'!T70*'Sconti Import'!E70))*'Zone Export'!$V$14","v":31.454999999999998},{"$f":"('Sconti Import'!U70-('Sconti Import'!U70*'Sconti Import'!F70))*'Zone Export'!$V$14","v":21.172499999999996},{"$f":"('Sconti Import'!V70-('Sconti Import'!V70*'Sconti Import'!G70))*'Zone Export'!$V$14","v":21.757499999999997},{"$f":"('Sconti Import'!W70-('Sconti Import'!W70*'Sconti Import'!H70))*'Zone Export'!$V$14","v":22.904999999999998},{"$f":"('Sconti Import'!X70-('Sconti Import'!X70*'Sconti Import'!I70))*'Zone Export'!$V$14","v":26.145},{"$f":"('Sconti Import'!Y70-('Sconti Import'!Y70*'Sconti Import'!J70))*'Zone Export'!$V$14","v":19.844999999999999},{"$f":"('Sconti Import'!Z70-('Sconti Import'!Z70*'Sconti Import'!K70))*'Zone Export'!$V$14","v":23.197499999999998},{"$f":"('Sconti Import'!AA70-('Sconti Import'!AA70*'Sconti Import'!L70))*'Zone Export'!$V$14","v":20.6325},{"$f":"('Sconti Import'!AB70-('Sconti Import'!AB70*'Sconti Import'!M70))*'Zone Export'!$V$14","v":23.534999999999997},{"$f":"('Sconti Import'!AC70-('Sconti Import'!AC70*'Sconti Import'!N70))*'Zone Export'!$V$14","v":25.694999999999997}]
[null,"Documenti","Peso"]
[null,null,"0,5 kg",{"$f":"('Sconti Import'!R72-('Sconti Import'!R72*'Sconti Import'!C72))*'Zone Export'!$V$14","v":31.14},{"$f":"('Sconti Import'!S72-('Sconti Import'!S72*'Sconti Import'!D72))*'Zone Export'!$V$14","v":31.207499999999996},{"$f":"('Sconti Import'!T72-('Sconti Import'!T72*'Sconti Import'!E72))*'Zone Export'!$V$14","v":43.537499999999994},{"$f":"('Sconti Import'!U72-('Sconti Import'!U72*'Sconti Import'!F72))*'Zone Export'!$V$14","v":41.287499999999994},{"$f":"('Sconti Import'!V72-('Sconti Import'!V72*'Sconti Import'!G72))*'Zone Export'!$V$14","v":42.48},{"$f":"('Sconti Import'!W72-('Sconti Import'!W72*'Sconti Import'!H72))*'Zone Export'!$V$14","v":42.502499999999998},{"$f":"('Sconti Import'!X72-('Sconti Import'!X72*'Sconti Import'!I72))*'Zone Export'!$V$14","v":42.524999999999999},{"$f":"('Sconti Import'!Y72-('Sconti Import'!Y72*'Sconti Import'!J72))*'Zone Export'!$V$14","v":27},{"$f":"('Sconti Import'!Z72-('Sconti Import'!Z72*'Sconti Import'!K72))*'Zone Export'!$V$14","v":30.509999999999998},{"$f":"('Sconti Import'!AA72-('Sconti Import'!AA72*'Sconti Import'!L72))*'Zone Export'!$V$14","v":27.157499999999999},{"$f":"('Sconti Import'!AB72-('Sconti Import'!AB72*'Sconti Import'!M72))*'Zone Export'!$V$14","v":39.757499999999993},{"$f":"('Sconti Import'!AC72-('Sconti Import'!AC72*'Sconti Import'!N72))*'Zone Export'!$V$14","v":41.737499999999997}]
[null,null,"1,0 kg",{"$f":"('Sconti Import'!R73-('Sconti Import'!R73*'Sconti Import'!C73))*'Zone Export'!$V$14","v":35.122499999999995},{"$f":"('Sconti Import'!S73-('Sconti Import'!S73*'Sconti Import'!D73))*'Zone Export'!$V$14","v":36.337499999999999},{"$f":"('Sconti Import'!T73-('Sconti Import'!T73*'Sconti Import'!E73))*'Zone Export'!$V$14","v":50.602499999999999},{"$f":"('Sconti Import'!U73-('Sconti Import'!U73*'Sconti Import'!F73))*'Zone Export'!$V$14","v":46.034999999999997},{"$f":"('Sconti Import'!V73-('Sconti Import'!V73*'Sconti Import'!G73))*'Zone Export'!$V$14","v":47.362499999999997},{"$f":"('Sconti Import'!W73-('Sconti Import'!W73*'Sconti Import'!H73))*'Zone Export'!$V$14","v":47.384999999999991},{"$f":"('Sconti Import'!X73-('Sconti Import'!X73*'Sconti Import'!I73))*'Zone Export'!$V$14","v":47.407499999999992},{"$f":"('Sconti Import'!Y73-('Sconti Import'!Y73*'Sconti Import'!J73))*'Zone Export'!$V$14","v":32.107499999999995},{"$f":"('Sconti Import'!Z73-('Sconti Import'!Z73*'Sconti Import'!K73))*'Zone Export'!$V$14","v":36.224999999999994},{"$f":"('Sconti Import'!AA73-('Sconti Import'!AA73*'Sconti Import'!L73))*'Zone Export'!$V$14","v":32.265000000000001},{"$f":"('Sconti Import'!AB73-('Sconti Import'!AB73*'Sconti Import'!M73))*'Zone Export'!$V$14","v":46.05749999999999},{"$f":"('Sconti Import'!AC73-('Sconti Import'!AC73*'Sconti Import'!N73))*'Zone Export'!$V$14","v":48.217500000000001}]
[null,null,"1,5 kg",{"$f":"('Sconti Import'!R74-('Sconti Import'!R74*'Sconti Import'!C74))*'Zone Export'!$V$14","v":39.037499999999994},{"$f":"('Sconti Import'!S74-('Sconti Import'!S74*'Sconti Import'!D74))*'Zone Export'!$V$14","v":41.377499999999998},{"$f":"('Sconti Import'!T74-('Sconti Import'!T74*'Sconti Import'!E74))*'Zone Export'!$V$14","v":57.66749999999999},{"$f":"('Sconti Import'!U74-('Sconti Import'!U74*'Sconti Import'!F74))*'Zone Export'!$V$14","v":50.737499999999997},{"$f":"('Sconti Import'!V74-('Sconti Import'!V74*'Sconti Import'!G74))*'Zone Export'!$V$14","v":52.177499999999995},{"$f":"('Sconti Import'!W74-('Sconti Import'!W74*'Sconti Import'!H74))*'Zone Export'!$V$14","v":52.199999999999996},{"$f":"('Sconti Import'!X74-('Sconti Import'!X74*'Sconti Import'!I74))*'Zone Export'!$V$14","v":52.222499999999997},{"$f":"('Sconti Import'!Y74-('Sconti Import'!Y74*'Sconti Import'!J74))*'Zone Export'!$V$14","v":37.169999999999995},{"$f":"('Sconti Import'!Z74-('Sconti Import'!Z74*'Sconti Import'!K74))*'Zone Export'!$V$14","v":41.984999999999992},{"$f":"('Sconti Import'!AA74-('Sconti Import'!AA74*'Sconti Import'!L74))*'Zone Export'!$V$14","v":37.349999999999994},{"$f":"('Sconti Import'!AB74-('Sconti Import'!AB74*'Sconti Import'!M74))*'Zone Export'!$V$14","v":52.424999999999997},{"$f":"('Sconti Import'!AC74-('Sconti Import'!AC74*'Sconti Import'!N74))*'Zone Export'!$V$14","v":54.742499999999993}]
[null,null,"2,0 kg",{"$f":"('Sconti Import'!R75-('Sconti Import'!R75*'Sconti Import'!C75))*'Zone Export'!$V$14","v":42.997499999999995},{"$f":"('Sconti Import'!S75-('Sconti Import'!S75*'Sconti Import'!D75))*'Zone Export'!$V$14","v":46.44},{"$f":"('Sconti Import'!T75-('Sconti Import'!T75*'Sconti Import'!E75))*'Zone Export'!$V$14","v":64.754999999999995},{"$f":"('Sconti Import'!U75-('Sconti Import'!U75*'Sconti Import'!F75))*'Zone Export'!$V$14","v":55.44},{"$f":"('Sconti Import'!V75-('Sconti Import'!V75*'Sconti Import'!G75))*'Zone Export'!$V$14","v":57.015000000000001},{"$f":"('Sconti Import'!W75-('Sconti Import'!W75*'Sconti Import'!H75))*'Zone Export'!$V$14","v":57.037499999999994},{"$f":"('Sconti Import'!X75-('Sconti Import'!X75*'Sconti Import'!I75))*'Zone Export'!$V$14","v":57.059999999999988},{"$f":"('Sconti Import'!Y75-('Sconti Import'!Y75*'Sconti Import'!J75))*'Zone Export'!$V$14","v":42.209999999999994},{"$f":"('Sconti Import'!Z75-('Sconti Import'!Z75*'Sconti Import'!K75))*'Zone Export'!$V$14","v":47.699999999999996},{"$f":"('Sconti Import'!AA75-('Sconti Import'!AA75*'Sconti Import'!L75))*'Zone Export'!$V$14","v":42.502499999999998},{"$f":"('Sconti Import'!AB75-('Sconti Import'!AB75*'Sconti Import'!M75))*'Zone Export'!$V$14","v":58.702499999999986},{"$f":"('Sconti Import'!AC75-('Sconti Import'!AC75*'Sconti Import'!N75))*'Zone Export'!$V$14","v":61.199999999999989}]
[null,null,"2,5 kg",{"$f":"('Sconti Import'!R76-('Sconti Import'!R76*'Sconti Import'!C76))*'Zone Export'!$V$14","v":46.98},{"$f":"('Sconti Import'!S76-('Sconti Import'!S76*'Sconti Import'!D76))*'Zone Export'!$V$14","v":51.48},{"$f":"('Sconti Import'!T76-('Sconti Import'!T76*'Sconti Import'!E76))*'Zone Export'!$V$14","v":71.797499999999999},{"$f":"('Sconti Import'!U76-('Sconti Import'!U76*'Sconti Import'!F76))*'Zone Export'!$V$14","v":60.1875},{"$f":"('Sconti Import'!V76-('Sconti Import'!V76*'Sconti Import'!G76))*'Zone Export'!$V$14","v":61.919999999999987},{"$f":"('Sconti Import'!W76-('Sconti Import'!W76*'Sconti Import'!H76))*'Zone Export'!$V$14","v":61.942499999999995},{"$f":"('Sconti Import'!X76-('Sconti Import'!X76*'Sconti Import'!I76))*'Zone Export'!$V$14","v":61.964999999999989},{"$f":"('Sconti Import'!Y76-('Sconti Import'!Y76*'Sconti Import'!J76))*'Zone Export'!$V$14","v":47.294999999999995},{"$f":"('Sconti Import'!Z76-('Sconti Import'!Z76*'Sconti Import'!K76))*'Zone Export'!$V$14","v":53.4375},{"$f":"('Sconti Import'!AA76-('Sconti Import'!AA76*'Sconti Import'!L76))*'Zone Export'!$V$14","v":47.542499999999997},{"$f":"('Sconti Import'!AB76-('Sconti Import'!AB76*'Sconti Import'!M76))*'Zone Export'!$V$14","v":65.024999999999991},{"$f":"('Sconti Import'!AC76-('Sconti Import'!AC76*'Sconti Import'!N76))*'Zone Export'!$V$14","v":67.747500000000002}]
[]
[]
[]
[null,"€",null,"Unione Europea",null,null,null,null,"Resto d'Europa"," Resto del Mondo"]
[null,"Zona",null,2,3,4,41,42,5,6,7,8,81,9,10]
[null,"Peso"]
[null,"0,5 kg",null,{"$f":"('Sconti Import'!R81-('Sconti Import'!R81*'Sconti Import'!C81))*'Zone Export'!$V$14","v":31.14},{"$f":"('Sconti Import'!S81-('Sconti Import'!S81*'Sconti Import'!D81))*'Zone Export'!$V$14","v":31.207499999999996},{"$f":"('Sconti Import'!T81-('Sconti Import'!T81*'Sconti Import'!E81))*'Zone Export'!$V$14","v":43.537499999999994},{"$f":"('Sconti Import'!U81-('Sconti Import'!U81*'Sconti Import'!F81))*'Zone Export'!$V$14","v":41.287499999999994},{"$f":"('Sconti Import'!V81-('Sconti Import'!V81*'Sconti Import'!G81))*'Zone Export'!$V$14","v":42.48},{"$f":"('Sconti Import'!W81-('Sconti Import'!W81*'Sconti Import'!H81))*'Zone Export'!$V$14","v":57.599999999999994},{"$f":"('Sconti Import'!X81-('Sconti Import'!X81*'Sconti Import'!I81))*'Zone Export'!$V$14","v":57.622500000000002},{"$f":"('Sconti Import'!Y81-('Sconti Import'!Y81*'Sconti Import'!J81))*'Zone Export'!$V$14","v":29.204999999999998},{"$f":"('Sconti Import'!Z81-('Sconti Import'!Z81*'Sconti Import'!K81))*'Zone Export'!$V$14","v":34.042499999999997},{"$f":"('Sconti Import'!AA81-('Sconti Import'!AA81*'Sconti Import'!L81))*'Zone Export'!$V$14","v":30.307499999999997},{"$f":"('Sconti Import'!AB81-('Sconti Import'!AB81*'Sconti Import'!M81))*'Zone Export'!$V$14","v":48.104999999999997},{"$f":"('Sconti Import'!AC81-('Sconti Import'!AC81*'Sconti Import'!N81))*'Zone Export'!$V$14","v":49.882499999999993}]
[null,"1,0 kg",null,{"$f":"('Sconti Import'!R82-('Sconti Import'!R82*'Sconti Import'!C82))*'Zone Export'!$V$14","v":35.122499999999995},{"$f":"('Sconti Import'!S82-('Sconti Import'!S82*'Sconti Import'!D82))*'Zone Export'!$V$14","v":36.337499999999999},{"$f":"('Sconti Import'!T82-('Sconti Import'!T82*'Sconti Import'!E82))*'Zone Export'!$V$14","v":50.602499999999999},{"$f":"('Sconti Import'!U82-('Sconti Import'!U82*'Sconti Import'!F82))*'Zone Export'!$V$14","v":46.034999999999997},{"$f":"('Sconti Import'!V82-('Sconti Import'!V82*'Sconti Import'!G82))*'Zone Export'!$V$14","v":47.362499999999997},{"$f":"('Sconti Import'!W82-('Sconti Import'!W82*'Sconti Import'!H82))*'Zone Export'!$V$14","v":61.717500000000001},{"$f":"('Sconti Import'!X82-('Sconti Import'!X82*'Sconti Import'!I82))*'Zone Export'!$V$14","v":61.739999999999995},{"$f":"('Sconti Import'!Y82-('Sconti Import'!Y82*'Sconti Import'!J82))*'Zone Export'!$V$14","v":34.334999999999994},{"$f":"('Sconti Import'!Z82-('Sconti Import'!Z82*'Sconti Import'!K82))*'Zone Export'!$V$14","v":39.78},{"$f":"('Sconti Import'!AA82-('Sconti Import'!AA82*'Sconti Import'!L82))*'Zone Export'!$V$14","v":35.482499999999995},{"$f":"('Sconti Import'!AB82-('Sconti Import'!AB82*'Sconti Import'!M82))*'Zone Export'!$V$14","v":54.157499999999999},{"$f":"('Sconti Import'!AC82-('Sconti Import'!AC82*'Sconti Import'!N82))*'Zone Export'!$V$14","v":56.25}]
[null,"1,5 kg",null,{"$f":"('Sconti Import'!R83-('Sconti Import'!R83*'Sconti Import'!C83))*'Zone Export'!$V$14","v":39.037499999999994},{"$f":"('Sconti Import'!S83-('Sconti Import'!S83*'Sconti Import'!D83))*'Zone Export'!$V$14","v":41.377499999999998},{"$f":"('Sconti Import'!T83-('Sconti Import'!T83*'Sconti Import'!E83))*'Zone Export'!$V$14","v":57.66749999999999},{"$f":"('Sconti Import'!U83-('Sconti Import'!U83*'Sconti Import'!F83))*'Zone Export'!$V$14","v":50.737499999999997},{"$f":"('Sconti Import'!V83-('Sconti Import'!V83*'Sconti Import'!G83))*'Zone Export'!$V$14","v":52.177499999999995},{"$f":"('Sconti Import'!W83-('Sconti Import'!W83*'Sconti Import'!H83))*'Zone Export'!$V$14","v":65.834999999999994},{"$f":"('Sconti Import'!X83-('Sconti Import'!X83*'Sconti Import'!I83))*'Zone Export'!$V$14","v":65.857499999999987},{"$f":"('Sconti Import'!Y83-('Sconti Import'!Y83*'Sconti Import'!J83))*'Zone Export'!$V$14","v":39.352499999999999},{"$f":"('Sconti Import'!Z83-('Sconti Import'!Z83*'Sconti Import'!K83))*'Zone Export'!$V$14","v":45.54},{"$f":"('Sconti Import'!AA83-('Sconti Import'!AA83*'Sconti Import'!L83))*'Zone Export'!$V$14","v":40.657499999999992},{"$f":"('Sconti Import'!AB83-('Sconti Import'!AB83*'Sconti Import'!M83))*'Zone Export'!$V$14","v":60.254999999999995},{"$f":"('Sconti Import'!AC83-('Sconti Import'!AC83*'Sconti Import'!N83))*'Zone Export'!$V$14","v":62.685000000000002}]
[null,"2,0 kg",null,{"$f":"('Sconti Import'!R84-('Sconti Import'!R84*'Sconti Import'!C84))*'Zone Export'!$V$14","v":42.997499999999995},{"$f":"('Sconti Import'!S84-('Sconti Import'!S84*'Sconti Import'!D84))*'Zone Export'!$V$14","v":46.44},{"$f":"('Sconti Import'!T84-('Sconti Import'!T84*'Sconti Import'!E84))*'Zone Export'!$V$14","v":64.754999999999995},{"$f":"('Sconti Import'!U84-('Sconti Import'!U84*'Sconti Import'!F84))*'Zone Export'!$V$14","v":55.44},{"$f":"('Sconti Import'!V84-('Sconti Import'!V84*'Sconti Import'!G84))*'Zone Export'!$V$14","v":57.015000000000001},{"$f":"('Sconti Import'!W84-('Sconti Import'!W84*'Sconti Import'!H84))*'Zone Export'!$V$14","v":68.534999999999997},{"$f":"('Sconti Import'!X84-('Sconti Import'!X84*'Sconti Import'!I84))*'Zone Export'!$V$14","v":69.232499999999987},{"$f":"('Sconti Import'!Y84-('Sconti Import'!Y84*'Sconti Import'!J84))*'Zone Export'!$V$14","v":44.437499999999993},{"$f":"('Sconti Import'!Z84-('Sconti Import'!Z84*'Sconti Import'!K84))*'Zone Export'!$V$14","v":51.254999999999995},{"$f":"('Sconti Import'!AA84-('Sconti Import'!AA84*'Sconti Import'!L84))*'Zone Export'!$V$14","v":45.809999999999995},{"$f":"('Sconti Import'!AB84-('Sconti Import'!AB84*'Sconti Import'!M84))*'Zone Export'!$V$14","v":66.262499999999989},{"$f":"('Sconti Import'!AC84-('Sconti Import'!AC84*'Sconti Import'!N84))*'Zone Export'!$V$14","v":69.052499999999995}]
[null,"2,5 kg",null,{"$f":"('Sconti Import'!R85-('Sconti Import'!R85*'Sconti Import'!C85))*'Zone Export'!$V$14","v":46.98},{"$f":"('Sconti Import'!S85-('Sconti Import'!S85*'Sconti Import'!D85))*'Zone Export'!$V$14","v":51.48},{"$f":"('Sconti Import'!T85-('Sconti Import'!T85*'Sconti Import'!E85))*'Zone Export'!$V$14","v":71.797499999999999},{"$f":"('Sconti Import'!U85-('Sconti Import'!U85*'Sconti Import'!F85))*'Zone Export'!$V$14","v":60.1875},{"$f":"('Sconti Import'!V85-('Sconti Import'!V85*'Sconti Import'!G85))*'Zone Export'!$V$14","v":61.919999999999987},{"$f":"('Sconti Import'!W85-('Sconti Import'!W85*'Sconti Import'!H85))*'Zone Export'!$V$14","v":68.55749999999999},{"$f":"('Sconti Import'!X85-('Sconti Import'!X85*'Sconti Import'!I85))*'Zone Export'!$V$14","v":73.732499999999987},{"$f":"('Sconti Import'!Y85-('Sconti Import'!Y85*'Sconti Import'!J85))*'Zone Export'!$V$14","v":49.499999999999993},{"$f":"('Sconti Import'!Z85-('Sconti Import'!Z85*'Sconti Import'!K85))*'Zone Export'!$V$14","v":56.992499999999993},{"$f":"('Sconti Import'!AA85-('Sconti Import'!AA85*'Sconti Import'!L85))*'Zone Export'!$V$14","v":50.94},{"$f":"('Sconti Import'!AB85-('Sconti Import'!AB85*'Sconti Import'!M85))*'Zone Export'!$V$14","v":72.337499999999991},{"$f":"('Sconti Import'!AC85-('Sconti Import'!AC85*'Sconti Import'!N85))*'Zone Export'!$V$14","v":75.464999999999989}]
[null,"3,0 kg",null,{"$f":"('Sconti Import'!R86-('Sconti Import'!R86*'Sconti Import'!C86))*'Zone Export'!$V$14","v":49.139999999999993},{"$f":"('Sconti Import'!S86-('Sconti Import'!S86*'Sconti Import'!D86))*'Zone Export'!$V$14","v":54.855000000000004},{"$f":"('Sconti Import'!T86-('Sconti Import'!T86*'Sconti Import'!E86))*'Zone Export'!$V$14","v":76.319999999999993},{"$f":"('Sconti Import'!U86-('Sconti Import'!U86*'Sconti Import'!F86))*'Zone Export'!$V$14","v":63.472499999999997},{"$f":"('Sconti Import'!V86-('Sconti Import'!V86*'Sconti Import'!G86))*'Zone Export'!$V$14","v":65.294999999999987},{"$f":"('Sconti Import'!W86-('Sconti Import'!W86*'Sconti Import'!H86))*'Zone Export'!$V$14","v":68.58},{"$f":"('Sconti Import'!X86-('Sconti Import'!X86*'Sconti Import'!I86))*'Zone Export'!$V$14","v":74.384999999999991},{"$f":"('Sconti Import'!Y86-('Sconti Import'!Y86*'Sconti Import'!J86))*'Zone Export'!$V$14","v":52.739999999999995},{"$f":"('Sconti Import'!Z86-('Sconti Import'!Z86*'Sconti Import'!K86))*'Zone Export'!$V$14","v":61.424999999999997},{"$f":"('Sconti Import'!AA86-('Sconti Import'!AA86*'Sconti Import'!L86))*'Zone Export'!$V$14","v":54.967500000000001},{"$f":"('Sconti Import'!AB86-('Sconti Import'!AB86*'Sconti Import'!M86))*'Zone Export'!$V$14","v":78.367499999999993},{"$f":"('Sconti Import'!AC86-('Sconti Import'!AC86*'Sconti Import'!N86))*'Zone Export'!$V$14","v":81.787499999999994}]
[null,"3,5 kg",null,{"$f":"('Sconti Import'!R87-('Sconti Import'!R87*'Sconti Import'!C87))*'Zone Export'!$V$14","v":51.322499999999991},{"$f":"('Sconti Import'!S87-('Sconti Import'!S87*'Sconti Import'!D87))*'Zone Export'!$V$14","v":58.185000000000002},{"$f":"('Sconti Import'!T87-('Sconti Import'!T87*'Sconti Import'!E87))*'Zone Export'!$V$14","v":80.774999999999991},{"$f":"('Sconti Import'!U87-('Sconti Import'!U87*'Sconti Import'!F87))*'Zone Export'!$V$14","v":66.712499999999991},{"$f":"('Sconti Import'!V87-('Sconti Import'!V87*'Sconti Import'!G87))*'Zone Export'!$V$14","v":68.58},{"$f":"('Sconti Import'!W87-('Sconti Import'!W87*'Sconti Import'!H87))*'Zone Export'!$V$14","v":72.044999999999987},{"$f":"('Sconti Import'!X87-('Sconti Import'!X87*'Sconti Import'!I87))*'Zone Export'!$V$14","v":79.064999999999984},{"$f":"('Sconti Import'!Y87-('Sconti Import'!Y87*'Sconti Import'!J87))*'Zone Export'!$V$14","v":55.980000000000004},{"$f":"('Sconti Import'!Z87-('Sconti Import'!Z87*'Sconti Import'!K87))*'Zone Export'!$V$14","v":65.947500000000005},{"$f":"('Sconti Import'!AA87-('Sconti Import'!AA87*'Sconti Import'!L87))*'Zone Export'!$V$14","v":58.972499999999997},{"$f":"('Sconti Import'!AB87-('Sconti Import'!AB87*'Sconti Import'!M87))*'Zone Export'!$V$14","v":84.419999999999987},{"$f":"('Sconti Import'!AC87-('Sconti Import'!AC87*'Sconti Import'!N87))*'Zone Export'!$V$14","v":88.154999999999987}]
[null,"4,0 kg",null,{"$f":"('Sconti Import'!R88-('Sconti Import'!R88*'Sconti Import'!C88))*'Zone Export'!$V$14","v":53.55},{"$f":"('Sconti Import'!S88-('Sconti Import'!S88*'Sconti Import'!D88))*'Zone Export'!$V$14","v":61.537499999999994},{"$f":"('Sconti Import'!T88-('Sconti Import'!T88*'Sconti Import'!E88))*'Zone Export'!$V$14","v":85.252499999999984},{"$f":"('Sconti Import'!U88-('Sconti Import'!U88*'Sconti Import'!F88))*'Zone Export'!$V$14","v":69.974999999999994},{"$f":"('Sconti Import'!V88-('Sconti Import'!V88*'Sconti Import'!G88))*'Zone Export'!$V$14","v":71.954999999999998},{"$f":"('Sconti Import'!W88-('Sconti Import'!W88*'Sconti Import'!H88))*'Zone Export'!$V$14","v":75.464999999999989},{"$f":"('Sconti Import'!X88-('Sconti Import'!X88*'Sconti Import'!I88))*'Zone Export'!$V$14","v":83.924999999999997},{"$f":"('Sconti Import'!Y88-('Sconti Import'!Y88*'Sconti Import'!J88))*'Zone Export'!$V$14","v":59.219999999999985},{"$f":"('Sconti Import'!Z88-('Sconti Import'!Z88*'Sconti Import'!K88))*'Zone Export'!$V$14","v":70.424999999999997},{"$f":"('Sconti Import'!AA88-('Sconti Import'!AA88*'Sconti Import'!L88))*'Zone Export'!$V$14","v":63.089999999999989},{"$f":"('Sconti Import'!AB88-('Sconti Import'!AB88*'Sconti Import'!M88))*'Zone Export'!$V$14","v":90.49499999999999},{"$f":"('Sconti Import'!AC88-('Sconti Import'!AC88*'Sconti Import'!N88))*'Zone Export'!$V$14","v":94.567499999999995}]
[null,"4,5 kg",null,{"$f":"('Sconti Import'!R89-('Sconti Import'!R89*'Sconti Import'!C89))*'Zone Export'!$V$14","v":55.6875},{"$f":"('Sconti Import'!S89-('Sconti Import'!S89*'Sconti Import'!D89))*'Zone Export'!$V$14","v":64.889999999999986},{"$f":"('Sconti Import'!T89-('Sconti Import'!T89*'Sconti Import'!E89))*'Zone Export'!$V$14","v":89.707499999999982},{"$f":"('Sconti Import'!U89-('Sconti Import'!U89*'Sconti Import'!F89))*'Zone Export'!$V$14","v":73.304999999999993},{"$f":"('Sconti Import'!V89-('Sconti Import'!V89*'Sconti Import'!G89))*'Zone Export'!$V$14","v":75.239999999999981},{"$f":"('Sconti Import'!W89-('Sconti Import'!W89*'Sconti Import'!H89))*'Zone Export'!$V$14","v":78.952499999999986},{"$f":"('Sconti Import'!X89-('Sconti Import'!X89*'Sconti Import'!I89))*'Zone Export'!$V$14","v":88.672499999999999},{"$f":"('Sconti Import'!Y89-('Sconti Import'!Y89*'Sconti Import'!J89))*'Zone Export'!$V$14","v":62.482499999999987},{"$f":"('Sconti Import'!Z89-('Sconti Import'!Z89*'Sconti Import'!K89))*'Zone Export'!$V$14","v":74.902499999999989},{"$f":"('Sconti Import'!AA89-('Sconti Import'!AA89*'Sconti Import'!L89))*'Zone Export'!$V$14","v":67.185000000000002},{"$f":"('Sconti Import'!AB89-('Sconti Import'!AB89*'Sconti Import'!M89))*'Zone Export'!$V$14","v":96.547499999999999},{"$f":"('Sconti Import'!AC89-('Sconti Import'!AC89*'Sconti Import'!N89))*'Zone Export'!$V$14","v":100.97999999999999}]
[null,"5,0 kg",null,{"$f":"('Sconti Import'!R90-('Sconti Import'!R90*'Sconti Import'!C90))*'Zone Export'!$V$14","v":57.757499999999993},{"$f":"('Sconti Import'!S90-('Sconti Import'!S90*'Sconti Import'!D90))*'Zone Export'!$V$14","v":68.197500000000005},{"$f":"('Sconti Import'!T90-('Sconti Import'!T90*'Sconti Import'!E90))*'Zone Export'!$V$14","v":94.252499999999984},{"$f":"('Sconti Import'!U90-('Sconti Import'!U90*'Sconti Import'!F90))*'Zone Export'!$V$14","v":76.567499999999995},{"$f":"('Sconti Import'!V90-('Sconti Import'!V90*'Sconti Import'!G90))*'Zone Export'!$V$14","v":78.614999999999981},{"$f":"('Sconti Import'!W90-('Sconti Import'!W90*'Sconti Import'!H90))*'Zone Export'!$V$14","v":82.372500000000002},{"$f":"('Sconti Import'!X90-('Sconti Import'!X90*'Sconti Import'!I90))*'Zone Export'!$V$14","v":93.442499999999995},{"$f":"('Sconti Import'!Y90-('Sconti Import'!Y90*'Sconti Import'!J90))*'Zone Export'!$V$14","v":65.74499999999999},{"$f":"('Sconti Import'!Z90-('Sconti Import'!Z90*'Sconti Import'!K90))*'Zone Export'!$V$14","v":79.402499999999989},{"$f":"('Sconti Import'!AA90-('Sconti Import'!AA90*'Sconti Import'!L90))*'Zone Export'!$V$14","v":71.212499999999991},{"$f":"('Sconti Import'!AB90-('Sconti Import'!AB90*'Sconti Import'!M90))*'Zone Export'!$V$14","v":102.62249999999999},{"$f":"('Sconti Import'!AC90-('Sconti Import'!AC90*'Sconti Import'!N90))*'Zone Export'!$V$14","v":107.3475}]
[null,"5,5 kg",null,{"$f":"('Sconti Import'!R91-('Sconti Import'!R91*'Sconti Import'!C91))*'Zone Export'!$V$14","v":59.647499999999994},{"$f":"('Sconti Import'!S91-('Sconti Import'!S91*'Sconti Import'!D91))*'Zone Export'!$V$14","v":70.447500000000005},{"$f":"('Sconti Import'!T91-('Sconti Import'!T91*'Sconti Import'!E91))*'Zone Export'!$V$14","v":97.83},{"$f":"('Sconti Import'!U91-('Sconti Import'!U91*'Sconti Import'!F91))*'Zone Export'!$V$14","v":78.66},{"$f":"('Sconti Import'!V91-('Sconti Import'!V91*'Sconti Import'!G91))*'Zone Export'!$V$14","v":80.685000000000002},{"$f":"('Sconti Import'!W91-('Sconti Import'!W91*'Sconti Import'!H91))*'Zone Export'!$V$14","v":84.532499999999985},{"$f":"('Sconti Import'!X91-('Sconti Import'!X91*'Sconti Import'!I91))*'Zone Export'!$V$14","v":97.24499999999999},{"$f":"('Sconti Import'!Y91-('Sconti Import'!Y91*'Sconti Import'!J91))*'Zone Export'!$V$14","v":68.58},{"$f":"('Sconti Import'!Z91-('Sconti Import'!Z91*'Sconti Import'!K91))*'Zone Export'!$V$14","v":82.8},{"$f":"('Sconti Import'!AA91-('Sconti Import'!AA91*'Sconti Import'!L91))*'Zone Export'!$V$14","v":74.294999999999987},{"$f":"('Sconti Import'!AB91-('Sconti Import'!AB91*'Sconti Import'!M91))*'Zone Export'!$V$14","v":108.67499999999998},{"$f":"('Sconti Import'!AC91-('Sconti Import'!AC91*'Sconti Import'!N91))*'Zone Export'!$V$14","v":113.75999999999999}]
[null,"6,0 kg",null,{"$f":"('Sconti Import'!R92-('Sconti Import'!R92*'Sconti Import'!C92))*'Zone Export'!$V$14","v":61.424999999999997},{"$f":"('Sconti Import'!S92-('Sconti Import'!S92*'Sconti Import'!D92))*'Zone Export'!$V$14","v":72.652499999999989},{"$f":"('Sconti Import'!T92-('Sconti Import'!T92*'Sconti Import'!E92))*'Zone Export'!$V$14","v":101.47499999999999},{"$f":"('Sconti Import'!U92-('Sconti Import'!U92*'Sconti Import'!F92))*'Zone Export'!$V$14","v":80.707499999999996},{"$f":"('Sconti Import'!V92-('Sconti Import'!V92*'Sconti Import'!G92))*'Zone Export'!$V$14","v":82.822499999999991},{"$f":"('Sconti Import'!W92-('Sconti Import'!W92*'Sconti Import'!H92))*'Zone Export'!$V$14","v":86.714999999999989},{"$f":"('Sconti Import'!X92-('Sconti Import'!X92*'Sconti Import'!I92))*'Zone Export'!$V$14","v":101.0475},{"$f":"('Sconti Import'!Y92-('Sconti Import'!Y92*'Sconti Import'!J92))*'Zone Export'!$V$14","v":71.392499999999998},{"$f":"('Sconti Import'!Z92-('Sconti Import'!Z92*'Sconti Import'!K92))*'Zone Export'!$V$14","v":86.287499999999994},{"$f":"('Sconti Import'!AA92-('Sconti Import'!AA92*'Sconti Import'!L92))*'Zone Export'!$V$14","v":77.399999999999991},{"$f":"('Sconti Import'!AB92-('Sconti Import'!AB92*'Sconti Import'!M92))*'Zone Export'!$V$14","v":114.72749999999999},{"$f":"('Sconti Import'!AC92-('Sconti Import'!AC92*'Sconti Import'!N92))*'Zone Export'!$V$14","v":120.12749999999997}]
[null,"6,5 kg",null,{"$f":"('Sconti Import'!R93-('Sconti Import'!R93*'Sconti Import'!C93))*'Zone Export'!$V$14","v":63.247500000000002},{"$f":"('Sconti Import'!S93-('Sconti Import'!S93*'Sconti Import'!D93))*'Zone Export'!$V$14","v":74.857499999999987},{"$f":"('Sconti Import'!T93-('Sconti Import'!T93*'Sconti Import'!E93))*'Zone Export'!$V$14","v":105.11999999999998},{"$f":"('Sconti Import'!U93-('Sconti Import'!U93*'Sconti Import'!F93))*'Zone Export'!$V$14","v":82.754999999999995},{"$f":"('Sconti Import'!V93-('Sconti Import'!V93*'Sconti Import'!G93))*'Zone Export'!$V$14","v":85.004999999999995},{"$f":"('Sconti Import'!W93-('Sconti Import'!W93*'Sconti Import'!H93))*'Zone Export'!$V$14","v":88.897499999999994},{"$f":"('Sconti Import'!X93-('Sconti Import'!X93*'Sconti Import'!I93))*'Zone Export'!$V$14","v":104.82749999999999},{"$f":"('Sconti Import'!Y93-('Sconti Import'!Y93*'Sconti Import'!J93))*'Zone Export'!$V$14","v":74.204999999999998},{"$f":"('Sconti Import'!Z93-('Sconti Import'!Z93*'Sconti Import'!K93))*'Zone Export'!$V$14","v":89.774999999999991},{"$f":"('Sconti Import'!AA93-('Sconti Import'!AA93*'Sconti Import'!L93))*'Zone Export'!$V$14","v":80.527499999999989},{"$f":"('Sconti Import'!AB93-('Sconti Import'!AB93*'Sconti Import'!M93))*'Zone Export'!$V$14","v":120.80249999999998},{"$f":"('Sconti Import'!AC93-('Sconti Import'!AC93*'Sconti Import'!N93))*'Zone Export'!$V$14","v":126.51749999999998}]
[null,"7,0 kg",null,{"$f":"('Sconti Import'!R94-('Sconti Import'!R94*'Sconti Import'!C94))*'Zone Export'!$V$14","v":65.024999999999991},{"$f":"('Sconti Import'!S94-('Sconti Import'!S94*'Sconti Import'!D94))*'Zone Export'!$V$14","v":76.99499999999999},{"$f":"('Sconti Import'!T94-('Sconti Import'!T94*'Sconti Import'!E94))*'Zone Export'!$V$14","v":108.78749999999999},{"$f":"('Sconti Import'!U94-('Sconti Import'!U94*'Sconti Import'!F94))*'Zone Export'!$V$14","v":84.824999999999989},{"$f":"('Sconti Import'!V94-('Sconti Import'!V94*'Sconti Import'!G94))*'Zone Export'!$V$14","v":87.097499999999997},{"$f":"('Sconti Import'!W94-('Sconti Import'!W94*'Sconti Import'!H94))*'Zone Export'!$V$14","v":91.102499999999992},{"$f":"('Sconti Import'!X94-('Sconti Import'!X94*'Sconti Import'!I94))*'Zone Export'!$V$14","v":108.60749999999999},{"$f":"('Sconti Import'!Y94-('Sconti Import'!Y94*'Sconti Import'!J94))*'Zone Export'!$V$14","v":77.039999999999992},{"$f":"('Sconti Import'!Z94-('Sconti Import'!Z94*'Sconti Import'!K94))*'Zone Export'!$V$14","v":93.30749999999999},{"$f":"('Sconti Import'!AA94-('Sconti Import'!AA94*'Sconti Import'!L94))*'Zone Export'!$V$14","v":83.54249999999999},{"$f":"('Sconti Import'!AB94-('Sconti Import'!AB94*'Sconti Import'!M94))*'Zone Export'!$V$14","v":126.89999999999998},{"$f":"('Sconti Import'!AC94-('Sconti Import'!AC94*'Sconti Import'!N94))*'Zone Export'!$V$14","v":132.95249999999999}]
[null,"7,5 kg",null,{"$f":"('Sconti Import'!R95-('Sconti Import'!R95*'Sconti Import'!C95))*'Zone Export'!$V$14","v":66.86999999999999},{"$f":"('Sconti Import'!S95-('Sconti Import'!S95*'Sconti Import'!D95))*'Zone Export'!$V$14","v":79.155000000000001},{"$f":"('Sconti Import'!T95-('Sconti Import'!T95*'Sconti Import'!E95))*'Zone Export'!$V$14","v":112.38749999999999},{"$f":"('Sconti Import'!U95-('Sconti Import'!U95*'Sconti Import'!F95))*'Zone Export'!$V$14","v":86.894999999999982},{"$f":"('Sconti Import'!V95-('Sconti Import'!V95*'Sconti Import'!G95))*'Zone Export'!$V$14","v":89.234999999999999},{"$f":"('Sconti Import'!W95-('Sconti Import'!W95*'Sconti Import'!H95))*'Zone Export'!$V$14","v":93.30749999999999},{"$f":"('Sconti Import'!X95-('Sconti Import'!X95*'Sconti Import'!I95))*'Zone Export'!$V$14","v":112.38749999999999},{"$f":"('Sconti Import'!Y95-('Sconti Import'!Y95*'Sconti Import'!J95))*'Zone Export'!$V$14","v":79.80749999999999},{"$f":"('Sconti Import'!Z95-('Sconti Import'!Z95*'Sconti Import'!K95))*'Zone Export'!$V$14","v":96.772499999999994},{"$f":"('Sconti Import'!AA95-('Sconti Import'!AA95*'Sconti Import'!L95))*'Zone Export'!$V$14","v":86.669999999999987},{"$f":"('Sconti Import'!AB95-('Sconti Import'!AB95*'Sconti Import'!M95))*'Zone Export'!$V$14","v":132.88499999999999},{"$f":"('Sconti Import'!AC95-('Sconti Import'!AC95*'Sconti Import'!N95))*'Zone Export'!$V$14","v":139.27499999999998}]
[null,"8,0 kg",null,{"$f":"('Sconti Import'!R96-('Sconti Import'!R96*'Sconti Import'!C96))*'Zone Export'!$V$14","v":68.714999999999989},{"$f":"('Sconti Import'!S96-('Sconti Import'!S96*'Sconti Import'!D96))*'Zone Export'!$V$14","v":81.405000000000001},{"$f":"('Sconti Import'!T96-('Sconti Import'!T96*'Sconti Import'!E96))*'Zone Export'!$V$14","v":116.00999999999999},{"$f":"('Sconti Import'!U96-('Sconti Import'!U96*'Sconti Import'!F96))*'Zone Export'!$V$14","v":88.919999999999987},{"$f":"('Sconti Import'!V96-('Sconti Import'!V96*'Sconti Import'!G96))*'Zone Export'!$V$14","v":91.41749999999999},{"$f":"('Sconti Import'!W96-('Sconti Import'!W96*'Sconti Import'!H96))*'Zone Export'!$V$14","v":95.467499999999987},{"$f":"('Sconti Import'!X96-('Sconti Import'!X96*'Sconti Import'!I96))*'Zone Export'!$V$14","v":115.71749999999997},{"$f":"('Sconti Import'!Y96-('Sconti Import'!Y96*'Sconti Import'!J96))*'Zone Export'!$V$14","v":82.642499999999998},{"$f":"('Sconti Import'!Z96-('Sconti Import'!Z96*'Sconti Import'!K96))*'Zone Export'!$V$14","v":100.32749999999999},{"$f":"('Sconti Import'!AA96-('Sconti Import'!AA96*'Sconti Import'!L96))*'Zone Export'!$V$14","v":89.774999999999991},{"$f":"('Sconti Import'!AB96-('Sconti Import'!AB96*'Sconti Import'!M96))*'Zone Export'!$V$14","v":138.8475},{"$f":"('Sconti Import'!AC96-('Sconti Import'!AC96*'Sconti Import'!N96))*'Zone Export'!$V$14","v":145.68749999999997}]
[null,"8,5 kg",null,{"$f":"('Sconti Import'!R97-('Sconti Import'!R97*'Sconti Import'!C97))*'Zone Export'!$V$14","v":70.537499999999994},{"$f":"('Sconti Import'!S97-('Sconti Import'!S97*'Sconti Import'!D97))*'Zone Export'!$V$14","v":83.61},{"$f":"('Sconti Import'!T97-('Sconti Import'!T97*'Sconti Import'!E97))*'Zone Export'!$V$14","v":119.65499999999997},{"$f":"('Sconti Import'!U97-('Sconti Import'!U97*'Sconti Import'!F97))*'Zone Export'!$V$14","v":91.012499999999989},{"$f":"('Sconti Import'!V97-('Sconti Import'!V97*'Sconti Import'!G97))*'Zone Export'!$V$14","v":93.577499999999986},{"$f":"('Sconti Import'!W97-('Sconti Import'!W97*'Sconti Import'!H97))*'Zone Export'!$V$14","v":97.627499999999984},{"$f":"('Sconti Import'!X97-('Sconti Import'!X97*'Sconti Import'!I97))*'Zone Export'!$V$14","v":118.97999999999999},{"$f":"('Sconti Import'!Y97-('Sconti Import'!Y97*'Sconti Import'!J97))*'Zone Export'!$V$14","v":85.477499999999992},{"$f":"('Sconti Import'!Z97-('Sconti Import'!Z97*'Sconti Import'!K97))*'Zone Export'!$V$14","v":103.81499999999998},{"$f":"('Sconti Import'!AA97-('Sconti Import'!AA97*'Sconti Import'!L97))*'Zone Export'!$V$14","v":92.857499999999987},{"$f":"('Sconti Import'!AB97-('Sconti Import'!AB97*'Sconti Import'!M97))*'Zone Export'!$V$14","v":144.78749999999999},{"$f":"('Sconti Import'!AC97-('Sconti Import'!AC97*'Sconti Import'!N97))*'Zone Export'!$V$14","v":152.05499999999998}]
[null,"9,0 kg",null,{"$f":"('Sconti Import'!R98-('Sconti Import'!R98*'Sconti Import'!C98))*'Zone Export'!$V$14","v":72.382499999999993},{"$f":"('Sconti Import'!S98-('Sconti Import'!S98*'Sconti Import'!D98))*'Zone Export'!$V$14","v":85.79249999999999},{"$f":"('Sconti Import'!T98-('Sconti Import'!T98*'Sconti Import'!E98))*'Zone Export'!$V$14","v":123.32249999999999},{"$f":"('Sconti Import'!U98-('Sconti Import'!U98*'Sconti Import'!F98))*'Zone Export'!$V$14","v":93.037499999999994},{"$f":"('Sconti Import'!V98-('Sconti Import'!V98*'Sconti Import'!G98))*'Zone Export'!$V$14","v":95.714999999999989},{"$f":"('Sconti Import'!W98-('Sconti Import'!W98*'Sconti Import'!H98))*'Zone Export'!$V$14","v":99.85499999999999},{"$f":"('Sconti Import'!X98-('Sconti Import'!X98*'Sconti Import'!I98))*'Zone Export'!$V$14","v":122.33250000000001},{"$f":"('Sconti Import'!Y98-('Sconti Import'!Y98*'Sconti Import'!J98))*'Zone Export'!$V$14","v":88.267499999999998},{"$f":"('Sconti Import'!Z98-('Sconti Import'!Z98*'Sconti Import'!K98))*'Zone Export'!$V$14","v":107.3475},{"$f":"('Sconti Import'!AA98-('Sconti Import'!AA98*'Sconti Import'!L98))*'Zone Export'!$V$14","v":95.91749999999999},{"$f":"('Sconti Import'!AB98-('Sconti Import'!AB98*'Sconti Import'!M98))*'Zone Export'!$V$14","v":150.81749999999997},{"$f":"('Sconti Import'!AC98-('Sconti Import'!AC98*'Sconti Import'!N98))*'Zone Export'!$V$14","v":158.46749999999997}]
[null,"9,5 kg",null,{"$f":"('Sconti Import'!R99-('Sconti Import'!R99*'Sconti Import'!C99))*'Zone Export'!$V$14","v":74.249999999999986},{"$f":"('Sconti Import'!S99-('Sconti Import'!S99*'Sconti Import'!D99))*'Zone Export'!$V$14","v":87.997500000000002},{"$f":"('Sconti Import'!T99-('Sconti Import'!T99*'Sconti Import'!E99))*'Zone Export'!$V$14","v":126.94499999999999},{"$f":"('Sconti Import'!U99-('Sconti Import'!U99*'Sconti Import'!F99))*'Zone Export'!$V$14","v":95.13},{"$f":"('Sconti Import'!V99-('Sconti Import'!V99*'Sconti Import'!G99))*'Zone Export'!$V$14","v":97.874999999999986},{"$f":"('Sconti Import'!W99-('Sconti Import'!W99*'Sconti Import'!H99))*'Zone Export'!$V$14","v":102.03749999999999},{"$f":"('Sconti Import'!X99-('Sconti Import'!X99*'Sconti Import'!I99))*'Zone Export'!$V$14","v":125.63999999999999},{"$f":"('Sconti Import'!Y99-('Sconti Import'!Y99*'Sconti Import'!J99))*'Zone Export'!$V$14","v":91.102499999999992},{"$f":"('Sconti Import'!Z99-('Sconti Import'!Z99*'Sconti Import'!K99))*'Zone Export'!$V$14","v":110.85749999999999},{"$f":"('Sconti Import'!AA99-('Sconti Import'!AA99*'Sconti Import'!L99))*'Zone Export'!$V$14","v":99.022499999999994},{"$f":"('Sconti Import'!AB99-('Sconti Import'!AB99*'Sconti Import'!M99))*'Zone Export'!$V$14","v":156.77999999999997},{"$f":"('Sconti Import'!AC99-('Sconti Import'!AC99*'Sconti Import'!N99))*'Zone Export'!$V$14","v":164.87999999999997}]
[null,"10 kg",null,{"$f":"('Sconti Import'!R100-('Sconti Import'!R100*'Sconti Import'!C100))*'Zone Export'!$V$14","v":76.094999999999985},{"$f":"('Sconti Import'!S100-('Sconti Import'!S100*'Sconti Import'!D100))*'Zone Export'!$V$14","v":90.202499999999986},{"$f":"('Sconti Import'!T100-('Sconti Import'!T100*'Sconti Import'!E100))*'Zone Export'!$V$14","v":130.56749999999997},{"$f":"('Sconti Import'!U100-('Sconti Import'!U100*'Sconti Import'!F100))*'Zone Export'!$V$14","v":97.222499999999997},{"$f":"('Sconti Import'!V100-('Sconti Import'!V100*'Sconti Import'!G100))*'Zone Export'!$V$14","v":99.989999999999981},{"$f":"('Sconti Import'!W100-('Sconti Import'!W100*'Sconti Import'!H100))*'Zone Export'!$V$14","v":104.24249999999999},{"$f":"('Sconti Import'!X100-('Sconti Import'!X100*'Sconti Import'!I100))*'Zone Export'!$V$14","v":128.94749999999999},{"$f":"('Sconti Import'!Y100-('Sconti Import'!Y100*'Sconti Import'!J100))*'Zone Export'!$V$14","v":93.914999999999992},{"$f":"('Sconti Import'!Z100-('Sconti Import'!Z100*'Sconti Import'!K100))*'Zone Export'!$V$14","v":114.36749999999998},{"$f":"('Sconti Import'!AA100-('Sconti Import'!AA100*'Sconti Import'!L100))*'Zone Export'!$V$14","v":102.12749999999998},{"$f":"('Sconti Import'!AB100-('Sconti Import'!AB100*'Sconti Import'!M100))*'Zone Export'!$V$14","v":162.72},{"$f":"('Sconti Import'!AC100-('Sconti Import'!AC100*'Sconti Import'!N100))*'Zone Export'!$V$14","v":171.22499999999999}]
[null,"11 kg",null,{"$f":"('Sconti Import'!R101-('Sconti Import'!R101*'Sconti Import'!C101))*'Zone Export'!$V$14","v":78.209999999999994},{"$f":"('Sconti Import'!S101-('Sconti Import'!S101*'Sconti Import'!D101))*'Zone Export'!$V$14","v":93.712499999999991},{"$f":"('Sconti Import'!T101-('Sconti Import'!T101*'Sconti Import'!E101))*'Zone Export'!$V$14","v":134.45999999999998},{"$f":"('Sconti Import'!U101-('Sconti Import'!U101*'Sconti Import'!F101))*'Zone Export'!$V$14","v":100.61999999999999},{"$f":"('Sconti Import'!V101-('Sconti Import'!V101*'Sconti Import'!G101))*'Zone Export'!$V$14","v":103.67999999999999},{"$f":"('Sconti Import'!W101-('Sconti Import'!W101*'Sconti Import'!H101))*'Zone Export'!$V$14","v":107.7525},{"$f":"('Sconti Import'!X101-('Sconti Import'!X101*'Sconti Import'!I101))*'Zone Export'!$V$14","v":133.3125},{"$f":"('Sconti Import'!Y101-('Sconti Import'!Y101*'Sconti Import'!J101))*'Zone Export'!$V$14","v":98.864999999999981},{"$f":"('Sconti Import'!Z101-('Sconti Import'!Z101*'Sconti Import'!K101))*'Zone Export'!$V$14","v":120.77999999999997},{"$f":"('Sconti Import'!AA101-('Sconti Import'!AA101*'Sconti Import'!L101))*'Zone Export'!$V$14","v":107.8425},{"$f":"('Sconti Import'!AB101-('Sconti Import'!AB101*'Sconti Import'!M101))*'Zone Export'!$V$14","v":171.4725},{"$f":"('Sconti Import'!AC101-('Sconti Import'!AC101*'Sconti Import'!N101))*'Zone Export'!$V$14","v":182.97}]
[null,"12 kg",null,{"$f":"('Sconti Import'!R102-('Sconti Import'!R102*'Sconti Import'!C102))*'Zone Export'!$V$14","v":80.324999999999989},{"$f":"('Sconti Import'!S102-('Sconti Import'!S102*'Sconti Import'!D102))*'Zone Export'!$V$14","v":97.334999999999994},{"$f":"('Sconti Import'!T102-('Sconti Import'!T102*'Sconti Import'!E102))*'Zone Export'!$V$14","v":138.375},{"$f":"('Sconti Import'!U102-('Sconti Import'!U102*'Sconti Import'!F102))*'Zone Export'!$V$14","v":104.03999999999998},{"$f":"('Sconti Import'!V102-('Sconti Import'!V102*'Sconti Import'!G102))*'Zone Export'!$V$14","v":107.3475},{"$f":"('Sconti Import'!W102-('Sconti Import'!W102*'Sconti Import'!H102))*'Zone Export'!$V$14","v":111.30749999999998},{"$f":"('Sconti Import'!X102-('Sconti Import'!X102*'Sconti Import'!I102))*'Zone Export'!$V$14","v":137.7225},{"$f":"('Sconti Import'!Y102-('Sconti Import'!Y102*'Sconti Import'!J102))*'Zone Export'!$V$14","v":103.81499999999998},{"$f":"('Sconti Import'!Z102-('Sconti Import'!Z102*'Sconti Import'!K102))*'Zone Export'!$V$14","v":127.25999999999999},{"$f":"('Sconti Import'!AA102-('Sconti Import'!AA102*'Sconti Import'!L102))*'Zone Export'!$V$14","v":113.60249999999999},{"$f":"('Sconti Import'!AB102-('Sconti Import'!AB102*'Sconti Import'!M102))*'Zone Export'!$V$14","v":180.1575},{"$f":"('Sconti Import'!AC102-('Sconti Import'!AC102*'Sconti Import'!N102))*'Zone Export'!$V$14","v":194.64749999999998}]
[null,"13 kg",null,{"$f":"('Sconti Import'!R103-('Sconti Import'!R103*'Sconti Import'!C103))*'Zone Export'!$V$14","v":82.439999999999984},{"$f":"('Sconti Import'!S103-('Sconti Import'!S103*'Sconti Import'!D103))*'Zone Export'!$V$14","v":100.86749999999999},{"$f":"('Sconti Import'!T103-('Sconti Import'!T103*'Sconti Import'!E103))*'Zone Export'!$V$14","v":142.26749999999998},{"$f":"('Sconti Import'!U103-('Sconti Import'!U103*'Sconti Import'!F103))*'Zone Export'!$V$14","v":107.4375},{"$f":"('Sconti Import'!V103-('Sconti Import'!V103*'Sconti Import'!G103))*'Zone Export'!$V$14","v":111.03749999999999},{"$f":"('Sconti Import'!W103-('Sconti Import'!W103*'Sconti Import'!H103))*'Zone Export'!$V$14","v":114.83999999999997},{"$f":"('Sconti Import'!X103-('Sconti Import'!X103*'Sconti Import'!I103))*'Zone Export'!$V$14","v":142.06499999999997},{"$f":"('Sconti Import'!Y103-('Sconti Import'!Y103*'Sconti Import'!J103))*'Zone Export'!$V$14","v":108.81},{"$f":"('Sconti Import'!Z103-('Sconti Import'!Z103*'Sconti Import'!K103))*'Zone Export'!$V$14","v":133.69499999999999},{"$f":"('Sconti Import'!AA103-('Sconti Import'!AA103*'Sconti Import'!L103))*'Zone Export'!$V$14","v":119.38499999999999},{"$f":"('Sconti Import'!AB103-('Sconti Import'!AB103*'Sconti Import'!M103))*'Zone Export'!$V$14","v":188.84249999999997},{"$f":"('Sconti Import'!AC103-('Sconti Import'!AC103*'Sconti Import'!N103))*'Zone Export'!$V$14","v":206.3475}]
[null,"14 kg",null,{"$f":"('Sconti Import'!R104-('Sconti Import'!R104*'Sconti Import'!C104))*'Zone Export'!$V$14","v":84.532499999999985},{"$f":"('Sconti Import'!S104-('Sconti Import'!S104*'Sconti Import'!D104))*'Zone Export'!$V$14","v":104.39999999999999},{"$f":"('Sconti Import'!T104-('Sconti Import'!T104*'Sconti Import'!E104))*'Zone Export'!$V$14","v":146.16},{"$f":"('Sconti Import'!U104-('Sconti Import'!U104*'Sconti Import'!F104))*'Zone Export'!$V$14","v":110.90249999999997},{"$f":"('Sconti Import'!V104-('Sconti Import'!V104*'Sconti Import'!G104))*'Zone Export'!$V$14","v":114.70499999999998},{"$f":"('Sconti Import'!W104-('Sconti Import'!W104*'Sconti Import'!H104))*'Zone Export'!$V$14","v":118.35},{"$f":"('Sconti Import'!X104-('Sconti Import'!X104*'Sconti Import'!I104))*'Zone Export'!$V$14","v":146.45249999999999},{"$f":"('Sconti Import'!Y104-('Sconti Import'!Y104*'Sconti Import'!J104))*'Zone Export'!$V$14","v":113.7825},{"$f":"('Sconti Import'!Z104-('Sconti Import'!Z104*'Sconti Import'!K104))*'Zone Export'!$V$14","v":140.17499999999998},{"$f":"('Sconti Import'!AA104-('Sconti Import'!AA104*'Sconti Import'!L104))*'Zone Export'!$V$14","v":125.1},{"$f":"('Sconti Import'!AB104-('Sconti Import'!AB104*'Sconti Import'!M104))*'Zone Export'!$V$14","v":197.595},{"$f":"('Sconti Import'!AC104-('Sconti Import'!AC104*'Sconti Import'!N104))*'Zone Export'!$V$14","v":218.07}]
[null,"15 kg",null,{"$f":"('Sconti Import'!R105-('Sconti Import'!R105*'Sconti Import'!C105))*'Zone Export'!$V$14","v":86.602499999999992},{"$f":"('Sconti Import'!S105-('Sconti Import'!S105*'Sconti Import'!D105))*'Zone Export'!$V$14","v":107.93249999999998},{"$f":"('Sconti Import'!T105-('Sconti Import'!T105*'Sconti Import'!E105))*'Zone Export'!$V$14","v":150.0975},{"$f":"('Sconti Import'!U105-('Sconti Import'!U105*'Sconti Import'!F105))*'Zone Export'!$V$14","v":114.255},{"$f":"('Sconti Import'!V105-('Sconti Import'!V105*'Sconti Import'!G105))*'Zone Export'!$V$14","v":118.35},{"$f":"('Sconti Import'!W105-('Sconti Import'!W105*'Sconti Import'!H105))*'Zone Export'!$V$14","v":121.94999999999999},{"$f":"('Sconti Import'!X105-('Sconti Import'!X105*'Sconti Import'!I105))*'Zone Export'!$V$14","v":150.86249999999998},{"$f":"('Sconti Import'!Y105-('Sconti Import'!Y105*'Sconti Import'!J105))*'Zone Export'!$V$14","v":118.6875},{"$f":"('Sconti Import'!Z105-('Sconti Import'!Z105*'Sconti Import'!K105))*'Zone Export'!$V$14","v":146.58749999999998},{"$f":"('Sconti Import'!AA105-('Sconti Import'!AA105*'Sconti Import'!L105))*'Zone Export'!$V$14","v":130.83749999999998},{"$f":"('Sconti Import'!AB105-('Sconti Import'!AB105*'Sconti Import'!M105))*'Zone Export'!$V$14","v":206.27999999999997},{"$f":"('Sconti Import'!AC105-('Sconti Import'!AC105*'Sconti Import'!N105))*'Zone Export'!$V$14","v":229.76999999999998}]
[null,"16 kg",null,{"$f":"('Sconti Import'!R106-('Sconti Import'!R106*'Sconti Import'!C106))*'Zone Export'!$V$14","v":88.739999999999981},{"$f":"('Sconti Import'!S106-('Sconti Import'!S106*'Sconti Import'!D106))*'Zone Export'!$V$14","v":111.46499999999997},{"$f":"('Sconti Import'!T106-('Sconti Import'!T106*'Sconti Import'!E106))*'Zone Export'!$V$14","v":153.94499999999999},{"$f":"('Sconti Import'!U106-('Sconti Import'!U106*'Sconti Import'!F106))*'Zone Export'!$V$14","v":117.29249999999999},{"$f":"('Sconti Import'!V106-('Sconti Import'!V106*'Sconti Import'!G106))*'Zone Export'!$V$14","v":121.38749999999999},{"$f":"('Sconti Import'!W106-('Sconti Import'!W106*'Sconti Import'!H106))*'Zone Export'!$V$14","v":125.4375},{"$f":"('Sconti Import'!X106-('Sconti Import'!X106*'Sconti Import'!I106))*'Zone Export'!$V$14","v":155.22749999999999},{"$f":"('Sconti Import'!Y106-('Sconti Import'!Y106*'Sconti Import'!J106))*'Zone Export'!$V$14","v":123.66},{"$f":"('Sconti Import'!Z106-('Sconti Import'!Z106*'Sconti Import'!K106))*'Zone Export'!$V$14","v":153.06749999999997},{"$f":"('Sconti Import'!AA106-('Sconti Import'!AA106*'Sconti Import'!L106))*'Zone Export'!$V$14","v":136.64249999999998},{"$f":"('Sconti Import'!AB106-('Sconti Import'!AB106*'Sconti Import'!M106))*'Zone Export'!$V$14","v":213.95249999999999},{"$f":"('Sconti Import'!AC106-('Sconti Import'!AC106*'Sconti Import'!N106))*'Zone Export'!$V$14","v":241.49249999999995}]
[null,"17 kg",null,{"$f":"('Sconti Import'!R107-('Sconti Import'!R107*'Sconti Import'!C107))*'Zone Export'!$V$14","v":90.832499999999982},{"$f":"('Sconti Import'!S107-('Sconti Import'!S107*'Sconti Import'!D107))*'Zone Export'!$V$14","v":115.04249999999999},{"$f":"('Sconti Import'!T107-('Sconti Import'!T107*'Sconti Import'!E107))*'Zone Export'!$V$14","v":157.83749999999998},{"$f":"('Sconti Import'!U107-('Sconti Import'!U107*'Sconti Import'!F107))*'Zone Export'!$V$14","v":120.285},{"$f":"('Sconti Import'!V107-('Sconti Import'!V107*'Sconti Import'!G107))*'Zone Export'!$V$14","v":124.40249999999997},{"$f":"('Sconti Import'!W107-('Sconti Import'!W107*'Sconti Import'!H107))*'Zone Export'!$V$14","v":128.99249999999998},{"$f":"('Sconti Import'!X107-('Sconti Import'!X107*'Sconti Import'!I107))*'Zone Export'!$V$14","v":159.57},{"$f":"('Sconti Import'!Y107-('Sconti Import'!Y107*'Sconti Import'!J107))*'Zone Export'!$V$14","v":128.65499999999997},{"$f":"('Sconti Import'!Z107-('Sconti Import'!Z107*'Sconti Import'!K107))*'Zone Export'!$V$14","v":159.50249999999997},{"$f":"('Sconti Import'!AA107-('Sconti Import'!AA107*'Sconti Import'!L107))*'Zone Export'!$V$14","v":142.40249999999997},{"$f":"('Sconti Import'!AB107-('Sconti Import'!AB107*'Sconti Import'!M107))*'Zone Export'!$V$14","v":221.57999999999998},{"$f":"('Sconti Import'!AC107-('Sconti Import'!AC107*'Sconti Import'!N107))*'Zone Export'!$V$14","v":253.21499999999997}]
[null,"18 kg",null,{"$f":"('Sconti Import'!R108-('Sconti Import'!R108*'Sconti Import'!C108))*'Zone Export'!$V$14","v":92.969999999999985},{"$f":"('Sconti Import'!S108-('Sconti Import'!S108*'Sconti Import'!D108))*'Zone Export'!$V$14","v":118.62},{"$f":"('Sconti Import'!T108-('Sconti Import'!T108*'Sconti Import'!E108))*'Zone Export'!$V$14","v":161.75249999999997},{"$f":"('Sconti Import'!U108-('Sconti Import'!U108*'Sconti Import'!F108))*'Zone Export'!$V$14","v":123.25499999999997},{"$f":"('Sconti Import'!V108-('Sconti Import'!V108*'Sconti Import'!G108))*'Zone Export'!$V$14","v":127.46249999999998},{"$f":"('Sconti Import'!W108-('Sconti Import'!W108*'Sconti Import'!H108))*'Zone Export'!$V$14","v":132.47999999999999},{"$f":"('Sconti Import'!X108-('Sconti Import'!X108*'Sconti Import'!I108))*'Zone Export'!$V$14","v":163.95749999999998},{"$f":"('Sconti Import'!Y108-('Sconti Import'!Y108*'Sconti Import'!J108))*'Zone Export'!$V$14","v":133.58250000000001},{"$f":"('Sconti Import'!Z108-('Sconti Import'!Z108*'Sconti Import'!K108))*'Zone Export'!$V$14","v":165.98249999999999},{"$f":"('Sconti Import'!AA108-('Sconti Import'!AA108*'Sconti Import'!L108))*'Zone Export'!$V$14","v":148.185},{"$f":"('Sconti Import'!AB108-('Sconti Import'!AB108*'Sconti Import'!M108))*'Zone Export'!$V$14","v":229.27499999999998},{"$f":"('Sconti Import'!AC108-('Sconti Import'!AC108*'Sconti Import'!N108))*'Zone Export'!$V$14","v":264.91500000000002}]
[null,"19 kg",null,{"$f":"('Sconti Import'!R109-('Sconti Import'!R109*'Sconti Import'!C109))*'Zone Export'!$V$14","v":95.017499999999998},{"$f":"('Sconti Import'!S109-('Sconti Import'!S109*'Sconti Import'!D109))*'Zone Export'!$V$14","v":122.15249999999997},{"$f":"('Sconti Import'!T109-('Sconti Import'!T109*'Sconti Import'!E109))*'Zone Export'!$V$14","v":165.64499999999998},{"$f":"('Sconti Import'!U109-('Sconti Import'!U109*'Sconti Import'!F109))*'Zone Export'!$V$14","v":126.29249999999999},{"$f":"('Sconti Import'!V109-('Sconti Import'!V109*'Sconti Import'!G109))*'Zone Export'!$V$14","v":130.5},{"$f":"('Sconti Import'!W109-('Sconti Import'!W109*'Sconti Import'!H109))*'Zone Export'!$V$14","v":136.07999999999998},{"$f":"('Sconti Import'!X109-('Sconti Import'!X109*'Sconti Import'!I109))*'Zone Export'!$V$14","v":168.39},{"$f":"('Sconti Import'!Y109-('Sconti Import'!Y109*'Sconti Import'!J109))*'Zone Export'!$V$14","v":138.55499999999998},{"$f":"('Sconti Import'!Z109-('Sconti Import'!Z109*'Sconti Import'!K109))*'Zone Export'!$V$14","v":172.43999999999997},{"$f":"('Sconti Import'!AA109-('Sconti Import'!AA109*'Sconti Import'!L109))*'Zone Export'!$V$14","v":153.92249999999999},{"$f":"('Sconti Import'!AB109-('Sconti Import'!AB109*'Sconti Import'!M109))*'Zone Export'!$V$14","v":236.92499999999995},{"$f":"('Sconti Import'!AC109-('Sconti Import'!AC109*'Sconti Import'!N109))*'Zone Export'!$V$14","v":276.61500000000001}]
[null,"20 kg",null,{"$f":"('Sconti Import'!R110-('Sconti Import'!R110*'Sconti Import'!C110))*'Zone Export'!$V$14","v":97.177499999999981},{"$f":"('Sconti Import'!S110-('Sconti Import'!S110*'Sconti Import'!D110))*'Zone Export'!$V$14","v":125.70750000000001},{"$f":"('Sconti Import'!T110-('Sconti Import'!T110*'Sconti Import'!E110))*'Zone Export'!$V$14","v":169.53749999999999},{"$f":"('Sconti Import'!U110-('Sconti Import'!U110*'Sconti Import'!F110))*'Zone Export'!$V$14","v":129.285},{"$f":"('Sconti Import'!V110-('Sconti Import'!V110*'Sconti Import'!G110))*'Zone Export'!$V$14","v":133.51499999999999},{"$f":"('Sconti Import'!W110-('Sconti Import'!W110*'Sconti Import'!H110))*'Zone Export'!$V$14","v":139.58999999999997},{"$f":"('Sconti Import'!X110-('Sconti Import'!X110*'Sconti Import'!I110))*'Zone Export'!$V$14","v":172.75499999999997},{"$f":"('Sconti Import'!Y110-('Sconti Import'!Y110*'Sconti Import'!J110))*'Zone Export'!$V$14","v":143.48249999999999},{"$f":"('Sconti Import'!Z110-('Sconti Import'!Z110*'Sconti Import'!K110))*'Zone Export'!$V$14","v":178.89749999999998},{"$f":"('Sconti Import'!AA110-('Sconti Import'!AA110*'Sconti Import'!L110))*'Zone Export'!$V$14","v":159.66},{"$f":"('Sconti Import'!AB110-('Sconti Import'!AB110*'Sconti Import'!M110))*'Zone Export'!$V$14","v":244.59749999999997},{"$f":"('Sconti Import'!AC110-('Sconti Import'!AC110*'Sconti Import'!N110))*'Zone Export'!$V$14","v":288.35999999999996}]
[null,"22 kg",null,{"$f":"('Sconti Import'!R111-('Sconti Import'!R111*'Sconti Import'!C111))*'Zone Export'!$V$14","v":101.69999999999999},{"$f":"('Sconti Import'!S111-('Sconti Import'!S111*'Sconti Import'!D111))*'Zone Export'!$V$14","v":133.42499999999998},{"$f":"('Sconti Import'!T111-('Sconti Import'!T111*'Sconti Import'!E111))*'Zone Export'!$V$14","v":176.35499999999996},{"$f":"('Sconti Import'!U111-('Sconti Import'!U111*'Sconti Import'!F111))*'Zone Export'!$V$14","v":135.74249999999998},{"$f":"('Sconti Import'!V111-('Sconti Import'!V111*'Sconti Import'!G111))*'Zone Export'!$V$14","v":140.08499999999998},{"$f":"('Sconti Import'!W111-('Sconti Import'!W111*'Sconti Import'!H111))*'Zone Export'!$V$14","v":146.4975},{"$f":"('Sconti Import'!X111-('Sconti Import'!X111*'Sconti Import'!I111))*'Zone Export'!$V$14","v":182.4075},{"$f":"('Sconti Import'!Y111-('Sconti Import'!Y111*'Sconti Import'!J111))*'Zone Export'!$V$14","v":155.54249999999996},{"$f":"('Sconti Import'!Z111-('Sconti Import'!Z111*'Sconti Import'!K111))*'Zone Export'!$V$14","v":192.71249999999998},{"$f":"('Sconti Import'!AA111-('Sconti Import'!AA111*'Sconti Import'!L111))*'Zone Export'!$V$14","v":171.96749999999997},{"$f":"('Sconti Import'!AB111-('Sconti Import'!AB111*'Sconti Import'!M111))*'Zone Export'!$V$14","v":260.30250000000001},{"$f":"('Sconti Import'!AC111-('Sconti Import'!AC111*'Sconti Import'!N111))*'Zone Export'!$V$14","v":314.59499999999997}]
[null,"24 kg",null,{"$f":"('Sconti Import'!R112-('Sconti Import'!R112*'Sconti Import'!C112))*'Zone Export'!$V$14","v":105.75},{"$f":"('Sconti Import'!S112-('Sconti Import'!S112*'Sconti Import'!D112))*'Zone Export'!$V$14","v":140.48999999999998},{"$f":"('Sconti Import'!T112-('Sconti Import'!T112*'Sconti Import'!E112))*'Zone Export'!$V$14","v":182.36249999999998},{"$f":"('Sconti Import'!U112-('Sconti Import'!U112*'Sconti Import'!F112))*'Zone Export'!$V$14","v":141.59249999999997},{"$f":"('Sconti Import'!V112-('Sconti Import'!V112*'Sconti Import'!G112))*'Zone Export'!$V$14","v":146.07},{"$f":"('Sconti Import'!W112-('Sconti Import'!W112*'Sconti Import'!H112))*'Zone Export'!$V$14","v":152.685},{"$f":"('Sconti Import'!X112-('Sconti Import'!X112*'Sconti Import'!I112))*'Zone Export'!$V$14","v":191.16},{"$f":"('Sconti Import'!Y112-('Sconti Import'!Y112*'Sconti Import'!J112))*'Zone Export'!$V$14","v":166.90499999999997},{"$f":"('Sconti Import'!Z112-('Sconti Import'!Z112*'Sconti Import'!K112))*'Zone Export'!$V$14","v":205.58249999999998},{"$f":"('Sconti Import'!AA112-('Sconti Import'!AA112*'Sconti Import'!L112))*'Zone Export'!$V$14","v":183.48749999999998},{"$f":"('Sconti Import'!AB112-('Sconti Import'!AB112*'Sconti Import'!M112))*'Zone Export'!$V$14","v":274.88249999999999},{"$f":"('Sconti Import'!AC112-('Sconti Import'!AC112*'Sconti Import'!N112))*'Zone Export'!$V$14","v":339.45749999999998}]
[null,"26 kg",null,{"$f":"('Sconti Import'!R113-('Sconti Import'!R113*'Sconti Import'!C113))*'Zone Export'!$V$14","v":109.82249999999999},{"$f":"('Sconti Import'!S113-('Sconti Import'!S113*'Sconti Import'!D113))*'Zone Export'!$V$14","v":147.66749999999996},{"$f":"('Sconti Import'!T113-('Sconti Import'!T113*'Sconti Import'!E113))*'Zone Export'!$V$14","v":188.27999999999997},{"$f":"('Sconti Import'!U113-('Sconti Import'!U113*'Sconti Import'!F113))*'Zone Export'!$V$14","v":147.44249999999997},{"$f":"('Sconti Import'!V113-('Sconti Import'!V113*'Sconti Import'!G113))*'Zone Export'!$V$14","v":152.0325},{"$f":"('Sconti Import'!W113-('Sconti Import'!W113*'Sconti Import'!H113))*'Zone Export'!$V$14","v":158.91749999999996},{"$f":"('Sconti Import'!X113-('Sconti Import'!X113*'Sconti Import'!I113))*'Zone Export'!$V$14","v":200.00249999999997},{"$f":"('Sconti Import'!Y113-('Sconti Import'!Y113*'Sconti Import'!J113))*'Zone Export'!$V$14","v":178.2225},{"$f":"('Sconti Import'!Z113-('Sconti Import'!Z113*'Sconti Import'!K113))*'Zone Export'!$V$14","v":218.51999999999998},{"$f":"('Sconti Import'!AA113-('Sconti Import'!AA113*'Sconti Import'!L113))*'Zone Export'!$V$14","v":195.00749999999999},{"$f":"('Sconti Import'!AB113-('Sconti Import'!AB113*'Sconti Import'!M113))*'Zone Export'!$V$14","v":289.37249999999995},{"$f":"('Sconti Import'!AC113-('Sconti Import'!AC113*'Sconti Import'!N113))*'Zone Export'!$V$14","v":364.32}]
[null,"28 kg",null,{"$f":"('Sconti Import'!R114-('Sconti Import'!R114*'Sconti Import'!C114))*'Zone Export'!$V$14","v":113.91749999999999},{"$f":"('Sconti Import'!S114-('Sconti Import'!S114*'Sconti Import'!D114))*'Zone Export'!$V$14","v":154.73249999999999},{"$f":"('Sconti Import'!T114-('Sconti Import'!T114*'Sconti Import'!E114))*'Zone Export'!$V$14","v":194.28749999999999},{"$f":"('Sconti Import'!U114-('Sconti Import'!U114*'Sconti Import'!F114))*'Zone Export'!$V$14","v":153.26999999999998},{"$f":"('Sconti Import'!V114-('Sconti Import'!V114*'Sconti Import'!G114))*'Zone Export'!$V$14","v":157.995},{"$f":"('Sconti Import'!W114-('Sconti Import'!W114*'Sconti Import'!H114))*'Zone Export'!$V$14","v":165.14999999999998},{"$f":"('Sconti Import'!X114-('Sconti Import'!X114*'Sconti Import'!I114))*'Zone Export'!$V$14","v":208.79999999999998},{"$f":"('Sconti Import'!Y114-('Sconti Import'!Y114*'Sconti Import'!J114))*'Zone Export'!$V$14","v":189.60749999999999},{"$f":"('Sconti Import'!Z114-('Sconti Import'!Z114*'Sconti Import'!K114))*'Zone Export'!$V$14","v":231.39},{"$f":"('Sconti Import'!AA114-('Sconti Import'!AA114*'Sconti Import'!L114))*'Zone Export'!$V$14","v":206.54999999999998},{"$f":"('Sconti Import'!AB114-('Sconti Import'!AB114*'Sconti Import'!M114))*'Zone Export'!$V$14","v":303.92999999999995},{"$f":"('Sconti Import'!AC114-('Sconti Import'!AC114*'Sconti Import'!N114))*'Zone Export'!$V$14","v":389.15999999999997}]
[null,"30 kg",null,{"$f":"('Sconti Import'!R115-('Sconti Import'!R115*'Sconti Import'!C115))*'Zone Export'!$V$14","v":117.98999999999998},{"$f":"('Sconti Import'!S115-('Sconti Import'!S115*'Sconti Import'!D115))*'Zone Export'!$V$14","v":161.88749999999999},{"$f":"('Sconti Import'!T115-('Sconti Import'!T115*'Sconti Import'!E115))*'Zone Export'!$V$14","v":200.27249999999998},{"$f":"('Sconti Import'!U115-('Sconti Import'!U115*'Sconti Import'!F115))*'Zone Export'!$V$14","v":159.18749999999997},{"$f":"('Sconti Import'!V115-('Sconti Import'!V115*'Sconti Import'!G115))*'Zone Export'!$V$14","v":163.95749999999998},{"$f":"('Sconti Import'!W115-('Sconti Import'!W115*'Sconti Import'!H115))*'Zone Export'!$V$14","v":171.38249999999999},{"$f":"('Sconti Import'!X115-('Sconti Import'!X115*'Sconti Import'!I115))*'Zone Export'!$V$14","v":217.62},{"$f":"('Sconti Import'!Y115-('Sconti Import'!Y115*'Sconti Import'!J115))*'Zone Export'!$V$14","v":200.99249999999998},{"$f":"('Sconti Import'!Z115-('Sconti Import'!Z115*'Sconti Import'!K115))*'Zone Export'!$V$14","v":244.34999999999997},{"$f":"('Sconti Import'!AA115-('Sconti Import'!AA115*'Sconti Import'!L115))*'Zone Export'!$V$14","v":218.09249999999997},{"$f":"('Sconti Import'!AB115-('Sconti Import'!AB115*'Sconti Import'!M115))*'Zone Export'!$V$14","v":318.48749999999995},{"$f":"('Sconti Import'!AC115-('Sconti Import'!AC115*'Sconti Import'!N115))*'Zone Export'!$V$14","v":414.02249999999992}]
[null,"35 kg",null,{"$f":"('Sconti Import'!R116-('Sconti Import'!R116*'Sconti Import'!C116))*'Zone Export'!$V$14","v":126.17999999999998},{"$f":"('Sconti Import'!S116-('Sconti Import'!S116*'Sconti Import'!D116))*'Zone Export'!$V$14","v":177.61499999999998},{"$f":"('Sconti Import'!T116-('Sconti Import'!T116*'Sconti Import'!E116))*'Zone Export'!$V$14","v":214.15499999999997},{"$f":"('Sconti Import'!U116-('Sconti Import'!U116*'Sconti Import'!F116))*'Zone Export'!$V$14","v":172.3725},{"$f":"('Sconti Import'!V116-('Sconti Import'!V116*'Sconti Import'!G116))*'Zone Export'!$V$14","v":177.54749999999999},{"$f":"('Sconti Import'!W116-('Sconti Import'!W116*'Sconti Import'!H116))*'Zone Export'!$V$14","v":185.60249999999996},{"$f":"('Sconti Import'!X116-('Sconti Import'!X116*'Sconti Import'!I116))*'Zone Export'!$V$14","v":241.46999999999997},{"$f":"('Sconti Import'!Y116-('Sconti Import'!Y116*'Sconti Import'!J116))*'Zone Export'!$V$14","v":229.38749999999999},{"$f":"('Sconti Import'!Z116-('Sconti Import'!Z116*'Sconti Import'!K116))*'Zone Export'!$V$14","v":276.6825},{"$f":"('Sconti Import'!AA116-('Sconti Import'!AA116*'Sconti Import'!L116))*'Zone Export'!$V$14","v":246.87},{"$f":"('Sconti Import'!AB116-('Sconti Import'!AB116*'Sconti Import'!M116))*'Zone Export'!$V$14","v":355.14},{"$f":"('Sconti Import'!AC116-('Sconti Import'!AC116*'Sconti Import'!N116))*'Zone Export'!$V$14","v":475.26750000000004}]
[null,"40 kg",null,{"$f":"('Sconti Import'!R117-('Sconti Import'!R117*'Sconti Import'!C117))*'Zone Export'!$V$14","v":134.41499999999999},{"$f":"('Sconti Import'!S117-('Sconti Import'!S117*'Sconti Import'!D117))*'Zone Export'!$V$14","v":193.4325},{"$f":"('Sconti Import'!T117-('Sconti Import'!T117*'Sconti Import'!E117))*'Zone Export'!$V$14","v":228.01499999999999},{"$f":"('Sconti Import'!U117-('Sconti Import'!U117*'Sconti Import'!F117))*'Zone Export'!$V$14","v":185.535},{"$f":"('Sconti Import'!V117-('Sconti Import'!V117*'Sconti Import'!G117))*'Zone Export'!$V$14","v":191.13749999999999},{"$f":"('Sconti Import'!W117-('Sconti Import'!W117*'Sconti Import'!H117))*'Zone Export'!$V$14","v":199.91249999999999},{"$f":"('Sconti Import'!X117-('Sconti Import'!X117*'Sconti Import'!I117))*'Zone Export'!$V$14","v":265.36500000000001},{"$f":"('Sconti Import'!Y117-('Sconti Import'!Y117*'Sconti Import'!J117))*'Zone Export'!$V$14","v":257.91749999999996},{"$f":"('Sconti Import'!Z117-('Sconti Import'!Z117*'Sconti Import'!K117))*'Zone Export'!$V$14","v":308.96999999999997},{"$f":"('Sconti Import'!AA117-('Sconti Import'!AA117*'Sconti Import'!L117))*'Zone Export'!$V$14","v":275.64749999999998},{"$f":"('Sconti Import'!AB117-('Sconti Import'!AB117*'Sconti Import'!M117))*'Zone Export'!$V$14","v":391.65749999999997},{"$f":"('Sconti Import'!AC117-('Sconti Import'!AC117*'Sconti Import'!N117))*'Zone Export'!$V$14","v":536.53499999999997}]
[null,"45 kg",null,{"$f":"('Sconti Import'!R118-('Sconti Import'!R118*'Sconti Import'!C118))*'Zone Export'!$V$14","v":142.69499999999999},{"$f":"('Sconti Import'!S118-('Sconti Import'!S118*'Sconti Import'!D118))*'Zone Export'!$V$14","v":209.20499999999996},{"$f":"('Sconti Import'!T118-('Sconti Import'!T118*'Sconti Import'!E118))*'Zone Export'!$V$14","v":241.89749999999998},{"$f":"('Sconti Import'!U118-('Sconti Import'!U118*'Sconti Import'!F118))*'Zone Export'!$V$14","v":198.72},{"$f":"('Sconti Import'!V118-('Sconti Import'!V118*'Sconti Import'!G118))*'Zone Export'!$V$14","v":204.77249999999998},{"$f":"('Sconti Import'!W118-('Sconti Import'!W118*'Sconti Import'!H118))*'Zone Export'!$V$14","v":214.17749999999995},{"$f":"('Sconti Import'!X118-('Sconti Import'!X118*'Sconti Import'!I118))*'Zone Export'!$V$14","v":289.25999999999993},{"$f":"('Sconti Import'!Y118-('Sconti Import'!Y118*'Sconti Import'!J118))*'Zone Export'!$V$14","v":286.37999999999994},{"$f":"('Sconti Import'!Z118-('Sconti Import'!Z118*'Sconti Import'!K118))*'Zone Export'!$V$14","v":341.28},{"$f":"('Sconti Import'!AA118-('Sconti Import'!AA118*'Sconti Import'!L118))*'Zone Export'!$V$14","v":304.71749999999997},{"$f":"('Sconti Import'!AB118-('Sconti Import'!AB118*'Sconti Import'!M118))*'Zone Export'!$V$14","v":428.21999999999991},{"$f":"('Sconti Import'!AC118-('Sconti Import'!AC118*'Sconti Import'!N118))*'Zone Export'!$V$14","v":597.80250000000001}]
[null,"50 kg",null,{"$f":"('Sconti Import'!R119-('Sconti Import'!R119*'Sconti Import'!C119))*'Zone Export'!$V$14","v":150.92999999999998},{"$f":"('Sconti Import'!S119-('Sconti Import'!S119*'Sconti Import'!D119))*'Zone Export'!$V$14","v":225},{"$f":"('Sconti Import'!T119-('Sconti Import'!T119*'Sconti Import'!E119))*'Zone Export'!$V$14","v":255.77999999999997},{"$f":"('Sconti Import'!U119-('Sconti Import'!U119*'Sconti Import'!F119))*'Zone Export'!$V$14","v":211.995},{"$f":"('Sconti Import'!V119-('Sconti Import'!V119*'Sconti Import'!G119))*'Zone Export'!$V$14","v":218.36249999999995},{"$f":"('Sconti Import'!W119-('Sconti Import'!W119*'Sconti Import'!H119))*'Zone Export'!$V$14","v":228.48749999999995},{"$f":"('Sconti Import'!X119-('Sconti Import'!X119*'Sconti Import'!I119))*'Zone Export'!$V$14","v":313.245},{"$f":"('Sconti Import'!Y119-('Sconti Import'!Y119*'Sconti Import'!J119))*'Zone Export'!$V$14","v":313.22249999999997},{"$f":"('Sconti Import'!Z119-('Sconti Import'!Z119*'Sconti Import'!K119))*'Zone Export'!$V$14","v":373.63499999999993},{"$f":"('Sconti Import'!AA119-('Sconti Import'!AA119*'Sconti Import'!L119))*'Zone Export'!$V$14","v":333.495},{"$f":"('Sconti Import'!AB119-('Sconti Import'!AB119*'Sconti Import'!M119))*'Zone Export'!$V$14","v":464.80499999999995},{"$f":"('Sconti Import'!AC119-('Sconti Import'!AC119*'Sconti Import'!N119))*'Zone Export'!$V$14","v":659.11500000000001}]
[null,"55 kg",null,{"$f":"('Sconti Import'!R120-('Sconti Import'!R120*'Sconti Import'!C120))*'Zone Export'!$V$14","v":159.20999999999998},{"$f":"('Sconti Import'!S120-('Sconti Import'!S120*'Sconti Import'!D120))*'Zone Export'!$V$14","v":240.79499999999996},{"$f":"('Sconti Import'!T120-('Sconti Import'!T120*'Sconti Import'!E120))*'Zone Export'!$V$14","v":269.57249999999993},{"$f":"('Sconti Import'!U120-('Sconti Import'!U120*'Sconti Import'!F120))*'Zone Export'!$V$14","v":225.26999999999998},{"$f":"('Sconti Import'!V120-('Sconti Import'!V120*'Sconti Import'!G120))*'Zone Export'!$V$14","v":232.01999999999998},{"$f":"('Sconti Import'!W120-('Sconti Import'!W120*'Sconti Import'!H120))*'Zone Export'!$V$14","v":242.7525},{"$f":"('Sconti Import'!X120-('Sconti Import'!X120*'Sconti Import'!I120))*'Zone Export'!$V$14","v":337.11749999999995},{"$f":"('Sconti Import'!Y120-('Sconti Import'!Y120*'Sconti Import'!J120))*'Zone Export'!$V$14","v":337.09499999999997},{"$f":"('Sconti Import'!Z120-('Sconti Import'!Z120*'Sconti Import'!K120))*'Zone Export'!$V$14","v":405.9},{"$f":"('Sconti Import'!AA120-('Sconti Import'!AA120*'Sconti Import'!L120))*'Zone Export'!$V$14","v":362.22749999999996},{"$f":"('Sconti Import'!AB120-('Sconti Import'!AB120*'Sconti Import'!M120))*'Zone Export'!$V$14","v":501.43499999999995},{"$f":"('Sconti Import'!AC120-('Sconti Import'!AC120*'Sconti Import'!N120))*'Zone Export'!$V$14","v":720.3599999999999}]
[null,"60 kg",null,{"$f":"('Sconti Import'!R121-('Sconti Import'!R121*'Sconti Import'!C121))*'Zone Export'!$V$14","v":167.44499999999999},{"$f":"('Sconti Import'!S121-('Sconti Import'!S121*'Sconti Import'!D121))*'Zone Export'!$V$14","v":256.52249999999998},{"$f":"('Sconti Import'!T121-('Sconti Import'!T121*'Sconti Import'!E121))*'Zone Export'!$V$14","v":283.47750000000002},{"$f":"('Sconti Import'!U121-('Sconti Import'!U121*'Sconti Import'!F121))*'Zone Export'!$V$14","v":238.58999999999997},{"$f":"('Sconti Import'!V121-('Sconti Import'!V121*'Sconti Import'!G121))*'Zone Export'!$V$14","v":245.60999999999996},{"$f":"('Sconti Import'!W121-('Sconti Import'!W121*'Sconti Import'!H121))*'Zone Export'!$V$14","v":257.01749999999998},{"$f":"('Sconti Import'!X121-('Sconti Import'!X121*'Sconti Import'!I121))*'Zone Export'!$V$14","v":361.03499999999997},{"$f":"('Sconti Import'!Y121-('Sconti Import'!Y121*'Sconti Import'!J121))*'Zone Export'!$V$14","v":361.01249999999999},{"$f":"('Sconti Import'!Z121-('Sconti Import'!Z121*'Sconti Import'!K121))*'Zone Export'!$V$14","v":438.23249999999996},{"$f":"('Sconti Import'!AA121-('Sconti Import'!AA121*'Sconti Import'!L121))*'Zone Export'!$V$14","v":391.02749999999997},{"$f":"('Sconti Import'!AB121-('Sconti Import'!AB121*'Sconti Import'!M121))*'Zone Export'!$V$14","v":538.01999999999987},{"$f":"('Sconti Import'!AC121-('Sconti Import'!AC121*'Sconti Import'!N121))*'Zone Export'!$V$14","v":781.6724999999999}]
[null,"65 kg",null,{"$f":"('Sconti Import'!R122-('Sconti Import'!R122*'Sconti Import'!C122))*'Zone Export'!$V$14","v":175.72499999999999},{"$f":"('Sconti Import'!S122-('Sconti Import'!S122*'Sconti Import'!D122))*'Zone Export'!$V$14","v":272.36249999999995},{"$f":"('Sconti Import'!T122-('Sconti Import'!T122*'Sconti Import'!E122))*'Zone Export'!$V$14","v":297.35999999999996},{"$f":"('Sconti Import'!U122-('Sconti Import'!U122*'Sconti Import'!F122))*'Zone Export'!$V$14","v":251.86500000000001},{"$f":"('Sconti Import'!V122-('Sconti Import'!V122*'Sconti Import'!G122))*'Zone Export'!$V$14","v":259.26749999999998},{"$f":"('Sconti Import'!W122-('Sconti Import'!W122*'Sconti Import'!H122))*'Zone Export'!$V$14","v":271.30499999999995},{"$f":"('Sconti Import'!X122-('Sconti Import'!X122*'Sconti Import'!I122))*'Zone Export'!$V$14","v":384.97499999999997},{"$f":"('Sconti Import'!Y122-('Sconti Import'!Y122*'Sconti Import'!J122))*'Zone Export'!$V$14","v":384.95249999999999},{"$f":"('Sconti Import'!Z122-('Sconti Import'!Z122*'Sconti Import'!K122))*'Zone Export'!$V$14","v":470.58749999999998},{"$f":"('Sconti Import'!AA122-('Sconti Import'!AA122*'Sconti Import'!L122))*'Zone Export'!$V$14","v":419.76},{"$f":"('Sconti Import'!AB122-('Sconti Import'!AB122*'Sconti Import'!M122))*'Zone Export'!$V$14","v":574.55999999999995},{"$f":"('Sconti Import'!AC122-('Sconti Import'!AC122*'Sconti Import'!N122))*'Zone Export'!$V$14","v":842.9849999999999}]
[null,"70 kg",null,{"$f":"('Sconti Import'!R123-('Sconti Import'!R123*'Sconti Import'!C123))*'Zone Export'!$V$14","v":184.00499999999997},{"$f":"('Sconti Import'!S123-('Sconti Import'!S123*'Sconti Import'!D123))*'Zone Export'!$V$14","v":288.17999999999995},{"$f":"('Sconti Import'!T123-('Sconti Import'!T123*'Sconti Import'!E123))*'Zone Export'!$V$14","v":311.21999999999997},{"$f":"('Sconti Import'!U123-('Sconti Import'!U123*'Sconti Import'!F123))*'Zone Export'!$V$14","v":265.18499999999995},{"$f":"('Sconti Import'!V123-('Sconti Import'!V123*'Sconti Import'!G123))*'Zone Export'!$V$14","v":272.90249999999997},{"$f":"('Sconti Import'!W123-('Sconti Import'!W123*'Sconti Import'!H123))*'Zone Export'!$V$14","v":285.54749999999996},{"$f":"('Sconti Import'!X123-('Sconti Import'!X123*'Sconti Import'!I123))*'Zone Export'!$V$14","v":408.89249999999993},{"$f":"('Sconti Import'!Y123-('Sconti Import'!Y123*'Sconti Import'!J123))*'Zone Export'!$V$14","v":408.86999999999995},{"$f":"('Sconti Import'!Z123-('Sconti Import'!Z123*'Sconti Import'!K123))*'Zone Export'!$V$14","v":502.875},{"$f":"('Sconti Import'!AA123-('Sconti Import'!AA123*'Sconti Import'!L123))*'Zone Export'!$V$14","v":448.55999999999995},{"$f":"('Sconti Import'!AB123-('Sconti Import'!AB123*'Sconti Import'!M123))*'Zone Export'!$V$14","v":611.16750000000002},{"$f":"('Sconti Import'!AC123-('Sconti Import'!AC123*'Sconti Import'!N123))*'Zone Export'!$V$14","v":904.27499999999986}]
[null,"Oltre 70 Kg"]
[null,"Prezzo al Kg",null,{"$f":"('Sconti Import'!R125-('Sconti Import'!R125*'Sconti Import'!C125))*'Zone Export'!$V$14","v":2.6279999999999997},{"$f":"('Sconti Import'!S125-('Sconti Import'!S125*'Sconti Import'!D125))*'Zone Export'!$V$14","v":4.1129999999999995},{"$f":"('Sconti Import'!T125-('Sconti Import'!T125*'Sconti Import'!E125))*'Zone Export'!$V$14","v":4.4459999999999997},{"$f":"('Sconti Import'!U125-('Sconti Import'!U125*'Sconti Import'!F125))*'Zone Export'!$V$14","v":3.7844999999999995},{"$f":"('Sconti Import'!V125-('Sconti Import'!V125*'Sconti Import'!G125))*'Zone Export'!$V$14","v":3.8969999999999994},{"$f":"('Sconti Import'!W125-('Sconti Import'!W125*'Sconti Import'!H125))*'Zone Export'!$V$14","v":4.077},{"$f":"('Sconti Import'!X125-('Sconti Import'!X125*'Sconti Import'!I125))*'Zone Export'!$V$14","v":5.8409999999999993},{"$f":"('Sconti Import'!Y125-('Sconti Import'!Y125*'Sconti Import'!J125))*'Zone Export'!$V$14","v":5.8409999999999993},{"$f":"('Sconti Import'!Z125-('Sconti Import'!Z125*'Sconti Import'!K125))*'Zone Export'!$V$14","v":7.1820000000000004},{"$f":"('Sconti Import'!AA125-('Sconti Import'!AA125*'Sconti Import'!L125))*'Zone Export'!$V$14","v":6.4079999999999995},{"$f":"('Sconti Import'!AB125-('Sconti Import'!AB125*'Sconti Import'!M125))*'Zone Export'!$V$14","v":8.7299999999999986},{"$f":"('Sconti Import'!AC125-('Sconti Import'!AC125*'Sconti Import'!N125))*'Zone Export'!$V$14","v":12.914999999999999}]
[null,"Tariffa Minima",null,{"$f":"('Sconti Import'!R126-('Sconti Import'!R126*'Sconti Import'!C126))*'Zone Export'!$V$14","v":184.00499999999997},{"$f":"('Sconti Import'!S126-('Sconti Import'!S126*'Sconti Import'!D126))*'Zone Export'!$V$14","v":288.17999999999995},{"$f":"('Sconti Import'!T126-('Sconti Import'!T126*'Sconti Import'!E126))*'Zone Export'!$V$14","v":311.21999999999997},{"$f":"('Sconti Import'!U126-('Sconti Import'!U126*'Sconti Import'!F126))*'Zone Export'!$V$14","v":265.18499999999995},{"$f":"('Sconti Import'!V126-('Sconti Import'!V126*'Sconti Import'!G126))*'Zone Export'!$V$14","v":272.90249999999997},{"$f":"('Sconti Import'!W126-('Sconti Import'!W126*'Sconti Import'!H126))*'Zone Export'!$V$14","v":285.54749999999996},{"$f":"('Sconti Import'!X126-('Sconti Import'!X126*'Sconti Import'!I126))*'Zone Export'!$V$14","v":408.89249999999993},{"$f":"('Sconti Import'!Y126-('Sconti Import'!Y126*'Sconti Import'!J126))*'Zone Export'!$V$14","v":408.86999999999995},{"$f":"('Sconti Import'!Z126-('Sconti Import'!Z126*'Sconti Import'!K126))*'Zone Export'!$V$14","v":502.875},{"$f":"('Sconti Import'!AA126-('Sconti Import'!AA126*'Sconti Import'!L126))*'Zone Export'!$V$14","v":448.55999999999995},{"$f":"('Sconti Import'!AB126-('Sconti Import'!AB126*'Sconti Import'!M126))*'Zone Export'!$V$14","v":611.16750000000002},{"$f":"('Sconti Import'!AC126-('Sconti Import'!AC126*'Sconti Import'!N126))*'Zone Export'!$V$14","v":904.27499999999986}]

{"sheet":"Standard Import","index":16,"n_rows":76,"n_cols":10,"rows_kept":76,"cut":false,"hidden":false,"merged":[[10,9,10,10],[7,1,7,10],[10,2,10,5],[52,2,52,5]]}
[]
[]
[]
[]
[]
[]
[]
[null,"Per ulteriori dettagli su Garanzie di Rimborso, Copertura Servizi e Condizioni contattare il Numero 02 30 30 30 39 o visitare il sito www.ups.com"]
[]
[null,null,null,null,null,null,null,null,null,"Spettabile"]
[null,"€","Unione Europea",null,null,null,"Resto Europa",null,null,{"$f":"+Cover!$C$2","v":"GLOCAL WEB"}]
[null,"Zona",3,4,5,51,6]
[null,"Peso"]
[null,"1,0 kg",{"$f":"('Sconti Import'!S135-('Sconti Import'!S135*'Sconti Import'!E135))*'Zone Export'!$V$16","v":15.802499999999998},{"$f":"('Sconti Import'!T135-('Sconti Import'!T135*'Sconti Import'!F135))*'Zone Export'!$V$16","v":24.954999999999998},{"$f":"('Sconti Import'!U135-('Sconti Import'!U135*'Sconti Import'!G135))*'Zone Export'!$V$16","v":26.582499999999996},{"$f":"('Sconti Import'!V135-('Sconti Import'!V135*'Sconti Import'!H135))*'Zone Export'!$V$16","v":27.247499999999995},{"$f":"('Sconti Import'!W135-('Sconti Import'!W135*'Sconti Import'!I135))*'Zone Export'!$V$16","v":42.052499999999995}]
[null,"2,0 kg",{"$f":"('Sconti Import'!S136-('Sconti Import'!S136*'Sconti Import'!E136))*'Zone Export'!$V$16","v":16.537499999999998},{"$f":"('Sconti Import'!T136-('Sconti Import'!T136*'Sconti Import'!F136))*'Zone Export'!$V$16","v":26.564999999999998},{"$f":"('Sconti Import'!U136-('Sconti Import'!U136*'Sconti Import'!G136))*'Zone Export'!$V$16","v":31.115000000000002},{"$f":"('Sconti Import'!V136-('Sconti Import'!V136*'Sconti Import'!H136))*'Zone Export'!$V$16","v":33.424999999999997},{"$f":"('Sconti Import'!W136-('Sconti Import'!W136*'Sconti Import'!I136))*'Zone Export'!$V$16","v":45.314999999999998}]
[null,"3,0 kg",{"$f":"('Sconti Import'!S137-('Sconti Import'!S137*'Sconti Import'!E137))*'Zone Export'!$V$16","v":17.202499999999997},{"$f":"('Sconti Import'!T137-('Sconti Import'!T137*'Sconti Import'!F137))*'Zone Export'!$V$16","v":28.279999999999994},{"$f":"('Sconti Import'!U137-('Sconti Import'!U137*'Sconti Import'!G137))*'Zone Export'!$V$16","v":35.54249999999999},{"$f":"('Sconti Import'!V137-('Sconti Import'!V137*'Sconti Import'!H137))*'Zone Export'!$V$16","v":38.08},{"$f":"('Sconti Import'!W137-('Sconti Import'!W137*'Sconti Import'!I137))*'Zone Export'!$V$16","v":48.644999999999996}]
[null,"4,0 kg",{"$f":"('Sconti Import'!S138-('Sconti Import'!S138*'Sconti Import'!E138))*'Zone Export'!$V$16","v":17.884999999999998},{"$f":"('Sconti Import'!T138-('Sconti Import'!T138*'Sconti Import'!F138))*'Zone Export'!$V$16","v":29.924999999999997},{"$f":"('Sconti Import'!U138-('Sconti Import'!U138*'Sconti Import'!G138))*'Zone Export'!$V$16","v":40.022499999999994},{"$f":"('Sconti Import'!V138-('Sconti Import'!V138*'Sconti Import'!H138))*'Zone Export'!$V$16","v":40.967500000000001},{"$f":"('Sconti Import'!W138-('Sconti Import'!W138*'Sconti Import'!I138))*'Zone Export'!$V$16","v":51.209999999999994}]
[null,"5,0 kg",{"$f":"('Sconti Import'!S139-('Sconti Import'!S139*'Sconti Import'!E139))*'Zone Export'!$V$16","v":18.567499999999995},{"$f":"('Sconti Import'!T139-('Sconti Import'!T139*'Sconti Import'!F139))*'Zone Export'!$V$16","v":31.534999999999997},{"$f":"('Sconti Import'!U139-('Sconti Import'!U139*'Sconti Import'!G139))*'Zone Export'!$V$16","v":44.519999999999996},{"$f":"('Sconti Import'!V139-('Sconti Import'!V139*'Sconti Import'!H139))*'Zone Export'!$V$16","v":44.905000000000001},{"$f":"('Sconti Import'!W139-('Sconti Import'!W139*'Sconti Import'!I139))*'Zone Export'!$V$16","v":53.752499999999998}]
[null,"6,0 kg",{"$f":"('Sconti Import'!S140-('Sconti Import'!S140*'Sconti Import'!E140))*'Zone Export'!$V$16","v":19.25},{"$f":"('Sconti Import'!T140-('Sconti Import'!T140*'Sconti Import'!F140))*'Zone Export'!$V$16","v":33.197499999999998},{"$f":"('Sconti Import'!U140-('Sconti Import'!U140*'Sconti Import'!G140))*'Zone Export'!$V$16","v":46.2},{"$f":"('Sconti Import'!V140-('Sconti Import'!V140*'Sconti Import'!H140))*'Zone Export'!$V$16","v":47.05749999999999},{"$f":"('Sconti Import'!W140-('Sconti Import'!W140*'Sconti Import'!I140))*'Zone Export'!$V$16","v":56.317499999999995}]
[null,"7,0 kg",{"$f":"('Sconti Import'!S141-('Sconti Import'!S141*'Sconti Import'!E141))*'Zone Export'!$V$16","v":19.897500000000001},{"$f":"('Sconti Import'!T141-('Sconti Import'!T141*'Sconti Import'!F141))*'Zone Export'!$V$16","v":34.877499999999998},{"$f":"('Sconti Import'!U141-('Sconti Import'!U141*'Sconti Import'!G141))*'Zone Export'!$V$16","v":47.879999999999995},{"$f":"('Sconti Import'!V141-('Sconti Import'!V141*'Sconti Import'!H141))*'Zone Export'!$V$16","v":50.55749999999999},{"$f":"('Sconti Import'!W141-('Sconti Import'!W141*'Sconti Import'!I141))*'Zone Export'!$V$16","v":58.882499999999993}]
[null,"8,0 kg",{"$f":"('Sconti Import'!S142-('Sconti Import'!S142*'Sconti Import'!E142))*'Zone Export'!$V$16","v":20.6325},{"$f":"('Sconti Import'!T142-('Sconti Import'!T142*'Sconti Import'!F142))*'Zone Export'!$V$16","v":36.540000000000006},{"$f":"('Sconti Import'!U142-('Sconti Import'!U142*'Sconti Import'!G142))*'Zone Export'!$V$16","v":49.577500000000001},{"$f":"('Sconti Import'!V142-('Sconti Import'!V142*'Sconti Import'!H142))*'Zone Export'!$V$16","v":52.5},{"$f":"('Sconti Import'!W142-('Sconti Import'!W142*'Sconti Import'!I142))*'Zone Export'!$V$16","v":61.424999999999997}]
[null,"9,0 kg",{"$f":"('Sconti Import'!S143-('Sconti Import'!S143*'Sconti Import'!E143))*'Zone Export'!$V$16","v":21.332500000000003},{"$f":"('Sconti Import'!T143-('Sconti Import'!T143*'Sconti Import'!F143))*'Zone Export'!$V$16","v":38.16749999999999},{"$f":"('Sconti Import'!U143-('Sconti Import'!U143*'Sconti Import'!G143))*'Zone Export'!$V$16","v":51.222499999999997},{"$f":"('Sconti Import'!V143-('Sconti Import'!V143*'Sconti Import'!H143))*'Zone Export'!$V$16","v":54.25},{"$f":"('Sconti Import'!W143-('Sconti Import'!W143*'Sconti Import'!I143))*'Zone Export'!$V$16","v":64.034999999999997}]
[null,"10 kg",{"$f":"('Sconti Import'!S144-('Sconti Import'!S144*'Sconti Import'!E144))*'Zone Export'!$V$16","v":21.979999999999997},{"$f":"('Sconti Import'!T144-('Sconti Import'!T144*'Sconti Import'!F144))*'Zone Export'!$V$16","v":39.864999999999995},{"$f":"('Sconti Import'!U144-('Sconti Import'!U144*'Sconti Import'!G144))*'Zone Export'!$V$16","v":52.9375},{"$f":"('Sconti Import'!V144-('Sconti Import'!V144*'Sconti Import'!H144))*'Zone Export'!$V$16","v":56},{"$f":"('Sconti Import'!W144-('Sconti Import'!W144*'Sconti Import'!I144))*'Zone Export'!$V$16","v":66.554999999999993}]
[null,"12 kg",{"$f":"('Sconti Import'!S145-('Sconti Import'!S145*'Sconti Import'!E145))*'Zone Export'!$V$16","v":26.11},{"$f":"('Sconti Import'!T145-('Sconti Import'!T145*'Sconti Import'!F145))*'Zone Export'!$V$16","v":45.605000000000004},{"$f":"('Sconti Import'!U145-('Sconti Import'!U145*'Sconti Import'!G145))*'Zone Export'!$V$16","v":57.277500000000003},{"$f":"('Sconti Import'!V145-('Sconti Import'!V145*'Sconti Import'!H145))*'Zone Export'!$V$16","v":60.41},{"$f":"('Sconti Import'!W145-('Sconti Import'!W145*'Sconti Import'!I145))*'Zone Export'!$V$16","v":69.929999999999993}]
[null,"14 kg",{"$f":"('Sconti Import'!S146-('Sconti Import'!S146*'Sconti Import'!E146))*'Zone Export'!$V$16","v":26.11},{"$f":"('Sconti Import'!T146-('Sconti Import'!T146*'Sconti Import'!F146))*'Zone Export'!$V$16","v":45.605000000000004},{"$f":"('Sconti Import'!U146-('Sconti Import'!U146*'Sconti Import'!G146))*'Zone Export'!$V$16","v":57.277500000000003},{"$f":"('Sconti Import'!V146-('Sconti Import'!V146*'Sconti Import'!H146))*'Zone Export'!$V$16","v":60.41},{"$f":"('Sconti Import'!W146-('Sconti Import'!W146*'Sconti Import'!I146))*'Zone Export'!$V$16","v":69.929999999999993}]
[null,"16 kg",{"$f":"('Sconti Import'!S147-('Sconti Import'!S147*'Sconti Import'!E147))*'Zone Export'!$V$16","v":28.122499999999995},{"$f":"('Sconti Import'!T147-('Sconti Import'!T147*'Sconti Import'!F147))*'Zone Export'!$V$16","v":50.084999999999994},{"$f":"('Sconti Import'!U147-('Sconti Import'!U147*'Sconti Import'!G147))*'Zone Export'!$V$16","v":61.652500000000003},{"$f":"('Sconti Import'!V147-('Sconti Import'!V147*'Sconti Import'!H147))*'Zone Export'!$V$16","v":64.819999999999993},{"$f":"('Sconti Import'!W147-('Sconti Import'!W147*'Sconti Import'!I147))*'Zone Export'!$V$16","v":73.282499999999985}]
[null,"18 kg",{"$f":"('Sconti Import'!S148-('Sconti Import'!S148*'Sconti Import'!E148))*'Zone Export'!$V$16","v":28.122499999999995},{"$f":"('Sconti Import'!T148-('Sconti Import'!T148*'Sconti Import'!F148))*'Zone Export'!$V$16","v":50.084999999999994},{"$f":"('Sconti Import'!U148-('Sconti Import'!U148*'Sconti Import'!G148))*'Zone Export'!$V$16","v":61.652500000000003},{"$f":"('Sconti Import'!V148-('Sconti Import'!V148*'Sconti Import'!H148))*'Zone Export'!$V$16","v":64.819999999999993},{"$f":"('Sconti Import'!W148-('Sconti Import'!W148*'Sconti Import'!I148))*'Zone Export'!$V$16","v":73.282499999999985}]
[null,"20 kg",{"$f":"('Sconti Import'!S149-('Sconti Import'!S149*'Sconti Import'!E149))*'Zone Export'!$V$16","v":28.122499999999995},{"$f":"('Sconti Import'!T149-('Sconti Import'!T149*'Sconti Import'!F149))*'Zone Export'!$V$16","v":50.084999999999994},{"$f":"('Sconti Import'!U149-('Sconti Import'!U149*'Sconti Import'!G149))*'Zone Export'!$V$16","v":61.652500000000003},{"$f":"('Sconti Import'!V149-('Sconti Import'!V149*'Sconti Import'!H149))*'Zone Export'!$V$16","v":64.819999999999993},{"$f":"('Sconti Import'!W149-('Sconti Import'!W149*'Sconti Import'!I149))*'Zone Export'!$V$16","v":73.282499999999985}]
[null,"22 kg",{"$f":"('Sconti Import'!S150-('Sconti Import'!S150*'Sconti Import'!E150))*'Zone Export'!$V$16","v":36.837499999999991},{"$f":"('Sconti Import'!T150-('Sconti Import'!T150*'Sconti Import'!F150))*'Zone Export'!$V$16","v":59.254999999999995},{"$f":"('Sconti Import'!U150-('Sconti Import'!U150*'Sconti Import'!G150))*'Zone Export'!$V$16","v":71.224999999999994},{"$f":"('Sconti Import'!V150-('Sconti Import'!V150*'Sconti Import'!H150))*'Zone Export'!$V$16","v":74.58499999999998},{"$f":"('Sconti Import'!W150-('Sconti Import'!W150*'Sconti Import'!I150))*'Zone Export'!$V$16","v":87.11999999999999}]
[null,"24 kg",{"$f":"('Sconti Import'!S151-('Sconti Import'!S151*'Sconti Import'!E151))*'Zone Export'!$V$16","v":36.837499999999991},{"$f":"('Sconti Import'!T151-('Sconti Import'!T151*'Sconti Import'!F151))*'Zone Export'!$V$16","v":59.254999999999995},{"$f":"('Sconti Import'!U151-('Sconti Import'!U151*'Sconti Import'!G151))*'Zone Export'!$V$16","v":71.224999999999994},{"$f":"('Sconti Import'!V151-('Sconti Import'!V151*'Sconti Import'!H151))*'Zone Export'!$V$16","v":74.58499999999998},{"$f":"('Sconti Import'!W151-('Sconti Import'!W151*'Sconti Import'!I151))*'Zone Export'!$V$16","v":87.11999999999999}]
[null,"26 kg",{"$f":"('Sconti Import'!S152-('Sconti Import'!S152*'Sconti Import'!E152))*'Zone Export'!$V$16","v":36.837499999999991},{"$f":"('Sconti Import'!T152-('Sconti Import'!T152*'Sconti Import'!F152))*'Zone Export'!$V$16","v":59.254999999999995},{"$f":"('Sconti Import'!U152-('Sconti Import'!U152*'Sconti Import'!G152))*'Zone Export'!$V$16","v":71.224999999999994},{"$f":"('Sconti Import'!V152-('Sconti Import'!V152*'Sconti Import'!H152))*'Zone Export'!$V$16","v":74.58499999999998},{"$f":"('Sconti Import'!W152-('Sconti Import'!W152*'Sconti Import'!I152))*'Zone Export'!$V$16","v":87.11999999999999}]
[null,"28 kg",{"$f":"('Sconti Import'!S153-('Sconti Import'!S153*'Sconti Import'!E153))*'Zone Export'!$V$16","v":36.837499999999991},{"$f":"('Sconti Import'!T153-('Sconti Import'!T153*'Sconti Import'!F153))*'Zone Export'!$V$16","v":59.254999999999995},{"$f":"('Sconti Import'!U153-('Sconti Import'!U153*'Sconti Import'!G153))*'Zone Export'!$V$16","v":71.224999999999994},{"$f":"('Sconti Import'!V153-('Sconti Import'!V153*'Sconti Import'!H153))*'Zone Export'!$V$16","v":74.58499999999998},{"$f":"('Sconti Import'!W153-('Sconti Import'!W153*'Sconti Import'!I153))*'Zone Export'!$V$16","v":87.11999999999999}]
[null,"30 kg",{"$f":"('Sconti Import'!S154-('Sconti Import'!S154*'Sconti Import'!E154))*'Zone Export'!$V$16","v":36.837499999999991},{"$f":"('Sconti Import'!T154-('Sconti Import'!T154*'Sconti Import'!F154))*'Zone Export'!$V$16","v":59.254999999999995},{"$f":"('Sconti Import'!U154-('Sconti Import'!U154*'Sconti Import'!G154))*'Zone Export'!$V$16","v":71.224999999999994},{"$f":"('Sconti Import'!V154-('Sconti Import'!V154*'Sconti Import'!H154))*'Zone Export'!$V$16","v":74.58499999999998},{"$f":"('Sconti Import'!W154-('Sconti Import'!W154*'Sconti Import'!I154))*'Zone Export'!$V$16","v":87.11999999999999}]
[null,"32 kg",{"$f":"('Sconti Import'!S155-('Sconti Import'!S155*'Sconti Import'!E155))*'Zone Export'!$V$16","v":43.435000000000002},{"$f":"('Sconti Import'!T155-('Sconti Import'!T155*'Sconti Import'!F155))*'Zone Export'!$V$16","v":66.919999999999987},{"$f":"('Sconti Import'!U155-('Sconti Import'!U155*'Sconti Import'!G155))*'Zone Export'!$V$16","v":80.60499999999999},{"$f":"('Sconti Import'!V155-('Sconti Import'!V155*'Sconti Import'!H155))*'Zone Export'!$V$16","v":84.017500000000013},{"$f":"('Sconti Import'!W155-('Sconti Import'!W155*'Sconti Import'!I155))*'Zone Export'!$V$16","v":100.71}]
[null,"34 kg",{"$f":"('Sconti Import'!S156-('Sconti Import'!S156*'Sconti Import'!E156))*'Zone Export'!$V$16","v":43.435000000000002},{"$f":"('Sconti Import'!T156-('Sconti Import'!T156*'Sconti Import'!F156))*'Zone Export'!$V$16","v":66.919999999999987},{"$f":"('Sconti Import'!U156-('Sconti Import'!U156*'Sconti Import'!G156))*'Zone Export'!$V$16","v":80.60499999999999},{"$f":"('Sconti Import'!V156-('Sconti Import'!V156*'Sconti Import'!H156))*'Zone Export'!$V$16","v":84.017500000000013},{"$f":"('Sconti Import'!W156-('Sconti Import'!W156*'Sconti Import'!I156))*'Zone Export'!$V$16","v":100.71}]
[null,"36 kg",{"$f":"('Sconti Import'!S157-('Sconti Import'!S157*'Sconti Import'!E157))*'Zone Export'!$V$16","v":43.435000000000002},{"$f":"('Sconti Import'!T157-('Sconti Import'!T157*'Sconti Import'!F157))*'Zone Export'!$V$16","v":66.919999999999987},{"$f":"('Sconti Import'!U157-('Sconti Import'!U157*'Sconti Import'!G157))*'Zone Export'!$V$16","v":80.60499999999999},{"$f":"('Sconti Import'!V157-('Sconti Import'!V157*'Sconti Import'!H157))*'Zone Export'!$V$16","v":84.017500000000013},{"$f":"('Sconti Import'!W157-('Sconti Import'!W157*'Sconti Import'!I157))*'Zone Export'!$V$16","v":100.71}]
[null,"38 kg",{"$f":"('Sconti Import'!S158-('Sconti Import'!S158*'Sconti Import'!E158))*'Zone Export'!$V$16","v":43.435000000000002},{"$f":"('Sconti Import'!T158-('Sconti Import'!T158*'Sconti Import'!F158))*'Zone Export'!$V$16","v":66.919999999999987},{"$f":"('Sconti Import'!U158-('Sconti Import'!U158*'Sconti Import'!G158))*'Zone Export'!$V$16","v":80.60499999999999},{"$f":"('Sconti Import'!V158-('Sconti Import'!V158*'Sconti Import'!H158))*'Zone Export'!$V$16","v":84.017500000000013},{"$f":"('Sconti Import'!W158-('Sconti Import'!W158*'Sconti Import'!I158))*'Zone Export'!$V$16","v":100.71}]
[null,"40 kg",{"$f":"('Sconti Import'!S159-('Sconti Import'!S159*'Sconti Import'!E159))*'Zone Export'!$V$16","v":43.435000000000002},{"$f":"('Sconti Import'!T159-('Sconti Import'!T159*'Sconti Import'!F159))*'Zone Export'!$V$16","v":66.919999999999987},{"$f":"('Sconti Import'!U159-('Sconti Import'!U159*'Sconti Import'!G159))*'Zone Export'!$V$16","v":80.60499999999999},{"$f":"('Sconti Import'!V159-('Sconti Import'!V159*'Sconti Import'!H159))*'Zone Export'!$V$16","v":84.017500000000013},{"$f":"('Sconti Import'!W159-('Sconti Import'!W159*'Sconti Import'!I159))*'Zone Export'!$V$16","v":100.71}]
[null,"42 kg",{"$f":"('Sconti Import'!S160-('Sconti Import'!S160*'Sconti Import'!E160))*'Zone Export'!$V$16","v":49.927499999999995},{"$f":"('Sconti Import'!T160-('Sconti Import'!T160*'Sconti Import'!F160))*'Zone Export'!$V$16","v":74.62},{"$f":"('Sconti Import'!U160-('Sconti Import'!U160*'Sconti Import'!G160))*'Zone Export'!$V$16","v":90.019999999999982},{"$f":"('Sconti Import'!V160-('Sconti Import'!V160*'Sconti Import'!H160))*'Zone Export'!$V$16","v":93.519999999999982},{"$f":"('Sconti Import'!W160-('Sconti Import'!W160*'Sconti Import'!I160))*'Zone Export'!$V$16","v":114.23249999999999}]
[null,"44 kg",{"$f":"('Sconti Import'!S161-('Sconti Import'!S161*'Sconti Import'!E161))*'Zone Export'!$V$16","v":49.927499999999995},{"$f":"('Sconti Import'!T161-('Sconti Import'!T161*'Sconti Import'!F161))*'Zone Export'!$V$16","v":74.62},{"$f":"('Sconti Import'!U161-('Sconti Import'!U161*'Sconti Import'!G161))*'Zone Export'!$V$16","v":90.019999999999982},{"$f":"('Sconti Import'!V161-('Sconti Import'!V161*'Sconti Import'!H161))*'Zone Export'!$V$16","v":93.519999999999982},{"$f":"('Sconti Import'!W161-('Sconti Import'!W161*'Sconti Import'!I161))*'Zone Export'!$V$16","v":114.23249999999999}]
[null,"46 kg",{"$f":"('Sconti Import'!S162-('Sconti Import'!S162*'Sconti Import'!E162))*'Zone Export'!$V$16","v":49.927499999999995},{"$f":"('Sconti Import'!T162-('Sconti Import'!T162*'Sconti Import'!F162))*'Zone Export'!$V$16","v":74.62},{"$f":"('Sconti Import'!U162-('Sconti Import'!U162*'Sconti Import'!G162))*'Zone Export'!$V$16","v":90.019999999999982},{"$f":"('Sconti Import'!V162-('Sconti Import'!V162*'Sconti Import'!H162))*'Zone Export'!$V$16","v":93.519999999999982},{"$f":"('Sconti Import'!W162-('Sconti Import'!W162*'Sconti Import'!I162))*'Zone Export'!$V$16","v":114.23249999999999}]
[null,"48 kg",{"$f":"('Sconti Import'!S163-('Sconti Import'!S163*'Sconti Import'!E163))*'Zone Export'!$V$16","v":49.927499999999995},{"$f":"('Sconti Import'!T163-('Sconti Import'!T163*'Sconti Import'!F163))*'Zone Export'!$V$16","v":74.62},{"$f":"('Sconti Import'!U163-('Sconti Import'!U163*'Sconti Import'!G163))*'Zone Export'!$V$16","v":90.019999999999982},{"$f":"('Sconti Import'!V163-('Sconti Import'!V163*'Sconti Import'!H163))*'Zone Export'!$V$16","v":93.519999999999982},{"$f":"('Sconti Import'!W163-('Sconti Import'!W163*'Sconti Import'!I163))*'Zone Export'!$V$16","v":114.23249999999999}]
[null,"50 kg",{"$f":"('Sconti Import'!S164-('Sconti Import'!S164*'Sconti Import'!E164))*'Zone Export'!$V$16","v":49.927499999999995},{"$f":"('Sconti Import'!T164-('Sconti Import'!T164*'Sconti Import'!F164))*'Zone Export'!$V$16","v":74.62},{"$f":"('Sconti Import'!U164-('Sconti Import'!U164*'Sconti Import'!G164))*'Zone Export'!$V$16","v":90.019999999999982},{"$f":"('Sconti Import'!V164-('Sconti Import'!V164*'Sconti Import'!H164))*'Zone Export'!$V$16","v":93.519999999999982},{"$f":"('Sconti Import'!W164-('Sconti Import'!W164*'Sconti Import'!I164))*'Zone Export'!$V$16","v":114.23249999999999}]
[null,"55 kg",{"$f":"('Sconti Import'!S165-('Sconti Import'!S165*'Sconti Import'!E165))*'Zone Export'!$V$16","v":56.507499999999993},{"$f":"('Sconti Import'!T165-('Sconti Import'!T165*'Sconti Import'!F165))*'Zone Export'!$V$16","v":83.685000000000002},{"$f":"('Sconti Import'!U165-('Sconti Import'!U165*'Sconti Import'!G165))*'Zone Export'!$V$16","v":103.49499999999998},{"$f":"('Sconti Import'!V165-('Sconti Import'!V165*'Sconti Import'!H165))*'Zone Export'!$V$16","v":107.32749999999999},{"$f":"('Sconti Import'!W165-('Sconti Import'!W165*'Sconti Import'!I165))*'Zone Export'!$V$16","v":154.14749999999998}]
[null,"60 kg",{"$f":"('Sconti Import'!S166-('Sconti Import'!S166*'Sconti Import'!E166))*'Zone Export'!$V$16","v":56.507499999999993},{"$f":"('Sconti Import'!T166-('Sconti Import'!T166*'Sconti Import'!F166))*'Zone Export'!$V$16","v":83.685000000000002},{"$f":"('Sconti Import'!U166-('Sconti Import'!U166*'Sconti Import'!G166))*'Zone Export'!$V$16","v":103.49499999999998},{"$f":"('Sconti Import'!V166-('Sconti Import'!V166*'Sconti Import'!H166))*'Zone Export'!$V$16","v":107.32749999999999},{"$f":"('Sconti Import'!W166-('Sconti Import'!W166*'Sconti Import'!I166))*'Zone Export'!$V$16","v":154.14749999999998}]
[null,"65 kg",{"$f":"('Sconti Import'!S167-('Sconti Import'!S167*'Sconti Import'!E167))*'Zone Export'!$V$16","v":56.507499999999993},{"$f":"('Sconti Import'!T167-('Sconti Import'!T167*'Sconti Import'!F167))*'Zone Export'!$V$16","v":83.685000000000002},{"$f":"('Sconti Import'!U167-('Sconti Import'!U167*'Sconti Import'!G167))*'Zone Export'!$V$16","v":103.49499999999998},{"$f":"('Sconti Import'!V167-('Sconti Import'!V167*'Sconti Import'!H167))*'Zone Export'!$V$16","v":107.32749999999999},{"$f":"('Sconti Import'!W167-('Sconti Import'!W167*'Sconti Import'!I167))*'Zone Export'!$V$16","v":154.14749999999998}]
[null,"70 kg",{"$f":"('Sconti Import'!S168-('Sconti Import'!S168*'Sconti Import'!E168))*'Zone Export'!$V$16","v":56.507499999999993},{"$f":"('Sconti Import'!T168-('Sconti Import'!T168*'Sconti Import'!F168))*'Zone Export'!$V$16","v":83.685000000000002},{"$f":"('Sconti Import'!U168-('Sconti Import'!U168*'Sconti Import'!G168))*'Zone Export'!$V$16","v":103.49499999999998},{"$f":"('Sconti Import'!V168-('Sconti Import'!V168*'Sconti Import'!H168))*'Zone Export'!$V$16","v":107.32749999999999},{"$f":"('Sconti Import'!W168-('Sconti Import'!W168*'Sconti Import'!I168))*'Zone Export'!$V$16","v":154.14749999999998}]
[]
[]
[]
[]
[]
[null,"€","Unione Europea",null,null,null,"Resto Europa"]
[null,"Zona",3,4,5,51,6]
[null,"Peso"]
[null,"5,0 kg",{"$f":"('Sconti Import'!S173-('Sconti Import'!S173*'Sconti Import'!E173))*'Zone Export'!$V$16","v":18.567499999999995},{"$f":"('Sconti Import'!T173-('Sconti Import'!T173*'Sconti Import'!F173))*'Zone Export'!$V$16","v":31.674999999999997},{"$f":"('Sconti Import'!U173-('Sconti Import'!U173*'Sconti Import'!G173))*'Zone Export'!$V$16","v":44.572499999999991},{"$f":"('Sconti Import'!V173-('Sconti Import'!V173*'Sconti Import'!H173))*'Zone Export'!$V$16","v":44.957499999999996},{"$f":"('Sconti Import'!W173-('Sconti Import'!W173*'Sconti Import'!I173))*'Zone Export'!$V$16","v":53.819999999999993}]
[null,"10 kg",{"$f":"('Sconti Import'!S174-('Sconti Import'!S174*'Sconti Import'!E174))*'Zone Export'!$V$16","v":22.032499999999999},{"$f":"('Sconti Import'!T174-('Sconti Import'!T174*'Sconti Import'!F174))*'Zone Export'!$V$16","v":40.075000000000003},{"$f":"('Sconti Import'!U174-('Sconti Import'!U174*'Sconti Import'!G174))*'Zone Export'!$V$16","v":53.059999999999988},{"$f":"('Sconti Import'!V174-('Sconti Import'!V174*'Sconti Import'!H174))*'Zone Export'!$V$16","v":56.052499999999995},{"$f":"('Sconti Import'!W174-('Sconti Import'!W174*'Sconti Import'!I174))*'Zone Export'!$V$16","v":66.644999999999996}]
[null,"15 kg",{"$f":"('Sconti Import'!S175-('Sconti Import'!S175*'Sconti Import'!E175))*'Zone Export'!$V$16","v":28.174999999999997},{"$f":"('Sconti Import'!T175-('Sconti Import'!T175*'Sconti Import'!F175))*'Zone Export'!$V$16","v":50.084999999999994},{"$f":"('Sconti Import'!U175-('Sconti Import'!U175*'Sconti Import'!G175))*'Zone Export'!$V$16","v":61.704999999999998},{"$f":"('Sconti Import'!V175-('Sconti Import'!V175*'Sconti Import'!H175))*'Zone Export'!$V$16","v":64.872499999999988},{"$f":"('Sconti Import'!W175-('Sconti Import'!W175*'Sconti Import'!I175))*'Zone Export'!$V$16","v":73.349999999999994}]
[null,"20 kg",{"$f":"('Sconti Import'!S176-('Sconti Import'!S176*'Sconti Import'!E176))*'Zone Export'!$V$16","v":28.174999999999997},{"$f":"('Sconti Import'!T176-('Sconti Import'!T176*'Sconti Import'!F176))*'Zone Export'!$V$16","v":50.084999999999994},{"$f":"('Sconti Import'!U176-('Sconti Import'!U176*'Sconti Import'!G176))*'Zone Export'!$V$16","v":61.722499999999997},{"$f":"('Sconti Import'!V176-('Sconti Import'!V176*'Sconti Import'!H176))*'Zone Export'!$V$16","v":64.872499999999988},{"$f":"('Sconti Import'!W176-('Sconti Import'!W176*'Sconti Import'!I176))*'Zone Export'!$V$16","v":73.349999999999994}]
[null,"25 kg",{"$f":"('Sconti Import'!S177-('Sconti Import'!S177*'Sconti Import'!E177))*'Zone Export'!$V$16","v":36.924999999999997},{"$f":"('Sconti Import'!T177-('Sconti Import'!T177*'Sconti Import'!F177))*'Zone Export'!$V$16","v":59.412499999999994},{"$f":"('Sconti Import'!U177-('Sconti Import'!U177*'Sconti Import'!G177))*'Zone Export'!$V$16","v":71.365000000000009},{"$f":"('Sconti Import'!V177-('Sconti Import'!V177*'Sconti Import'!H177))*'Zone Export'!$V$16","v":74.655000000000001},{"$f":"('Sconti Import'!W177-('Sconti Import'!W177*'Sconti Import'!I177))*'Zone Export'!$V$16","v":87.187499999999986}]
[null,"30 kg",{"$f":"('Sconti Import'!S178-('Sconti Import'!S178*'Sconti Import'!E178))*'Zone Export'!$V$16","v":36.924999999999997},{"$f":"('Sconti Import'!T178-('Sconti Import'!T178*'Sconti Import'!F178))*'Zone Export'!$V$16","v":59.412499999999994},{"$f":"('Sconti Import'!U178-('Sconti Import'!U178*'Sconti Import'!G178))*'Zone Export'!$V$16","v":71.365000000000009},{"$f":"('Sconti Import'!V178-('Sconti Import'!V178*'Sconti Import'!H178))*'Zone Export'!$V$16","v":74.655000000000001},{"$f":"('Sconti Import'!W178-('Sconti Import'!W178*'Sconti Import'!I178))*'Zone Export'!$V$16","v":87.187499999999986}]
[null,"40 kg",{"$f":"('Sconti Import'!S179-('Sconti Import'!S179*'Sconti Import'!E179))*'Zone Export'!$V$16","v":43.504999999999995},{"$f":"('Sconti Import'!T179-('Sconti Import'!T179*'Sconti Import'!F179))*'Zone Export'!$V$16","v":67.322499999999991},{"$f":"('Sconti Import'!U179-('Sconti Import'!U179*'Sconti Import'!G179))*'Zone Export'!$V$16","v":80.727499999999992},{"$f":"('Sconti Import'!V179-('Sconti Import'!V179*'Sconti Import'!H179))*'Zone Export'!$V$16","v":84.07},{"$f":"('Sconti Import'!W179-('Sconti Import'!W179*'Sconti Import'!I179))*'Zone Export'!$V$16","v":100.71}]
[null,"50 kg",{"$f":"('Sconti Import'!S180-('Sconti Import'!S180*'Sconti Import'!E180))*'Zone Export'!$V$16","v":50.015000000000001},{"$f":"('Sconti Import'!T180-('Sconti Import'!T180*'Sconti Import'!F180))*'Zone Export'!$V$16","v":75.180000000000007},{"$f":"('Sconti Import'!U180-('Sconti Import'!U180*'Sconti Import'!G180))*'Zone Export'!$V$16","v":90.125},{"$f":"('Sconti Import'!V180-('Sconti Import'!V180*'Sconti Import'!H180))*'Zone Export'!$V$16","v":93.519999999999982},{"$f":"('Sconti Import'!W180-('Sconti Import'!W180*'Sconti Import'!I180))*'Zone Export'!$V$16","v":114.21000000000001}]
[null,"60 kg",{"$f":"('Sconti Import'!S181-('Sconti Import'!S181*'Sconti Import'!E181))*'Zone Export'!$V$16","v":56.594999999999999},{"$f":"('Sconti Import'!T181-('Sconti Import'!T181*'Sconti Import'!F181))*'Zone Export'!$V$16","v":83.66749999999999},{"$f":"('Sconti Import'!U181-('Sconti Import'!U181*'Sconti Import'!G181))*'Zone Export'!$V$16","v":103.66999999999999},{"$f":"('Sconti Import'!V181-('Sconti Import'!V181*'Sconti Import'!H181))*'Zone Export'!$V$16","v":107.32749999999999},{"$f":"('Sconti Import'!W181-('Sconti Import'!W181*'Sconti Import'!I181))*'Zone Export'!$V$16","v":154.10249999999999}]
[null,"70 kg",{"$f":"('Sconti Import'!S182-('Sconti Import'!S182*'Sconti Import'!E182))*'Zone Export'!$V$16","v":56.594999999999999},{"$f":"('Sconti Import'!T182-('Sconti Import'!T182*'Sconti Import'!F182))*'Zone Export'!$V$16","v":83.66749999999999},{"$f":"('Sconti Import'!U182-('Sconti Import'!U182*'Sconti Import'!G182))*'Zone Export'!$V$16","v":103.66999999999999},{"$f":"('Sconti Import'!V182-('Sconti Import'!V182*'Sconti Import'!H182))*'Zone Export'!$V$16","v":107.32749999999999},{"$f":"('Sconti Import'!W182-('Sconti Import'!W182*'Sconti Import'!I182))*'Zone Export'!$V$16","v":154.10249999999999}]
[null,"80 kg",{"$f":"('Sconti Import'!S183-('Sconti Import'!S183*'Sconti Import'!E183))*'Zone Export'!$V$16","v":67.13},{"$f":"('Sconti Import'!T183-('Sconti Import'!T183*'Sconti Import'!F183))*'Zone Export'!$V$16","v":92.767499999999984},{"$f":"('Sconti Import'!U183-('Sconti Import'!U183*'Sconti Import'!G183))*'Zone Export'!$V$16","v":117.285},{"$f":"('Sconti Import'!V183-('Sconti Import'!V183*'Sconti Import'!H183))*'Zone Export'!$V$16","v":121.99250000000001},{"$f":"('Sconti Import'!W183-('Sconti Import'!W183*'Sconti Import'!I183))*'Zone Export'!$V$16","v":194.01749999999998}]
[null,"90 kg",{"$f":"('Sconti Import'!S184-('Sconti Import'!S184*'Sconti Import'!E184))*'Zone Export'!$V$16","v":67.13},{"$f":"('Sconti Import'!T184-('Sconti Import'!T184*'Sconti Import'!F184))*'Zone Export'!$V$16","v":92.767499999999984},{"$f":"('Sconti Import'!U184-('Sconti Import'!U184*'Sconti Import'!G184))*'Zone Export'!$V$16","v":117.285},{"$f":"('Sconti Import'!V184-('Sconti Import'!V184*'Sconti Import'!H184))*'Zone Export'!$V$16","v":121.99250000000001},{"$f":"('Sconti Import'!W184-('Sconti Import'!W184*'Sconti Import'!I184))*'Zone Export'!$V$16","v":194.01749999999998}]
[null,"100 kg",{"$f":"('Sconti Import'!S185-('Sconti Import'!S185*'Sconti Import'!E185))*'Zone Export'!$V$16","v":67.13},{"$f":"('Sconti Import'!T185-('Sconti Import'!T185*'Sconti Import'!F185))*'Zone Export'!$V$16","v":92.767499999999984},{"$f":"('Sconti Import'!U185-('Sconti Import'!U185*'Sconti Import'!G185))*'Zone Export'!$V$16","v":117.285},{"$f":"('Sconti Import'!V185-('Sconti Import'!V185*'Sconti Import'!H185))*'Zone Export'!$V$16","v":121.97499999999999},{"$f":"('Sconti Import'!W185-('Sconti Import'!W185*'Sconti Import'!I185))*'Zone Export'!$V$16","v":194.01749999999998}]
[null,"120 kg",{"$f":"('Sconti Import'!S186-('Sconti Import'!S186*'Sconti Import'!E186))*'Zone Export'!$V$16","v":83.66749999999999},{"$f":"('Sconti Import'!T186-('Sconti Import'!T186*'Sconti Import'!F186))*'Zone Export'!$V$16","v":111.93},{"$f":"('Sconti Import'!U186-('Sconti Import'!U186*'Sconti Import'!G186))*'Zone Export'!$V$16","v":140.4375},{"$f":"('Sconti Import'!V186-('Sconti Import'!V186*'Sconti Import'!H186))*'Zone Export'!$V$16","v":145.94999999999999},{"$f":"('Sconti Import'!W186-('Sconti Import'!W186*'Sconti Import'!I186))*'Zone Export'!$V$16","v":232.74}]
[null,"140 kg",{"$f":"('Sconti Import'!S187-('Sconti Import'!S187*'Sconti Import'!E187))*'Zone Export'!$V$16","v":96.81},{"$f":"('Sconti Import'!T187-('Sconti Import'!T187*'Sconti Import'!F187))*'Zone Export'!$V$16","v":130.19999999999999},{"$f":"('Sconti Import'!U187-('Sconti Import'!U187*'Sconti Import'!G187))*'Zone Export'!$V$16","v":163.7475},{"$f":"('Sconti Import'!V187-('Sconti Import'!V187*'Sconti Import'!H187))*'Zone Export'!$V$16","v":169.92500000000001},{"$f":"('Sconti Import'!W187-('Sconti Import'!W187*'Sconti Import'!I187))*'Zone Export'!$V$16","v":271.41749999999996}]
[null,"160 kg",{"$f":"('Sconti Import'!S188-('Sconti Import'!S188*'Sconti Import'!E188))*'Zone Export'!$V$16","v":110.26749999999998},{"$f":"('Sconti Import'!T188-('Sconti Import'!T188*'Sconti Import'!F188))*'Zone Export'!$V$16","v":148.22499999999997},{"$f":"('Sconti Import'!U188-('Sconti Import'!U188*'Sconti Import'!G188))*'Zone Export'!$V$16","v":187.03999999999996},{"$f":"('Sconti Import'!V188-('Sconti Import'!V188*'Sconti Import'!H188))*'Zone Export'!$V$16","v":193.47999999999996},{"$f":"('Sconti Import'!W188-('Sconti Import'!W188*'Sconti Import'!I188))*'Zone Export'!$V$16","v":310.09499999999997}]
[null,"180 kg",{"$f":"('Sconti Import'!S189-('Sconti Import'!S189*'Sconti Import'!E189))*'Zone Export'!$V$16","v":123.77749999999997},{"$f":"('Sconti Import'!T189-('Sconti Import'!T189*'Sconti Import'!F189))*'Zone Export'!$V$16","v":166.47749999999996},{"$f":"('Sconti Import'!U189-('Sconti Import'!U189*'Sconti Import'!G189))*'Zone Export'!$V$16","v":210.36749999999995},{"$f":"('Sconti Import'!V189-('Sconti Import'!V189*'Sconti Import'!H189))*'Zone Export'!$V$16","v":217.03499999999997},{"$f":"('Sconti Import'!W189-('Sconti Import'!W189*'Sconti Import'!I189))*'Zone Export'!$V$16","v":348.81749999999994}]
[null,"200 kg",{"$f":"('Sconti Import'!S190-('Sconti Import'!S190*'Sconti Import'!E190))*'Zone Export'!$V$16","v":137.19999999999999},{"$f":"('Sconti Import'!T190-('Sconti Import'!T190*'Sconti Import'!F190))*'Zone Export'!$V$16","v":184.36250000000001},{"$f":"('Sconti Import'!U190-('Sconti Import'!U190*'Sconti Import'!G190))*'Zone Export'!$V$16","v":233.67749999999995},{"$f":"('Sconti Import'!V190-('Sconti Import'!V190*'Sconti Import'!H190))*'Zone Export'!$V$16","v":241.01},{"$f":"('Sconti Import'!W190-('Sconti Import'!W190*'Sconti Import'!I190))*'Zone Export'!$V$16","v":387.42750000000001}]
[null,"Oltre 200 Kg"]
[null,"Prezzo al Kg",{"$f":"('Sconti Import'!S192-('Sconti Import'!S192*'Sconti Import'!E192))*'Zone Export'!$V$16","v":0.69300000000000006},{"$f":"('Sconti Import'!T192-('Sconti Import'!T192*'Sconti Import'!F192))*'Zone Export'!$V$16","v":0.92399999999999993},{"$f":"('Sconti Import'!U192-('Sconti Import'!U192*'Sconti Import'!G192))*'Zone Export'!$V$16","v":1.1654999999999998},{"$f":"('Sconti Import'!V192-('Sconti Import'!V192*'Sconti Import'!H192))*'Zone Export'!$V$16","v":1.2039999999999997},{"$f":"('Sconti Import'!W192-('Sconti Import'!W192*'Sconti Import'!I192))*'Zone Export'!$V$16","v":1.9349999999999996}]
[null,"Tariffa Minima",{"$f":"('Sconti Import'!S193-('Sconti Import'!S193*'Sconti Import'!E193))*'Zone Export'!$V$16","v":137.19999999999999},{"$f":"('Sconti Import'!T193-('Sconti Import'!T193*'Sconti Import'!F193))*'Zone Export'!$V$16","v":184.36250000000001},{"$f":"('Sconti Import'!U193-('Sconti Import'!U193*'Sconti Import'!G193))*'Zone Export'!$V$16","v":233.67749999999995},{"$f":"('Sconti Import'!V193-('Sconti Import'!V193*'Sconti Import'!H193))*'Zone Export'!$V$16","v":241.01},{"$f":"('Sconti Import'!W193-('Sconti Import'!W193*'Sconti Import'!I193))*'Zone Export'!$V$16","v":387.42750000000001}]

{"sheet":"Expedited Import","index":17,"n_rows":58,"n_cols":11,"rows_kept":58,"cut":false,"hidden":false,"merged":[[11,1,11,2],[7,1,7,12],[10,1,10,2],[10,10,10,13],[10,3,10,8]]}
[]
[]
[]
[]
[]
[]
[]
[null,"Per ulteriori dettagli su Garanzia di Rimborso, Copertura Servizi e Condizioni chiamate il Numero 02 30 30 30 39 o consultate il sito www.ups.com"]
[]
[null,null,null,null,null,null,null,null,null,null,"Spettabile"]
[null,"€",null,"Resto del Mondo",null,null,null,null,null,null,{"$f":"+Cover!$C$2","v":"GLOCAL WEB"}]
[null,"Zona",null,2,3,4,41,5,6]
[null,"Peso"]
[null,"1,0 kg",null,{"$f":"('Sconti Import'!S202-('Sconti Import'!S202*'Sconti Import'!D202))*'Zone Export'!$V$14","v":49.342500000000001},{"$f":"('Sconti Import'!T202-('Sconti Import'!T202*'Sconti Import'!E202))*'Zone Export'!$V$14","v":33.569999999999993},{"$f":"('Sconti Import'!U202-('Sconti Import'!U202*'Sconti Import'!F202))*'Zone Export'!$V$14","v":35.369999999999997},{"$f":"('Sconti Import'!V202-('Sconti Import'!V202*'Sconti Import'!G202))*'Zone Export'!$V$14","v":35.392499999999998},{"$f":"('Sconti Import'!W202-('Sconti Import'!W202*'Sconti Import'!H202))*'Zone Export'!$V$14","v":53.91},{"$f":"('Sconti Import'!X202-('Sconti Import'!X202*'Sconti Import'!I202))*'Zone Export'!$V$14","v":122.5}]
[null,"2,0 kg",null,{"$f":"('Sconti Import'!S203-('Sconti Import'!S203*'Sconti Import'!D203))*'Zone Export'!$V$14","v":62.032499999999985},{"$f":"('Sconti Import'!T203-('Sconti Import'!T203*'Sconti Import'!E203))*'Zone Export'!$V$14","v":42.569999999999993},{"$f":"('Sconti Import'!U203-('Sconti Import'!U203*'Sconti Import'!F203))*'Zone Export'!$V$14","v":45.382499999999993},{"$f":"('Sconti Import'!V203-('Sconti Import'!V203*'Sconti Import'!G203))*'Zone Export'!$V$14","v":45.405000000000001},{"$f":"('Sconti Import'!W203-('Sconti Import'!W203*'Sconti Import'!H203))*'Zone Export'!$V$14","v":66.172499999999999},{"$f":"('Sconti Import'!X203-('Sconti Import'!X203*'Sconti Import'!I203))*'Zone Export'!$V$14","v":150.65}]
[null,"3,0 kg",null,{"$f":"('Sconti Import'!S204-('Sconti Import'!S204*'Sconti Import'!D204))*'Zone Export'!$V$14","v":73.034999999999997},{"$f":"('Sconti Import'!T204-('Sconti Import'!T204*'Sconti Import'!E204))*'Zone Export'!$V$14","v":51.524999999999991},{"$f":"('Sconti Import'!U204-('Sconti Import'!U204*'Sconti Import'!F204))*'Zone Export'!$V$14","v":54.899999999999991},{"$f":"('Sconti Import'!V204-('Sconti Import'!V204*'Sconti Import'!G204))*'Zone Export'!$V$14","v":54.922499999999999},{"$f":"('Sconti Import'!W204-('Sconti Import'!W204*'Sconti Import'!H204))*'Zone Export'!$V$14","v":77.962499999999991},{"$f":"('Sconti Import'!X204-('Sconti Import'!X204*'Sconti Import'!I204))*'Zone Export'!$V$14","v":179}]
[null,"4,0 kg",null,{"$f":"('Sconti Import'!S205-('Sconti Import'!S205*'Sconti Import'!D205))*'Zone Export'!$V$14","v":82.462499999999991},{"$f":"('Sconti Import'!T205-('Sconti Import'!T205*'Sconti Import'!E205))*'Zone Export'!$V$14","v":57.847499999999997},{"$f":"('Sconti Import'!U205-('Sconti Import'!U205*'Sconti Import'!F205))*'Zone Export'!$V$14","v":62.887499999999989},{"$f":"('Sconti Import'!V205-('Sconti Import'!V205*'Sconti Import'!G205))*'Zone Export'!$V$14","v":62.91},{"$f":"('Sconti Import'!W205-('Sconti Import'!W205*'Sconti Import'!H205))*'Zone Export'!$V$14","v":90.202499999999986},{"$f":"('Sconti Import'!X205-('Sconti Import'!X205*'Sconti Import'!I205))*'Zone Export'!$V$14","v":207.2}]
[null,"5,0 kg",null,{"$f":"('Sconti Import'!S206-('Sconti Import'!S206*'Sconti Import'!D206))*'Zone Export'!$V$14","v":91.754999999999995},{"$f":"('Sconti Import'!T206-('Sconti Import'!T206*'Sconti Import'!E206))*'Zone Export'!$V$14","v":64.147499999999994},{"$f":"('Sconti Import'!U206-('Sconti Import'!U206*'Sconti Import'!F206))*'Zone Export'!$V$14","v":71.122500000000002},{"$f":"('Sconti Import'!V206-('Sconti Import'!V206*'Sconti Import'!G206))*'Zone Export'!$V$14","v":71.144999999999996},{"$f":"('Sconti Import'!W206-('Sconti Import'!W206*'Sconti Import'!H206))*'Zone Export'!$V$14","v":102.4425},{"$f":"('Sconti Import'!X206-('Sconti Import'!X206*'Sconti Import'!I206))*'Zone Export'!$V$14","v":235.25}]
[null,"6,0 kg",null,{"$f":"('Sconti Import'!S207-('Sconti Import'!S207*'Sconti Import'!D207))*'Zone Export'!$V$14","v":99.247500000000002},{"$f":"('Sconti Import'!T207-('Sconti Import'!T207*'Sconti Import'!E207))*'Zone Export'!$V$14","v":69.592500000000001},{"$f":"('Sconti Import'!U207-('Sconti Import'!U207*'Sconti Import'!F207))*'Zone Export'!$V$14","v":77.219999999999985},{"$f":"('Sconti Import'!V207-('Sconti Import'!V207*'Sconti Import'!G207))*'Zone Export'!$V$14","v":77.242499999999993},{"$f":"('Sconti Import'!W207-('Sconti Import'!W207*'Sconti Import'!H207))*'Zone Export'!$V$14","v":114.68249999999998},{"$f":"('Sconti Import'!X207-('Sconti Import'!X207*'Sconti Import'!I207))*'Zone Export'!$V$14","v":261.3}]
[null,"7,0 kg",null,{"$f":"('Sconti Import'!S208-('Sconti Import'!S208*'Sconti Import'!D208))*'Zone Export'!$V$14","v":106.67249999999999},{"$f":"('Sconti Import'!T208-('Sconti Import'!T208*'Sconti Import'!E208))*'Zone Export'!$V$14","v":75.014999999999986},{"$f":"('Sconti Import'!U208-('Sconti Import'!U208*'Sconti Import'!F208))*'Zone Export'!$V$14","v":83.092500000000001},{"$f":"('Sconti Import'!V208-('Sconti Import'!V208*'Sconti Import'!G208))*'Zone Export'!$V$14","v":83.114999999999981},{"$f":"('Sconti Import'!W208-('Sconti Import'!W208*'Sconti Import'!H208))*'Zone Export'!$V$14","v":126.27000000000001},{"$f":"('Sconti Import'!X208-('Sconti Import'!X208*'Sconti Import'!I208))*'Zone Export'!$V$14","v":287.3}]
[null,"8,0 kg",null,{"$f":"('Sconti Import'!S209-('Sconti Import'!S209*'Sconti Import'!D209))*'Zone Export'!$V$14","v":113.64750000000001},{"$f":"('Sconti Import'!T209-('Sconti Import'!T209*'Sconti Import'!E209))*'Zone Export'!$V$14","v":80.482499999999987},{"$f":"('Sconti Import'!U209-('Sconti Import'!U209*'Sconti Import'!F209))*'Zone Export'!$V$14","v":89.414999999999992},{"$f":"('Sconti Import'!V209-('Sconti Import'!V209*'Sconti Import'!G209))*'Zone Export'!$V$14","v":89.437499999999986},{"$f":"('Sconti Import'!W209-('Sconti Import'!W209*'Sconti Import'!H209))*'Zone Export'!$V$14","v":138.71249999999998},{"$f":"('Sconti Import'!X209-('Sconti Import'!X209*'Sconti Import'!I209))*'Zone Export'!$V$14","v":313.3}]
[null,"9,0 kg",null,{"$f":"('Sconti Import'!S210-('Sconti Import'!S210*'Sconti Import'!D210))*'Zone Export'!$V$14","v":120.17249999999999},{"$f":"('Sconti Import'!T210-('Sconti Import'!T210*'Sconti Import'!E210))*'Zone Export'!$V$14","v":85.927499999999981},{"$f":"('Sconti Import'!U210-('Sconti Import'!U210*'Sconti Import'!F210))*'Zone Export'!$V$14","v":95.714999999999989},{"$f":"('Sconti Import'!V210-('Sconti Import'!V210*'Sconti Import'!G210))*'Zone Export'!$V$14","v":95.737499999999997},{"$f":"('Sconti Import'!W210-('Sconti Import'!W210*'Sconti Import'!H210))*'Zone Export'!$V$14","v":150.36749999999998},{"$f":"('Sconti Import'!X210-('Sconti Import'!X210*'Sconti Import'!I210))*'Zone Export'!$V$14","v":339.35}]
[null,"10 kg",null,{"$f":"('Sconti Import'!S211-('Sconti Import'!S211*'Sconti Import'!D211))*'Zone Export'!$V$14","v":126.69749999999999},{"$f":"('Sconti Import'!T211-('Sconti Import'!T211*'Sconti Import'!E211))*'Zone Export'!$V$14","v":91.35},{"$f":"('Sconti Import'!U211-('Sconti Import'!U211*'Sconti Import'!F211))*'Zone Export'!$V$14","v":102.01499999999999},{"$f":"('Sconti Import'!V211-('Sconti Import'!V211*'Sconti Import'!G211))*'Zone Export'!$V$14","v":102.03749999999999},{"$f":"('Sconti Import'!W211-('Sconti Import'!W211*'Sconti Import'!H211))*'Zone Export'!$V$14","v":161.95499999999998},{"$f":"('Sconti Import'!X211-('Sconti Import'!X211*'Sconti Import'!I211))*'Zone Export'!$V$14","v":365.35}]
[null,"11 kg",null,{"$f":"('Sconti Import'!S212-('Sconti Import'!S212*'Sconti Import'!D212))*'Zone Export'!$V$14","v":129.6225},{"$f":"('Sconti Import'!T212-('Sconti Import'!T212*'Sconti Import'!E212))*'Zone Export'!$V$14","v":96.052499999999981},{"$f":"('Sconti Import'!U212-('Sconti Import'!U212*'Sconti Import'!F212))*'Zone Export'!$V$14","v":107.70749999999998},{"$f":"('Sconti Import'!V212-('Sconti Import'!V212*'Sconti Import'!G212))*'Zone Export'!$V$14","v":107.72999999999999},{"$f":"('Sconti Import'!W212-('Sconti Import'!W212*'Sconti Import'!H212))*'Zone Export'!$V$14","v":169.245},{"$f":"('Sconti Import'!X212-('Sconti Import'!X212*'Sconti Import'!I212))*'Zone Export'!$V$14","v":391.4}]
[null,"12 kg",null,{"$f":"('Sconti Import'!S213-('Sconti Import'!S213*'Sconti Import'!D213))*'Zone Export'!$V$14","v":133.89749999999998},{"$f":"('Sconti Import'!T213-('Sconti Import'!T213*'Sconti Import'!E213))*'Zone Export'!$V$14","v":100.73249999999999},{"$f":"('Sconti Import'!U213-('Sconti Import'!U213*'Sconti Import'!F213))*'Zone Export'!$V$14","v":112.83749999999998},{"$f":"('Sconti Import'!V213-('Sconti Import'!V213*'Sconti Import'!G213))*'Zone Export'!$V$14","v":112.85999999999999},{"$f":"('Sconti Import'!W213-('Sconti Import'!W213*'Sconti Import'!H213))*'Zone Export'!$V$14","v":176.5575},{"$f":"('Sconti Import'!X213-('Sconti Import'!X213*'Sconti Import'!I213))*'Zone Export'!$V$14","v":417.2}]
[null,"13 kg",null,{"$f":"('Sconti Import'!S214-('Sconti Import'!S214*'Sconti Import'!D214))*'Zone Export'!$V$14","v":138.10499999999999},{"$f":"('Sconti Import'!T214-('Sconti Import'!T214*'Sconti Import'!E214))*'Zone Export'!$V$14","v":105.45749999999998},{"$f":"('Sconti Import'!U214-('Sconti Import'!U214*'Sconti Import'!F214))*'Zone Export'!$V$14","v":118.845},{"$f":"('Sconti Import'!V214-('Sconti Import'!V214*'Sconti Import'!G214))*'Zone Export'!$V$14","v":118.86749999999998},{"$f":"('Sconti Import'!W214-('Sconti Import'!W214*'Sconti Import'!H214))*'Zone Export'!$V$14","v":183.89249999999998},{"$f":"('Sconti Import'!X214-('Sconti Import'!X214*'Sconti Import'!I214))*'Zone Export'!$V$14","v":443.2}]
[null,"14 kg",null,{"$f":"('Sconti Import'!S215-('Sconti Import'!S215*'Sconti Import'!D215))*'Zone Export'!$V$14","v":142.37999999999997},{"$f":"('Sconti Import'!T215-('Sconti Import'!T215*'Sconti Import'!E215))*'Zone Export'!$V$14","v":110.13749999999999},{"$f":"('Sconti Import'!U215-('Sconti Import'!U215*'Sconti Import'!F215))*'Zone Export'!$V$14","v":124.02000000000001},{"$f":"('Sconti Import'!V215-('Sconti Import'!V215*'Sconti Import'!G215))*'Zone Export'!$V$14","v":124.04249999999999},{"$f":"('Sconti Import'!W215-('Sconti Import'!W215*'Sconti Import'!H215))*'Zone Export'!$V$14","v":191.20499999999998},{"$f":"('Sconti Import'!X215-('Sconti Import'!X215*'Sconti Import'!I215))*'Zone Export'!$V$14","v":469.2}]
[null,"15 kg",null,{"$f":"('Sconti Import'!S216-('Sconti Import'!S216*'Sconti Import'!D216))*'Zone Export'!$V$14","v":146.65499999999997},{"$f":"('Sconti Import'!T216-('Sconti Import'!T216*'Sconti Import'!E216))*'Zone Export'!$V$14","v":114.83999999999997},{"$f":"('Sconti Import'!U216-('Sconti Import'!U216*'Sconti Import'!F216))*'Zone Export'!$V$14","v":129.14999999999998},{"$f":"('Sconti Import'!V216-('Sconti Import'!V216*'Sconti Import'!G216))*'Zone Export'!$V$14","v":129.17249999999999},{"$f":"('Sconti Import'!W216-('Sconti Import'!W216*'Sconti Import'!H216))*'Zone Export'!$V$14","v":198.58499999999998},{"$f":"('Sconti Import'!X216-('Sconti Import'!X216*'Sconti Import'!I216))*'Zone Export'!$V$14","v":495.2}]
[null,"16 kg",null,{"$f":"('Sconti Import'!S217-('Sconti Import'!S217*'Sconti Import'!D217))*'Zone Export'!$V$14","v":150.9075},{"$f":"('Sconti Import'!T217-('Sconti Import'!T217*'Sconti Import'!E217))*'Zone Export'!$V$14","v":118.77749999999997},{"$f":"('Sconti Import'!U217-('Sconti Import'!U217*'Sconti Import'!F217))*'Zone Export'!$V$14","v":134.05499999999998},{"$f":"('Sconti Import'!V217-('Sconti Import'!V217*'Sconti Import'!G217))*'Zone Export'!$V$14","v":134.07749999999999},{"$f":"('Sconti Import'!W217-('Sconti Import'!W217*'Sconti Import'!H217))*'Zone Export'!$V$14","v":205.87499999999997},{"$f":"('Sconti Import'!X217-('Sconti Import'!X217*'Sconti Import'!I217))*'Zone Export'!$V$14","v":521.20000000000005}]
[null,"17 kg",null,{"$f":"('Sconti Import'!S218-('Sconti Import'!S218*'Sconti Import'!D218))*'Zone Export'!$V$14","v":155.16},{"$f":"('Sconti Import'!T218-('Sconti Import'!T218*'Sconti Import'!E218))*'Zone Export'!$V$14","v":122.71499999999997},{"$f":"('Sconti Import'!U218-('Sconti Import'!U218*'Sconti Import'!F218))*'Zone Export'!$V$14","v":138.95999999999998},{"$f":"('Sconti Import'!V218-('Sconti Import'!V218*'Sconti Import'!G218))*'Zone Export'!$V$14","v":138.98249999999999},{"$f":"('Sconti Import'!W218-('Sconti Import'!W218*'Sconti Import'!H218))*'Zone Export'!$V$14","v":213.14249999999998},{"$f":"('Sconti Import'!X218-('Sconti Import'!X218*'Sconti Import'!I218))*'Zone Export'!$V$14","v":547.20000000000005}]
[null,"18 kg",null,{"$f":"('Sconti Import'!S219-('Sconti Import'!S219*'Sconti Import'!D219))*'Zone Export'!$V$14","v":157.7475},{"$f":"('Sconti Import'!T219-('Sconti Import'!T219*'Sconti Import'!E219))*'Zone Export'!$V$14","v":126.65249999999997},{"$f":"('Sconti Import'!U219-('Sconti Import'!U219*'Sconti Import'!F219))*'Zone Export'!$V$14","v":143.91},{"$f":"('Sconti Import'!V219-('Sconti Import'!V219*'Sconti Import'!G219))*'Zone Export'!$V$14","v":143.9325},{"$f":"('Sconti Import'!W219-('Sconti Import'!W219*'Sconti Import'!H219))*'Zone Export'!$V$14","v":220.5},{"$f":"('Sconti Import'!X219-('Sconti Import'!X219*'Sconti Import'!I219))*'Zone Export'!$V$14","v":573.29999999999995}]
[null,"19 kg",null,{"$f":"('Sconti Import'!S220-('Sconti Import'!S220*'Sconti Import'!D220))*'Zone Export'!$V$14","v":161.99999999999997},{"$f":"('Sconti Import'!T220-('Sconti Import'!T220*'Sconti Import'!E220))*'Zone Export'!$V$14","v":130.63499999999999},{"$f":"('Sconti Import'!U220-('Sconti Import'!U220*'Sconti Import'!F220))*'Zone Export'!$V$14","v":148.85999999999999},{"$f":"('Sconti Import'!V220-('Sconti Import'!V220*'Sconti Import'!G220))*'Zone Export'!$V$14","v":148.88249999999999},{"$f":"('Sconti Import'!W220-('Sconti Import'!W220*'Sconti Import'!H220))*'Zone Export'!$V$14","v":227.8125},{"$f":"('Sconti Import'!X220-('Sconti Import'!X220*'Sconti Import'!I220))*'Zone Export'!$V$14","v":599.29999999999995}]
[null,"20 kg",null,{"$f":"('Sconti Import'!S221-('Sconti Import'!S221*'Sconti Import'!D221))*'Zone Export'!$V$14","v":166.20749999999998},{"$f":"('Sconti Import'!T221-('Sconti Import'!T221*'Sconti Import'!E221))*'Zone Export'!$V$14","v":134.54999999999998},{"$f":"('Sconti Import'!U221-('Sconti Import'!U221*'Sconti Import'!F221))*'Zone Export'!$V$14","v":153.76499999999999},{"$f":"('Sconti Import'!V221-('Sconti Import'!V221*'Sconti Import'!G221))*'Zone Export'!$V$14","v":153.78749999999999},{"$f":"('Sconti Import'!W221-('Sconti Import'!W221*'Sconti Import'!H221))*'Zone Export'!$V$14","v":235.07999999999998},{"$f":"('Sconti Import'!X221-('Sconti Import'!X221*'Sconti Import'!I221))*'Zone Export'!$V$14","v":625.29999999999995}]
[null,"21 kg",null,{"$f":"('Sconti Import'!S222-('Sconti Import'!S222*'Sconti Import'!D222))*'Zone Export'!$V$14","v":171.22499999999999},{"$f":"('Sconti Import'!T222-('Sconti Import'!T222*'Sconti Import'!E222))*'Zone Export'!$V$14","v":137.92499999999998},{"$f":"('Sconti Import'!U222-('Sconti Import'!U222*'Sconti Import'!F222))*'Zone Export'!$V$14","v":158.91749999999996},{"$f":"('Sconti Import'!V222-('Sconti Import'!V222*'Sconti Import'!G222))*'Zone Export'!$V$14","v":159.86249999999998},{"$f":"('Sconti Import'!W222-('Sconti Import'!W222*'Sconti Import'!H222))*'Zone Export'!$V$14","v":240.88499999999993},{"$f":"('Sconti Import'!X222-('Sconti Import'!X222*'Sconti Import'!I222))*'Zone Export'!$V$14","v":634.54999999999995}]
[null,"22 kg",null,{"$f":"('Sconti Import'!S223-('Sconti Import'!S223*'Sconti Import'!D223))*'Zone Export'!$V$14","v":175.47749999999996},{"$f":"('Sconti Import'!T223-('Sconti Import'!T223*'Sconti Import'!E223))*'Zone Export'!$V$14","v":140.625},{"$f":"('Sconti Import'!U223-('Sconti Import'!U223*'Sconti Import'!F223))*'Zone Export'!$V$14","v":163.32749999999999},{"$f":"('Sconti Import'!V223-('Sconti Import'!V223*'Sconti Import'!G223))*'Zone Export'!$V$14","v":165.42},{"$f":"('Sconti Import'!W223-('Sconti Import'!W223*'Sconti Import'!H223))*'Zone Export'!$V$14","v":245.40749999999997},{"$f":"('Sconti Import'!X223-('Sconti Import'!X223*'Sconti Import'!I223))*'Zone Export'!$V$14","v":640.9}]
[null,"23 kg",null,{"$f":"('Sconti Import'!S224-('Sconti Import'!S224*'Sconti Import'!D224))*'Zone Export'!$V$14","v":179.70749999999998},{"$f":"('Sconti Import'!T224-('Sconti Import'!T224*'Sconti Import'!E224))*'Zone Export'!$V$14","v":143.30249999999998},{"$f":"('Sconti Import'!U224-('Sconti Import'!U224*'Sconti Import'!F224))*'Zone Export'!$V$14","v":167.73749999999998},{"$f":"('Sconti Import'!V224-('Sconti Import'!V224*'Sconti Import'!G224))*'Zone Export'!$V$14","v":170.97749999999999},{"$f":"('Sconti Import'!W224-('Sconti Import'!W224*'Sconti Import'!H224))*'Zone Export'!$V$14","v":250.01999999999998},{"$f":"('Sconti Import'!X224-('Sconti Import'!X224*'Sconti Import'!I224))*'Zone Export'!$V$14","v":647.15}]
[null,"24 kg",null,{"$f":"('Sconti Import'!S225-('Sconti Import'!S225*'Sconti Import'!D225))*'Zone Export'!$V$14","v":183.91499999999996},{"$f":"('Sconti Import'!T225-('Sconti Import'!T225*'Sconti Import'!E225))*'Zone Export'!$V$14","v":146.00249999999997},{"$f":"('Sconti Import'!U225-('Sconti Import'!U225*'Sconti Import'!F225))*'Zone Export'!$V$14","v":172.07999999999998},{"$f":"('Sconti Import'!V225-('Sconti Import'!V225*'Sconti Import'!G225))*'Zone Export'!$V$14","v":176.51249999999999},{"$f":"('Sconti Import'!W225-('Sconti Import'!W225*'Sconti Import'!H225))*'Zone Export'!$V$14","v":254.63249999999999},{"$f":"('Sconti Import'!X225-('Sconti Import'!X225*'Sconti Import'!I225))*'Zone Export'!$V$14","v":653.4}]
[null,"25 kg",null,{"$f":"('Sconti Import'!S226-('Sconti Import'!S226*'Sconti Import'!D226))*'Zone Export'!$V$14","v":187.15499999999997},{"$f":"('Sconti Import'!T226-('Sconti Import'!T226*'Sconti Import'!E226))*'Zone Export'!$V$14","v":148.70249999999999},{"$f":"('Sconti Import'!U226-('Sconti Import'!U226*'Sconti Import'!F226))*'Zone Export'!$V$14","v":176.48999999999998},{"$f":"('Sconti Import'!V226-('Sconti Import'!V226*'Sconti Import'!G226))*'Zone Export'!$V$14","v":181.0575},{"$f":"('Sconti Import'!W226-('Sconti Import'!W226*'Sconti Import'!H226))*'Zone Export'!$V$14","v":259.3125},{"$f":"('Sconti Import'!X226-('Sconti Import'!X226*'Sconti Import'!I226))*'Zone Export'!$V$14","v":659.85}]
[null,"26 kg",null,{"$f":"('Sconti Import'!S227-('Sconti Import'!S227*'Sconti Import'!D227))*'Zone Export'!$V$14","v":190.39499999999998},{"$f":"('Sconti Import'!T227-('Sconti Import'!T227*'Sconti Import'!E227))*'Zone Export'!$V$14","v":151.35749999999999},{"$f":"('Sconti Import'!U227-('Sconti Import'!U227*'Sconti Import'!F227))*'Zone Export'!$V$14","v":180.67499999999998},{"$f":"('Sconti Import'!V227-('Sconti Import'!V227*'Sconti Import'!G227))*'Zone Export'!$V$14","v":185.62499999999997},{"$f":"('Sconti Import'!W227-('Sconti Import'!W227*'Sconti Import'!H227))*'Zone Export'!$V$14","v":263.83499999999998},{"$f":"('Sconti Import'!X227-('Sconti Import'!X227*'Sconti Import'!I227))*'Zone Export'!$V$14","v":666.1}]
[null,"27 kg",null,{"$f":"('Sconti Import'!S228-('Sconti Import'!S228*'Sconti Import'!D228))*'Zone Export'!$V$14","v":194.57999999999998},{"$f":"('Sconti Import'!T228-('Sconti Import'!T228*'Sconti Import'!E228))*'Zone Export'!$V$14","v":154.07999999999998},{"$f":"('Sconti Import'!U228-('Sconti Import'!U228*'Sconti Import'!F228))*'Zone Export'!$V$14","v":184.83749999999998},{"$f":"('Sconti Import'!V228-('Sconti Import'!V228*'Sconti Import'!G228))*'Zone Export'!$V$14","v":191.13749999999999},{"$f":"('Sconti Import'!W228-('Sconti Import'!W228*'Sconti Import'!H228))*'Zone Export'!$V$14","v":268.46999999999997},{"$f":"('Sconti Import'!X228-('Sconti Import'!X228*'Sconti Import'!I228))*'Zone Export'!$V$14","v":672.35}]
[null,"28 kg",null,{"$f":"('Sconti Import'!S229-('Sconti Import'!S229*'Sconti Import'!D229))*'Zone Export'!$V$14","v":198.72},{"$f":"('Sconti Import'!T229-('Sconti Import'!T229*'Sconti Import'!E229))*'Zone Export'!$V$14","v":156.77999999999997},{"$f":"('Sconti Import'!U229-('Sconti Import'!U229*'Sconti Import'!F229))*'Zone Export'!$V$14","v":189.04499999999999},{"$f":"('Sconti Import'!V229-('Sconti Import'!V229*'Sconti Import'!G229))*'Zone Export'!$V$14","v":196.62749999999997},{"$f":"('Sconti Import'!W229-('Sconti Import'!W229*'Sconti Import'!H229))*'Zone Export'!$V$14","v":273.03749999999997},{"$f":"('Sconti Import'!X229-('Sconti Import'!X229*'Sconti Import'!I229))*'Zone Export'!$V$14","v":678.75}]
[null,"29 kg",null,{"$f":"('Sconti Import'!S230-('Sconti Import'!S230*'Sconti Import'!D230))*'Zone Export'!$V$14","v":202.92749999999998},{"$f":"('Sconti Import'!T230-('Sconti Import'!T230*'Sconti Import'!E230))*'Zone Export'!$V$14","v":159.47999999999996},{"$f":"('Sconti Import'!U230-('Sconti Import'!U230*'Sconti Import'!F230))*'Zone Export'!$V$14","v":193.16249999999999},{"$f":"('Sconti Import'!V230-('Sconti Import'!V230*'Sconti Import'!G230))*'Zone Export'!$V$14","v":202.14},{"$f":"('Sconti Import'!W230-('Sconti Import'!W230*'Sconti Import'!H230))*'Zone Export'!$V$14","v":277.67249999999996},{"$f":"('Sconti Import'!X230-('Sconti Import'!X230*'Sconti Import'!I230))*'Zone Export'!$V$14","v":684.9}]
[null,"30 kg",null,{"$f":"('Sconti Import'!S231-('Sconti Import'!S231*'Sconti Import'!D231))*'Zone Export'!$V$14","v":207.13499999999999},{"$f":"('Sconti Import'!T231-('Sconti Import'!T231*'Sconti Import'!E231))*'Zone Export'!$V$14","v":162.20249999999999},{"$f":"('Sconti Import'!U231-('Sconti Import'!U231*'Sconti Import'!F231))*'Zone Export'!$V$14","v":197.3475},{"$f":"('Sconti Import'!V231-('Sconti Import'!V231*'Sconti Import'!G231))*'Zone Export'!$V$14","v":207.60749999999999},{"$f":"('Sconti Import'!W231-('Sconti Import'!W231*'Sconti Import'!H231))*'Zone Export'!$V$14","v":282.24},{"$f":"('Sconti Import'!X231-('Sconti Import'!X231*'Sconti Import'!I231))*'Zone Export'!$V$14","v":691.2}]
[null,"31 kg",null,{"$f":"('Sconti Import'!S232-('Sconti Import'!S232*'Sconti Import'!D232))*'Zone Export'!$V$14","v":211.65749999999997},{"$f":"('Sconti Import'!T232-('Sconti Import'!T232*'Sconti Import'!E232))*'Zone Export'!$V$14","v":164.81249999999997},{"$f":"('Sconti Import'!U232-('Sconti Import'!U232*'Sconti Import'!F232))*'Zone Export'!$V$14","v":201.03749999999999},{"$f":"('Sconti Import'!V232-('Sconti Import'!V232*'Sconti Import'!G232))*'Zone Export'!$V$14","v":213.05249999999995},{"$f":"('Sconti Import'!W232-('Sconti Import'!W232*'Sconti Import'!H232))*'Zone Export'!$V$14","v":286.875},{"$f":"('Sconti Import'!X232-('Sconti Import'!X232*'Sconti Import'!I232))*'Zone Export'!$V$14","v":708.25}]
[null,"32 kg",null,{"$f":"('Sconti Import'!S233-('Sconti Import'!S233*'Sconti Import'!D233))*'Zone Export'!$V$14","v":216.20249999999999},{"$f":"('Sconti Import'!T233-('Sconti Import'!T233*'Sconti Import'!E233))*'Zone Export'!$V$14","v":167.48999999999998},{"$f":"('Sconti Import'!U233-('Sconti Import'!U233*'Sconti Import'!F233))*'Zone Export'!$V$14","v":204.72749999999996},{"$f":"('Sconti Import'!V233-('Sconti Import'!V233*'Sconti Import'!G233))*'Zone Export'!$V$14","v":218.54249999999996},{"$f":"('Sconti Import'!W233-('Sconti Import'!W233*'Sconti Import'!H233))*'Zone Export'!$V$14","v":291.48749999999995},{"$f":"('Sconti Import'!X233-('Sconti Import'!X233*'Sconti Import'!I233))*'Zone Export'!$V$14","v":725.45}]
[null,"33 kg",null,{"$f":"('Sconti Import'!S234-('Sconti Import'!S234*'Sconti Import'!D234))*'Zone Export'!$V$14","v":220.7475},{"$f":"('Sconti Import'!T234-('Sconti Import'!T234*'Sconti Import'!E234))*'Zone Export'!$V$14","v":170.23499999999999},{"$f":"('Sconti Import'!U234-('Sconti Import'!U234*'Sconti Import'!F234))*'Zone Export'!$V$14","v":208.37249999999997},{"$f":"('Sconti Import'!V234-('Sconti Import'!V234*'Sconti Import'!G234))*'Zone Export'!$V$14","v":224.01},{"$f":"('Sconti Import'!W234-('Sconti Import'!W234*'Sconti Import'!H234))*'Zone Export'!$V$14","v":296.09999999999997},{"$f":"('Sconti Import'!X234-('Sconti Import'!X234*'Sconti Import'!I234))*'Zone Export'!$V$14","v":742.4}]
[null,"34 kg",null,{"$f":"('Sconti Import'!S235-('Sconti Import'!S235*'Sconti Import'!D235))*'Zone Export'!$V$14","v":225.26999999999998},{"$f":"('Sconti Import'!T235-('Sconti Import'!T235*'Sconti Import'!E235))*'Zone Export'!$V$14","v":172.93499999999997},{"$f":"('Sconti Import'!U235-('Sconti Import'!U235*'Sconti Import'!F235))*'Zone Export'!$V$14","v":212.03999999999996},{"$f":"('Sconti Import'!V235-('Sconti Import'!V235*'Sconti Import'!G235))*'Zone Export'!$V$14","v":229.5},{"$f":"('Sconti Import'!W235-('Sconti Import'!W235*'Sconti Import'!H235))*'Zone Export'!$V$14","v":300.66749999999996},{"$f":"('Sconti Import'!X235-('Sconti Import'!X235*'Sconti Import'!I235))*'Zone Export'!$V$14","v":759.55}]
[null,"35 kg",null,{"$f":"('Sconti Import'!S236-('Sconti Import'!S236*'Sconti Import'!D236))*'Zone Export'!$V$14","v":229.83749999999998},{"$f":"('Sconti Import'!T236-('Sconti Import'!T236*'Sconti Import'!E236))*'Zone Export'!$V$14","v":175.61249999999998},{"$f":"('Sconti Import'!U236-('Sconti Import'!U236*'Sconti Import'!F236))*'Zone Export'!$V$14","v":215.77499999999998},{"$f":"('Sconti Import'!V236-('Sconti Import'!V236*'Sconti Import'!G236))*'Zone Export'!$V$14","v":234.99},{"$f":"('Sconti Import'!W236-('Sconti Import'!W236*'Sconti Import'!H236))*'Zone Export'!$V$14","v":305.25749999999999},{"$f":"('Sconti Import'!X236-('Sconti Import'!X236*'Sconti Import'!I236))*'Zone Export'!$V$14","v":776.5}]
[null,"40 kg",null,{"$f":"('Sconti Import'!S237-('Sconti Import'!S237*'Sconti Import'!D237))*'Zone Export'!$V$14","v":249.90749999999997},{"$f":"('Sconti Import'!T237-('Sconti Import'!T237*'Sconti Import'!E237))*'Zone Export'!$V$14","v":189.42749999999998},{"$f":"('Sconti Import'!U237-('Sconti Import'!U237*'Sconti Import'!F237))*'Zone Export'!$V$14","v":235.21499999999997},{"$f":"('Sconti Import'!V237-('Sconti Import'!V237*'Sconti Import'!G237))*'Zone Export'!$V$14","v":259.60499999999996},{"$f":"('Sconti Import'!W237-('Sconti Import'!W237*'Sconti Import'!H237))*'Zone Export'!$V$14","v":328.45499999999998},{"$f":"('Sconti Import'!X237-('Sconti Import'!X237*'Sconti Import'!I237))*'Zone Export'!$V$14","v":847.85}]
[null,"45 kg",null,{"$f":"('Sconti Import'!S238-('Sconti Import'!S238*'Sconti Import'!D238))*'Zone Export'!$V$14","v":272.42999999999995},{"$f":"('Sconti Import'!T238-('Sconti Import'!T238*'Sconti Import'!E238))*'Zone Export'!$V$14","v":203.28749999999997},{"$f":"('Sconti Import'!U238-('Sconti Import'!U238*'Sconti Import'!F238))*'Zone Export'!$V$14","v":254.63249999999999},{"$f":"('Sconti Import'!V238-('Sconti Import'!V238*'Sconti Import'!G238))*'Zone Export'!$V$14","v":286.94249999999994},{"$f":"('Sconti Import'!W238-('Sconti Import'!W238*'Sconti Import'!H238))*'Zone Export'!$V$14","v":351.58499999999992},{"$f":"('Sconti Import'!X238-('Sconti Import'!X238*'Sconti Import'!I238))*'Zone Export'!$V$14","v":919.05}]
[null,"50 kg",null,{"$f":"('Sconti Import'!S239-('Sconti Import'!S239*'Sconti Import'!D239))*'Zone Export'!$V$14","v":294.99749999999995},{"$f":"('Sconti Import'!T239-('Sconti Import'!T239*'Sconti Import'!E239))*'Zone Export'!$V$14","v":217.14749999999998},{"$f":"('Sconti Import'!U239-('Sconti Import'!U239*'Sconti Import'!F239))*'Zone Export'!$V$14","v":274.09499999999997},{"$f":"('Sconti Import'!V239-('Sconti Import'!V239*'Sconti Import'!G239))*'Zone Export'!$V$14","v":314.07749999999999},{"$f":"('Sconti Import'!W239-('Sconti Import'!W239*'Sconti Import'!H239))*'Zone Export'!$V$14","v":374.66999999999996},{"$f":"('Sconti Import'!X239-('Sconti Import'!X239*'Sconti Import'!I239))*'Zone Export'!$V$14","v":990.4}]
[null,"55 kg",null,{"$f":"('Sconti Import'!S240-('Sconti Import'!S240*'Sconti Import'!D240))*'Zone Export'!$V$14","v":317.47499999999997},{"$f":"('Sconti Import'!T240-('Sconti Import'!T240*'Sconti Import'!E240))*'Zone Export'!$V$14","v":230.98499999999996},{"$f":"('Sconti Import'!U240-('Sconti Import'!U240*'Sconti Import'!F240))*'Zone Export'!$V$14","v":293.53499999999997},{"$f":"('Sconti Import'!V240-('Sconti Import'!V240*'Sconti Import'!G240))*'Zone Export'!$V$14","v":341.16749999999996},{"$f":"('Sconti Import'!W240-('Sconti Import'!W240*'Sconti Import'!H240))*'Zone Export'!$V$14","v":397.82249999999993},{"$f":"('Sconti Import'!X240-('Sconti Import'!X240*'Sconti Import'!I240))*'Zone Export'!$V$14","v":1061.7}]
[null,"60 kg",null,{"$f":"('Sconti Import'!S241-('Sconti Import'!S241*'Sconti Import'!D241))*'Zone Export'!$V$14","v":339.99749999999995},{"$f":"('Sconti Import'!T241-('Sconti Import'!T241*'Sconti Import'!E241))*'Zone Export'!$V$14","v":244.77749999999997},{"$f":"('Sconti Import'!U241-('Sconti Import'!U241*'Sconti Import'!F241))*'Zone Export'!$V$14","v":312.99749999999995},{"$f":"('Sconti Import'!V241-('Sconti Import'!V241*'Sconti Import'!G241))*'Zone Export'!$V$14","v":368.21249999999998},{"$f":"('Sconti Import'!W241-('Sconti Import'!W241*'Sconti Import'!H241))*'Zone Export'!$V$14","v":420.92999999999995},{"$f":"('Sconti Import'!X241-('Sconti Import'!X241*'Sconti Import'!I241))*'Zone Export'!$V$14","v":1132.95}]
[null,"65 kg",null,{"$f":"('Sconti Import'!S242-('Sconti Import'!S242*'Sconti Import'!D242))*'Zone Export'!$V$14","v":362.54249999999996},{"$f":"('Sconti Import'!T242-('Sconti Import'!T242*'Sconti Import'!E242))*'Zone Export'!$V$14","v":258.65999999999997},{"$f":"('Sconti Import'!U242-('Sconti Import'!U242*'Sconti Import'!F242))*'Zone Export'!$V$14","v":332.48249999999996},{"$f":"('Sconti Import'!V242-('Sconti Import'!V242*'Sconti Import'!G242))*'Zone Export'!$V$14","v":395.32499999999999},{"$f":"('Sconti Import'!W242-('Sconti Import'!W242*'Sconti Import'!H242))*'Zone Export'!$V$14","v":444.05999999999995},{"$f":"('Sconti Import'!X242-('Sconti Import'!X242*'Sconti Import'!I242))*'Zone Export'!$V$14","v":1204.2}]
[null,"70 kg",null,{"$f":"('Sconti Import'!S243-('Sconti Import'!S243*'Sconti Import'!D243))*'Zone Export'!$V$14","v":385.04249999999996},{"$f":"('Sconti Import'!T243-('Sconti Import'!T243*'Sconti Import'!E243))*'Zone Export'!$V$14","v":272.47499999999997},{"$f":"('Sconti Import'!U243-('Sconti Import'!U243*'Sconti Import'!F243))*'Zone Export'!$V$14","v":351.9},{"$f":"('Sconti Import'!V243-('Sconti Import'!V243*'Sconti Import'!G243))*'Zone Export'!$V$14","v":422.41499999999996},{"$f":"('Sconti Import'!W243-('Sconti Import'!W243*'Sconti Import'!H243))*'Zone Export'!$V$14","v":467.21249999999998},{"$f":"('Sconti Import'!X243-('Sconti Import'!X243*'Sconti Import'!I243))*'Zone Export'!$V$14","v":1275.5}]
[null,"Oltre 70 Kg"]
[null,"Prezzo al Kg",null,{"$f":"('Sconti Import'!S245-('Sconti Import'!S245*'Sconti Import'!D245))*'Zone Export'!$V$14","v":5.4989999999999997},{"$f":"('Sconti Import'!T245-('Sconti Import'!T245*'Sconti Import'!E245))*'Zone Export'!$V$14","v":3.8925000000000001},{"$f":"('Sconti Import'!U245-('Sconti Import'!U245*'Sconti Import'!F245))*'Zone Export'!$V$14","v":5.0264999999999995},{"$f":"('Sconti Import'!V245-('Sconti Import'!V245*'Sconti Import'!G245))*'Zone Export'!$V$14","v":6.0344999999999995},{"$f":"('Sconti Import'!W245-('Sconti Import'!W245*'Sconti Import'!H245))*'Zone Export'!$V$14","v":6.6734999999999989},{"$f":"('Sconti Import'!X245-('Sconti Import'!X245*'Sconti Import'!I245))*'Zone Export'!$V$14","v":18.22}]
[null,"Tariffa Minima",null,{"$f":"('Sconti Import'!S246-('Sconti Import'!S246*'Sconti Import'!D246))*'Zone Export'!$V$14","v":385.04249999999996},{"$f":"('Sconti Import'!T246-('Sconti Import'!T246*'Sconti Import'!E246))*'Zone Export'!$V$14","v":272.47499999999997},{"$f":"('Sconti Import'!U246-('Sconti Import'!U246*'Sconti Import'!F246))*'Zone Export'!$V$14","v":351.9},{"$f":"('Sconti Import'!V246-('Sconti Import'!V246*'Sconti Import'!G246))*'Zone Export'!$V$14","v":422.41499999999996},{"$f":"('Sconti Import'!W246-('Sconti Import'!W246*'Sconti Import'!H246))*'Zone Export'!$V$14","v":467.21249999999998},{"$f":"('Sconti Import'!X246-('Sconti Import'!X246*'Sconti Import'!I246))*'Zone Export'!$V$14","v":1275.5}]

{"sheet":"Express Freight Import","index":18,"n_rows":19,"n_cols":13,"rows_kept":19,"cut":false,"hidden":false,"merged":[[17,1,17,2],[18,1,18,2],[13,1,13,2],[14,1,14,2],[15,1,15,2],[16,1,16,2],[8,10,8,13],[5,1,6,14],[7,1,7,14],[11,1,11,2],[10,3,10,6],[10,1,10,2],[10,7,10,12]]}
[]
[]
[]
[]
[]
[]
[]
[null,"* Per ulteriori dettagli su Garanzie di Rimborso, Copertura Servizi e Condizioni contattare il Numero 02 30 30 30 39 o consultare il sito www.ups.com"]
[null,null,null,null,null,null,null,null,null,"Spettabile",{"$f":"+Cover!$C$2","v":"GLOCAL WEB"}]
[]
[null,"€",null,"Unione Europea",null,null,null,"Resto del Mondo"]
[null,"Zona",null,2,3,4,41,5,7,8,81,9,10]
[null,"Peso"]
[null,"Fino a 70 kg",null,{"$f":"('Sconti Import'!R323-('Sconti Import'!R323*'Sconti Import'!C323))*'Zone Export'!$V$14","v":414.65},{"$f":"('Sconti Import'!S323-('Sconti Import'!S323*'Sconti Import'!D323))*'Zone Export'!$V$14","v":648.95000000000005},{"$f":"('Sconti Import'!T323-('Sconti Import'!T323*'Sconti Import'!E323))*'Zone Export'!$V$14","v":700.8},{"$f":"('Sconti Import'!U323-('Sconti Import'!U323*'Sconti Import'!F323))*'Zone Export'!$V$14","v":597.15},{"$f":"('Sconti Import'!V323-('Sconti Import'!V323*'Sconti Import'!G323))*'Zone Export'!$V$14","v":643.29999999999995},{"$f":"('Sconti Import'!W323-('Sconti Import'!W323*'Sconti Import'!H323))*'Zone Export'!$V$14","v":920.9},{"$f":"('Sconti Import'!X323-('Sconti Import'!X323*'Sconti Import'!I323))*'Zone Export'!$V$14","v":1132.45},{"$f":"('Sconti Import'!Y323-('Sconti Import'!Y323*'Sconti Import'!J323))*'Zone Export'!$V$14","v":1011.05},{"$f":"('Sconti Import'!Z323-('Sconti Import'!Z323*'Sconti Import'!K323))*'Zone Export'!$V$14","v":1376.7},{"$f":"('Sconti Import'!AA323-('Sconti Import'!AA323*'Sconti Import'!L323))*'Zone Export'!$V$14","v":2037.7}]
[null,"Prezzo al Kg fino a 99.0",null,{"$f":"('Sconti Import'!R324-('Sconti Import'!R324*'Sconti Import'!C324))*'Zone Export'!$V$14","v":5.84},{"$f":"('Sconti Import'!S324-('Sconti Import'!S324*'Sconti Import'!D324))*'Zone Export'!$V$14","v":9.14},{"$f":"('Sconti Import'!T324-('Sconti Import'!T324*'Sconti Import'!E324))*'Zone Export'!$V$14","v":9.8800000000000008},{"$f":"('Sconti Import'!U324-('Sconti Import'!U324*'Sconti Import'!F324))*'Zone Export'!$V$14","v":8.41},{"$f":"('Sconti Import'!V324-('Sconti Import'!V324*'Sconti Import'!G324))*'Zone Export'!$V$14","v":9.06},{"$f":"('Sconti Import'!W324-('Sconti Import'!W324*'Sconti Import'!H324))*'Zone Export'!$V$14","v":12.98},{"$f":"('Sconti Import'!X324-('Sconti Import'!X324*'Sconti Import'!I324))*'Zone Export'!$V$14","v":15.96},{"$f":"('Sconti Import'!Y324-('Sconti Import'!Y324*'Sconti Import'!J324))*'Zone Export'!$V$14","v":14.24},{"$f":"('Sconti Import'!Z324-('Sconti Import'!Z324*'Sconti Import'!K324))*'Zone Export'!$V$14","v":19.399999999999999},{"$f":"('Sconti Import'!AA324-('Sconti Import'!AA324*'Sconti Import'!L324))*'Zone Export'!$V$14","v":28.7}]
[null,"Prezzo al Kg fino a 299.0",null,{"$f":"('Sconti Import'!R325-('Sconti Import'!R325*'Sconti Import'!C325))*'Zone Export'!$V$14","v":5.44},{"$f":"('Sconti Import'!S325-('Sconti Import'!S325*'Sconti Import'!D325))*'Zone Export'!$V$14","v":8.34},{"$f":"('Sconti Import'!T325-('Sconti Import'!T325*'Sconti Import'!E325))*'Zone Export'!$V$14","v":8.66},{"$f":"('Sconti Import'!U325-('Sconti Import'!U325*'Sconti Import'!F325))*'Zone Export'!$V$14","v":8.32},{"$f":"('Sconti Import'!V325-('Sconti Import'!V325*'Sconti Import'!G325))*'Zone Export'!$V$14","v":8.9600000000000009},{"$f":"('Sconti Import'!W325-('Sconti Import'!W325*'Sconti Import'!H325))*'Zone Export'!$V$14","v":12.73},{"$f":"('Sconti Import'!X325-('Sconti Import'!X325*'Sconti Import'!I325))*'Zone Export'!$V$14","v":15.78},{"$f":"('Sconti Import'!Y325-('Sconti Import'!Y325*'Sconti Import'!J325))*'Zone Export'!$V$14","v":13.95},{"$f":"('Sconti Import'!Z325-('Sconti Import'!Z325*'Sconti Import'!K325))*'Zone Export'!$V$14","v":18.670000000000002},{"$f":"('Sconti Import'!AA325-('Sconti Import'!AA325*'Sconti Import'!L325))*'Zone Export'!$V$14","v":27.62}]
[null,"Prezzo al Kg fino a 499.0",null,{"$f":"('Sconti Import'!R326-('Sconti Import'!R326*'Sconti Import'!C326))*'Zone Export'!$V$14","v":5.38},{"$f":"('Sconti Import'!S326-('Sconti Import'!S326*'Sconti Import'!D326))*'Zone Export'!$V$14","v":8.26},{"$f":"('Sconti Import'!T326-('Sconti Import'!T326*'Sconti Import'!E326))*'Zone Export'!$V$14","v":8.6300000000000008},{"$f":"('Sconti Import'!U326-('Sconti Import'!U326*'Sconti Import'!F326))*'Zone Export'!$V$14","v":8.24},{"$f":"('Sconti Import'!V326-('Sconti Import'!V326*'Sconti Import'!G326))*'Zone Export'!$V$14","v":8.8699999999999992},{"$f":"('Sconti Import'!W326-('Sconti Import'!W326*'Sconti Import'!H326))*'Zone Export'!$V$14","v":12.62},{"$f":"('Sconti Import'!X326-('Sconti Import'!X326*'Sconti Import'!I326))*'Zone Export'!$V$14","v":15.62},{"$f":"('Sconti Import'!Y326-('Sconti Import'!Y326*'Sconti Import'!J326))*'Zone Export'!$V$14","v":13.67},{"$f":"('Sconti Import'!Z326-('Sconti Import'!Z326*'Sconti Import'!K326))*'Zone Export'!$V$14","v":18.47},{"$f":"('Sconti Import'!AA326-('Sconti Import'!AA326*'Sconti Import'!L326))*'Zone Export'!$V$14","v":27.34}]
[null,"Prezzo al Kg fino a 999.0",null,{"$f":"('Sconti Import'!R327-('Sconti Import'!R327*'Sconti Import'!C327))*'Zone Export'!$V$14","v":5.33},{"$f":"('Sconti Import'!S327-('Sconti Import'!S327*'Sconti Import'!D327))*'Zone Export'!$V$14","v":8.16},{"$f":"('Sconti Import'!T327-('Sconti Import'!T327*'Sconti Import'!E327))*'Zone Export'!$V$14","v":8.61},{"$f":"('Sconti Import'!U327-('Sconti Import'!U327*'Sconti Import'!F327))*'Zone Export'!$V$14","v":8.14},{"$f":"('Sconti Import'!V327-('Sconti Import'!V327*'Sconti Import'!G327))*'Zone Export'!$V$14","v":8.7799999999999994},{"$f":"('Sconti Import'!W327-('Sconti Import'!W327*'Sconti Import'!H327))*'Zone Export'!$V$14","v":12.51},{"$f":"('Sconti Import'!X327-('Sconti Import'!X327*'Sconti Import'!I327))*'Zone Export'!$V$14","v":15.47},{"$f":"('Sconti Import'!Y327-('Sconti Import'!Y327*'Sconti Import'!J327))*'Zone Export'!$V$14","v":13.39},{"$f":"('Sconti Import'!Z327-('Sconti Import'!Z327*'Sconti Import'!K327))*'Zone Export'!$V$14","v":18.29},{"$f":"('Sconti Import'!AA327-('Sconti Import'!AA327*'Sconti Import'!L327))*'Zone Export'!$V$14","v":27.06}]
[null,"Prezzo al Kg oltre i 999.0",null,{"$f":"('Sconti Import'!R328-('Sconti Import'!R328*'Sconti Import'!C328))*'Zone Export'!$V$14","v":5.28},{"$f":"('Sconti Import'!S328-('Sconti Import'!S328*'Sconti Import'!D328))*'Zone Export'!$V$14","v":8.08},{"$f":"('Sconti Import'!T328-('Sconti Import'!T328*'Sconti Import'!E328))*'Zone Export'!$V$14","v":8.5500000000000007},{"$f":"('Sconti Import'!U328-('Sconti Import'!U328*'Sconti Import'!F328))*'Zone Export'!$V$14","v":8.07},{"$f":"('Sconti Import'!V328-('Sconti Import'!V328*'Sconti Import'!G328))*'Zone Export'!$V$14","v":8.69},{"$f":"('Sconti Import'!W328-('Sconti Import'!W328*'Sconti Import'!H328))*'Zone Export'!$V$14","v":12.41},{"$f":"('Sconti Import'!X328-('Sconti Import'!X328*'Sconti Import'!I328))*'Zone Export'!$V$14","v":15.31},{"$f":"('Sconti Import'!Y328-('Sconti Import'!Y328*'Sconti Import'!J328))*'Zone Export'!$V$14","v":13.12},{"$f":"('Sconti Import'!Z328-('Sconti Import'!Z328*'Sconti Import'!K328))*'Zone Export'!$V$14","v":18.11},{"$f":"('Sconti Import'!AA328-('Sconti Import'!AA328*'Sconti Import'!L328))*'Zone Export'!$V$14","v":26.8}]

{"sheet":"Surcharges","index":19,"n_rows":74,"n_cols":9,"rows_kept":74,"cut":false,"hidden":false,"merged":[[5,1,6,14],[7,1,7,8],[8,2,8,5]]}
[]
[]
[]
[]
[]
[]
[]
[null,"Per la lista completa dei surcharges consultare la Guida ai Servizi o consultare il sito www.ups.com"]
[null,"Spettabile",{"$f":"Cover!C2","v":"GLOCAL WEB"}]
[]
[null,"Servizi e costi aggiuntivi","metodo misurazione","costo %","Minimo ","Massimo","valore","sconto","importo fatt."]
[null,"Prova di consegna (POD)","trasmissione via fax/lettera",null,null,null,3.95,null,{"$f":"G12-(G12*H12)","v":3.95}]
[]
[null,"UPS Contrassegno (COD)","% somma incassata",0.01,18.05,null,null,null,{"$f":"IF((G14*D14)<E14,E14-(E14*H14),(G14*D14)-(G14*D14*H14))","v":18.05}]
[]
[null,"UPS 1 Attempt Returns Plus","per pacco",null,null,null,4.8499999999999996,null,{"$f":"G16-(G16*H16)","v":4.8499999999999996}]
[null,"UPS 3 Attempts Returns Plus","per pacco",null,null,null,6.45,null,6.45]
[null,"UPS stampa ed invio etichetta di ritorno","per pacco",null,null,null,3.5,null,3.5]
[null,"UPS stampa etichetta di ritorno","per pacco",null,null,null,1.2,null,1.2]
[null,"UPS etichetta di ritorno elettronica","per pacco",null,null,null,1.55,null,1.55]
[null,"UPS Returns Exchange","per pacco",null,null,null,10.95,null,10.95]
[null,"UPS Pack and Collect Box 2 One Attempt","per pacco",null,null,null,9.9,null,9.9]
[null,"UPS Pack and Collect Box 3 One Attempt","per pacco",null,null,null,12,null,12]
[null,"UPS Pack and Collect Box 1 One Attempt","per pacco",null,null,null,13.55,null,13.55]
[null,"UPS Pack and Collect Box 2 Three Attempt","per pacco",null,null,null,12,null,12]
[null,"UPS Pack and Collect Box 3 Three Attempt","per pacco",null,null,null,14.05,null,14.05]
[null,"UPS Pack and Collect Box 1 Three Attempt","per pacco",null,null,null,15.6,null,{"$f":"G27-(G27*H27)","v":15.6}]
[]
[null,"Valore dichiarato per il trasporto","% del valore dichiarato",0.01,4.8499999999999996,null,null,null,{"$f":"IF((G29*D29)<E29,E29-(E29*H29),(G29*D29)-(G29*D29*H29))","v":4.8499999999999996}]
[null,"Consegna al sabato WW Express Freight","per spedizione",null,null,null,167,null,{"$f":"G30-(G30*H30)","v":167}]
[null,"Consegna al sabato nazionale","per spedizione",null,null,null,21.6,null,21.6]
[null,"Consegna al sabato internazionale","per spedizione",null,null,null,53.1,null,53.1]
[null,"Richiesta firma","per spedizione",null,null,null,1,null,1]
[null,"Richiesta firma di un adulto","per spedizione",null,null,null,2.8,null,2.8]
[null,"Solo consegna diretta","per spedizione",null,null,null,1.55,null,1.55]
[null,"Carbon Neutral spedizioni nazionali","per pacco",null,null,null,0.1,null,0.1]
[null,"Carbon Neutral spedizioni europee                 ","per pacco",null,null,null,0.2,null,0.2]
[null,"Carbon Neutral spedizioni extra-europa","per pacco",null,null,null,0.55000000000000004,null,0.55000000000000004]
[null,"Carbon Neutral WW Express Freight","per pallet",null,null,null,14.8,null,14.8]
[]
[null,"Consegna a domicilio privato","per spedizione",null,null,null,2.2999999999999998,null,{"$f":"G41-(G41*H41)","v":2.2999999999999998}]
[null,"Consegna a domicilio privato WW Express Freight","per spedizione",null,null,null,86,null,{"$f":"G42-(G42*H42)","v":86}]
[null,"Movimentazione particolare di spedizioni non consegnabili","per spedizione",null,null,null,4.4000000000000004,null,{"$f":"G43-(G43*H43)","v":4.4000000000000004}]
[null,"Area estesa ritiro/consegna nazionale","/kg",0.13,4.45,null,null,null,{"$f":"IF((G44*D44)<E44,E44-(E44*H44),(G44*D44)-(G44*D44*H44))","v":4.45}]
[null,"Area estesa ritiro internazionale","/kg",0.13,4.45,null,null,null,{"$f":"IF((G45*D45)<E45,E45-(E45*H45),(G45*D45)-(G45*D45*H45))","v":4.45}]
[null,"Area estesa consegna internazionale","/kg",0.41,20.2,null,null,null,{"$f":"IF((G46*D46)<E46,E46-(E46*H46),(G46*D46)-(G46*D46*H46))","v":20.2}]
[null,"Area remota ritiro/consegna internazionale","/kg",0.52,25.35,null,null,null,{"$f":"IF((G47*D47)<E47,E47-(E47*H47),(G47*D47)-(G47*D47*H47))","v":25.35}]
[null,"Correzione di indirizzo","per spedizione",null,null,null,6.6,null,{"$f":"G48-(G48*H48)","v":6.6}]
[null,"Destinatario/Terzi rifiuta di pagare","per spedizione",null,null,null,9.65,null,{"$f":"G49-(G49*H49)","v":9.65}]
[null,"Addebito per codice cliente mancante/errato","per spedizione",null,null,null,9.65,null,{"$f":"G50-(G50*H50)","v":9.65}]
[null,"Pagamento ritardato","% importo insoluto",0.08,null,15,null,null,{"$f":"IF((G51*D51)>F51,F51-(F51*H51),(G51*D51)-(G51*D51*H51))","v":0}]
[null,"Tasso conversione valuta","% importo convertito",7.4999999999999997E-3,null,null,null,null,{"$f":"IF((G52*D52)<E52,E52-(E52*H52),(G52*D52)-(G52*D52*H52))","v":0}]
[null,"Costo di inoltro dazi ed iva","per spedizione",null,null,null,16.05,null,{"$f":"G53-(G53*H53)","v":16.05}]
[null,"Adebito per movimentazione aggiuntiva","per pacco",4.05,null,null,{"$f":"D54","v":4.05},null,{"$f":"G54-(G54*H54)","v":4.05}]
[null,"Sovrapprezzo per pacchi grandi","per pacco",39,null,null,{"$f":"D55","v":39},null,{"$f":"G55-(G55*H55)","v":39}]
[null,"Addebito per pacco di peso/dimensioni eccessive","per pacco",39,null,null,{"$f":"D56","v":39},null,{"$f":"G56-(G56*H56)","v":39}]
[null,"Addebito per pallet fuori misura WW Express Freight","per pallet",82,null,null,84.6,null,{"$f":"G57-(G57*H57)","v":84.6}]
[]
[null,"UPS Import control: 1 tentativo di ritiro","per pacco/pallet",null,null,null,4.8499999999999996,null,{"$f":"G59-(G59*H59)","v":4.8499999999999996}]
[null,"UPS Import control: 3 tentativi di ritiro","per pacco/pallet",null,null,null,6.45,null,{"$f":"G60-(G60*H60)","v":6.45}]
[null,"UPS Import control: Rimozione fattura commerciale","per spedizione",null,null,null,14.5,null,{"$f":"G61-(G61*H61)","v":14.5}]
[]
[null,"Dichiarazioni complesse con piu' voci doganali","oltre 5 righe",9.5,null,null,{"$f":"D63","v":9.5},null,{"$f":"G63-(G63*H63)","v":9.5}]
[null,"Dichiarazione attraverso altri enti governativi (OGA)","per spedizione",49,null,null,{"$f":"D64","v":49},null,{"$f":"G64-(G64*H64)","v":49}]
[null,"Dichiarazione doganale non di routine","per spedizione",15,null,null,{"$f":"D65","v":15},null,{"$f":"G65-(G65*H65)","v":15}]
[null,"Operazioni doganali per spedizioni dirette a Livigno","per spedizione",38,null,null,{"$f":"D66","v":38},null,{"$f":"G66-(G66*H66)","v":38}]
[null,"Addebito per anticipi","% ammontare anticipato",2.5000000000000001E-2,15,null,null,null,{"$f":"IF((G67*D67)<E67,E67-(E67*H67),(G67*D67)-(G67*D67*H67))","v":15}]
[null,"Costo di movimentazione per Cliente non codificato","% ammontare anticipato",2.5000000000000001E-2,15,null,null,null,{"$f":"IF((G68*D68)<E68,E68-(E68*H68),(G68*D68)-(G68*D68*H68))","v":15}]
[null,"Deposito di spedizioni (dopo terzo gg lavorativo)","per pacco/giorno ",null,null,null,5,null,{"$f":"G69-(G69*H69)","v":5}]
[null,"Servizi di post-sdoganamento","per spedizione",null,null,null,105,null,{"$f":"G70-(G70*H70)","v":105}]
[null,"Servizi di contatto all'importazione","per spedizione",null,null,null,3,null,{"$f":"G71-(G71*H71)","v":3}]
[]
[null,"Emissione di documento di transito","per spedizione",null,null,null,70,null,{"$f":"G73-(G73*H73)","v":70}]
[null,"Addebito per spedizioni cauzionate ad altro spedizioniere","per spedizione in transito",null,null,null,19,null,{"$f":"G74-(G74*H74)","v":19}]